Workbook
Name Hidden_13: Hidden_1!$A$1:$A$11
Name Hidden_211: Hidden_2!$A$1:$A$2

Sheet Reporte de Formatos
A1: 56156
A2: TÍTULO | D2: NOMBRE CORTO | G2: DESCRIPCIÓN
A3: Remuneraciones brutas y netas de todas las personas servidoras públicas de base y de confianza | D3: LTAIPSLP84XI | G3: La información relativa a la remuneración mensual bruta y neta de conformidad con el tabulador de sueldos y salarios aplicable a cada sujeto obligado, así como todos los conceptos que sean adicionales y distintos a las remuneraciones, especificando la periodicidad con que se otorga cada uno de éstos (quincenal, mensual, semestral, anual, por única ocasión, etcétera)
A4: 1 | B4: 4 | C4: 4 | D4: 9 | E4: 1 | F4: 2 | G4: 2 | H4: 2 | I4: 1 | J4: 1 | K4: 1 | L4: 9 | M4: 6 | N4: 1 | O4: 6 | P4: 1 | Q4: 10 | R4: 10 | S4: 10 | T4: 10 | U4: 10 | V4: 10 | W4: 10 | X4: 10 | Y4: 10 | Z4: 10 | AA4: 10 | AB4: 10 | AC4: 10 | AD4: 2 | AE4: 13 | AF4: 14
A5: 549532 | B5: 549544 | C5: 549524 | D5: 549545 | E5: 549546 | F5: 549527 | G5: 549533 | H5: 549534 | I5: 549535 | J5: 549528 | K5: 549525 | L5: 571587 | M5: 549547 | N5: 549548 | O5: 549537 | P5: 549526 | Q5: 549551 | R5: 549538 | S5: 549552 | T5: 549522 | U5: 549542 | V5: 549529 | W5: 549539 | X5: 549530 | Y5: 549531 | Z5: 549549 | AA5: 549553 | AB5: 549550 | AC5: 549554 | AD5: 549540 | AE5: 549543 | AF5: 549523
A6: Tabla Campos
A7: Ejercicio | B7: Fecha de inicio del periodo que se informa | C7: Fecha de término del periodo que se informa | D7: Tipo de integrante del sujeto obligado (catálogo) | E7: Clave o nivel del puesto | F7: Denominación o descripción del puesto (Redactados con perspectiva de género) | G7: Denominación del cargo (de conformidad con el nombramiento otorgado) | H7: Área de adscripción | I7: Nombre (s) | J7: Primer apellido | K7: Segundo apellido | L7: ESTE CRITERIO APLICA A PARTIR DEL 01/04/2023 -> Sexo (catálogo ) | M7: Monto de la remuneración mensual bruta, de conformidad al Tabulador de sueldos y salarios que corresponda | N7: Tipo de moneda de la remuneración mensual bruta | O7: Monto de la remuneración mensual neta, de conformidad al Tabulador de sueldos y salarios que corresponda | P7: Tipo de moneda de la remuneración mensual neta | Q7: Percepciones adicionales en dinero, Monto bruto y neto, tipo de moneda y su periodicidad Tabla_549551 | R7: Percepciones adicionales en especie y su periodicidad Tabla_549538 | S7: Ingresos, monto bruto y neto, tipo de moneda y su periodicidad Tabla_549552 | T7: Sistemas de compensación, monto bruto y neto, tipo de moneda y su periodicidad Tabla_549522 | U7: Gratificaciones, monto bruto y neto, tipo de moneda y su periodicidad Tabla_549542 | V7: Primas, monto bruto y neto, tipo de moneda y su periodicidad Tabla_549529 | W7: Comisiones, monto bruto y neto, tipo de moneda y su periodicidad Tabla_549539 | X7: Dietas, monto bruto y neto, tipo de moneda y su periodicidad Tabla_549530 | Y7: Bonos, monto bruto y neto, tipo de moneda y su periodicidad Tabla_549531 | Z7: Estímulos, monto bruto y neto, tipo de moneda y su periodicidad Tabla_549549 | AA7: Apoyos económicos, monto bruto y neto, tipo de moneda y su periodicidad Tabla_549553 | AB7: Prestaciones económicas, monto bruto y neto, tipo de moneda y su periodicidad Tabla_549550 | AC7: Prestaciones en especie y su periodicidad Tabla_549554 | AD7: Área(s) responsable(s) que genera(n), posee(n), publica(n) y actualizan la información | AE7: Fecha de Actualización | AF7: Nota
A8: 2026 | B8: 46235 | C8: 46265 | D8: Funcionaria (o) | E8: 1 A | F8: H. CABILDO | G8: PRESIDENTA MUNICIPAL | H8: H. CABILDO | I8: JOSE REYES | J8: MARTINEZ | K8: ROJAS | L8: Hombre | M8: 74004.6 | N8: PESO | O8: 57984.72 | P8: PESO | Q8: =Tabla_549551!A4 -> 1 | R8: =Tabla_549538!A4 -> 1 | S8: =Tabla_549552!A4 -> 1 | T8: ='549522'!A4 -> 1 | U8: =Tabla_549542!A4 -> 1 | V8: =Tabla_549529!A4 -> 1 | W8: =Tabla_549539!A4 -> 1 | X8: =Tabla_549530!A4 -> 1 | Y8: ='549531'!A4 -> 1 | Z8: =Tabla_549549!A4 -> 1 | AA8: ='549553'!A4 -> 1 | AB8: ='549550'!A4 -> 1 | AC8: =Tabla_549554!A4 -> 1 | AD8: TESORERIA | AE8: 46290 | AF8: manifestarle tenga de su conocimiento que de acuerdo a la LEY DE LOS TRABAJADORES AL SERVICIO DE LAS INSTITUCIONES PÚBLICAS DEL ESTADO DE SAN LUIS POTOSI en el Título Segundo de los trabajadores Capítulo I disposiciones generales en el ARTÍCULO 12. Son trabajadores eventuales ya que están al servicio de personal subordinado, por tiempo determinados o por cantidad presupuestada por el Honorable Ayuntamiento de Venado, San Luis Potosi. y como lo indica la ley. En el CAPITULO V DE LOS SALARIOS en los artículos 38, 39, 40, 41,42 y 43 los salarios y prestaciones derivadas de la relación laboral a las que se hace acreedor el trabajador.
A9: 2026 | B9: 46235 | C9: 46265 | D9: Funcionaria (o) | E9: 1 A | F9: H. CABILDO | G9: SINDICO MUNICIPAL | H9: H. CABILDO | I9: CECILIA | J9: CERDA | K9: ZAPATA | L9: Mujer | M9: 37108.2 | N9: PESO | O9: 30997.64 | P9: PESO | Q9: =Tabla_549551!A5 -> 2 | R9: =Tabla_549538!A5 -> 2 | S9: =Tabla_549552!A5 -> 2 | T9: ='549522'!A5 -> 2 | U9: =Tabla_549542!A5 -> 2 | V9: =Tabla_549529!A5 -> 2 | W9: =Tabla_549539!A5 -> 2 | X9: =Tabla_549530!A5 -> 2 | Y9: ='549531'!A5 -> 2 | Z9: =Tabla_549549!A5 -> 2 | AA9: ='549553'!A5 -> 2 | AB9: ='549550'!A5 -> 2 | AC9: =Tabla_549554!A5 -> 2 | AD9: TESORERIA | AE9: 46290 | AF9: manifestarle tenga de su conocimiento que de acuerdo a la LEY DE LOS TRABAJADORES AL SERVICIO DE LAS INSTITUCIONES PÚBLICAS DEL ESTADO DE SAN LUIS POTOSI en el Título Segundo de los trabajadores Capítulo I disposiciones generales en el ARTÍCULO 12. Son trabajadores eventuales ya que están al servicio de personal subordinado, por tiempo determinados o por cantidad presupuestada por el Honorable Ayuntamiento de Venado, San Luis Potosi. y como lo indica la ley. En el CAPITULO V DE LOS SALARIOS en los artículos 38, 39, 40, 41,42 y 43 los salarios y prestaciones derivadas de la relación laboral a las que se hace acreedor el trabajador.
A10: 2026 | B10: 46235 | C10: 46265 | D10: Funcionaria (o) | E10: 1 A | F10: H. CABILDO | G10: REGIDOR | H10: H. CABILDO | I10: EDGAR SAMUEL | J10: TREJO | K10: REYNA | L10: Hombre | M10: 23922.6 | N10: PESO | O10: 20676.24 | P10: PESO | Q10: =Tabla_549551!A6 -> 3 | R10: =Tabla_549538!A6 -> 3 | S10: =Tabla_549552!A6 -> 3 | T10: ='549522'!A6 -> 3 | U10: =Tabla_549542!A6 -> 3 | V10: =Tabla_549529!A6 -> 3 | W10: =Tabla_549539!A6 -> 3 | X10: =Tabla_549530!A6 -> 3 | Y10: ='549531'!A6 -> 3 | Z10: =Tabla_549549!A6 -> 3 | AA10: ='549553'!A6 -> 3 | AB10: ='549550'!A6 -> 3 | AC10: =Tabla_549554!A6 -> 3 | AD10: TESORERIA | AE10: 46290 | AF10: manifestarle tenga de su conocimiento que de acuerdo a la LEY DE LOS TRABAJADORES AL SERVICIO DE LAS INSTITUCIONES PÚBLICAS DEL ESTADO DE SAN LUIS POTOSI en el Título Segundo de los trabajadores Capítulo I disposiciones generales en el ARTÍCULO 12. Son trabajadores eventuales ya que están al servicio de personal subordinado, por tiempo determinados o por cantidad presupuestada por el Honorable Ayuntamiento de Venado, San Luis Potosi. y como lo indica la ley. En el CAPITULO V DE LOS SALARIOS en los artículos 38, 39, 40, 41,42 y 43 los salarios y prestaciones derivadas de la relación laboral a las que se hace acreedor el trabajador.
A11: 2026 | B11: 46235 | C11: 46265 | D11: Funcionaria (o) | E11: 1 A | F11: H. CABILDO | G11: REGIDOR | H11: H. CABILDO | I11: ADAIR GUADALUPE | J11: ALVAREZ | K11: ZAMARRIPA | L11: Hombre | M11: 23922.6 | N11: PESO | O11: 20676.24 | P11: PESO | Q11: =Tabla_549551!A7 -> 4 | R11: =Tabla_549538!A7 -> 4 | S11: =Tabla_549552!A7 -> 4 | T11: ='549522'!A7 -> 4 | U11: =Tabla_549542!A7 -> 4 | V11: =Tabla_549529!A7 -> 4 | W11: =Tabla_549539!A7 -> 4 | X11: =Tabla_549530!A7 -> 4 | Y11: ='549531'!A7 -> 4 | Z11: =Tabla_549549!A7 -> 4 | AA11: ='549553'!A7 -> 4 | AB11: ='549550'!A7 -> 4 | AC11: =Tabla_549554!A7 -> 4 | AD11: TESORERIA | AE11: 46290 | AF11: manifestarle tenga de su conocimiento que de acuerdo a la LEY DE LOS TRABAJADORES AL SERVICIO DE LAS INSTITUCIONES PÚBLICAS DEL ESTADO DE SAN LUIS POTOSI en el Título Segundo de los trabajadores Capítulo I disposiciones generales en el ARTÍCULO 12. Son trabajadores eventuales ya que están al servicio de personal subordinado, por tiempo determinados o por cantidad presupuestada por el Honorable Ayuntamiento de Venado, San Luis Potosi. y como lo indica la ley. En el CAPITULO V DE LOS SALARIOS en los artículos 38, 39, 40, 41,42 y 43 los salarios y prestaciones derivadas de la relación laboral a las que se hace acreedor el trabajador.
A12: 2026 | B12: 46235 | C12: 46265 | D12: Funcionaria (o) | E12: 1 A | F12: H. CABILDO | G12: REGIDOR | H12: H. CABILDO | I12: GLORIA GUADALUPE | J12: CRUZ | K12: OLIVARES | L12: Mujer | M12: 23922.6 | N12: PESO | O12: 20676.24 | P12: PESO | Q12: =Tabla_549551!A8 -> 5 | R12: =Tabla_549538!A8 -> 5 | S12: =Tabla_549552!A8 -> 5 | T12: ='549522'!A8 -> 5 | U12: =Tabla_549542!A8 -> 5 | V12: =Tabla_549529!A8 -> 5 | W12: =Tabla_549539!A8 -> 5 | X12: =Tabla_549530!A8 -> 5 | Y12: ='549531'!A8 -> 5 | Z12: =Tabla_549549!A8 -> 5 | AA12: ='549553'!A8 -> 5 | AB12: ='549550'!A8 -> 5 | AC12: =Tabla_549554!A8 -> 5 | AD12: TESORERIA | AE12: 46290 | AF12: manifestarle tenga de su conocimiento que de acuerdo a la LEY DE LOS TRABAJADORES AL SERVICIO DE LAS INSTITUCIONES PÚBLICAS DEL ESTADO DE SAN LUIS POTOSI en el Título Segundo de los trabajadores Capítulo I disposiciones generales en el ARTÍCULO 12. Son trabajadores eventuales ya que están al servicio de personal subordinado, por tiempo determinados o por cantidad presupuestada por el Honorable Ayuntamiento de Venado, San Luis Potosi. y como lo indica la ley. En el CAPITULO V DE LOS SALARIOS en los artículos 38, 39, 40, 41,42 y 43 los salarios y prestaciones derivadas de la relación laboral a las que se hace acreedor el trabajador.
A13: 2026 | B13: 46235 | C13: 46265 | D13: Funcionaria (o) | E13: 1 A | F13: H. CABILDO | G13: REGIDOR | H13: H. CABILDO | I13: MARIA REYNA | J13: GUARDIOLA | K13: BRIONES | L13: Mujer | M13: 23922.6 | N13: PESO | O13: 20676.24 | P13: PESO | Q13: =Tabla_549551!A9 -> 6 | R13: =Tabla_549538!A9 -> 6 | S13: =Tabla_549552!A9 -> 6 | T13: ='549522'!A9 -> 6 | U13: =Tabla_549542!A9 -> 6 | V13: =Tabla_549529!A9 -> 6 | W13: =Tabla_549539!A9 -> 6 | X13: =Tabla_549530!A9 -> 6 | Y13: ='549531'!A9 -> 6 | Z13: =Tabla_549549!A9 -> 6 | AA13: ='549553'!A9 -> 6 | AB13: ='549550'!A9 -> 6 | AC13: =Tabla_549554!A9 -> 6 | AD13: TESORERIA | AE13: 46290 | AF13: manifestarle tenga de su conocimiento que de acuerdo a la LEY DE LOS TRABAJADORES AL SERVICIO DE LAS INSTITUCIONES PÚBLICAS DEL ESTADO DE SAN LUIS POTOSI en el Título Segundo de los trabajadores Capítulo I disposiciones generales en el ARTÍCULO 12. Son trabajadores eventuales ya que están al servicio de personal subordinado, por tiempo determinados o por cantidad presupuestada por el Honorable Ayuntamiento de Venado, San Luis Potosi. y como lo indica la ley. En el CAPITULO V DE LOS SALARIOS en los artículos 38, 39, 40, 41,42 y 43 los salarios y prestaciones derivadas de la relación laboral a las que se hace acreedor el trabajador.
A14: 2026 | B14: 46235 | C14: 46265 | D14: Funcionaria (o) | E14: 1 A | F14: H. CABILDO | G14: REGIDOR | H14: H. CABILDO | I14: JUAN GABRIEL | J14: CARRANZA | K14: CORONADO | L14: Hombre | M14: 23922.6 | N14: PESO | O14: 20676.24 | P14: PESO | Q14: =Tabla_549551!A10 -> 7 | R14: =Tabla_549538!A10 -> 7 | S14: =Tabla_549552!A10 -> 7 | T14: ='549522'!A10 -> 7 | U14: =Tabla_549542!A10 -> 7 | V14: =Tabla_549529!A10 -> 7 | W14: =Tabla_549539!A10 -> 7 | X14: =Tabla_549530!A10 -> 7 | Y14: ='549531'!A10 -> 7 | Z14: =Tabla_549549!A10 -> 7 | AA14: ='549553'!A10 -> 7 | AB14: ='549550'!A10 -> 7 | AC14: =Tabla_549554!A10 -> 7 | AD14: TESORERIA | AE14: 46290 | AF14: manifestarle tenga de su conocimiento que de acuerdo a la LEY DE LOS TRABAJADORES AL SERVICIO DE LAS INSTITUCIONES PÚBLICAS DEL ESTADO DE SAN LUIS POTOSI en el Título Segundo de los trabajadores Capítulo I disposiciones generales en el ARTÍCULO 12. Son trabajadores eventuales ya que están al servicio de personal subordinado, por tiempo determinados o por cantidad presupuestada por el Honorable Ayuntamiento de Venado, San Luis Potosi. y como lo indica la ley. En el CAPITULO V DE LOS SALARIOS en los artículos 38, 39, 40, 41,42 y 43 los salarios y prestaciones derivadas de la relación laboral a las que se hace acreedor el trabajador.
A15: 2026 | B15: 46235 | C15: 46265 | D15: Funcionaria (o) | E15: 1 A | F15: H. CABILDO | G15: REGIDOR | H15: H. CABILDO | I15: MARIA DEL PILAR | J15: PUENTE | K15: MORENO | L15: Mujer | M15: 23922.6 | N15: PESO | O15: 20676.24 | P15: PESO | Q15: =Tabla_549551!A11 -> 8 | R15: =Tabla_549538!A11 -> 8 | S15: =Tabla_549552!A11 -> 8 | T15: ='549522'!A11 -> 8 | U15: =Tabla_549542!A11 -> 8 | V15: =Tabla_549529!A11 -> 8 | W15: =Tabla_549539!A11 -> 8 | X15: =Tabla_549530!A11 -> 8 | Y15: ='549531'!A11 -> 8 | Z15: =Tabla_549549!A11 -> 8 | AA15: ='549553'!A11 -> 8 | AB15: ='549550'!A11 -> 8 | AC15: =Tabla_549554!A11 -> 8 | AD15: TESORERIA | AE15: 46290 | AF15: manifestarle tenga de su conocimiento que de acuerdo a la LEY DE LOS TRABAJADORES AL SERVICIO DE LAS INSTITUCIONES PÚBLICAS DEL ESTADO DE SAN LUIS POTOSI en el Título Segundo de los trabajadores Capítulo I disposiciones generales en el ARTÍCULO 12. Son trabajadores eventuales ya que están al servicio de personal subordinado, por tiempo determinados o por cantidad presupuestada por el Honorable Ayuntamiento de Venado, San Luis Potosi. y como lo indica la ley. En el CAPITULO V DE LOS SALARIOS en los artículos 38, 39, 40, 41,42 y 43 los salarios y prestaciones derivadas de la relación laboral a las que se hace acreedor el trabajador.
A16: 2026 | B16: 46235 | C16: 46265 | D16: Empleada (o) | E16: 3 B | F16: AGUA POTABLE | G16: AUXILIAR DE MANTENIMIENTO DE TUBERIA | H16: AGUA POTABLE | I16: MOISES | J16: SAUCEDA | K16: BENITEZ | L16: Hombre | M16: 8573.1 | N16: PESO | O16: 8573.1 | P16: PESO | Q16: =Tabla_549551!A12 -> 9 | R16: =Tabla_549538!A12 -> 9 | S16: =Tabla_549552!A12 -> 9 | T16: ='549522'!A12 -> 9 | U16: =Tabla_549542!A12 -> 9 | V16: =Tabla_549529!A12 -> 9 | W16: =Tabla_549539!A12 -> 9 | X16: =Tabla_549530!A12 -> 9 | Y16: ='549531'!A12 -> 9 | Z16: =Tabla_549549!A12 -> 9 | AA16: ='549553'!A12 -> 9 | AB16: ='549550'!A12 -> 9 | AC16: =Tabla_549554!A12 -> 9 | AD16: TESORERIA | AE16: 46290 | AF16: manifestarle tenga de su conocimiento que de acuerdo a la LEY DE LOS TRABAJADORES AL SERVICIO DE LAS INSTITUCIONES PÚBLICAS DEL ESTADO DE SAN LUIS POTOSI en el Título Segundo de los trabajadores Capítulo I disposiciones generales en el ARTÍCULO 12. Son trabajadores eventuales ya que están al servicio de personal subordinado, por tiempo determinados o por cantidad presupuestada por el Honorable Ayuntamiento de Venado, San Luis Potosi. y como lo indica la ley. En el CAPITULO V DE LOS SALARIOS en los artículos 38, 39, 40, 41,42 y 43 los salarios y prestaciones derivadas de la relación laboral a las que se hace acreedor el trabajador.
A17: 2026 | B17: 46235 | C17: 46265 | D17: Empleada (o) | E17: 3 B | F17: AGUA POTABLE | G17: ENCARGADO DE MANTENIMIENTO DE TUBERIA | H17: AGUA POTABLE | I17: ISIDORO | J17: RUIZ | K17: RODRIGUEZ | L17: Hombre | M17: 9021.6 | N17: PESO | O17: 9021.6 | P17: PESO | Q17: =Tabla_549551!A13 -> 10 | R17: =Tabla_549538!A13 -> 10 | S17: =Tabla_549552!A13 -> 10 | T17: ='549522'!A13 -> 10 | U17: =Tabla_549542!A13 -> 10 | V17: =Tabla_549529!A13 -> 10 | W17: =Tabla_549539!A13 -> 10 | X17: =Tabla_549530!A13 -> 10 | Y17: ='549531'!A13 -> 10 | Z17: =Tabla_549549!A13 -> 10 | AA17: ='549553'!A13 -> 10 | AB17: ='549550'!A13 -> 10 | AC17: =Tabla_549554!A13 -> 10 | AD17: TESORERIA | AE17: 46290 | AF17: manifestarle tenga de su conocimiento que de acuerdo a la LEY DE LOS TRABAJADORES AL SERVICIO DE LAS INSTITUCIONES PÚBLICAS DEL ESTADO DE SAN LUIS POTOSI en el Título Segundo de los trabajadores Capítulo I disposiciones generales en el ARTÍCULO 12. Son trabajadores eventuales ya que están al servicio de personal subordinado, por tiempo determinados o por cantidad presupuestada por el Honorable Ayuntamiento de Venado, San Luis Potosi. y como lo indica la ley. En el CAPITULO V DE LOS SALARIOS en los artículos 38, 39, 40, 41,42 y 43 los salarios y prestaciones derivadas de la relación laboral a las que se hace acreedor el trabajador.
A18: 2026 | B18: 46235 | C18: 46265 | D18: Empleada (o) | E18: 3 B | F18: AGUA POTABLE | G18: NOTIFICADOR LECTURISTA | H18: AGUA POTABLE | I18: JUAN | J18: RAMOS | K18: OLVERA | L18: Hombre | M18: 10601.1 | N18: PESO | O18: 10331.12 | P18: PESO | Q18: =Tabla_549551!A14 -> 11 | R18: =Tabla_549538!A14 -> 11 | S18: =Tabla_549552!A14 -> 11 | T18: ='549522'!A14 -> 11 | U18: =Tabla_549542!A14 -> 11 | V18: =Tabla_549529!A14 -> 11 | W18: =Tabla_549539!A14 -> 11 | X18: =Tabla_549530!A14 -> 11 | Y18: ='549531'!A14 -> 11 | Z18: =Tabla_549549!A14 -> 11 | AA18: ='549553'!A14 -> 11 | AB18: ='549550'!A14 -> 11 | AC18: =Tabla_549554!A14 -> 11 | AD18: TESORERIA | AE18: 46290 | AF18: manifestarle tenga de su conocimiento que de acuerdo a la LEY DE LOS TRABAJADORES AL SERVICIO DE LAS INSTITUCIONES PÚBLICAS DEL ESTADO DE SAN LUIS POTOSI en el Título Segundo de los trabajadores Capítulo I disposiciones generales en el ARTÍCULO 12. Son trabajadores eventuales ya que están al servicio de personal subordinado, por tiempo determinados o por cantidad presupuestada por el Honorable Ayuntamiento de Venado, San Luis Potosi. y como lo indica la ley. En el CAPITULO V DE LOS SALARIOS en los artículos 38, 39, 40, 41,42 y 43 los salarios y prestaciones derivadas de la relación laboral a las que se hace acreedor el trabajador.
A19: 2026 | B19: 46235 | C19: 46265 | D19: Empleada (o) | E19: 3 B | F19: AGUA POTABLE | G19: AUXILIAR DE EQUIPO DE BOMBEO | H19: AGUA POTABLE | I19: GILBERTO | J19: CERDA | K19: MORALES | L19: Hombre | M19: 7654.5 | N19: PESO | O19: 7654.5 | P19: PESO | Q19: =Tabla_549551!A15 -> 12 | R19: =Tabla_549538!A15 -> 12 | S19: =Tabla_549552!A15 -> 12 | T19: ='549522'!A15 -> 12 | U19: =Tabla_549542!A15 -> 12 | V19: =Tabla_549529!A15 -> 12 | W19: =Tabla_549539!A15 -> 12 | X19: =Tabla_549530!A15 -> 12 | Y19: ='549531'!A15 -> 12 | Z19: =Tabla_549549!A15 -> 12 | AA19: ='549553'!A15 -> 12 | AB19: ='549550'!A15 -> 12 | AC19: =Tabla_549554!A15 -> 12 | AD19: TESORERIA | AE19: 46290 | AF19: manifestarle tenga de su conocimiento que de acuerdo a la LEY DE LOS TRABAJADORES AL SERVICIO DE LAS INSTITUCIONES PÚBLICAS DEL ESTADO DE SAN LUIS POTOSI en el Título Segundo de los trabajadores Capítulo I disposiciones generales en el ARTÍCULO 12. Son trabajadores eventuales ya que están al servicio de personal subordinado, por tiempo determinados o por cantidad presupuestada por el Honorable Ayuntamiento de Venado, San Luis Potosi. y como lo indica la ley. En el CAPITULO V DE LOS SALARIOS en los artículos 38, 39, 40, 41,42 y 43 los salarios y prestaciones derivadas de la relación laboral a las que se hace acreedor el trabajador.
... A184: 2026 | B184: 46235 | C184: 46265 | D184: Personal de confianza | E184: 1 C | F184: COMUNICACIÓN SOCIAL | G184: DIRECTOR DE COMUNICACIÓN SOCIAL | H184: COMUNICACIÓN SOCIAL | I184: FERNANDO EMMANUEL | J184: BARRERA | K184: ALONSO | L184: Hombre | M184: 9673.8 | N184: PESO | O184: 9504.7 | P184: PESO | Q184: =Tabla_549551!A180 -> 177 | R184: =Tabla_549538!A180 -> 177 | S184: =Tabla_549552!A180 -> 177 | T184: ='549522'!A180 -> 177 | U184: =Tabla_549542!A180 -> 177 | V184: =Tabla_549529!A180 -> 177 | W184: =Tabla_549539!A180 -> 177 | X184: =Tabla_549530!A180 -> 177 | Y184: ='549531'!A180 -> 177 | Z184: =Tabla_549549!A180 -> 177 | AA184: ='549553'!A180 -> 177 | AB184: ='549550'!A180 -> 177 | AC184: =Tabla_549554!A180 -> 177 | AD184: TESORERIA | AE184: 46290 | AF184: manifestarle tenga de su conocimiento que de acuerdo a la LEY DE LOS TRABAJADORES AL SERVICIO DE LAS INSTITUCIONES PÚBLICAS DEL ESTADO DE SAN LUIS POTOSI en el Título Segundo de los trabajadores Capítulo I disposiciones generales en el ARTÍCULO 12. Son trabajadores eventuales ya que están al servicio de personal subordinado, por tiempo determinados o por cantidad presupuestada por el Honorable Ayuntamiento de Venado, San Luis Potosi. y como lo indica la ley. En el CAPITULO V DE LOS SALARIOS en los artículos 38, 39, 40, 41,42 y 43 los salarios y prestaciones derivadas de la relación laboral a las que se hace acreedor el trabajador.

Sheet Hidden_1
A1: Funcionaria (o)
A2: Persona servidora pública
A3: Persona servidora pública eventual
A4: Integrante
A5: Empleada (o)
A6: Representante popular
A7: Miembro del poder judicial
A8: Miembro de órgano autónomo
A9: Personal de confianza
A10: Persona prestadora de servicios profesionales
A11: Otro

Sheet Hidden_2
A1: Hombre
A2: Mujer

Sheet Tabla_549551
B1: 2 | C1: 6 | D1: 6 | E1: 1 | F1: 1
B2: 70050 | C2: 70051 | D2: 70052 | E2: 70053 | F2: 70054
A3: ID | B3: Denominación de las percepciones adicionales en dinero | C3: Monto bruto de las percepciones adicionales en dinero | D3: Monto neto de las percepciones adicionales en dinero | E3: Tipo de moneda de las percepciones adicionales en dinero | F3: Periodicidad de las percepciones adicionales en dinero
A4: 1 | B4: NO GENERADO | C4: 0 | D4: 0 | E4: PESO | F4: NO GENERADO
A5: 2 | B5: NO GENERADO | C5: 0 | D5: 0 | E5: PESO | F5: NO GENERADO
A6: 3 | B6: NO GENERADO | C6: 0 | D6: 0 | E6: PESO | F6: NO GENERADO
A7: 4 | B7: NO GENERADO | C7: 0 | D7: 0 | E7: PESO | F7: NO GENERADO
A8: 5 | B8: NO GENERADO | C8: 0 | D8: 0 | E8: PESO | F8: NO GENERADO
A9: 6 | B9: NO GENERADO | C9: 0 | D9: 0 | E9: PESO | F9: NO GENERADO
A10: 7 | B10: NO GENERADO | C10: 0 | D10: 0 | E10: PESO | F10: NO GENERADO
A11: 8 | B11: NO GENERADO | C11: 0 | D11: 0 | E11: PESO | F11: NO GENERADO
A12: 9 | B12: NO GENERADO | C12: 0 | D12: 0 | E12: PESO | F12: NO GENERADO
A13: 10 | B13: NO GENERADO | C13: 0 | D13: 0 | E13: PESO | F13: NO GENERADO
A14: 11 | B14: NO GENERADO | C14: 0 | D14: 0 | E14: PESO | F14: NO GENERADO
A15: 12 | B15: NO GENERADO | C15: 0 | D15: 0 | E15: PESO | F15: NO GENERADO
... A180: 177 | B180: NO GENERADO | C180: 0 | D180: 0 | E180: PESO | F180: NO GENERADO

Sheet Tabla_549538
B1: 2 | C1: 1
B2: 70028 | C2: 70029
A3: ID | B3: Descripción de las percepciones adicionales en especie | C3: Periodicidad de las percepciones adicionales en especie
A4: 1 | B4: NO GENERADO | C4: NO GENERADO
A5: 2 | B5: NO GENERADO | C5: NO GENERADO
A6: 3 | B6: NO GENERADO | C6: NO GENERADO
A7: 4 | B7: NO GENERADO | C7: NO GENERADO
A8: 5 | B8: NO GENERADO | C8: NO GENERADO
A9: 6 | B9: NO GENERADO | C9: NO GENERADO
A10: 7 | B10: NO GENERADO | C10: NO GENERADO
A11: 8 | B11: NO GENERADO | C11: NO GENERADO
A12: 9 | B12: NO GENERADO | C12: NO GENERADO
A13: 10 | B13: NO GENERADO | C13: NO GENERADO
A14: 11 | B14: NO GENERADO | C14: NO GENERADO
A15: 12 | B15: NO GENERADO | C15: NO GENERADO
... A180: 177 | B180: NO GENERADO | C180: NO GENERADO

Sheet Tabla_549552
B1: 2 | C1: 6 | D1: 6 | E1: 1 | F1: 1
B2: 70057 | C2: 70058 | D2: 70059 | E2: 70055 | F2: 70056
A3: ID | B3: Denominación de los ingresos | C3: Monto bruto de los ingresos | D3: Monto neto de los ingresos | E3: Tipo de moneda de los ingresos | F3: Periodicidad de los ingresos
A4: 1 | B4: SALARIO | C4: 74004.6 | D4: 57984.72 | E4: PESO | F4: MENSUAL
A5: 2 | B5: SALARIO | C5: 37108.2 | D5: 30997.64 | E5: PESO | F5: MENSUAL
A6: 3 | B6: SALARIO | C6: 23922.6 | D6: 20676.24 | E6: PESO | F6: MENSUAL
A7: 4 | B7: SALARIO | C7: 23922.6 | D7: 20676.24 | E7: PESO | F7: MENSUAL
A8: 5 | B8: SALARIO | C8: 23922.6 | D8: 20676.24 | E8: PESO | F8: MENSUAL
A9: 6 | B9: SALARIO | C9: 23922.6 | D9: 20676.24 | E9: PESO | F9: MENSUAL
A10: 7 | B10: SALARIO | C10: 23922.6 | D10: 20676.24 | E10: PESO | F10: MENSUAL
A11: 8 | B11: SALARIO | C11: 23922.6 | D11: 20676.24 | E11: PESO | F11: MENSUAL
A12: 9 | B12: SALARIO | C12: 8573.1 | D12: 8573.1 | E12: PESO | F12: MENSUAL
A13: 10 | B13: SALARIO | C13: 9021.6 | D13: 9021.6 | E13: PESO | F13: MENSUAL
A14: 11 | B14: SALARIO | C14: 10601.1 | D14: 10331.12 | E14: PESO | F14: MENSUAL
A15: 12 | B15: SALARIO | C15: 7654.5 | D15: 7654.5 | E15: PESO | F15: MENSUAL
... A180: 177 | B180: SALARIO | C180: 9673.8 | D180: 9504.7 | E180: PESO | F180: MENSUAL

Sheet Tabla_549542
B1: 1 | C1: 6 | D1: 6 | E1: 1 | F1: 1
B2: 70035 | C2: 70036 | D2: 70037 | E2: 70038 | F2: 70039
A3: ID | B3: Denominación de las gratificaciones | C3: Monto bruto de las gratificaciones | D3: Monto neto de las gratificaciones | E3: Tipo de moneda de las gratificaciones | F3: Periodicidad de las gratificaciones
A4: 1 | B4: NO GENERADO | C4: 0 | D4: 0 | E4: PESO | F4: NO GENERADO
A5: 2 | B5: NO GENERADO | C5: 0 | D5: 0 | E5: PESO | F5: NO GENERADO
A6: 3 | B6: NO GENERADO | C6: 0 | D6: 0 | E6: PESO | F6: NO GENERADO
A7: 4 | B7: NO GENERADO | C7: 0 | D7: 0 | E7: PESO | F7: NO GENERADO
A8: 5 | B8: NO GENERADO | C8: 0 | D8: 0 | E8: PESO | F8: NO GENERADO
A9: 6 | B9: NO GENERADO | C9: 0 | D9: 0 | E9: PESO | F9: NO GENERADO
A10: 7 | B10: NO GENERADO | C10: 0 | D10: 0 | E10: PESO | F10: NO GENERADO
A11: 8 | B11: NO GENERADO | C11: 0 | D11: 0 | E11: PESO | F11: NO GENERADO
A12: 9 | B12: NO GENERADO | C12: 0 | D12: 0 | E12: PESO | F12: NO GENERADO
A13: 10 | B13: NO GENERADO | C13: 0 | D13: 0 | E13: PESO | F13: NO GENERADO
A14: 11 | B14: NO GENERADO | C14: 0 | D14: 0 | E14: PESO | F14: NO GENERADO
A15: 12 | B15: NO GENERADO | C15: 0 | D15: 0 | E15: PESO | F15: NO GENERADO
... A180: 177 | B180: NO GENERADO | C180: 0 | D180: 0 | E180: PESO | F180: NO GENERADO

Sheet Tabla_549529
B1: 1 | C1: 6 | D1: 6 | E1: 1 | F1: 1
B2: 70013 | C2: 70014 | D2: 70015 | E2: 70016 | F2: 70017
A3: ID | B3: Denominación de las primas | C3: Monto bruto de las primas | D3: Monto neto de las primas | E3: Tipo de moneda de las primas | F3: Periodicidad de las primas
A4: 1 | B4: PRIMA VACACIONAL | C4: 0 | D4: 0 | E4: PESO | F4: SEMESTRAL
A5: 2 | B5: PRIMA VACACIONAL | C5: 0 | D5: 0 | E5: PESO | F5: SEMESTRAL
A6: 3 | B6: PRIMA VACACIONAL | C6: 0 | D6: 0 | E6: PESO | F6: SEMESTRAL
A7: 4 | B7: PRIMA VACACIONAL | C7: 0 | D7: 0 | E7: PESO | F7: SEMESTRAL
A8: 5 | B8: PRIMA VACACIONAL | C8: 0 | D8: 0 | E8: PESO | F8: SEMESTRAL
A9: 6 | B9: PRIMA VACACIONAL | C9: 0 | D9: 0 | E9: PESO | F9: SEMESTRAL
A10: 7 | B10: PRIMA VACACIONAL | C10: 0 | D10: 0 | E10: PESO | F10: SEMESTRAL
A11: 8 | B11: PRIMA VACACIONAL | C11: 0 | D11: 0 | E11: PESO | F11: SEMESTRAL
A12: 9 | B12: PRIMA VACACIONAL | C12: 0 | D12: 0 | E12: PESO | F12: SEMESTRAL
A13: 10 | B13: PRIMA VACACIONAL | C13: 0 | D13: 0 | E13: PESO | F13: SEMESTRAL
A14: 11 | B14: PRIMA VACACIONAL | C14: 0 | D14: 0 | E14: PESO | F14: SEMESTRAL
A15: 12 | B15: PRIMA VACACIONAL | C15: 1530.9 | D15: 1389.23 | E15: PESO | F15: SEMESTRAL
... A180: 177 | B180: PRIMA VACACIONAL | C180: 0 | D180: 0 | E180: PESO | F180: SEMESTRAL

Sheet Tabla_549539
B1: 1 | C1: 6 | D1: 6 | E1: 1 | F1: 1
B2: 70030 | C2: 70031 | D2: 70032 | E2: 70033 | F2: 70034
A3: ID | B3: Denominación de las comisiones | C3: Monto bruto de las comisiones | D3: Monto neto de las comisiones | E3: Tipo de moneda de las comisiones | F3: Periodicidad de las comisiones
A4: 1 | B4: NO GENERADO | C4: 0 | D4: 0 | E4: PESO | F4: NO GENERADO
A5: 2 | B5: NO GENERADO | C5: 0 | D5: 0 | E5: PESO | F5: NO GENERADO
A6: 3 | B6: NO GENERADO | C6: 0 | D6: 0 | E6: PESO | F6: NO GENERADO
A7: 4 | B7: NO GENERADO | C7: 0 | D7: 0 | E7: PESO | F7: NO GENERADO
A8: 5 | B8: NO GENERADO | C8: 0 | D8: 0 | E8: PESO | F8: NO GENERADO
A9: 6 | B9: NO GENERADO | C9: 0 | D9: 0 | E9: PESO | F9: NO GENERADO
A10: 7 | B10: NO GENERADO | C10: 0 | D10: 0 | E10: PESO | F10: NO GENERADO
A11: 8 | B11: NO GENERADO | C11: 0 | D11: 0 | E11: PESO | F11: NO GENERADO
A12: 9 | B12: NO GENERADO | C12: 0 | D12: 0 | E12: PESO | F12: NO GENERADO
A13: 10 | B13: NO GENERADO | C13: 0 | D13: 0 | E13: PESO | F13: NO GENERADO
A14: 11 | B14: NO GENERADO | C14: 0 | D14: 0 | E14: PESO | F14: NO GENERADO
A15: 12 | B15: NO GENERADO | C15: 0 | D15: 0 | E15: PESO | F15: NO GENERADO
... A180: 177 | B180: NO GENERADO | C180: 0 | D180: 0 | E180: PESO | F180: NO GENERADO

Sheet Tabla_549530
B1: 1 | C1: 6 | D1: 6 | E1: 1 | F1: 1
B2: 70018 | C2: 70019 | D2: 70020 | E2: 70021 | F2: 70022
A3: ID | B3: Denominación de las dietas | C3: Monto bruto de las dietas | D3: Monto neto de las dietas | E3: Tipo de moneda de las dietas | F3: Periodicidad de las dietas
A4: 1 | B4: DIETAS | C4: 74004.6 | D4: 57984.72 | E4: PESO | F4: MENSUAL
A5: 2 | B5: DIETAS | C5: 37108.2 | D5: 30997.64 | E5: PESO | F5: MENSUAL
A6: 3 | B6: DIETAS | C6: 23922.6 | D6: 20676.24 | E6: PESO | F6: MENSUAL
A7: 4 | B7: DIETAS | C7: 23922.6 | D7: 20676.24 | E7: PESO | F7: MENSUAL
A8: 5 | B8: DIETAS | C8: 23922.6 | D8: 20676.24 | E8: PESO | F8: MENSUAL
A9: 6 | B9: DIETAS | C9: 23922.6 | D9: 20676.24 | E9: PESO | F9: MENSUAL
A10: 7 | B10: DIETAS | C10: 23922.6 | D10: 20676.24 | E10: PESO | F10: MENSUAL
A11: 8 | B11: DIETAS | C11: 23922.6 | D11: 20676.24 | E11: PESO | F11: MENSUAL
A12: 9 | B12: DIETAS | C12: 0 | D12: 0 | E12: PESO | F12: MENSUAL
A13: 10 | B13: DIETAS | C13: 0 | D13: 0 | E13: PESO | F13: MENSUAL
A14: 11 | B14: DIETAS | C14: 0 | D14: 0 | E14: PESO | F14: MENSUAL
A15: 12 | B15: DIETAS | C15: 0 | D15: 0 | E15: PESO | F15: MENSUAL
... A180: 177 | B180: DIETAS | C180: 0 | D180: 0 | E180: PESO | F180: MENSUAL

Sheet Tabla_549554
B1: 1 | C1: 1
B2: 70065 | C2: 70066
A3: ID | B3: Descripción de las prestaciones en especie | C3: Periodicidad de las prestaciones en especie
A4: 1 | B4: NO GENERADO | C4: NO GENERADO
A5: 2 | B5: NO GENERADO | C5: NO GENERADO
A6: 3 | B6: NO GENERADO | C6: NO GENERADO
A7: 4 | B7: NO GENERADO | C7: NO GENERADO
A8: 5 | B8: NO GENERADO | C8: NO GENERADO
A9: 6 | B9: NO GENERADO | C9: NO GENERADO
A10: 7 | B10: NO GENERADO | C10: NO GENERADO
A11: 8 | B11: NO GENERADO | C11: NO GENERADO
A12: 9 | B12: NO GENERADO | C12: NO GENERADO
A13: 10 | B13: NO GENERADO | C13: NO GENERADO
A14: 11 | B14: NO GENERADO | C14: NO GENERADO
A15: 12 | B15: NO GENERADO | C15: NO GENERADO
... A180: 177 | B180: NO GENERADO | C180: NO GENERADO

Sheet Tabla_549549
B1: 1 | C1: 6 | D1: 6 | E1: 1 | F1: 1
B2: 70040 | C2: 70041 | D2: 70042 | E2: 70043 | F2: 70044
A3: ID | B3: Denominación de los estímulos | C3: Monto bruto de los estímulos | D3: Monto neto de los estímulos | E3: Tipo de moneda de los estímulos | F3: Periodicidad de los estímulos
A4: 1 | B4: NO GENERADO | C4: 0 | D4: 0 | E4: PESO | F4: NO GENERADO
A5: 2 | B5: NO GENERADO | C5: 0 | D5: 0 | E5: PESO | F5: NO GENERADO
A6: 3 | B6: NO GENERADO | C6: 0 | D6: 0 | E6: PESO | F6: NO GENERADO
A7: 4 | B7: NO GENERADO | C7: 0 | D7: 0 | E7: PESO | F7: NO GENERADO
A8: 5 | B8: NO GENERADO | C8: 0 | D8: 0 | E8: PESO | F8: NO GENERADO
A9: 6 | B9: NO GENERADO | C9: 0 | D9: 0 | E9: PESO | F9: NO GENERADO
A10: 7 | B10: NO GENERADO | C10: 0 | D10: 0 | E10: PESO | F10: NO GENERADO
A11: 8 | B11: NO GENERADO | C11: 0 | D11: 0 | E11: PESO | F11: NO GENERADO
A12: 9 | B12: NO GENERADO | C12: 0 | D12: 0 | E12: PESO | F12: NO GENERADO
A13: 10 | B13: NO GENERADO | C13: 0 | D13: 0 | E13: PESO | F13: NO GENERADO
A14: 11 | B14: NO GENERADO | C14: 0 | D14: 0 | E14: PESO | F14: NO GENERADO
A15: 12 | B15: NO GENERADO | C15: 0 | D15: 0 | E15: PESO | F15: NO GENERADO
... A180: 177 | B180: NO GENERADO | C180: 0 | D180: 0 | E180: PESO | F180: NO GENERADO

Sheet 549550
B1: 1 | C1: 6 | D1: 6 | E1: 1 | F1: 1
B2: 70045 | C2: 70046 | D2: 70047 | E2: 70048 | F2: 70049
A3: ID | B3: Denominación de las prestaciones económicas | C3: Monto bruto de las prestaciones económicas | D3: Monto neto de las prestaciones económicas | E3: Tipo de moneda de las prestaciones económicas | F3: Periodicidad de las prestaciones económicas
A4: 1 | B4: AGUINALDO | C4: 0 | D4: 0 | E4: PESO | F4: ANUAL
A5: 2 | B5: AGUINALDO | C5: 0 | D5: 0 | E5: PESO | F5: ANUAL
A6: 3 | B6: AGUINALDO | C6: 0 | D6: 0 | E6: PESO | F6: ANUAL
A7: 4 | B7: AGUINALDO | C7: 0 | D7: 0 | E7: PESO | F7: ANUAL
A8: 5 | B8: AGUINALDO | C8: 0 | D8: 0 | E8: PESO | F8: ANUAL
A9: 6 | B9: AGUINALDO | C9: 0 | D9: 0 | E9: PESO | F9: ANUAL
A10: 7 | B10: AGUINALDO | C10: 0 | D10: 0 | E10: PESO | F10: ANUAL
A11: 8 | B11: AGUINALDO | C11: 0 | D11: 0 | E11: PESO | F11: ANUAL
A12: 9 | B12: AGUINALDO | C12: 0 | D12: 0 | E12: PESO | F12: ANUAL
A13: 10 | B13: AGUINALDO | C13: 0 | D13: 0 | E13: PESO | F13: ANUAL
A14: 11 | B14: AGUINALDO | C14: 0 | D14: 0 | E14: PESO | F14: ANUAL
A15: 12 | B15: AGUINALDO | C15: 0 | D15: 0 | E15: PESO | F15: ANUAL
... A180: 177 | B180: AGUINALDO | C180: 0 | D180: 0 | E180: PESO | F180: ANUAL

Sheet 549553
B1: 1 | C1: 6 | D1: 6 | E1: 1 | F1: 1
B2: 70060 | C2: 70061 | D2: 70062 | E2: 70063 | F2: 70064
A3: ID | B3: Denominación de los apoyos económicos | C3: Monto bruto de los apoyos económicos | D3: Monto neto de los apoyos económicos | E3: Tipo de moneda de los apoyos económicos | F3: Periodicidad de los apoyos económicos
A4: 1 | B4: NO GENERADO | C4: 0 | D4: 0 | E4: PESO | F4: NO GENERADO
A5: 2 | B5: NO GENERADO | C5: 0 | D5: 0 | E5: PESO | F5: NO GENERADO
A6: 3 | B6: NO GENERADO | C6: 0 | D6: 0 | E6: PESO | F6: NO GENERADO
A7: 4 | B7: NO GENERADO | C7: 0 | D7: 0 | E7: PESO | F7: NO GENERADO
A8: 5 | B8: NO GENERADO | C8: 0 | D8: 0 | E8: PESO | F8: NO GENERADO
A9: 6 | B9: NO GENERADO | C9: 0 | D9: 0 | E9: PESO | F9: NO GENERADO
A10: 7 | B10: NO GENERADO | C10: 0 | D10: 0 | E10: PESO | F10: NO GENERADO
A11: 8 | B11: NO GENERADO | C11: 0 | D11: 0 | E11: PESO | F11: NO GENERADO
A12: 9 | B12: NO GENERADO | C12: 0 | D12: 0 | E12: PESO | F12: NO GENERADO
A13: 10 | B13: NO GENERADO | C13: 0 | D13: 0 | E13: PESO | F13: NO GENERADO
A14: 11 | B14: NO GENERADO | C14: 0 | D14: 0 | E14: PESO | F14: NO GENERADO
A15: 12 | B15: NO GENERADO | C15: 0 | D15: 0 | E15: PESO | F15: NO GENERADO
... A180: 177 | B180: NO GENERADO | C180: 0 | D180: 0 | E180: PESO | F180: NO GENERADO

Sheet 549522
B1: 1 | C1: 6 | D1: 6 | E1: 1 | F1: 1
B2: 70008 | C2: 70009 | D2: 70010 | E2: 70011 | F2: 70012
A3: ID | B3: Denominación de los sistemas de compensación | C3: Monto bruto de los sistemas de compensación | D3: Monto neto de los sistemas de compensación | E3: Tipo de moneda de los sistemas de compensación | F3: Periodicidad de los sistemas de compensación
A4: 1 | B4: COMPENSACION | C4: 0 | D4: 0 | E4: PESO | F4: MENSUAL
A5: 2 | B5: COMPENSACION | C5: 0 | D5: 0 | E5: PESO | F5: MENSUAL
A6: 3 | B6: COMPENSACION | C6: 0 | D6: 0 | E6: PESO | F6: MENSUAL
A7: 4 | B7: COMPENSACION | C7: 0 | D7: 0 | E7: PESO | F7: MENSUAL
A8: 5 | B8: COMPENSACION | C8: 0 | D8: 0 | E8: PESO | F8: MENSUAL
A9: 6 | B9: COMPENSACION | C9: 0 | D9: 0 | E9: PESO | F9: MENSUAL
A10: 7 | B10: COMPENSACION | C10: 0 | D10: 0 | E10: PESO | F10: MENSUAL
A11: 8 | B11: COMPENSACION | C11: 0 | D11: 0 | E11: PESO | F11: MENSUAL
A12: 9 | B12: COMPENSACION | C12: 0 | D12: 0 | E12: PESO | F12: MENSUAL
A13: 10 | B13: COMPENSACION | C13: 0 | D13: 0 | E13: PESO | F13: MENSUAL
A14: 11 | B14: COMPENSACION | C14: 0 | D14: 0 | E14: PESO | F14: MENSUAL
A15: 12 | B15: COMPENSACION | C15: 0 | D15: 0 | E15: PESO | F15: MENSUAL
... A180: 177 | B180: COMPENSACION | C180: 0 | D180: 0 | E180: PESO | F180: MENSUAL

Sheet 549531
B1: 1 | C1: 6 | D1: 6 | E1: 1 | F1: 1
B2: 70023 | C2: 70024 | D2: 70025 | E2: 70026 | F2: 70027
A3: ID | B3: Denominación de los bonos | C3: Monto bruto de los bonos | D3: Monto neto de los bonos | E3: Tipo de moneda de los bonos | F3: Periodicidad de los bonos
A4: 1 | B4: NO GENERADO | C4: 0 | D4: 0 | E4: PESO | F4: NO GENERADO
A5: 2 | B5: NO GENERADO | C5: 0 | D5: 0 | E5: PESO | F5: NO GENERADO
A6: 3 | B6: NO GENERADO | C6: 0 | D6: 0 | E6: PESO | F6: NO GENERADO
A7: 4 | B7: NO GENERADO | C7: 0 | D7: 0 | E7: PESO | F7: NO GENERADO
A8: 5 | B8: NO GENERADO | C8: 0 | D8: 0 | E8: PESO | F8: NO GENERADO
A9: 6 | B9: NO GENERADO | C9: 0 | D9: 0 | E9: PESO | F9: NO GENERADO
A10: 7 | B10: NO GENERADO | C10: 0 | D10: 0 | E10: PESO | F10: NO GENERADO
A11: 8 | B11: NO GENERADO | C11: 0 | D11: 0 | E11: PESO | F11: NO GENERADO
A12: 9 | B12: NO GENERADO | C12: 0 | D12: 0 | E12: PESO | F12: NO GENERADO
A13: 10 | B13: NO GENERADO | C13: 0 | D13: 0 | E13: PESO | F13: NO GENERADO
A14: 11 | B14: NO GENERADO | C14: 0 | D14: 0 | E14: PESO | F14: NO GENERADO
A15: 12 | B15: NO GENERADO | C15: 0 | D15: 0 | E15: PESO | F15: NO GENERADO
... A180: 177 | B180: NO GENERADO | C180: 0 | D180: 0 | E180: PESO | F180: NO GENERADO
