Workbook
Name Hidden_13: Hidden_1!$A$1:$A$11
Name Hidden_211: Hidden_2!$A$1:$A$2

Sheet Reporte de Formatos
A1: 56156
A2: TÍTULO | D2: NOMBRE CORTO | G2: DESCRIPCIÓN
A3: Remuneraciones brutas y netas de todas las personas servidoras públicas de base y de confianza | D3: LTAIPSLP84XI | G3: La información relativa a la remuneración mensual bruta y neta de conformidad con el tabulador de sueldos y salarios aplicable a cada sujeto obligado, así como todos los conceptos que sean adicionales y distintos a las remuneraciones, especificando la periodicidad con que se otorga cada uno de éstos (quincenal, mensual, semestral, anual, por única ocasión, etcétera) | N3: 7200
A4: 1 | B4: 4 | C4: 4 | D4: 9 | E4: 1 | F4: 2 | G4: 2 | H4: 2 | I4: 1 | J4: 1 | K4: 1 | L4: 9 | M4: 6 | N4: 1 | O4: 6 | P4: 1 | Q4: 10 | R4: 10 | S4: 10 | T4: 10 | U4: 10 | V4: 10 | W4: 10 | X4: 10 | Y4: 10 | Z4: 10 | AA4: 10 | AB4: 10 | AC4: 10 | AD4: 2 | AE4: 13 | AF4: 14
A5: 549532 | B5: 549544 | C5: 549524 | D5: 549545 | E5: 549546 | F5: 549527 | G5: 549533 | H5: 549534 | I5: 549535 | J5: 549528 | K5: 549525 | L5: 571587 | M5: 549547 | N5: 549548 | O5: 549537 | P5: 549526 | Q5: 549551 | R5: 549538 | S5: 549552 | T5: 549522 | U5: 549542 | V5: 549529 | W5: 549539 | X5: 549530 | Y5: 549531 | Z5: 549549 | AA5: 549553 | AB5: 549550 | AC5: 549554 | AD5: 549540 | AE5: 549543 | AF5: 549523
A6: Tabla Campos
A7: Ejercicio | B7: Fecha de inicio del periodo que se informa | C7: Fecha de término del periodo que se informa | D7: Tipo de integrante del sujeto obligado (catálogo) | E7: Clave o nivel del puesto | F7: Denominación o descripción del puesto (Redactados con perspectiva de género) | G7: Denominación del cargo (de conformidad con el nombramiento otorgado) | H7: Área de adscripción | I7: Nombre (s) | J7: Primer apellido | K7: Segundo apellido | L7: ESTE CRITERIO APLICA A PARTIR DEL 01/04/2023 -> Sexo (catálogo ) | M7: Monto de la remuneración mensual bruta, de conformidad al Tabulador de sueldos y salarios que corresponda | N7: Tipo de moneda de la remuneración mensual bruta | O7: Monto de la remuneración mensual neta, de conformidad al Tabulador de sueldos y salarios que corresponda | P7: Tipo de moneda de la remuneración mensual neta | Q7: Percepciones adicionales en dinero, Monto bruto y neto, tipo de moneda y su periodicidad Tabla_549551 | R7: Percepciones adicionales en especie y su periodicidad Tabla_549538 | S7: Ingresos, monto bruto y neto, tipo de moneda y su periodicidad Tabla_549552 | T7: Sistemas de compensación, monto bruto y neto, tipo de moneda y su periodicidad Tabla_549522 | U7: Gratificaciones, monto bruto y neto, tipo de moneda y su periodicidad Tabla_549542 | V7: Primas, monto bruto y neto, tipo de moneda y su periodicidad Tabla_549529 | W7: Comisiones, monto bruto y neto, tipo de moneda y su periodicidad Tabla_549539 | X7: Dietas, monto bruto y neto, tipo de moneda y su periodicidad Tabla_549530 | Y7: Bonos, monto bruto y neto, tipo de moneda y su periodicidad Tabla_549531 | Z7: Estímulos, monto bruto y neto, tipo de moneda y su periodicidad Tabla_549549 | AA7: Apoyos económicos, monto bruto y neto, tipo de moneda y su periodicidad Tabla_549553 | AB7: Prestaciones económicas, monto bruto y neto, tipo de moneda y su periodicidad Tabla_549550 | AC7: Prestaciones en especie y su periodicidad Tabla_549554 | AD7: Área(s) responsable(s) que genera(n), posee(n), publica(n) y actualizan la información | AE7: Fecha de Actualización | AF7: Nota
A8: 2026 | B8: 46174 | C8: 46203 | D8: Persona servidora pública | E8: 1 | F8: COORDINADORA | G8: COORDINADORA | H8: DIRECCIÓN | I8: NYDIA BERENICE | J8: BALBONTIN | K8: ZAMUDIO | L8: Mujer | M8: 16999.8 | N8: PESOS | O8: 15221.7 | P8: PESOS | Q8: NO SE GENERA | R8: NO SE GENERA | S8: 1 | T8: 1 | U8: 1 | V8: 1 | W8: 1 | X8: 1 | Y8: 1 | Z8: 1 | AA8: 1 | AB8: 1 | AC8: 1 | AD8: CONTABILIDAD | AE8: 46244 | AF8: SIN NOTA
A9: 2026 | B9: 46174 | C9: 46203 | D9: Persona servidora pública | E9: 1 | F9: CONTRALOR INTERNO | G9: CONTRALOR INTERNO | H9: DIRECCIÓN | I9: NOEL | J9: RIVERA | K9: MARTINEZ | L9: Hombre | M9: 13800 | N9: PESOS | O9: 12582.8 | P9: PESOS | Q9: NO SE GENERA | R9: NO SE GENERA | S9: 2 | T9: 2 | U9: 2 | V9: 2 | W9: 2 | X9: 2 | Y9: 2 | Z9: 2 | AA9: 2 | AB9: 2 | AC9: 2 | AD9: CONTABILIDAD | AE9: 46244 | AF9: SIN NOTA
A10: 2026 | B10: 46174 | C10: 46203 | D10: Persona servidora pública | E10: 1 | F10: CONTADOR | G10: CONTADOR | H10: DIRECCIÓN | I10: ADA SELA | J10: QUIJADA | K10: RODRIGUEZ | L10: Mujer | M10: 15999 | N10: PESOS | O10: 14400.98 | P10: PESOS | Q10: NO SE GENERA | R10: NO SE GENERA | S10: 3 | T10: 3 | U10: 3 | V10: 3 | W10: 3 | X10: 3 | Y10: 3 | Z10: 3 | AA10: 3 | AB10: 3 | AC10: 3 | AD10: CONTABILIDAD | AE10: 46244 | AF10: SIN NOTA
A11: 2026 | B11: 46174 | C11: 46203 | D11: Persona servidora pública | E11: 2 | F11: CHOFER GENERAL | G11: CHOFER GENERAL | H11: DIRECCIÓN | I11: VACANTE | J11: VACANTE | K11: VACANTE | L11: Hombre | M11: 0 | N11: PESOS | O11: 0 | P11: PESOS | Q11: NO SE GENERA | R11: NO SE GENERA | S11: 4 | T11: 4 | U11: 4 | V11: 4 | W11: 4 | X11: 4 | Y11: 4 | Z11: 4 | AA11: 4 | AB11: 4 | AC11: 4 | AD11: CONTABILIDAD | AE11: 46244 | AF11: SIN NOTA
A12: 2026 | B12: 46174 | C12: 46203 | D12: Persona servidora pública | E12: 3 | F12: RECEPCIONISTA | G12: RECEPCIONISTA | H12: DIRECCIÓN | I12: IRAIZ | J12: CEBRIAN | K12: MENDEZ | L12: Mujer | M12: 7350 | N12: PESOS | O12: 7350 | P12: PESOS | Q12: NO SE GENERA | R12: NO SE GENERA | S12: 5 | T12: 5 | U12: 5 | V12: 5 | W12: 5 | X12: 5 | Y12: 5 | Z12: 5 | AA12: 5 | AB12: 5 | AC12: 5 | AD12: CONTABILIDAD | AE12: 46244 | AF12: SIN NOTA
A13: 2026 | B13: 46174 | C13: 46203 | D13: Persona servidora pública | E13: 2 | F13: ASISTENTE ADMINISTRATIVO GENERAL | G13: ASISTENTE ADMINISTRATIVO GENERAL | H13: DIRECCIÓN | I13: LAURA PATRICIA | J13: FLORES | K13: CASTRO | L13: Mujer | M13: 6210 | N13: PESOS | O13: 6210 | P13: PESOS | Q13: NO SE GENERA | R13: NO SE GENERA | S13: 6 | T13: 6 | U13: 6 | V13: 6 | W13: 6 | X13: 6 | Y13: 6 | Z13: 6 | AA13: 6 | AB13: 6 | AC13: 6 | AD13: CONTABILIDAD | AE13: 46244 | AF13: SIN NOTA
A14: 2026 | B14: 46174 | C14: 46203 | D14: Persona servidora pública | E14: 2 | F14: AUXILIAR DE DIRECCIÓN | G14: AUXILIAR DE DIRECCIÓN | H14: DIRECCIÓN | I14: MARIA MAGDALENA | J14: CASTRO | K14: FLORES | L14: Mujer | M14: 6000 | N14: PESOS | O14: 6000 | P14: PESOS | Q14: NO SE GENERA | R14: NO SE GENERA | S14: 6 | T14: 6 | U14: 6 | V14: 6 | W14: 6 | X14: 6 | Y14: 6 | Z14: 6 | AA14: 6 | AB14: 6 | AC14: 6 | AD14: CONTABILIDAD | AE14: 46244 | AF14: SIN NOTA
A15: 2026 | B15: 46174 | C15: 46203 | D15: Persona servidora pública | E15: 2 | F15: AUXILIAR CONTABLE | G15: AUXILIAR CONTABLE | H15: DIRECCIÓN | I15: VACANTE | J15: VACANTE | K15: VACANTE | L15: Hombre | M15: 0 | N15: PESOS | O15: 0 | P15: PESOS | Q15: NO SE GENERA | R15: NO SE GENERA | S15: 2 | T15: 2 | U15: 2 | V15: 2 | W15: 2 | X15: 2 | Y15: 2 | Z15: 2 | AA15: 2 | AB15: 2 | AC15: 2 | AD15: CONTABILIDAD | AE15: 46244 | AF15: SIN NOTA
A16: 2026 | B16: 46174 | C16: 46203 | D16: Persona servidora pública | E16: 2 | F16: ASESOR JURIDICO | G16: ASESOR JURIDICO | H16: JURÍDICO | I16: CLAUDIA | J16: GONZALEZ | K16: RUBIO | L16: Mujer | M16: 11730 | N16: PESOS | O16: 10808.04 | P16: PESOS | Q16: NO SE GENERA | R16: NO SE GENERA | S16: 7 | T16: 7 | U16: 7 | V16: 7 | W16: 7 | X16: 7 | Y16: 7 | Z16: 7 | AA16: 7 | AB16: 7 | AC16: 7 | AD16: CONTABILIDAD | AE16: 46244 | AF16: SIN NOTA
A17: 2026 | B17: 46174 | C17: 46203 | D17: Persona servidora pública | E17: 2 | F17: FISIOTERAPEUTA | G17: FISIOTERAPEUTA | H17: UBR | I17: CONCEPCION | J17: LOPEZ | K17: COSME | L17: Mujer | M17: 11730 | N17: PESOS | O17: 10808.04 | P17: PESOS | Q17: NO SE GENERA | R17: NO SE GENERA | S17: 8 | T17: 8 | U17: 8 | V17: 8 | W17: 8 | X17: 8 | Y17: 8 | Z17: 8 | AA17: 8 | AB17: 8 | AC17: 8 | AD17: CONTABILIDAD | AE17: 46244 | AF17: SIN NOTA
A18: 2026 | B18: 46174 | C18: 46203 | D18: Persona servidora pública | E18: 2 | F18: CHOFER UBR | G18: CHOFER UBR | H18: UBR | I18: DANIEL | J18: GARCIA | K18: BUSTOS | L18: Hombre | M18: 7200 | N18: PESOS | O18: 7200 | P18: PESOS | Q18: NO SE GENERA | R18: NO SE GENERA | S18: 9 | T18: 9 | U18: 9 | V18: 9 | W18: 9 | X18: 9 | Y18: 9 | Z18: 9 | AA18: 9 | AB18: 9 | AC18: 9 | AD18: CONTABILIDAD | AE18: 46244 | AF18: SIN NOTA
A19: 2026 | B19: 46174 | C19: 46203 | D19: Persona servidora pública | E19: 2 | F19: RESPONSABLE DE UBR | G19: RESPONSABLE DE UBR | H19: UBR | I19: ZENIA VANESSA | J19: ASTELLO | K19: LOPEZ | L19: Mujer | M19: 9450 | N19: PESOS | O19: 9450 | P19: PESOS | Q19: NO SE GENERA | R19: NO SE GENERA | S19: 10 | T19: 10 | U19: 10 | V19: 10 | W19: 10 | X19: 10 | Y19: 10 | Z19: 10 | AA19: 10 | AB19: 10 | AC19: 10 | AD19: CONTABILIDAD | AE19: 46244 | AF19: SIN NOTA
... A39: 2026 | B39: 46174 | C39: 46203 | D39: Persona servidora pública | E39: 3 | F39: AUXILIAR DE ALIMENTOS | G39: AUXILIAR DE ALIMENTOS | H39: ASISTENCIA ALIMENTARIA | I39: LIBRADO ARTURO | J39: LOPEZ | K39: RODRIGUEZ | L39: Hombre | M39: 2610 | N39: PESOS | O39: 2610 | P39: PESOS | Q39: NO SE GENERA | R39: NO SE GENERA | S39: 30 | T39: 30 | U39: 30 | V39: 30 | W39: 30 | X39: 30 | Y39: 30 | Z39: 30 | AA39: 30 | AB39: 30 | AC39: 30 | AD39: CONTABILIDAD | AE39: 46244 | AF39: SIN NOTA

Sheet Hidden_1
A1: Funcionaria (o)
A2: Persona servidora pública
A3: Persona servidora pública eventual
A4: Integrante
A5: Empleada (o)
A6: Representante popular
A7: Miembro del poder judicial
A8: Miembro de órgano autónomo
A9: Personal de confianza
A10: Persona prestadora de servicios profesionales
A11: Otro

Sheet Hidden_2
A1: Hombre
A2: Mujer

Sheet Tabla_549551
B1: 2 | C1: 6 | D1: 6 | E1: 1 | F1: 1
B2: 70050 | C2: 70051 | D2: 70052 | E2: 70053 | F2: 70054
A3: ID | B3: Denominación de las percepciones adicionales en dinero | C3: Monto bruto de las percepciones adicionales en dinero | D3: Monto neto de las percepciones adicionales en dinero | E3: Tipo de moneda de las percepciones adicionales en dinero | F3: Periodicidad de las percepciones adicionales en dinero
A4: 1 | B4: NO SE GENERA | C4: 0 | D4: 0 | E4: NO SE GENERA | F4: NO SE GENERA
A5: 2 | B5: NO SE GENERA | C5: 0 | D5: 0 | E5: NO SE GENERA | F5: NO SE GENERA
A6: 3 | B6: NO SE GENERA | C6: 0 | D6: 0 | E6: NO SE GENERA | F6: NO SE GENERA
A7: 4 | B7: NO SE GENERA | C7: 0 | D7: 0 | E7: NO SE GENERA | F7: NO SE GENERA
A8: 5 | B8: NO SE GENERA | C8: 0 | D8: 0 | E8: NO SE GENERA | F8: NO SE GENERA
A9: 6 | B9: NO SE GENERA | C9: 0 | D9: 0 | E9: NO SE GENERA | F9: NO SE GENERA
A10: 7 | B10: NO SE GENERA | C10: 0 | D10: 0 | E10: NO SE GENERA | F10: NO SE GENERA
A11: 8 | B11: NO SE GENERA | C11: 0 | D11: 0 | E11: NO SE GENERA | F11: NO SE GENERA
A12: 9 | B12: NO SE GENERA | C12: 0 | D12: 0 | E12: NO SE GENERA | F12: NO SE GENERA
A13: 10 | B13: NO SE GENERA | C13: 0 | D13: 0 | E13: NO SE GENERA | F13: NO SE GENERA
A14: 11 | B14: NO SE GENERA | C14: 0 | D14: 0 | E14: NO SE GENERA | F14: NO SE GENERA
A15: 12 | B15: NO SE GENERA | C15: 0 | D15: 0 | E15: NO SE GENERA | F15: NO SE GENERA
... A29: 26 | B29: NO SE GENERA | C29: 0 | D29: 0 | E29: NO SE GENERA | F29: NO SE GENERA

Sheet Tabla_549538
B1: 2 | C1: 1
B2: 70028 | C2: 70029
A3: ID | B3: Descripción de las percepciones adicionales en especie | C3: Periodicidad de las percepciones adicionales en especie
A4: 1 | B4: NO SE GENERA | C4: NO SE GENERA
A5: 2 | B5: NO SE GENERA | C5: NO SE GENERA
A6: 3 | B6: NO SE GENERA | C6: NO SE GENERA
A7: 4 | B7: NO SE GENERA | C7: NO SE GENERA
A8: 5 | B8: NO SE GENERA | C8: NO SE GENERA
A9: 6 | B9: NO SE GENERA | C9: NO SE GENERA
A10: 7 | B10: NO SE GENERA | C10: NO SE GENERA
A11: 8 | B11: NO SE GENERA | C11: NO SE GENERA
A12: 9 | B12: NO SE GENERA | C12: NO SE GENERA
A13: 10 | B13: NO SE GENERA | C13: NO SE GENERA
A14: 11 | B14: NO SE GENERA | C14: NO SE GENERA
A15: 12 | B15: NO SE GENERA | C15: NO SE GENERA
... A29: 26 | B29: NO SE GENERA | C29: NO SE GENERA

Sheet Tabla_549552
B1: 2 | C1: 6 | D1: 6 | E1: 1 | F1: 1
B2: 70057 | C2: 70058 | D2: 70059 | E2: 70055 | F2: 70056
A3: ID | B3: Denominación de los ingresos | C3: Monto bruto de los ingresos | D3: Monto neto de los ingresos | E3: Tipo de moneda de los ingresos | F3: Periodicidad de los ingresos
A4: 1 | B4: REMUNERACIÓN | C4: =+'Reporte de Formatos'!M8 -> 16999.8 | D4: =+'Reporte de Formatos'!O8 -> 15221.7 | E4: PESOS | F4: MENSUAL PROMEDIO
A5: 2 | B5: REMUNERACIÓN | C5: =+'Reporte de Formatos'!M9 -> 13800 | D5: =+'Reporte de Formatos'!O9 -> 12582.8 | E5: PESOS | F5: MENSUAL PROMEDIO
A6: 3 | B6: REMUNERACIÓN | C6: =+'Reporte de Formatos'!M10 -> 15999 | D6: =+'Reporte de Formatos'!O10 -> 14400.98 | E6: PESOS | F6: MENSUAL PROMEDIO
A7: 4 | B7: REMUNERACIÓN | C7: =+'Reporte de Formatos'!M11 -> 0 | D7: =+'Reporte de Formatos'!O11 -> 0 | E7: PESOS | F7: MENSUAL PROMEDIO
A8: 5 | B8: REMUNERACIÓN | C8: =+'Reporte de Formatos'!M12 -> 7350 | D8: =+'Reporte de Formatos'!O12 -> 7350 | E8: PESOS | F8: MENSUAL PROMEDIO
A9: 6 | B9: REMUNERACIÓN | C9: =+'Reporte de Formatos'!M13 -> 6210 | D9: =+'Reporte de Formatos'!O13 -> 6210 | E9: PESOS | F9: MENSUAL PROMEDIO
A10: 7 | B10: REMUNERACIÓN | C10: =+'Reporte de Formatos'!M14 -> 6000 | D10: =+'Reporte de Formatos'!O14 -> 6000 | E10: PESOS | F10: MENSUAL PROMEDIO
A11: 8 | B11: REMUNERACIÓN | C11: =+'Reporte de Formatos'!M15 -> 0 | D11: =+'Reporte de Formatos'!O15 -> 0 | E11: PESOS | F11: MENSUAL PROMEDIO
A12: 9 | B12: REMUNERACIÓN | C12: =+'Reporte de Formatos'!M16 -> 11730 | D12: =+'Reporte de Formatos'!O16 -> 10808.04 | E12: PESOS | F12: MENSUAL PROMEDIO
A13: 10 | B13: REMUNERACIÓN | C13: =+'Reporte de Formatos'!M17 -> 11730 | D13: =+'Reporte de Formatos'!O17 -> 10808.04 | E13: PESOS | F13: MENSUAL PROMEDIO
A14: 11 | B14: REMUNERACIÓN | C14: =+'Reporte de Formatos'!M18 -> 7200 | D14: =+'Reporte de Formatos'!O18 -> 7200 | E14: PESOS | F14: MENSUAL PROMEDIO
A15: 12 | B15: REMUNERACIÓN | C15: =+'Reporte de Formatos'!M19 -> 9450 | D15: =+'Reporte de Formatos'!O19 -> 9450 | E15: PESOS | F15: MENSUAL PROMEDIO
... A28: 25 | B28: REMUNERACIÓN | C28: =+'Reporte de Formatos'!M32 -> 11730 | D28: =+'Reporte de Formatos'!O32 -> 10808.04 | E28: PESOS | F28: MENSUAL PROMEDIO
A29: 26 | B29: REMUNERACIÓN | C29: 0 | D29: =+'Reporte de Formatos'!O33 -> 7200 | E29: PESOS | F29: MENSUAL PROMEDIO
A30: 27 | B30: REMUNERACIÓN | C30: 0 | D30: =+'Reporte de Formatos'!O34 -> 0 | E30: PESOS | F30: MENSUAL PROMEDIO
A31: 28 | B31: REMUNERACIÓN | C31: 0 | D31: =+'Reporte de Formatos'!O35 -> 0 | E31: PESOS | F31: MENSUAL PROMEDIO
A32: 29 | B32: REMUNERACIÓN | C32: 0 | D32: =+'Reporte de Formatos'!O36 -> 0 | E32: PESOS | F32: MENSUAL PROMEDIO

Sheet Tabla_549522
B1: 1 | C1: 6 | D1: 6 | E1: 1 | F1: 1
B2: 70008 | C2: 70009 | D2: 70010 | E2: 70011 | F2: 70012
A3: ID | B3: Denominación de los sistemas de compensación | C3: Monto bruto de los sistemas de compensación | D3: Monto neto de los sistemas de compensación | E3: Tipo de moneda de los sistemas de compensación | F3: Periodicidad de los sistemas de compensación
A4: 1 | B4: NO SE GENERA | C4: 0 | D4: 0 | E4: NO SE GENERA | F4: NO SE GENERA
A5: 2 | B5: NO SE GENERA | C5: 0 | D5: 0 | E5: NO SE GENERA | F5: NO SE GENERA
A6: 3 | B6: NO SE GENERA | C6: 0 | D6: 0 | E6: NO SE GENERA | F6: NO SE GENERA
A7: 4 | B7: NO SE GENERA | C7: 0 | D7: 0 | E7: NO SE GENERA | F7: NO SE GENERA
A8: 5 | B8: NO SE GENERA | C8: 0 | D8: 0 | E8: NO SE GENERA | F8: NO SE GENERA
A9: 6 | B9: NO SE GENERA | C9: 0 | D9: 0 | E9: NO SE GENERA | F9: NO SE GENERA
A10: 7 | B10: NO SE GENERA | C10: 0 | D10: 0 | E10: NO SE GENERA | F10: NO SE GENERA
A11: 8 | B11: NO SE GENERA | C11: 0 | D11: 0 | E11: NO SE GENERA | F11: NO SE GENERA
A12: 9 | B12: NO SE GENERA | C12: 0 | D12: 0 | E12: NO SE GENERA | F12: NO SE GENERA
A13: 10 | B13: NO SE GENERA | C13: 0 | D13: 0 | E13: NO SE GENERA | F13: NO SE GENERA
A14: 11 | B14: NO SE GENERA | C14: 0 | D14: 0 | E14: NO SE GENERA | F14: NO SE GENERA
A15: 12 | B15: NO SE GENERA | C15: 0 | D15: 0 | E15: NO SE GENERA | F15: NO SE GENERA
... A32: 26 | B32: NO SE GENERA | C32: 0 | D32: 0 | E32: NO SE GENERA | F32: NO SE GENERA

Sheet Tabla_549542
B1: 1 | C1: 6 | D1: 6 | E1: 1 | F1: 1
B2: 70035 | C2: 70036 | D2: 70037 | E2: 70038 | F2: 70039
A3: ID | B3: Denominación de las gratificaciones | C3: Monto bruto de las gratificaciones | D3: Monto neto de las gratificaciones | E3: Tipo de moneda de las gratificaciones | F3: Periodicidad de las gratificaciones
A4: 1 | B4: NO SE GENERA | C4: 0 | D4: 0 | E4: NO SE GENERA | F4: NO SE GENERA
A5: 2 | B5: NO SE GENERA | C5: 0 | D5: 0 | E5: NO SE GENERA | F5: NO SE GENERA
A6: 3 | B6: NO SE GENERA | C6: 0 | D6: 0 | E6: NO SE GENERA | F6: NO SE GENERA
A7: 4 | B7: NO SE GENERA | C7: 0 | D7: 0 | E7: NO SE GENERA | F7: NO SE GENERA
A8: 5 | B8: NO SE GENERA | C8: 0 | D8: 0 | E8: NO SE GENERA | F8: NO SE GENERA
A9: 6 | B9: NO SE GENERA | C9: 0 | D9: 0 | E9: NO SE GENERA | F9: NO SE GENERA
A10: 7 | B10: NO SE GENERA | C10: 0 | D10: 0 | E10: NO SE GENERA | F10: NO SE GENERA
A11: 8 | B11: NO SE GENERA | C11: 0 | D11: 0 | E11: NO SE GENERA | F11: NO SE GENERA
A12: 9 | B12: NO SE GENERA | C12: 0 | D12: 0 | E12: NO SE GENERA | F12: NO SE GENERA
A13: 10 | B13: NO SE GENERA | C13: 0 | D13: 0 | E13: NO SE GENERA | F13: NO SE GENERA
A14: 11 | B14: NO SE GENERA | C14: 0 | D14: 0 | E14: NO SE GENERA | F14: NO SE GENERA
A15: 12 | B15: NO SE GENERA | C15: 0 | D15: 0 | E15: NO SE GENERA | F15: NO SE GENERA
... A32: 29 | B32: NO SE GENERA | C32: 0 | D32: 0 | E32: NO SE GENERA | F32: NO SE GENERA

Sheet Tabla_549529
B1: 1 | C1: 6 | D1: 6 | E1: 1 | F1: 1
B2: 70013 | C2: 70014 | D2: 70015 | E2: 70016 | F2: 70017
A3: ID | B3: Denominación de las primas | C3: Monto bruto de las primas | D3: Monto neto de las primas | E3: Tipo de moneda de las primas | F3: Periodicidad de las primas
A4: 1 | B4: PRIMA VACACIONAL | C4: 2266.64 | D4: 2175.79 | E4: NACIONAL | F4: SEMESTRAL
A5: 2 | B5: PRIMA VACACIONAL | C5: 1840 | D5: 1827.14 | E5: NACIONAL | F5: SEMESTRAL
A6: 3 | B6: PRIMA VACACIONAL | C6: 2133.32 | D6: 2066.36 | E6: NACIONAL | F6: SEMESTRAL
A7: 4 | B7: PRIMA VACACIONAL | C7: 0 | D7: 0 | E7: NACIONAL | F7: SEMESTRAL
A8: 5 | B8: PRIMA VACACIONAL | C8: 980 | D8: 980 | E8: NACIONAL | F8: SEMESTRAL
A9: 6 | B9: PRIMA VACACIONAL | C9: 828 | D9: 828 | E9: NACIONAL | F9: SEMESTRAL
A10: 7 | B10: PRIMA VACACIONAL | C10: 800 | D10: 800 | E10: NACIONAL | F10: SEMESTRAL
A11: 8 | B11: PRIMA VACACIONAL | C11: 0 | D11: 0 | E11: NACIONAL | F11: SEMESTRAL
A12: 9 | B12: PRIMA VACACIONAL | C12: 1564 | D12: 1564 | E12: NACIONAL | F12: SEMESTRAL
A13: 10 | B13: PRIMA VACACIONAL | C13: 1564 | D13: 1564 | E13: NACIONAL | F13: SEMESTRAL
A14: 11 | B14: PRIMA VACACIONAL | C14: 960 | D14: 960 | E14: NACIONAL | F14: SEMESTRAL
A15: 12 | B15: PRIMA VACACIONAL | C15: 1260 | D15: 1260 | E15: NACIONAL | F15: SEMESTRAL
... A33: 30 | B33: PRIMA VACACIONAL | C33: 696 | D33: 696 | E33: NACIONAL | F33: SEMESTRAL

Sheet Tabla_549539
B1: 1 | C1: 6 | D1: 6 | E1: 1 | F1: 1
B2: 70030 | C2: 70031 | D2: 70032 | E2: 70033 | F2: 70034
A3: ID | B3: Denominación de las comisiones | C3: Monto bruto de las comisiones | D3: Monto neto de las comisiones | E3: Tipo de moneda de las comisiones | F3: Periodicidad de las comisiones
A4: 1 | B4: NO SE GENERA | C4: 0 | D4: 0 | E4: NO SE GENERA | F4: NO SE GENERA
A5: 2 | B5: NO SE GENERA | C5: 0 | D5: 0 | E5: NO SE GENERA | F5: NO SE GENERA
A6: 3 | B6: NO SE GENERA | C6: 0 | D6: 0 | E6: NO SE GENERA | F6: NO SE GENERA
A7: 4 | B7: NO SE GENERA | C7: 0 | D7: 0 | E7: NO SE GENERA | F7: NO SE GENERA
A8: 5 | B8: NO SE GENERA | C8: 0 | D8: 0 | E8: NO SE GENERA | F8: NO SE GENERA
A9: 6 | B9: NO SE GENERA | C9: 0 | D9: 0 | E9: NO SE GENERA | F9: NO SE GENERA
A10: 7 | B10: NO SE GENERA | C10: 0 | D10: 0 | E10: NO SE GENERA | F10: NO SE GENERA
A11: 8 | B11: NO SE GENERA | C11: 0 | D11: 0 | E11: NO SE GENERA | F11: NO SE GENERA
A12: 9 | B12: NO SE GENERA | C12: 0 | D12: 0 | E12: NO SE GENERA | F12: NO SE GENERA
A13: 10 | B13: NO SE GENERA | C13: 0 | D13: 0 | E13: NO SE GENERA | F13: NO SE GENERA
A14: 11 | B14: NO SE GENERA | C14: 0 | D14: 0 | E14: NO SE GENERA | F14: NO SE GENERA
A15: 12 | B15: NO SE GENERA | C15: 0 | D15: 0 | E15: NO SE GENERA | F15: NO SE GENERA
... A29: 26 | B29: NO SE GENERA | C29: 0 | D29: 0 | E29: NO SE GENERA | F29: NO SE GENERA

Sheet Tabla_549530
B1: 1 | C1: 6 | D1: 6 | E1: 1 | F1: 1
B2: 70018 | C2: 70019 | D2: 70020 | E2: 70021 | F2: 70022
A3: ID | B3: Denominación de las dietas | C3: Monto bruto de las dietas | D3: Monto neto de las dietas | E3: Tipo de moneda de las dietas | F3: Periodicidad de las dietas
A4: 1 | B4: NO SE GENERA | C4: 0 | D4: 0 | E4: NO SE GENERA | F4: NO SE GENERA
A5: 2 | B5: NO SE GENERA | C5: 0 | D5: 0 | E5: NO SE GENERA | F5: NO SE GENERA
A6: 3 | B6: NO SE GENERA | C6: 0 | D6: 0 | E6: NO SE GENERA | F6: NO SE GENERA
A7: 4 | B7: NO SE GENERA | C7: 0 | D7: 0 | E7: NO SE GENERA | F7: NO SE GENERA
A8: 5 | B8: NO SE GENERA | C8: 0 | D8: 0 | E8: NO SE GENERA | F8: NO SE GENERA
A9: 6 | B9: NO SE GENERA | C9: 0 | D9: 0 | E9: NO SE GENERA | F9: NO SE GENERA
A10: 7 | B10: NO SE GENERA | C10: 0 | D10: 0 | E10: NO SE GENERA | F10: NO SE GENERA
A11: 8 | B11: NO SE GENERA | C11: 0 | D11: 0 | E11: NO SE GENERA | F11: NO SE GENERA
A12: 9 | B12: NO SE GENERA | C12: 0 | D12: 0 | E12: NO SE GENERA | F12: NO SE GENERA
A13: 10 | B13: NO SE GENERA | C13: 0 | D13: 0 | E13: NO SE GENERA | F13: NO SE GENERA
A14: 11 | B14: NO SE GENERA | C14: 0 | D14: 0 | E14: NO SE GENERA | F14: NO SE GENERA
A15: 12 | B15: NO SE GENERA | C15: 0 | D15: 0 | E15: NO SE GENERA | F15: NO SE GENERA
... A29: 26 | B29: NO SE GENERA | C29: 0 | D29: 0 | E29: NO SE GENERA | F29: NO SE GENERA

Sheet Tabla_549531
B1: 1 | C1: 6 | D1: 6 | E1: 1 | F1: 1
B2: 70023 | C2: 70024 | D2: 70025 | E2: 70026 | F2: 70027
A3: ID | B3: Denominación de los bonos | C3: Monto bruto de los bonos | D3: Monto neto de los bonos | E3: Tipo de moneda de los bonos | F3: Periodicidad de los bonos
A4: 1 | B4: NO SE GENERA | C4: 0 | D4: 0 | E4: NO SE GENERA | F4: NO SE GENERA
A5: 2 | B5: NO SE GENERA | C5: 0 | D5: 0 | E5: NO SE GENERA | F5: NO SE GENERA
A6: 3 | B6: NO SE GENERA | C6: 0 | D6: 0 | E6: NO SE GENERA | F6: NO SE GENERA
A7: 4 | B7: NO SE GENERA | C7: 0 | D7: 0 | E7: NO SE GENERA | F7: NO SE GENERA
A8: 5 | B8: NO SE GENERA | C8: 0 | D8: 0 | E8: NO SE GENERA | F8: NO SE GENERA
A9: 6 | B9: NO SE GENERA | C9: 0 | D9: 0 | E9: NO SE GENERA | F9: NO SE GENERA
A10: 7 | B10: NO SE GENERA | C10: 0 | D10: 0 | E10: NO SE GENERA | F10: NO SE GENERA
A11: 8 | B11: NO SE GENERA | C11: 0 | D11: 0 | E11: NO SE GENERA | F11: NO SE GENERA
A12: 9 | B12: NO SE GENERA | C12: 0 | D12: 0 | E12: NO SE GENERA | F12: NO SE GENERA
A13: 10 | B13: NO SE GENERA | C13: 0 | D13: 0 | E13: NO SE GENERA | F13: NO SE GENERA
A14: 11 | B14: NO SE GENERA | C14: 0 | D14: 0 | E14: NO SE GENERA | F14: NO SE GENERA
A15: 12 | B15: NO SE GENERA | C15: 0 | D15: 0 | E15: NO SE GENERA | F15: NO SE GENERA
... A29: 26 | B29: NO SE GENERA | C29: 0 | D29: 0 | E29: NO SE GENERA | F29: NO SE GENERA

Sheet Tabla_549549
B1: 1 | C1: 6 | D1: 6 | E1: 1 | F1: 1
B2: 70040 | C2: 70041 | D2: 70042 | E2: 70043 | F2: 70044
A3: ID | B3: Denominación de los estímulos | C3: Monto bruto de los estímulos | D3: Monto neto de los estímulos | E3: Tipo de moneda de los estímulos | F3: Periodicidad de los estímulos
A4: 1 | B4: NO SE GENERA | C4: 0 | D4: 0 | E4: NO SE GENERA | F4: NO SE GENERA
A5: 2 | B5: NO SE GENERA | C5: 0 | D5: 0 | E5: NO SE GENERA | F5: NO SE GENERA
A6: 3 | B6: NO SE GENERA | C6: 0 | D6: 0 | E6: NO SE GENERA | F6: NO SE GENERA
A7: 4 | B7: NO SE GENERA | C7: 0 | D7: 0 | E7: NO SE GENERA | F7: NO SE GENERA
A8: 5 | B8: NO SE GENERA | C8: 0 | D8: 0 | E8: NO SE GENERA | F8: NO SE GENERA
A9: 6 | B9: NO SE GENERA | C9: 0 | D9: 0 | E9: NO SE GENERA | F9: NO SE GENERA
A10: 7 | B10: NO SE GENERA | C10: 0 | D10: 0 | E10: NO SE GENERA | F10: NO SE GENERA
A11: 8 | B11: NO SE GENERA | C11: 0 | D11: 0 | E11: NO SE GENERA | F11: NO SE GENERA
A12: 9 | B12: NO SE GENERA | C12: 0 | D12: 0 | E12: NO SE GENERA | F12: NO SE GENERA
A13: 10 | B13: NO SE GENERA | C13: 0 | D13: 0 | E13: NO SE GENERA | F13: NO SE GENERA
A14: 11 | B14: NO SE GENERA | C14: 0 | D14: 0 | E14: NO SE GENERA | F14: NO SE GENERA
A15: 12 | B15: NO SE GENERA | C15: 0 | D15: 0 | E15: NO SE GENERA | F15: NO SE GENERA
... A29: 26 | B29: NO SE GENERA | C29: 0 | D29: 0 | E29: NO SE GENERA | F29: NO SE GENERA

Sheet Tabla_549553
B1: 1 | C1: 6 | D1: 6 | E1: 1 | F1: 1
B2: 70060 | C2: 70061 | D2: 70062 | E2: 70063 | F2: 70064
A3: ID | B3: Denominación de los apoyos económicos | C3: Monto bruto de los apoyos económicos | D3: Monto neto de los apoyos económicos | E3: Tipo de moneda de los apoyos económicos | F3: Periodicidad de los apoyos económicos
A4: 1 | B4: NO SE GENERA | C4: 0 | D4: 0 | E4: NO SE GENERA | F4: NO SE GENERA
A5: 2 | B5: NO SE GENERA | C5: 0 | D5: 0 | E5: NO SE GENERA | F5: NO SE GENERA
A6: 3 | B6: NO SE GENERA | C6: 0 | D6: 0 | E6: NO SE GENERA | F6: NO SE GENERA
A7: 4 | B7: NO SE GENERA | C7: 0 | D7: 0 | E7: NO SE GENERA | F7: NO SE GENERA
A8: 5 | B8: NO SE GENERA | C8: 0 | D8: 0 | E8: NO SE GENERA | F8: NO SE GENERA
A9: 6 | B9: NO SE GENERA | C9: 0 | D9: 0 | E9: NO SE GENERA | F9: NO SE GENERA
A10: 7 | B10: NO SE GENERA | C10: 0 | D10: 0 | E10: NO SE GENERA | F10: NO SE GENERA
A11: 8 | B11: NO SE GENERA | C11: 0 | D11: 0 | E11: NO SE GENERA | F11: NO SE GENERA
A12: 9 | B12: NO SE GENERA | C12: 0 | D12: 0 | E12: NO SE GENERA | F12: NO SE GENERA
A13: 10 | B13: NO SE GENERA | C13: 0 | D13: 0 | E13: NO SE GENERA | F13: NO SE GENERA
A14: 11 | B14: NO SE GENERA | C14: 0 | D14: 0 | E14: NO SE GENERA | F14: NO SE GENERA
A15: 12 | B15: NO SE GENERA | C15: 0 | D15: 0 | E15: NO SE GENERA | F15: NO SE GENERA
... A29: 26 | B29: NO SE GENERA | C29: 0 | D29: 0 | E29: NO SE GENERA | F29: NO SE GENERA

Sheet Tabla_549550
B1: 1 | C1: 6 | D1: 6 | E1: 1 | F1: 1
B2: 70045 | C2: 70046 | D2: 70047 | E2: 70048 | F2: 70049
A3: ID | B3: Denominación de las prestaciones económicas | C3: Monto bruto de las prestaciones económicas | D3: Monto neto de las prestaciones económicas | E3: Tipo de moneda de las prestaciones económicas | F3: Periodicidad de las prestaciones económicas
A4: 1 | B4: NO SE GENERA | C4: 0 | D4: 0 | E4: NO SE GENERA | F4: NO SE GENERA
A5: 2 | B5: NO SE GENERA | C5: 0 | D5: 0 | E5: NO SE GENERA | F5: NO SE GENERA
A6: 3 | B6: NO SE GENERA | C6: 0 | D6: 0 | E6: NO SE GENERA | F6: NO SE GENERA
A7: 4 | B7: NO SE GENERA | C7: 0 | D7: 0 | E7: NO SE GENERA | F7: NO SE GENERA
A8: 5 | B8: NO SE GENERA | C8: 0 | D8: 0 | E8: NO SE GENERA | F8: NO SE GENERA
A9: 6 | B9: NO SE GENERA | C9: 0 | D9: 0 | E9: NO SE GENERA | F9: NO SE GENERA
A10: 7 | B10: NO SE GENERA | C10: 0 | D10: 0 | E10: NO SE GENERA | F10: NO SE GENERA
A11: 8 | B11: NO SE GENERA | C11: 0 | D11: 0 | E11: NO SE GENERA | F11: NO SE GENERA
A12: 9 | B12: NO SE GENERA | C12: 0 | D12: 0 | E12: NO SE GENERA | F12: NO SE GENERA
A13: 10 | B13: NO SE GENERA | C13: 0 | D13: 0 | E13: NO SE GENERA | F13: NO SE GENERA
A14: 11 | B14: NO SE GENERA | C14: 0 | D14: 0 | E14: NO SE GENERA | F14: NO SE GENERA
A15: 12 | B15: NO SE GENERA | C15: 0 | D15: 0 | E15: NO SE GENERA | F15: NO SE GENERA
... A29: 26 | B29: NO SE GENERA | C29: 0 | D29: 0 | E29: NO SE GENERA | F29: NO SE GENERA

Sheet Tabla_549554
B1: 1 | C1: 1
B2: 70065 | C2: 70066
A3: ID | B3: Descripción de las prestaciones en especie | C3: Periodicidad de las prestaciones en especie
A4: 1 | B4: NO SE GENERA | C4: NO SE GENERA
A5: 2 | B5: NO SE GENERA | C5: NO SE GENERA
A6: 3 | B6: NO SE GENERA | C6: NO SE GENERA
A7: 4 | B7: NO SE GENERA | C7: NO SE GENERA
A8: 5 | B8: NO SE GENERA | C8: NO SE GENERA
A9: 6 | B9: NO SE GENERA | C9: NO SE GENERA
A10: 7 | B10: NO SE GENERA | C10: NO SE GENERA
A11: 8 | B11: NO SE GENERA | C11: NO SE GENERA
A12: 9 | B12: NO SE GENERA | C12: NO SE GENERA
A13: 10 | B13: NO SE GENERA | C13: NO SE GENERA
A14: 11 | B14: NO SE GENERA | C14: NO SE GENERA
A15: 12 | B15: NO SE GENERA | C15: NO SE GENERA
... A29: 26 | B29: NO SE GENERA | C29: NO SE GENERA
