Workbook
Name Hidden_1_Tabla_5498393: Hidden_1_Tabla_549839!$A$1:$A$26
Name Hidden_1_Tabla_5498472: Hidden_1_Tabla_549847!$A$1:$A$24
Name Hidden_1_Tabla_5662993: Hidden_1_Tabla_566299!$A$1:$A$26
Name Hidden_14: Hidden_1!$A$1:$A$2
Name Hidden_2_Tabla_5498397: Hidden_2_Tabla_549839!$A$1:$A$41
Name Hidden_2_Tabla_5498476: Hidden_2_Tabla_549847!$A$1:$A$41
Name Hidden_2_Tabla_5662997: Hidden_2_Tabla_566299!$A$1:$A$41
Name Hidden_3_Tabla_54983914: Hidden_3_Tabla_549839!$A$1:$A$32
Name Hidden_3_Tabla_54984713: Hidden_3_Tabla_549847!$A$1:$A$32
Name Hidden_3_Tabla_56629914: Hidden_3_Tabla_566299!$A$1:$A$32

Sheet Reporte de Formatos
A1: 56169
A2: TÍTULO | D2: NOMBRE CORTO | G2: DESCRIPCIÓN
A3: Servicios ofrecidos | D3: LTAIPSLP84XXIV | G3: La información para dar a conocer los servicios públicos que presta el sujeto obligado, tanto de las actividades realizadas por la administración pública para satisfacer necesidades de la población, como las realizadas por los sujetos obligados que no formen parte de la Administración Pública, pero que involucren el uso de recursos públicos. Los servicios deben estar al alcance de la población sin necesidad de que el ésta los exija, como es el caso de los trámites.
A4: 1 | B4: 4 | C4: 4 | D4: 2 | E4: 9 | F4: 1 | G4: 2 | H4: 1 | I4: 2 | J4: 2 | K4: 7 | L4: 4 | M4: 1 | N4: 2 | O4: 2 | P4: 2 | Q4: 10 | R4: 2 | S4: 2 | T4: 2 | U4: 2 | V4: 2 | W4: 2 | X4: 2 | Y4: 2 | Z4: 10 | AA4: 10 | AB4: 7 | AC4: 2 | AD4: 13 | AE4: 14
A5: 549841 | B5: 549842 | C5: 549843 | D5: 549828 | E5: 549846 | F5: 549850 | G5: 549830 | H5: 549848 | I5: 549831 | J5: 549832 | K5: 549838 | L5: 566291 | M5: 549826 | N5: 566292 | O5: 566293 | P5: 566294 | Q5: 549847 | R5: 566295 | S5: 566296 | T5: 549833 | U5: 549849 | V5: 549829 | W5: 549834 | X5: 566297 | Y5: 566298 | Z5: 566299 | AA5: 549839 | AB5: 549836 | AC5: 549845 | AD5: 549840 | AE5: 549844
A6: Tabla Campos
A7: Ejercicio | B7: Fecha de inicio del periodo que se informa | C7: Fecha de término del periodo que se informa | D7: Nombre del servicio | E7: Tipo de servicio (catálogo) | F7: Tipo de población usuaria y/o población objetivo (Redactados con perspectiva de género) | G7: Descripción del objetivo del servicio (Redactado con perspectiva de género) | H7: Modalidad del servicio | I7: Enumerar y detallar los requisitos (Redactados con perspectiva de género) | J7: Documentos requeridos, en su caso (Redactados con perspectiva de género) | K7: Hipervínculo a los formatos respectivo(s) publicado(s) en medio oficial | L7: ESTE CRITERIO APLICA A PARTIR DEL 02/07/2021 -> Última fecha de publicación del formato en el medio de difusión oficial | M7: Tiempo de respuesta | N7: ESTE CRITERIO APLICA A PARTIR DEL 02/07/2021 -> Plazo con el que cuenta el sujeto obligado para prevenir al solicitante | O7: ESTE CRITERIO APLICA A PARTIR DEL 02/07/2021 -> Plazo con el que cuenta el solicitante para cumplir con la prevención | P7: ESTE CRITERIO APLICA A PARTIR DEL 02/07/2021 -> Vigencia de los avisos, permisos, licencias, autorizaciones, registros y demás resoluciones que se emitan | Q7: Área en la que se proporciona el servicio y los datos de contacto Tabla_549847 | R7: ESTE CRITERIO APLICA A PARTIR DEL 02/07/2021 -> Objetivo de la inspección o verificación, en caso de que se requiera para llevar a cabo el servicio | S7: ESTE CRITERIO APLICA A PARTIR DEL 02/07/2021 -> Monto de los derechos o aprovechamientos aplicables, en su caso, o la forma de determinar dicho monto, así como las alternativas para realizar el pago. En su caso, especificar que es gratuito | T7: Sustento legal para su cobro | U7: Lugares donde se efectúa el pago | V7: Fundamento jurídico-administrativo del servicio | W7: Derechos de la población usuaria ante la negativa o la falta ante la prestación del servicio (Redactados con perspectiva de género) | X7: ESTE CRITERIO APLICA A PARTIR DEL 02/07/2021 -> Información que deberá conservar para fines de acreditación, inspección y verificación con motivo del servicio | Y7: ESTE CRITERIO APLICA A PARTIR DEL 02/07/2021 -> Información adicional del servicio, en su caso (Redactada con perspectiva de género) | Z7: Otro medio que permita el envío de consultas y documentos Tabla_566299 | AA7: Lugar para reportar presuntas anomalias Tabla_549839 | AB7: Hipervínculo al Catálogo Nacional de Regulaciones, Trámites y Servicios o al sistema homólogo | AC7: Área(s) responsable(s) que genera(n), posee(n), publica(n) y actualizan la información | AD7: Fecha de actualización | AE7: Nota
A8: 2025 | B8: 45931 | C8: 45961 | D8: COBROS DE TRAMITES REALIZADOS EN EL DEPARTAMENTO DEL RASTRO MUNICIPAL SACRIFICIO DE UN BOVINO | E8: Directo | F8: POBLACION EN GENERAL | G8: Brindar a la poblacion un Lugar donde se lleva a cabo la matanza de animales bovinos, porcinos etc. Y dar muerte de forma humanitaria a los animales y en condiciones higiénicas y sanitarias necesarias para su consumo humano. | H8: PRESENCIAL | I8: CONTAR CON LA GUIA Y RECIBO QUE SE LE OTORGA AL CIUDADANO EN LA GANADERA MUNICIPAL | J8: CONTAR CON LA GUIA Y RECIBO QUE SE LE OTORGA AL CIUDADANO EN LA GANADERA MUNICIPAL | K8: http://www.cegaipslp.org.mx/HV2024Dos.nsf/nombre_de_la_vista/90633E95FCC22C4106258BD200601F7C/$File/RECIBO+2024-2027.pdf | L8: 45656 | M8: INMEDIATA | N8: 15 DIAS | O8: 15 DIAS | P8: 1 DIA | Q8: =Tabla_549847!A4 -> 1 | R8: EL OBJETIVO ES QUE SE RESPETE Y SE LLEVEN ACABO LOS PERMISOS OTORGADOS EN EL SERVICIO | S8: 157.26 | T8: DECRETO 0126.- Se EXPIDE la Ley de Ingresos para el Municipio de Venado, S.L.P. para el ejercicio fiscal 2025. ARTICULO 22 INCISO A) | U8: DEPARTAMENTO DE TESORERIA | V8: DECRETO 0126.- Se EXPIDE la Ley de Ingresos para el Municipio de Venado, S.L.P. para el ejercicio fiscal 2025. ARTICULO 22 INCISO A) | W8: ACUDIR DIRECTAMENTE AL AREA DE SECRETARIA A DAR CONOCIMIENTO DEL SERVICIO NEGADO Y PODER DAR SEGUIMIENTO Y UNA RESPUESTA FAVORABLE AL USUARIO. | X8: DOCUMENTACION REQUERIDA EN EL TRAMITE | Y8: SIN INFORMACIÓN ADICIONAL QUE INFORMAR | Z8: =Tabla_566299!A4 -> 1 | AA8: =Tabla_549839!A4 -> 1 | AB8: https://catalogonacional.gob.mx/ | AC8: TESORERÍA | AD8: 46010 | AE8: NO GENERADO
A9: 2025 | B9: 45931 | C9: 45961 | D9: COBROS DE TRAMITES REALIZADOS EN EL DEPARTAMENTO DEL RASTRO MUNICIPAL SACRIFICIO DE UN PORCINO | E9: Directo | F9: POBLACION EN GENERAL | G9: Brindar a la poblacion un Lugar donde se lleva a cabo la matanza de animales bovinos, porcinos etc. Y dar muerte de forma humanitaria a los animales y en condiciones higiénicas y sanitarias necesarias para su consumo humano. | H9: PRESENCIAL | I9: CONTAR CON LA GUIA Y RECIBO QUE SE LE OTORGA AL CIUDADANO EN LA GANADERA MUNICIPAL | J9: CONTAR CON LA GUIA Y RECIBO QUE SE LE OTORGA AL CIUDADANO EN LA GANADERA MUNICIPAL | K9: http://www.cegaipslp.org.mx/HV2024Dos.nsf/nombre_de_la_vista/90633E95FCC22C4106258BD200601F7C/$File/RECIBO+2024-2027.pdf | L9: 45656 | M9: INMEDIATA | N9: 15 DIAS | O9: 15 DIAS | P9: 1 DIA | Q9: =Tabla_549847!A5 -> 2 | R9: EL OBJETIVO ES QUE SE RESPETE Y SE LLEVEN ACABO LOS PERMISOS OTORGADOS EN EL SERVICIO | S9: 139.16 | T9: DECRETO 0126.- Se EXPIDE la Ley de Ingresos para el Municipio de Venado, S.L.P. para el ejercicio fiscal 2025. ARTICULO 22 INCISO B) | U9: DEPARTAMENTO DE TESORERIA | V9: DECRETO 0126.- Se EXPIDE la Ley de Ingresos para el Municipio de Venado, S.L.P. para el ejercicio fiscal 2025. ARTICULO 22 INCISO B) | W9: ACUDIR DIRECTAMENTE AL AREA DE SECRETARIA A DAR CONOCIMIENTO DEL SERVICIO NEGADO Y PODER DAR SEGUIMIENTO Y UNA RESPUESTA FAVORABLE AL USUARIO. | X9: DOCUMENTACION REQUERIDA EN EL TRAMITE | Y9: SIN INFORMACIÓN ADICIONAL QUE INFORMAR | Z9: =Tabla_566299!A5 -> 2 | AA9: =Tabla_549839!A5 -> 2 | AB9: https://catalogonacional.gob.mx/ | AC9: TESORERÍA | AD9: 46010 | AE9: NO GENERADO
A10: 2025 | B10: 45931 | C10: 45961 | D10: COBROS DE TRAMITES REALIZADOS EN EL DEPARTAMENTO DEL RASTRO MUNICIPAL SACRIFICIO DE UN OVINO | E10: Directo | F10: POBLACION EN GENERAL | G10: Brindar a la poblacion un Lugar donde se lleva a cabo la matanza de animales bovinos, porcinos etc. Y dar muerte de forma humanitaria a los animales y en condiciones higiénicas y sanitarias necesarias para su consumo humano. | H10: PRESENCIAL | I10: CONTAR CON LA GUIA Y RECIBO QUE SE LE OTORGA AL CIUDADANO EN LA GANADERA MUNICIPAL | J10: CONTAR CON LA GUIA Y RECIBO QUE SE LE OTORGA AL CIUDADANO EN LA GANADERA MUNICIPAL | K10: http://www.cegaipslp.org.mx/HV2024Dos.nsf/nombre_de_la_vista/90633E95FCC22C4106258BD200601F7C/$File/RECIBO+2024-2027.pdf | L10: 45656 | M10: INMEDIATA | N10: 15 DIAS | O10: 15 DIAS | P10: 1 DIA | Q10: =Tabla_549847!A6 -> 3 | R10: EL OBJETIVO ES QUE SE RESPETE Y SE LLEVEN ACABO LOS PERMISOS OTORGADOS EN EL SERVICIO | S10: 63.36 | T10: DECRETO 0126.- Se EXPIDE la Ley de Ingresos para el Municipio de Venado, S.L.P. para el ejercicio fiscal 2025. ARTICULO 22 INCISO C) | U10: DEPARTAMENTO DE TESORERIA | V10: DECRETO 0126.- Se EXPIDE la Ley de Ingresos para el Municipio de Venado, S.L.P. para el ejercicio fiscal 2025. ARTICULO 22 INCISO C) | W10: ACUDIR DIRECTAMENTE AL AREA DE SECRETARIA A DAR CONOCIMIENTO DEL SERVICIO NEGADO Y PODER DAR SEGUIMIENTO Y UNA RESPUESTA FAVORABLE AL USUARIO. | X10: DOCUMENTACION REQUERIDA EN EL TRAMITE | Y10: SIN INFORMACIÓN ADICIONAL QUE INFORMAR | Z10: =Tabla_566299!A6 -> 3 | AA10: =Tabla_566299!A6 -> 3 | AB10: https://catalogonacional.gob.mx/ | AC10: TESORERÍA | AD10: 46010 | AE10: NO GENERADO
A11: 2025 | B11: 45931 | C11: 45961 | D11: COBROS DE TRAMITES REALIZADOS EN EL DEPARTAMENTO DEL RASTRO MUNICIPAL SACRIFICIO DE UN CAPRINO | E11: Directo | F11: POBLACION EN GENERAL | G11: Brindar a la poblacion un Lugar donde se lleva a cabo la matanza de animales bovinos, porcinos etc. Y dar muerte de forma humanitaria a los animales y en condiciones higiénicas y sanitarias necesarias para su consumo humano. | H11: PRESENCIAL | I11: CONTAR CON LA GUIA Y RECIBO QUE SE LE OTORGA AL CIUDADANO EN LA GANADERA MUNICIPAL | J11: CONTAR CON LA GUIA Y RECIBO QUE SE LE OTORGA AL CIUDADANO EN LA GANADERA MUNICIPAL | K11: http://www.cegaipslp.org.mx/HV2024Dos.nsf/nombre_de_la_vista/90633E95FCC22C4106258BD200601F7C/$File/RECIBO+2024-2027.pdf | L11: 45656 | M11: INMEDIATA | N11: 15 DIAS | O11: 15 DIAS | P11: 1 DIA | Q11: =Tabla_549847!A7 -> 4 | R11: EL OBJETIVO ES QUE SE RESPETE Y SE LLEVEN ACABO LOS PERMISOS OTORGADOS EN EL SERVICIO | S11: 63.36 | T11: DECRETO 0126.- Se EXPIDE la Ley de Ingresos para el Municipio de Venado, S.L.P. para el ejercicio fiscal 2025. ARTICULO 22 INCISO D) | U11: DEPARTAMENTO DE TESORERIA | V11: DECRETO 0126.- Se EXPIDE la Ley de Ingresos para el Municipio de Venado, S.L.P. para el ejercicio fiscal 2025. ARTICULO 22 INCISO D) | W11: ACUDIR DIRECTAMENTE AL AREA DE SECRETARIA A DAR CONOCIMIENTO DEL SERVICIO NEGADO Y PODER DAR SEGUIMIENTO Y UNA RESPUESTA FAVORABLE AL USUARIO. | X11: DOCUMENTACION REQUERIDA EN EL TRAMITE | Y11: SIN INFORMACIÓN ADICIONAL QUE INFORMAR | Z11: =Tabla_566299!A7 -> 4 | AA11: =Tabla_549839!A7 -> 4 | AB11: https://catalogonacional.gob.mx/ | AC11: TESORERÍA | AD11: 46010 | AE11: NO GENERADO
A12: 2025 | B12: 45931 | C12: 45961 | D12: LICENCIA DE FUNCIONAMIENTO | E12: Directo | F12: POBLACION EN GENERAL | G12: Se les brinda una autoridad municipal que acredita a tu empresa para que esta pueda iniciar operaciones | H12: PRESENCIAL | I12: PERMISO DE LICENCIA DE FUNCIONAMEIENTO E IDENTIFICACION | J12: PERMISO DE LICENCIA DE FUNCIONAMEIENTO E IDENTIFICACION | K12: http://www.cegaipslp.org.mx/HV2024Dos.nsf/nombre_de_la_vista/90633E95FCC22C4106258BD200601F7C/$File/RECIBO+2024-2027.pdf | L12: 45656 | M12: INMEDIATA | N12: 15 DIAS | O12: 15 DIAS | P12: 1 AÑO | Q12: =Tabla_549847!A8 -> 5 | R12: EL OBJETIVO ES QUE SE RESPETE Y SE LLEVEN ACABO LOS PERMISOS OTORGADOS EN EL SERVICIO | S12: 1131.4 | T12: DECRETO 0229.- Que reforma el artículo 25 y realiza adición al artículo 37, de la Ley de Ingresos del Municipio de Venado, S.L.P., para el ejercicio fiscal 2025. | U12: DEPARTAMENTO DE TESORERIA | V12: DECRETO 0229.- Que reforma el artículo 25 y realiza adición al artículo 37, de la Ley de Ingresos del Municipio de Venado, S.L.P., para el ejercicio fiscal 2025. | W12: ACUDIR DIRECTAMENTE AL AREA DE SECRETARIA A DAR CONOCIMIENTO DEL SERVICIO NEGADO Y PODER DAR SEGUIMIENTO Y UNA RESPUESTA FAVORABLE AL USUARIO. | X12: DOCUMENTACION REQUERIDA EN EL TRAMITE | Y12: SIN INFORMACIÓN ADICIONAL QUE INFORMAR | Z12: =Tabla_566299!A8 -> 5 | AA12: =Tabla_549839!A8 -> 5 | AB12: https://catalogonacional.gob.mx/ | AC12: TESORERÍA | AD12: 46010 | AE12: NO GENERADO
A13: 2025 | B13: 45931 | C13: 45961 | D13: PERMISOS DE CONSTRUCCION EN PANTEONES FOSA | E13: Directo | F13: POBLACION EN GENERAL | G13: Los panteones constituyen un servicio público, cuyo funcionamiento, operación, vigilancia y organización está a cargo del municipio, otorga los servicios de Inhumacion, Exhumacion, Deposito de Restos Áridos y Cenizas a los ciudadanos que no cuenten con alguna propiedad dentro de los panteones particulares. | H13: PRESENCIAL | I13: NUMERO DE LOTE | J13: NUMERO DE LOTE | K13: http://www.cegaipslp.org.mx/HV2024Dos.nsf/nombre_de_la_vista/90633E95FCC22C4106258BD200601F7C/$File/RECIBO+2024-2027.pdf | L13: 45656 | M13: INMEDIATA | N13: 15 DIAS | O13: 15 DIAS | P13: TIEMPO INDEFINIDO | Q13: =Tabla_549847!A9 -> 6 | R13: EL OBJETIVO ES QUE SE RESPETE Y SE LLEVEN ACABO LOS PERMISOS OTORGADOS EN EL SERVICIO | S13: 106.35 | T13: DECRETO 0126.- Se EXPIDE la Ley de Ingresos para el Municipio de Venado, S.L.P., para el ejercicio fiscal 2025. ARTICULO 26 FRACCION I INCISO A) NUMERO 1 | U13: DEPARTAMENTO DE TESORERIA | V13: DECRETO 0126.- Se EXPIDE la Ley de Ingresos para el Municipio de Venado, S.L.P., para el ejercicio fiscal 2025. ARTICULO 26 FRACCION I INCISO A) NUMERO 1 | W13: ACUDIR DIRECTAMENTE AL AREA DE SECRETARIA A DAR CONOCIMIENTO DEL SERVICIO NEGADO Y PODER DAR SEGUIMIENTO Y UNA RESPUESTA FAVORABLE AL USUARIO. | X13: DOCUMENTACION REQUERIDA EN EL TRAMITE | Y13: SIN INFORMACIÓN ADICIONAL QUE INFORMAR | Z13: =Tabla_566299!A9 -> 6 | AA13: =Tabla_566299!A9 -> 6 | AB13: https://catalogonacional.gob.mx/ | AC13: TESORERÍA | AD13: 46010 | AE13: NO GENERADO
A14: 2025 | B14: 45931 | C14: 45961 | D14: PERMISOS DE CONSTRUCCION EN PANTEONES BOVEDA | E14: Directo | F14: POBLACION EN GENERAL | G14: Los panteones constituyen un servicio público, cuyo funcionamiento, operación, vigilancia y organización está a cargo del municipio, otorga los servicios de Inhumacion, Exhumacion, Deposito de Restos Áridos y Cenizas a los ciudadanos que no cuenten con alguna propiedad dentro de los panteones particulares. | H14: PRESENCIAL | I14: NUMERO DE LOTE | J14: NUMERO DE LOTE | K14: http://www.cegaipslp.org.mx/HV2024Dos.nsf/nombre_de_la_vista/90633E95FCC22C4106258BD200601F7C/$File/RECIBO+2024-2027.pdf | L14: 45656 | M14: INMEDIATA | N14: 15 DIAS | O14: 15 DIAS | P14: TIEMPO INDEFINIDO | Q14: =Tabla_549847!A10 -> 7 | R14: EL OBJETIVO ES QUE SE RESPETE Y SE LLEVEN ACABO LOS PERMISOS OTORGADOS EN EL SERVICIO | S14: 130.11 | T14: DECRETO 0126.- Se EXPIDE la Ley de Ingresos para el Municipio de Venado, S.L.P., para el ejercicio fiscal 2025. ARTICULO 26 FRACCION I INCISO A) NUMERO 2 | U14: DEPARTAMENTO DE TESORERIA | V14: DECRETO 0126.- Se EXPIDE la Ley de Ingresos para el Municipio de Venado, S.L.P., para el ejercicio fiscal 2025. ARTICULO 26 FRACCION I INCISO A) NUMERO 2 | W14: ACUDIR DIRECTAMENTE AL AREA DE SECRETARIA A DAR CONOCIMIENTO DEL SERVICIO NEGADO Y PODER DAR SEGUIMIENTO Y UNA RESPUESTA FAVORABLE AL USUARIO. | X14: DOCUMENTACION REQUERIDA EN EL TRAMITE | Y14: SIN INFORMACIÓN ADICIONAL QUE INFORMAR | Z14: =Tabla_566299!A10 -> 7 | AA14: =Tabla_549839!A10 -> 7 | AB14: https://catalogonacional.gob.mx/ | AC14: TESORERÍA | AD14: 46010 | AE14: NO GENERADO
A15: 2025 | B15: 45931 | C15: 45961 | D15: SERVICIOS DE TRANSITO Y SEGURIDAD PERMISO PARA CIRCULAR SIN PLACAS | E15: Directo | F15: POBLACION EN GENERAL | G15: Se les brinda seguridad y vigilancia en las calles, lugares recreativos, planteles escolares y comunidades pertenecientes al municipio de Venado, San Luis Potosi. con el objetivo de salvaguardar la integridad fisica y patrimonial de cada ciudadano asi como tambien en la prevencion de los delitos,Permitirle a los usuarios circular en vias sin congestionamientos viales asi como tambien darles preferencias de paso a los peatones | H15: PRESENCIAL | I15: FACTURA Ó BAJA DE PLACAS DEL VEHÍCULO Ó PEDIMENTO EN CASO DE SER EXTRANJERO. | J15: FACTURA Ó BAJA DE PLACAS DEL VEHÍCULO Ó PEDIMENTO EN CASO DE SER EXTRANJERO. | K15: http://www.cegaipslp.org.mx/HV2024Dos.nsf/nombre_de_la_vista/90633E95FCC22C4106258BD200601F7C/$File/RECIBO+2024-2027.pdf | L15: 45656 | M15: 24 HORAS | N15: 15 DIAS | O15: 15 DIAS | P15: 30 DIAS NATURALES | Q15: =Tabla_549847!A11 -> 8 | R15: EL OBJETIVO ES QUE SE RESPETE Y SE LLEVEN ACABO LOS PERMISOS OTORGADOS EN EL SERVICIO | S15: 565.7 | T15: DECRETO 0126.- Se EXPIDE la Ley de Ingresos para el Municipio de Venado, S.L.P., para el ejercicio fiscal 2025. ARTICULO 27 FRACCION I | U15: DEPARTAMENTO DE TESORERIA | V15: DECRETO 0126.- Se EXPIDE la Ley de Ingresos para el Municipio de Venado, S.L.P., para el ejercicio fiscal 2025. ARTICULO 27 FRACCION I | W15: ACUDIR DIRECTAMENTE AL AREA DE SECRETARIA A DAR CONOCIMIENTO DEL SERVICIO NEGADO Y PODER DAR SEGUIMIENTO Y UNA RESPUESTA FAVORABLE AL USUARIO. | X15: DOCUMENTACION REQUERIDA EN EL TRAMITE | Y15: SIN INFORMACIÓN ADICIONAL QUE INFORMAR | Z15: =Tabla_566299!A11 -> 8 | AA15: =Tabla_549839!A11 -> 8 | AB15: https://catalogonacional.gob.mx/ | AC15: TESORERÍA | AD15: 46010 | AE15: NO GENERADO
A16: 2025 | B16: 45931 | C16: 45961 | D16: SERVICIOS DE TRANSITO Y SEGURIDAD PERMISO PARA CIRCULAR SIN PLACAS SEGUNDA Y ULTIMA OCASION | E16: Directo | F16: POBLACION EN GENERAL | G16: Se les brinda seguridad y vigilancia en las calles, lugares recreativos, planteles escolares y comunidades pertenecientes al municipio de Venado, San Luis Potosi, con el objetivo de salvaguardar la integridad fisica y patrimonial de cada ciudadano asi como tambien en la prevencion de los delitos,Permitirle a los usuarios circular en vias sin congestionamientos viales asi como tambien darles preferencias de paso a los peatones | H16: PRESENCIAL | I16: FACTURA Ó BAJA DE PLACAS DEL VEHÍCULO Ó PEDIMENTO EN CASO DE SER EXTRANJERO. | J16: FACTURA Ó BAJA DE PLACAS DEL VEHÍCULO Ó PEDIMENTO EN CASO DE SER EXTRANJERO. | K16: http://www.cegaipslp.org.mx/HV2024Dos.nsf/nombre_de_la_vista/90633E95FCC22C4106258BD200601F7C/$File/RECIBO+2024-2027.pdf | L16: 45656 | M16: 24 HORAS | N16: 15 DIAS | O16: 15 DIAS | P16: 30 DIAS NATURALES | Q16: =Tabla_549847!A12 -> 9 | R16: EL OBJETIVO ES QUE SE RESPETE Y SE LLEVEN ACABO LOS PERMISOS OTORGADOS EN EL SERVICIO | S16: 905.12 | T16: DECRETO 0126.- Se EXPIDE la Ley de Ingresos para el Municipio de Venado, S.L.P., para el ejercicio fiscal 2025. ARTICULO 27 FRACCION II | U16: DEPARTAMENTO DE TESORERIA | V16: DECRETO 0126.- Se EXPIDE la Ley de Ingresos para el Municipio de Venado, S.L.P., para el ejercicio fiscal 2025. ARTICULO 27 FRACCION II | W16: ACUDIR DIRECTAMENTE AL AREA DE SECRETARIA A DAR CONOCIMIENTO DEL SERVICIO NEGADO Y PODER DAR SEGUIMIENTO Y UNA RESPUESTA FAVORABLE AL USUARIO. | X16: DOCUMENTACION REQUERIDA EN EL TRAMITE | Y16: SIN INFORMACIÓN ADICIONAL QUE INFORMAR | Z16: =Tabla_566299!A12 -> 9 | AA16: =Tabla_566299!A12 -> 9 | AB16: https://catalogonacional.gob.mx/ | AC16: TESORERÍA | AD16: 46010 | AE16: NO GENERADO
A17: 2025 | B17: 45931 | C17: 45961 | D17: SERVICIOS DE TRANSITO Y SEGURIDAD CONSTANCIA DE NO INFRACCION | E17: Directo | F17: POBLACION EN GENERAL | G17: Se les brinda seguridad y vigilancia en las calles, lugares recreativos, planteles escolares y comunidades pertenecientes al municipio de Venado, San luis Potosi. con el objetivo de salvaguardar la integridad fisica y patrimonial de cada ciudadano asi como tambien en la prevencion de los delitos,Permitirle a los usuarios circular en vias sin congestionamientos viales asi como tambien darles preferencias de paso a los peatones | H17: PRESENCIAL | I17: FACTURA Ó BAJA DE PLACAS DEL VEHÍCULO Ó PEDIMENTO EN CASO DE SER EXTRANJERO. | J17: FACTURA Ó BAJA DE PLACAS DEL VEHÍCULO Ó PEDIMENTO EN CASO DE SER EXTRANJERO. | K17: http://www.cegaipslp.org.mx/HV2024Dos.nsf/nombre_de_la_vista/90633E95FCC22C4106258BD200601F7C/$File/RECIBO+2024-2027.pdf | L17: 45656 | M17: 24 HORAS | N17: 15 DIAS | O17: 15 DIAS | P17: 30 DIAS | Q17: =Tabla_549847!A13 -> 10 | R17: EL OBJETIVO ES QUE SE RESPETE Y SE LLEVEN ACABO LOS PERMISOS OTORGADOS EN EL SERVICIO | S17: 56.57 | T17: DECRETO 0126.- Se EXPIDE la Ley de Ingresos para el Municipio de Venado, S.L.P., para el ejercicio fiscal 2025. ARTICULO 27 FRACCION V | U17: DEPARTAMENTO DE TESORERIA | V17: DECRETO 0126.- Se EXPIDE la Ley de Ingresos para el Municipio de Venado, S.L.P., para el ejercicio fiscal 2025. ARTICULO 27 FRACCION V | W17: ACUDIR DIRECTAMENTE AL AREA DE SECRETARIA A DAR CONOCIMIENTO DEL SERVICIO NEGADO Y PODER DAR SEGUIMIENTO Y UNA RESPUESTA FAVORABLE AL USUARIO. | X17: DOCUMENTACION REQUERIDA EN EL TRAMITE | Y17: SIN INFORMACIÓN ADICIONAL QUE INFORMAR | Z17: =Tabla_566299!A13 -> 10 | AA17: =Tabla_549839!A13 -> 10 | AB17: https://catalogonacional.gob.mx/ | AC17: TESORERÍA | AD17: 46010 | AE17: NO GENERADO
A18: 2025 | B18: 45931 | C18: 45961 | D18: AUTORIZACION PARA LA OBSTRUCCION O CIERRE TOTAL O PARCIAL EN FORMA TEMPORAL DE LA VIA PUBLICA YA SEA EN EL ARROYO DE RONDAMIENTO O SOBRE LA BANQUETA PARA EJECUCION DE OBRAS PARA EVENTO Y POR DIA | E18: Directo | F18: POBLACION EN GENERAL | G18: Se les brinda seguridad y vigilancia en las calles, lugares recreativos, planteles escolares y comunidades pertenecientes al municipio de Venado, San Luis Potosi. con el objetivo de salvaguardar la integridad fisica y patrimonial de cada ciudadano asi como tambien en la prevencion de los delitos, Permitirle a los usuarios circular en vias sin congestionamientos viales asi como tambien darles preferencias de paso a los peatones. | H18: PRESENCIAL | I18: IDENTIFICACION OFICIAL Y CONTANCIA QUE ESPECIFIQUE LA AUTORIZACION PARA LA OBSTRUCCION O CIERRE TOTAL O PARCIAL EN FORMA TEMPORAL DE LA VIA PUBLICA YA SEA EN EL ARROYO DE RONDAMIENTO O SOBRE LA BANQUETA PARA EJECUCION DE OBRAS PARA EVENTO Y POR DIA | J18: IDENTIFICACION OFICIAL Y CONTANCIA QUE ESPECIFIQUE LA AUTORIZACION PARA LA OBSTRUCCION O CIERRE TOTAL O PARCIAL EN FORMA TEMPORAL DE LA VIA PUBLICA YA SEA EN EL ARROYO DE RONDAMIENTO O SOBRE LA BANQUETA PARA EJECUCION DE OBRAS PARA EVENTO Y POR DIA | K18: http://www.cegaipslp.org.mx/HV2024Dos.nsf/nombre_de_la_vista/90633E95FCC22C4106258BD200601F7C/$File/RECIBO+2024-2027.pdf | L18: 45656 | M18: 24 HORAS | N18: 15 DIAS | O18: 15 DIAS | P18: 1 DIA | Q18: =Tabla_549847!A14 -> 11 | R18: EL OBJETIVO ES QUE SE RESPETE Y SE LLEVEN ACABO LOS PERMISOS OTORGADOS EN EL SERVICIO | S18: 565.7 | T18: DECRETO 0126.- Se EXPIDE la Ley de Ingresos para el Municipio de Venado, S.L.P., para el ejercicio fiscal 2025. ARTICULO 27 FRACCION XII | U18: DEPARTAMENTO DE TESORERIA | V18: DECRETO 0126.- Se EXPIDE la Ley de Ingresos para el Municipio de Venado, S.L.P., para el ejercicio fiscal 2025. ARTICULO 27 FRACCION XII | W18: ACUDIR DIRECTAMENTE AL AREA DE SECRETARIA A DAR CONOCIMIENTO DEL SERVICIO NEGADO Y PODER DAR SEGUIMIENTO Y UNA RESPUESTA FAVORABLE AL USUARIO. | X18: DOCUMENTACION REQUERIDA EN EL TRAMITE | Y18: SIN INFORMACIÓN ADICIONAL QUE INFORMAR | Z18: =Tabla_566299!A14 -> 11 | AA18: =Tabla_549839!A14 -> 11 | AB18: https://catalogonacional.gob.mx/ | AC18: TESORERÍA | AD18: 46010 | AE18: NO GENERADO
A19: 2025 | B19: 45931 | C19: 45961 | D19: FALTAS ADMINISTRATIVAS | E19: Directo | F19: POBLACION EN GENERAL | G19: Se les brinda seguridad y vigilancia en las calles, lugares recreativos, planteles escolares y comunidades pertenecientes al municipio de Venado, San Luis Potosi. con el objetivo de salvaguardar la integridad fisica y patrimonial de cada ciudadano asi como tambien en la prevencion de los delitos,Permitirle a los usuarios circular en vias sin congestionamientos viales asi como tambien darles preferencias de paso a los peatones | H19: PRESENCIAL | I19: INE , DOCUMENTACION DONDE ESPECIFIQUE EL CONCEPTO DE LA MULTA Y MONTO A PAGAR | J19: INE , DOCUMENTACION DONDE ESPECIFIQUE EL CONCEPTO DE LA MULTA Y MONTO A PAGAR | K19: http://www.cegaipslp.org.mx/HV2024Dos.nsf/nombre_de_la_vista/90633E95FCC22C4106258BD200601F7C/$File/RECIBO+2024-2027.pdf | L19: 45656 | M19: INMEDIATA | N19: 1 DIA | O19: 1 DIA | P19: 1 DIA | Q19: =Tabla_549847!A15 -> 12 | R19: EL OBJETIVO ES QUE SE RESPETE Y SE LLEVEN ACABO LOS PERMISOS OTORGADOS EN EL SERVICIO | S19: 452.56 | T19: DECRETO 0126.- Se EXPIDE la Ley de Ingresos para el Municipio de Venado, S.L.P., para el ejercicio fiscal 2025. ARTICULO 27 FRACCION V | U19: DEPARTAMENTO DE TESORERIA | V19: DECRETO 0126.- Se EXPIDE la Ley de Ingresos para el Municipio de Venado, San Luis Potosi.para el ejercicio fiscal 2025. ARTICULO 27 FRACCION V | W19: ACUDIR DIRECTAMENTE AL AREA DE SECRETARIA A DAR CONOCIMIENTO DEL SERVICIO NEGADO Y PODER DAR SEGUIMIENTO Y UNA RESPUESTA FAVORABLE AL USUARIO. | X19: DOCUMENTACION REQUERIDA EN EL TRAMITE | Y19: SIN INFORMACIÓN ADICIONAL QUE INFORMAR | Z19: =Tabla_566299!A15 -> 12 | AA19: =Tabla_566299!A15 -> 12 | AB19: https://catalogonacional.gob.mx/ | AC19: TESORERÍA | AD19: 46010 | AE19: NO GENERADO
A20: 2025 | B20: 45931 | C20: 45961 | D20: REGISTRO CIVIL REGISTRO DE NACIMIENTO O DEFUNCION | E20: Directo | F20: POBLACION EN GENERAL | G20: Brindar a la poblacion la certeza jurídica de los actos y hechos relativos al estado civil de las personas, mediante el registro, resguardo y certificación de los actos que en términos de normatividad establece el Gobierno del Estado de México con eficacia, honradez, alto sentido humano y con la más alta calidad | H20: PRESENCIAL | I20: NACIMIENTO CERTIFICADO DE NACIMIENTO DEL BEBE, ORIGINAL Y 2 COPIAS,ACTA DE MATRIMONIO DE LOS PADRES, SI NO ESTAN CASADOS ACTA DE NACIMIENTO ORIGINAL Y COPIA RECIENTES;COPIA DE CREDENCIAL DE ELECTOR IFE O INE, DOS TESTIGOS MAYORES DE 18 AÑOS, CON CREDENCIA, Y CARTILLA DE VACUNACION. DEFUNCION, CERTIFICADO DE DEFUNCION, ACTA DE NACIMIENTO, CREDENCIAL ELECTOR, Y DOS TESTIGOS | J20: NACIMIENTO CERTIFICADO DE NACIMIENTO DEL BEBE, ORIGINAL Y 2 COPIAS,ACTA DE MATRIMONIO DE LOS PADRES, SI NO ESTAN CASADOS ACTA DE NACIMIENTO ORIGINAL Y COPIA RECIENTES;COPIA DE CREDENCIAL DE ELECTOR IFE O INE, DOS TESTIGOS MAYORES DE 18 AÑOS, CON CREDENCIA, Y CARTILLA DE VACUNACION. DEFUNCION, CERTIFICADO DE DEFUNCION, ACTA DE NACIMIENTO, CREDENCIAL ELECTOR, Y DOS TESTIGOS | K20: http://www.cegaipslp.org.mx/HV2024Dos.nsf/nombre_de_la_vista/90633E95FCC22C4106258BD200601F7C/$File/RECIBO+2024-2027.pdf | L20: 45656 | M20: I HORA | N20: 15 DIAS | O20: 15 DIAS | P20: 1 DIA | Q20: =Tabla_549847!A16 -> 13 | R20: EL OBJETIVO ES QUE SE RESPETE Y SE LLEVEN ACABO LOS PERMISOS OTORGADOS EN EL SERVICIO | S20: SIN COSTO | T20: DECRETO 0126.- Se EXPIDE la Ley de Ingresos para el Municipio de Venado, S.L.P., para el ejercicio fiscal 2025. | U20: DEPARTAMENTO DE TESORERIA | V20: DECRETO 0126.- Se EXPIDE la Ley de Ingresos para el Municipio de Venado, S.L.P., para el ejercicio fiscal 2025. | W20: ACUDIR DIRECTAMENTE AL AREA DE SECRETARIA A DAR CONOCIMIENTO DEL SERVICIO NEGADO Y PODER DAR SEGUIMIENTO Y UNA RESPUESTA FAVORABLE AL USUARIO. | X20: DOCUMENTACION REQUERIDA EN EL TRAMITE | Y20: SIN INFORMACIÓN ADICIONAL QUE INFORMAR | Z20: =Tabla_566299!A16 -> 13 | AA20: =Tabla_549839!A16 -> 13 | AB20: https://catalogonacional.gob.mx/ | AC20: TESORERÍA | AD20: 46010 | AE20: NO GENERADO
A21: 2025 | B21: 45931 | C21: 45961 | D21: CELEBRACION DE MATRIMONIO EN OFICIALIA DIAS Y HORAS DE OFICINA | E21: Directo | F21: POBLACION EN GENERAL | G21: Brindar a la poblacion la certeza jurídica de los actos y hechos relativos al estado civil de las personas, mediante el registro, resguardo y certificación de los actos que en términos de normatividad establece el Gobierno del Estado de México con eficacia, honradez, alto sentido humano y con la más alta calidad | H21: PRESENCIAL | I21: DE MATRIMONIO ACTAS DE NACIMIENTOS DE LOS CONTRAYENTES ORIGINAL Y COPIAS,CERTIFICADOS MEDICOS, CREDENCIAL IFE ORIGINAL Y COPIA DE LOS CONTRAYENTES, DOS TESTIGOS POR CADA UNO MAYORES DE EDAD, SI ALGUNO DE LOS CONTRAYENTES FUE CASADO O ES VIUDO DEBERAN PRESENTAR ACTA DE DIVORCIO O DEFUNCION SEGUN SEA EL CASO. | J21: DE MATRIMONIO ACTAS DE NACIMIENTOS DE LOS CONTRAYENTES ORIGINAL Y COPIAS,CERTIFICADOS MEDICOS, CREDENCIAL IFE ORIGINAL Y COPIA DE LOS CONTRAYENTES, DOS TESTIGOS POR CADA UNO MAYORES DE EDAD, SI ALGUNO DE LOS CONTRAYENTES FUE CASADO O ES VIUDO DEBERAN PRESENTAR ACTA DE DIVORCIO O DEFUNCION SEGUN SEA EL CASO. | K21: http://www.cegaipslp.org.mx/HV2024Dos.nsf/nombre_de_la_vista/90633E95FCC22C4106258BD200601F7C/$File/RECIBO+2024-2027.pdf | L21: 45656 | M21: I HORA | N21: 15 DIAS | O21: 15 DIAS | P21: 1 DIA | Q21: =Tabla_549847!A17 -> 14 | R21: EL OBJETIVO ES QUE SE RESPETE Y SE LLEVEN ACABO LOS PERMISOS OTORGADOS EN EL SERVICIO | S21: 177.63 | T21: DECRETO 0126.- Se EXPIDE la Ley de Ingresos para el Municipio de Venado, S.L.P., para el ejercicio fiscal 2025. ARTICULO 28, FRACCION II INCISO A) | U21: DEPARTAMENTO DE TESORERIA | V21: DECRETO 0126.- Se EXPIDE la Ley de Ingresos para el Municipio de Venado, S.L.P., para el ejercicio fiscal 2025. ARTICULO 28, FRACCION II INCISO A) | W21: ACUDIR DIRECTAMENTE AL AREA DE SECRETARIA A DAR CONOCIMIENTO DEL SERVICIO NEGADO Y PODER DAR SEGUIMIENTO Y UNA RESPUESTA FAVORABLE AL USUARIO. | X21: DOCUMENTACION REQUERIDA EN EL TRAMITE | Y21: SIN INFORMACIÓN ADICIONAL QUE INFORMAR | Z21: =Tabla_566299!A17 -> 14 | AA21: =Tabla_549839!A17 -> 14 | AB21: https://catalogonacional.gob.mx/ | AC21: TESORERÍA | AD21: 46010 | AE21: NO GENERADO
A22: 2025 | B22: 45931 | C22: 45961 | D22: CELEBRACION DE MATRIMONIO EN OFICIALIA DIAS Y HORAS INHABILES | E22: Directo | F22: POBLACION EN GENERAL | G22: Brindar a la poblacion la certeza jurídica de los actos y hechos relativos al estado civil de las personas, mediante el registro, resguardo y certificación de los actos que en términos de normatividad establece el Gobierno del Estado de México con eficacia, honradez, alto sentido humano y con la más alta calidad | H22: PRESENCIAL | I22: DE MATRIMONIO ACTAS DE NACIMIENTOS DE LOS CONTRAYENTES ORIGINAL Y COPIAS,CERTIFICADOS MEDICOS, CREDENCIAL IFE ORIGINAL Y COPIA DE LOS CONTRAYENTES, DOS TESTIGOS POR CADA UNO MAYORES DE EDAD, SI ALGUNO DE LOS CONTRAYENTES FUE CASADO O ES VIUDO DEBERAN PRESENTAR ACTA DE DIVORCIO O DEFUNCION SEGUN SEA EL CASO. | J22: DE MATRIMONIO ACTAS DE NACIMIENTOS DE LOS CONTRAYENTES ORIGINAL Y COPIAS,CERTIFICADOS MEDICOS, CREDENCIAL IFE ORIGINAL Y COPIA DE LOS CONTRAYENTES, DOS TESTIGOS POR CADA UNO MAYORES DE EDAD, SI ALGUNO DE LOS CONTRAYENTES FUE CASADO O ES VIUDO DEBERAN PRESENTAR ACTA DE DIVORCIO O DEFUNCION SEGUN SEA EL CASO. | K22: http://www.cegaipslp.org.mx/HV2024Dos.nsf/nombre_de_la_vista/90633E95FCC22C4106258BD200601F7C/$File/RECIBO+2024-2027.pdf | L22: 45656 | M22: I HORA | N22: 15 DIAS | O22: 15 DIAS | P22: 1 DIA | Q22: =Tabla_549847!A18 -> 15 | R22: EL OBJETIVO ES QUE SE RESPETE Y SE LLEVEN ACABO LOS PERMISOS OTORGADOS EN EL SERVICIO | S22: 218.36 | T22: DECRETO 0126.- Se EXPIDE la Ley de Ingresos para el Municipio de Venado, S.L.P., para el ejercicio fiscal 2025. ARTICULO 28, FRACCION II INCISO B) | U22: DEPARTAMENTO DE TESORERIA | V22: DECRETO 0126.- Se EXPIDE la Ley de Ingresos para el Municipio de Venado, S.L.P., para el ejercicio fiscal 2025. ARTICULO 28, FRACCION II INCISO B) | W22: ACUDIR DIRECTAMENTE AL AREA DE SECRETARIA A DAR CONOCIMIENTO DEL SERVICIO NEGADO Y PODER DAR SEGUIMIENTO Y UNA RESPUESTA FAVORABLE AL USUARIO. | X22: DOCUMENTACION REQUERIDA EN EL TRAMITE | Y22: SIN INFORMACIÓN ADICIONAL QUE INFORMAR | Z22: =Tabla_566299!A18 -> 15 | AA22: =Tabla_566299!A18 -> 15 | AB22: https://catalogonacional.gob.mx/ | AC22: TESORERÍA | AD22: 46010 | AE22: NO GENERADO
A23: 2025 | B23: 45931 | C23: 45961 | D23: CELEBRACION DE MATRIMONIO EN OFICIALIA EN DIAS FESTIVOS | E23: Directo | F23: POBLACION EN GENERAL | G23: Brindar a la poblacion la certeza jurídica de los actos y hechos relativos al estado civil de las personas, mediante el registro, resguardo y certificación de los actos que en términos de normatividad establece el Gobierno del Estado de México con eficacia, honradez, alto sentido humano y con la más alta calidad | H23: PRESENCIAL | I23: DE MATRIMONIO ACTAS DE NACIMIENTOS DE LOS CONTRAYENTES ORIGINAL Y COPIAS,CERTIFICADOS MEDICOS, CREDENCIAL IFE ORIGINAL Y COPIA DE LOS CONTRAYENTES, DOS TESTIGOS POR CADA UNO MAYORES DE EDAD, SI ALGUNO DE LOS CONTRAYENTES FUE CASADO O ES VIUDO DEBERAN PRESENTAR ACTA DE DIVORCIO O DEFUNCION SEGUN SEA EL CASO. | J23: DE MATRIMONIO ACTAS DE NACIMIENTOS DE LOS CONTRAYENTES ORIGINAL Y COPIAS,CERTIFICADOS MEDICOS, CREDENCIAL IFE ORIGINAL Y COPIA DE LOS CONTRAYENTES, DOS TESTIGOS POR CADA UNO MAYORES DE EDAD, SI ALGUNO DE LOS CONTRAYENTES FUE CASADO O ES VIUDO DEBERAN PRESENTAR ACTA DE DIVORCIO O DEFUNCION SEGUN SEA EL CASO. | K23: http://www.cegaipslp.org.mx/HV2024Dos.nsf/nombre_de_la_vista/90633E95FCC22C4106258BD200601F7C/$File/RECIBO+2024-2027.pdf | L23: 45656 | M23: I HORA | N23: 15 DIAS | O23: 15 DIAS | P23: 1 DIA | Q23: =Tabla_549847!A19 -> 16 | R23: EL OBJETIVO ES QUE SE RESPETE Y SE LLEVEN ACABO LOS PERMISOS OTORGADOS EN EL SERVICIO | S23: 245.51 | T23: DECRETO 0126.- Se EXPIDE la Ley de Ingresos para el Municipio de Venado, S.L.P., para el ejercicio fiscal 2025. ARTICULO 28, FRACCION II INCISO C) | U23: DEPARTAMENTO DE TESORERIA | V23: DECRETO 0126.- Se EXPIDE la Ley de Ingresos para el Municipio de Venado, S.L.P., para el ejercicio fiscal 2025. ARTICULO 28, FRACCION II INCISO C) | W23: ACUDIR DIRECTAMENTE AL AREA DE SECRETARIA A DAR CONOCIMIENTO DEL SERVICIO NEGADO Y PODER DAR SEGUIMIENTO Y UNA RESPUESTA FAVORABLE AL USUARIO. | X23: DOCUMENTACION REQUERIDA EN EL TRAMITE | Y23: SIN INFORMACIÓN ADICIONAL QUE INFORMAR | Z23: =Tabla_566299!A19 -> 16 | AA23: =Tabla_549839!A19 -> 16 | AB23: https://catalogonacional.gob.mx/ | AC23: TESORERÍA | AD23: 46010 | AE23: NO GENERADO
A24: 2025 | B24: 45931 | C24: 45961 | D24: CELEBRACION DE MATRIMONIO A DOMICILIO DIAS Y HORAS DE OFICINA | E24: Directo | F24: POBLACION EN GENERAL | G24: Brindar a la poblacion la certeza jurídica de los actos y hechos relativos al estado civil de las personas, mediante el registro, resguardo y certificación de los actos que en términos de normatividad establece el Gobierno del Estado de México con eficacia, honradez, alto sentido humano y con la más alta calidad | H24: PRESENCIAL | I24: DE MATRIMONIO ACTAS DE NACIMIENTOS DE LOS CONTRAYENTES ORIGINAL Y COPIAS,CERTIFICADOS MEDICOS, CREDENCIAL IFE ORIGINAL Y COPIA DE LOS CONTRAYENTES, DOS TESTIGOS POR CADA UNO MAYORES DE EDAD, SI ALGUNO DE LOS CONTRAYENTES FUE CASADO O ES VIUDO DEBERAN PRESENTAR ACTA DE DIVORCIO O DEFUNCION SEGUN SEA EL CASO. | J24: DE MATRIMONIO ACTAS DE NACIMIENTOS DE LOS CONTRAYENTES ORIGINAL Y COPIAS,CERTIFICADOS MEDICOS, CREDENCIAL IFE ORIGINAL Y COPIA DE LOS CONTRAYENTES, DOS TESTIGOS POR CADA UNO MAYORES DE EDAD, SI ALGUNO DE LOS CONTRAYENTES FUE CASADO O ES VIUDO DEBERAN PRESENTAR ACTA DE DIVORCIO O DEFUNCION SEGUN SEA EL CASO. | K24: http://www.cegaipslp.org.mx/HV2024Dos.nsf/nombre_de_la_vista/90633E95FCC22C4106258BD200601F7C/$File/RECIBO+2024-2027.pdf | L24: 45656 | M24: I HORA | N24: 15 DIAS | O24: 15 DIAS | P24: 1 DIA | Q24: =Tabla_549847!A20 -> 17 | R24: EL OBJETIVO ES QUE SE RESPETE Y SE LLEVEN ACABO LOS PERMISOS OTORGADOS EN EL SERVICIO | S24: 681.1 | T24: DECRETO 0126.- Se EXPIDE la Ley de Ingresos para el Municipio de Venado, S.L.P., para el ejercicio fiscal 2025. ARTICULO 28, FRACCION III INCISO A) | U24: DEPARTAMENTO DE TESORERIA | V24: DECRETO 0126.- Se EXPIDE la Ley de Ingresos para el Municipio de Venado, S.L.P., para el ejercicio fiscal 2025. ARTICULO 28, FRACCION III INCISO A) | W24: ACUDIR DIRECTAMENTE AL AREA DE SECRETARIA A DAR CONOCIMIENTO DEL SERVICIO NEGADO Y PODER DAR SEGUIMIENTO Y UNA RESPUESTA FAVORABLE AL USUARIO. | X24: DOCUMENTACION REQUERIDA EN EL TRAMITE | Y24: SIN INFORMACIÓN ADICIONAL QUE INFORMAR | Z24: =Tabla_566299!A20 -> 17 | AA24: =Tabla_549839!A20 -> 17 | AB24: https://catalogonacional.gob.mx/ | AC24: TESORERÍA | AD24: 46010 | AE24: NO GENERADO
A25: 2025 | B25: 45931 | C25: 45961 | D25: CELEBRACION DE MATRIMONIO A DOMICILIO DIAS HORAS INHABILES | E25: Directo | F25: POBLACION EN GENERAL | G25: Brindar a la poblacion la certeza jurídica de los actos y hechos relativos al estado civil de las personas, mediante el registro, resguardo y certificación de los actos que en términos de normatividad establece el Gobierno del Estado de México con eficacia, honradez, alto sentido humano y con la más alta calidad | H25: PRESENCIAL | I25: DE MATRIMONIO ACTAS DE NACIMIENTOS DE LOS CONTRAYENTES ORIGINAL Y COPIAS,CERTIFICADOS MEDICOS, CREDENCIAL IFE ORIGINAL Y COPIA DE LOS CONTRAYENTES, DOS TESTIGOS POR CADA UNO MAYORES DE EDAD, SI ALGUNO DE LOS CONTRAYENTES FUE CASADO O ES VIUDO DEBERAN PRESENTAR ACTA DE DIVORCIO O DEFUNCION SEGUN SEA EL CASO. | J25: DE MATRIMONIO ACTAS DE NACIMIENTOS DE LOS CONTRAYENTES ORIGINAL Y COPIAS,CERTIFICADOS MEDICOS, CREDENCIAL IFE ORIGINAL Y COPIA DE LOS CONTRAYENTES, DOS TESTIGOS POR CADA UNO MAYORES DE EDAD, SI ALGUNO DE LOS CONTRAYENTES FUE CASADO O ES VIUDO DEBERAN PRESENTAR ACTA DE DIVORCIO O DEFUNCION SEGUN SEA EL CASO. | K25: http://www.cegaipslp.org.mx/HV2024Dos.nsf/nombre_de_la_vista/90633E95FCC22C4106258BD200601F7C/$File/RECIBO+2024-2027.pdf | L25: 45656 | M25: I HORA | N25: 15 DIAS | O25: 15 DIAS | P25: 1 DIA | Q25: =Tabla_549847!A21 -> 18 | R25: EL OBJETIVO ES QUE SE RESPETE Y SE LLEVEN ACABO LOS PERMISOS OTORGADOS EN EL SERVICIO | S25: 818 | T25: DECRETO 0126.- Se EXPIDE la Ley de Ingresos para el Municipio de Venado, S.L.P., para el ejercicio fiscal 2025. ARTICULO 28, FRACCION III INCISO B) | U25: DEPARTAMENTO DE TESORERIA | V25: DECRETO 0126.- Se EXPIDE la Ley de Ingresos para el Municipio de Venado, S.L.P., para el ejercicio fiscal 2025. ARTICULO 28, FRACCION III INCISO B) | W25: ACUDIR DIRECTAMENTE AL AREA DE SECRETARIA A DAR CONOCIMIENTO DEL SERVICIO NEGADO Y PODER DAR SEGUIMIENTO Y UNA RESPUESTA FAVORABLE AL USUARIO. | X25: DOCUMENTACION REQUERIDA EN EL TRAMITE | Y25: SIN INFORMACIÓN ADICIONAL QUE INFORMAR | Z25: =Tabla_566299!A21 -> 18 | AA25: =Tabla_566299!A21 -> 18 | AB25: https://catalogonacional.gob.mx/ | AC25: TESORERÍA | AD25: 46010 | AE25: NO GENERADO
A26: 2025 | B26: 45931 | C26: 45961 | D26: CELEBRACION DE MATRIMONIO A DOMICILIO EN DIAS FESTIVOS | E26: Directo | F26: POBLACION EN GENERAL | G26: Brindar a la poblacion la certeza jurídica de los actos y hechos relativos al estado civil de las personas, mediante el registro, resguardo y certificación de los actos que en términos de normatividad establece el Gobierno del Estado de México con eficacia, honradez, alto sentido humano y con la más alta calidad | H26: PRESENCIAL | I26: DE MATRIMONIO ACTAS DE NACIMIENTOS DE LOS CONTRAYENTES ORIGINAL Y COPIAS,CERTIFICADOS MEDICOS, CREDENCIAL IFE ORIGINAL Y COPIA DE LOS CONTRAYENTES, DOS TESTIGOS POR CADA UNO MAYORES DE EDAD, SI ALGUNO DE LOS CONTRAYENTES FUE CASADO O ES VIUDO DEBERAN PRESENTAR ACTA DE DIVORCIO O DEFUNCION SEGUN SEA EL CASO. | J26: DE MATRIMONIO ACTAS DE NACIMIENTOS DE LOS CONTRAYENTES ORIGINAL Y COPIAS,CERTIFICADOS MEDICOS, CREDENCIAL IFE ORIGINAL Y COPIA DE LOS CONTRAYENTES, DOS TESTIGOS POR CADA UNO MAYORES DE EDAD, SI ALGUNO DE LOS CONTRAYENTES FUE CASADO O ES VIUDO DEBERAN PRESENTAR ACTA DE DIVORCIO O DEFUNCION SEGUN SEA EL CASO. | K26: http://www.cegaipslp.org.mx/HV2024Dos.nsf/nombre_de_la_vista/90633E95FCC22C4106258BD200601F7C/$File/RECIBO+2024-2027.pdf | L26: 45656 | M26: I HORA | N26: 15 DIAS | O26: 15 DIAS | P26: 1 DIA | Q26: =Tabla_549847!A22 -> 19 | R26: EL OBJETIVO ES QUE SE RESPETE Y SE LLEVEN ACABO LOS PERMISOS OTORGADOS EN EL SERVICIO | S26: 818 | T26: DECRETO 0126.- Se EXPIDE la Ley de Ingresos para el Municipio de Venado, S.L.P., para el ejercicio fiscal 2025. ARTICULO 28, FRACCION III INCISO C) | U26: DEPARTAMENTO DE TESORERIA | V26: DECRETO 0126.- Se EXPIDE la Ley de Ingresos para el Municipio de Venado, S.L.P., para el ejercicio fiscal 2025. ARTICULO 28, FRACCION III INCISO C) | W26: ACUDIR DIRECTAMENTE AL AREA DE SECRETARIA A DAR CONOCIMIENTO DEL SERVICIO NEGADO Y PODER DAR SEGUIMIENTO Y UNA RESPUESTA FAVORABLE AL USUARIO. | X26: DOCUMENTACION REQUERIDA EN EL TRAMITE | Y26: SIN INFORMACIÓN ADICIONAL QUE INFORMAR | Z26: =Tabla_566299!A22 -> 19 | AA26: =Tabla_549839!A22 -> 19 | AB26: https://catalogonacional.gob.mx/ | AC26: TESORERÍA | AD26: 46010 | AE26: NO GENERADO
A27: 2025 | B27: 45931 | C27: 45961 | D27: REGISTRO DE SENTENCIA DE DIVORCIO | E27: Directo | F27: POBLACION EN GENERAL | G27: Brindar a la poblacion la certeza jurídica de los actos y hechos relativos al estado civil de las personas, mediante el registro, resguardo y certificación de los actos que en términos de normatividad establece el Gobierno del Estado de México con eficacia, honradez, alto sentido humano y con la más alta calidad | H27: PRESENCIAL | I27: DIVORCIO, SENTENCIA DE DIVORCIO, ACTA DE NACIMIENTOS DE AMBOS Y ACTA DE MATRIMONIO | J27: DIVORCIO, SENTENCIA DE DIVORCIO, ACTA DE NACIMIENTOS DE AMBOS Y ACTA DE MATRIMONIO | K27: http://www.cegaipslp.org.mx/HV2024Dos.nsf/nombre_de_la_vista/90633E95FCC22C4106258BD200601F7C/$File/RECIBO+2024-2027.pdf | L27: 45656 | M27: 1HORA | N27: 15 DIAS | O27: 15 DIAS | P27: 1 DIA | Q27: =Tabla_549847!A23 -> 20 | R27: EL OBJETIVO ES QUE SE RESPETE Y SE LLEVEN ACABO LOS PERMISOS OTORGADOS EN EL SERVICIO | S27: 100.69 | T27: DECRETO 0126.- Se EXPIDE la Ley de Ingresos para el Municipio de Venado, S.L.P., para el ejercicio fiscal 2025. ARTICULO 28 FRACCION IV | U27: DEPARTAMENTO DE TESORERIA | V27: DECRETO 0126.- Se EXPIDE la Ley de Ingresos para el Municipio de Venado, S.L.P., para el ejercicio fiscal 2025. ARTICULO 28 FRACCION IV | W27: ACUDIR DIRECTAMENTE AL AREA DE SECRETARIA A DAR CONOCIMIENTO DEL SERVICIO NEGADO Y PODER DAR SEGUIMIENTO Y UNA RESPUESTA FAVORABLE AL USUARIO. | X27: DOCUMENTACION REQUERIDA EN EL TRAMITE | Y27: SIN INFORMACIÓN ADICIONAL QUE INFORMAR | Z27: =Tabla_566299!A23 -> 20 | AA27: =Tabla_549839!A23 -> 20 | AB27: https://catalogonacional.gob.mx/ | AC27: TESORERÍA | AD27: 46010 | AE27: NO GENERADO
A28: 2025 | B28: 45931 | C28: 45961 | D28: EXPEDICION DE CERTIFICACION DE ACTAS | E28: Directo | F28: POBLACION EN GENERAL | G28: Brindar a la poblacion la certeza jurídica de los actos y hechos relativos al estado civil de las personas, mediante el registro, resguardo y certificación de los actos que en términos de normatividad establece el Gobierno del Estado de México con eficacia, honradez, alto sentido humano y con la más alta calidad | H28: PRESENCIAL | I28: NOMBRE COMPLETO Y FECHA DE NACIMIENTO, CONYUGUE DE LA PERSONA A SOLICITAR EL ACTA,NOMBRE COMPLETO DE LOS CONTRAYENTES Y FECHA DE MATRIMONIO,NOMBRE COMPLETO Y FECHA DE DEFUNCION Y NOMBRE COMPLETO DE DIVORCIADOS Y FECHA, SEGÚN SEA EL TAMITE. | J28: NOMBRE COMPLETO Y FECHA DE NACIMIENTO, CONYUGUE DE LA PERSONA A SOLICITAR EL ACTA,NOMBRE COMPLETO DE LOS CONTRAYENTES Y FECHA DE MATRIMONIO,NOMBRE COMPLETO Y FECHA DE DEFUNCION Y NOMBRE COMPLETO DE DIVORCIADOS Y FECHA, SEGÚN SEA EL TAMITE. | K28: http://www.cegaipslp.org.mx/HV2024Dos.nsf/nombre_de_la_vista/90633E95FCC22C4106258BD200601F7C/$File/RECIBO+2024-2027.pdf | L28: 45656 | M28: 30 MUNUTOS | N28: 15 DIAS | O28: 15 DIAS | P28: 1 DIA | Q28: =Tabla_549847!A24 -> 21 | R28: EL OBJETIVO ES QUE SE RESPETE Y SE LLEVEN ACABO LOS PERMISOS OTORGADOS EN EL SERVICIO | S28: 44.12 | T28: DECRETO 0126.- Se EXPIDE la Ley de Ingresos para el Municipio de Venado, S.L.P., para el ejercicio fiscal 2025. ARTICULO 28 FRACCION V | U28: DEPARTAMENTO DE TESORERIA | V28: DECRETO 0126.- Se EXPIDE la Ley de Ingresos para el Municipio de Venado, S.L.P., para el ejercicio fiscal 2025. ARTICULO 28 FRACCION V | W28: ACUDIR DIRECTAMENTE AL AREA DE SECRETARIA A DAR CONOCIMIENTO DEL SERVICIO NEGADO Y PODER DAR SEGUIMIENTO Y UNA RESPUESTA FAVORABLE AL USUARIO. | X28: DOCUMENTACION REQUERIDA EN EL TRAMITE | Y28: SIN INFORMACIÓN ADICIONAL QUE INFORMAR | Z28: =Tabla_566299!A24 -> 21 | AA28: =Tabla_566299!A24 -> 21 | AB28: https://catalogonacional.gob.mx/ | AC28: TESORERÍA | AD28: 46010 | AE28: NO GENERADO
A29: 2025 | B29: 45931 | C29: 45961 | D29: OTROS REGISTOS DE ESTADO CIVIL | E29: Directo | F29: POBLACION EN GENERAL | G29: Brindar a la poblacion la certeza jurídica de los actos y hechos relativos al estado civil de las personas, mediante el registro, resguardo y certificación de los actos que en términos de normatividad establece el Gobierno del Estado de México con eficacia, honradez, alto sentido humano y con la más alta calidad | H29: PRESENCIAL | I29: NOMBRE COMPLETO Y FECHA EN QUE SE REALIZO EL TRAMITE DE LA PERSONA A SOLICITAR LA INFORMACION | J29: NOMBRE COMPLETO Y FECHA EN QUE SE REALIZO EL TRAMITE DE LA PERSONA A SOLICITAR LA INFORMACION | K29: http://www.cegaipslp.org.mx/HV2024Dos.nsf/nombre_de_la_vista/90633E95FCC22C4106258BD200601F7C/$File/RECIBO+2024-2027.pdf | L29: 45656 | M29: 30 MUNITOS | N29: 15 DIAS | O29: 15 DIAS | P29: 1 DIA | Q29: =Tabla_549847!A25 -> 22 | R29: EL OBJETIVO ES QUE SE RESPETE Y SE LLEVEN ACABO LOS PERMISOS OTORGADOS EN EL SERVICIO | S29: 75.8 | T29: DECRETO 0126.- Se EXPIDE la Ley de Ingresos para el Municipio de Venado, S.L.P., para el ejercicio fiscal 2025. ARTICULO 28 FRACCION VI | U29: DEPARTAMENTO DE TESORERIA | V29: DECRETO 0126.- Se EXPIDE la Ley de Ingresos para el Municipio de Venado, S.L.P., para el ejercicio fiscal 2025. ARTICULO 28 FRACCION VI | W29: ACUDIR DIRECTAMENTE AL AREA DE SECRETARIA A DAR CONOCIMIENTO DEL SERVICIO NEGADO Y PODER DAR SEGUIMIENTO Y UNA RESPUESTA FAVORABLE AL USUARIO. | X29: DOCUMENTACION REQUERIDA EN EL TRAMITE | Y29: SIN INFORMACIÓN ADICIONAL QUE INFORMAR | Z29: =Tabla_566299!A25 -> 22 | AA29: =Tabla_549839!A25 -> 22 | AB29: https://catalogonacional.gob.mx/ | AC29: TESORERÍA | AD29: 46010 | AE29: NO GENERADO
A30: 2025 | B30: 45931 | C30: 45961 | D30: BUSQUEDA DE DATOS | E30: Directo | F30: POBLACION EN GENERAL | G30: Brindar a la poblacion la certeza jurídica de los actos y hechos relativos al estado civil de las personas, mediante el registro, resguardo y certificación de los actos que en términos de normatividad establece el Gobierno del Estado de México con eficacia, honradez, alto sentido humano y con la más alta calidad | H30: PRESENCIAL | I30: NOMBRE COMPLETO Y FECHA EN QUE SE REALIZO EL TRAMITE DE LA PERSONA A SOLICITAR LA INFORMACION | J30: NOMBRE COMPLETO Y FECHA EN QUE SE REALIZO EL TRAMITE DE LA PERSONA A SOLICITAR LA INFORMACION | K30: http://www.cegaipslp.org.mx/HV2024Dos.nsf/nombre_de_la_vista/90633E95FCC22C4106258BD200601F7C/$File/RECIBO+2024-2027.pdf | L30: 45656 | M30: INMEDIATA | N30: 15 DIAS | O30: 15 DIAS | P30: 1 DIA | Q30: =Tabla_549847!A26 -> 23 | R30: EL OBJETIVO ES QUE SE RESPETE Y SE LLEVEN ACABO LOS PERMISOS OTORGADOS EN EL SERVICIO | S30: SIN COSTO | T30: DECRETO 0126.- Se EXPIDE la Ley de Ingresos para el Municipio de Venado, S.L.P., para el ejercicio fiscal 2025. | U30: DEPARTAMENTO DE TESORERIA | V30: DECRETO 0126.- Se EXPIDE la Ley de Ingresos para el Municipio de Venado, S.L.P., para el ejercicio fiscal 2025. | W30: ACUDIR DIRECTAMENTE AL AREA DE SECRETARIA A DAR CONOCIMIENTO DEL SERVICIO NEGADO Y PODER DAR SEGUIMIENTO Y UNA RESPUESTA FAVORABLE AL USUARIO. | X30: DOCUMENTACION REQUERIDA EN EL TRAMITE | Y30: SIN INFORMACIÓN ADICIONAL QUE INFORMAR | Z30: =Tabla_566299!A26 -> 23 | AA30: =Tabla_549839!A26 -> 23 | AB30: https://catalogonacional.gob.mx/ | AC30: TESORERÍA | AD30: 46010 | AE30: NO GENERADO
A31: 2025 | B31: 45931 | C31: 45961 | D31: ACTAS DE NACIMIENTO ESCOLAR | E31: Directo | F31: POBLACION EN GENERAL | G31: Brindar a la poblacion la certeza jurídica de los actos y hechos relativos al estado civil de las personas, mediante el registro, resguardo y certificación de los actos que en términos de normatividad establece el Gobierno del Estado de México con eficacia, honradez, alto sentido humano y con la más alta calidad | H31: PRESENCIAL | I31: NOMBRE COMPLETO Y FECHA DE NACIMIENTO DE LA PERSONA A SOLICITAR EL ACTA | J31: NOMBRE COMPLETO Y FECHA DE NACIMIENTO DE LA PERSONA A SOLICITAR EL ACTA | K31: http://www.cegaipslp.org.mx/HV2024Dos.nsf/nombre_de_la_vista/90633E95FCC22C4106258BD200601F7C/$File/RECIBO+2024-2027.pdf | L31: 45656 | M31: 30 MUNITOS | N31: 15 DIAS | O31: 15 DIAS | P31: 1 DIA | Q31: =Tabla_549847!A27 -> 24 | R31: EL OBJETIVO ES QUE SE RESPETE Y SE LLEVEN ACABO LOS PERMISOS OTORGADOS EN EL SERVICIO | S31: 31.68 | T31: DECRETO 0126.- Se EXPIDE la Ley de Ingresos para el Municipio de Venado, S.L.P., para el ejercicio fiscal 2025. ARTICULO 28 FRACCION FRACCION VIII | U31: DEPARTAMENTO DE TESORERIA | V31: DECRETO 0126.- Se EXPIDE la Ley de Ingresos para el Municipio de Venado, S.L.P., para el ejercicio fiscal 2025. ARTICULO 28 FRACCION FRACCION VIII | W31: ACUDIR DIRECTAMENTE AL AREA DE SECRETARIA A DAR CONOCIMIENTO DEL SERVICIO NEGADO Y PODER DAR SEGUIMIENTO Y UNA RESPUESTA FAVORABLE AL USUARIO. | X31: DOCUMENTACION REQUERIDA EN EL TRAMITE | Y31: SIN INFORMACIÓN ADICIONAL QUE INFORMAR | Z31: =Tabla_566299!A27 -> 24 | AA31: =Tabla_566299!A27 -> 24 | AB31: https://catalogonacional.gob.mx/ | AC31: TESORERÍA | AD31: 46010 | AE31: NO GENERADO
A32: 2025 | B32: 45931 | C32: 45961 | D32: INSCRIPCION DE ACTAS DE REGISTRO CIVIL RESPECTO DE ACTOS CELEBRADOS POR MEXICO, EN EL EXTRANJERO | E32: Directo | F32: POBLACION EN GENERAL | G32: Brindar a la poblacion la certeza jurídica de los actos y hechos relativos al estado civil de las personas, mediante el registro, resguardo y certificación de los actos que en términos de normatividad establece el Gobierno del Estado de México con eficacia, honradez, alto sentido humano y con la más alta calidad | H32: PRESENCIAL | I32: NOMBRE COMPLETO Y FECHA DE NACIMIENTO DE LA PERSONA A SOLICITAR EL ACTA | J32: NOMBRE COMPLETO Y FECHA DE NACIMIENTO DE LA PERSONA A SOLICITAR EL ACTA | K32: http://www.cegaipslp.org.mx/HV2024Dos.nsf/nombre_de_la_vista/90633E95FCC22C4106258BD200601F7C/$File/RECIBO+2024-2027.pdf | L32: 45656 | M32: 1 HORA | N32: 15 DIAS | O32: 15 DIAS | P32: 1 DIA | Q32: =Tabla_549847!A28 -> 25 | R32: EL OBJETIVO ES QUE SE RESPETE Y SE LLEVEN ACABO LOS PERMISOS OTORGADOS EN EL SERVICIO | S32: 100.69 | T32: DECRETO 0126.- Se EXPIDE la Ley de Ingresos para el Municipio de Venado, S.L.P., para el ejercicio fiscal 2025. ARTICULO 28 FRACCION IX | U32: DEPARTAMENTO DE TESORERIA | V32: DECRETO 0126.- Se EXPIDE la Ley de Ingresos para el Municipio de Venado, S.L.P., para el ejercicio fiscal 2025. ARTICULO 28 FRACCION IX | W32: ACUDIR DIRECTAMENTE AL AREA DE SECRETARIA A DAR CONOCIMIENTO DEL SERVICIO NEGADO Y PODER DAR SEGUIMIENTO Y UNA RESPUESTA FAVORABLE AL USUARIO. | X32: DOCUMENTACION REQUERIDA EN EL TRAMITE | Y32: SIN INFORMACIÓN ADICIONAL QUE INFORMAR | Z32: =Tabla_566299!A28 -> 25 | AA32: =Tabla_549839!A28 -> 25 | AB32: https://catalogonacional.gob.mx/ | AC32: TESORERÍA | AD32: 46010 | AE32: NO GENERADO
A33: 2025 | B33: 45931 | C33: 45961 | D33: REGISTRO EXTEMPORANEOS DE NACIMIENTO | E33: Directo | F33: POBLACION EN GENERAL | G33: Brindar a la poblacion la certeza jurídica de los actos y hechos relativos al estado civil de las personas, mediante el registro, resguardo y certificación de los actos que en términos de normatividad establece el Gobierno del Estado de México con eficacia, honradez, alto sentido humano y con la más alta calidad | H33: PRESENCIAL | I33: NOMBRE COMPLETO Y FECHA DE NACIMIENTO DE LA PERSONA A SOLICITAR EL ACTA | J33: NOMBRE COMPLETO Y FECHA DE NACIMIENTO DE LA PERSONA A SOLICITAR EL ACTA | K33: http://www.cegaipslp.org.mx/HV2024Dos.nsf/nombre_de_la_vista/90633E95FCC22C4106258BD200601F7C/$File/RECIBO+2024-2027.pdf | L33: 45656 | M33: 1 HORA | N33: 15 DIAS | O33: 15 DIAS | P33: 1 DIA | Q33: =Tabla_549847!A29 -> 26 | R33: EL OBJETIVO ES QUE SE RESPETE Y SE LLEVEN ACABO LOS PERMISOS OTORGADOS EN EL SERVICIO | S33: SIN COSTO | T33: DECRETO 0126.- Se EXPIDE la Ley de Ingresos para el Municipio de Venado, S.L.P., para el ejercicio fiscal 2025. | U33: DEPARTAMENTO DE TESORERIA | V33: DECRETO 0126.- Se EXPIDE la Ley de Ingresos para el Municipio de Venado, S.L.P., para el ejercicio fiscal 2025. | W33: ACUDIR DIRECTAMENTE AL AREA DE SECRETARIA A DAR CONOCIMIENTO DEL SERVICIO NEGADO Y PODER DAR SEGUIMIENTO Y UNA RESPUESTA FAVORABLE AL USUARIO. | X33: DOCUMENTACION REQUERIDA EN EL TRAMITE | Y33: SIN INFORMACIÓN ADICIONAL QUE INFORMAR | Z33: =Tabla_566299!A29 -> 26 | AA33: =Tabla_549839!A29 -> 26 | AB33: https://catalogonacional.gob.mx/ | AC33: TESORERÍA | AD33: 46010 | AE33: NO GENERADO
A34: 2025 | B34: 45931 | C34: 45961 | D34: RECONOCIMIENTOS DE HIJOS | E34: Directo | F34: POBLACION EN GENERAL | G34: Brindar a la poblacion la certeza jurídica de los actos y hechos relativos al estado civil de las personas, mediante el registro, resguardo y certificación de los actos que en términos de normatividad establece el Gobierno del Estado de México con eficacia, honradez, alto sentido humano y con la más alta calidad | H34: PRESENCIAL | I34: RECONOCIMIENTOS DE HIJOS, ACTA DE NACIMIENTO DE RECONOCIDO, ACTA DE NACIMIENTO DE RECONOCEDOR , CREDENCIAL ELECTOR Y DOS TESTIGOS | J34: RECONOCIMIENTOS DE HIJOS, ACTA DE NACIMIENTO DE RECONOCIDO, ACTA DE NACIMIENTO DE RECONOCEDOR , CREDENCIAL ELECTOR Y DOS TESTIGOS | K34: http://www.cegaipslp.org.mx/HV2024Dos.nsf/nombre_de_la_vista/90633E95FCC22C4106258BD200601F7C/$File/RECIBO+2024-2027.pdf | L34: 45656 | M34: 1 HORA | N34: 15 DIAS | O34: 15 DIAS | P34: 1 DIA | Q34: =Tabla_549847!A30 -> 27 | R34: EL OBJETIVO ES QUE SE RESPETE Y SE LLEVEN ACABO LOS PERMISOS OTORGADOS EN EL SERVICIO | S34: SIN COSTO | T34: DECRETO 0126.- Se EXPIDE la Ley de Ingresos para el Municipio de Venado, S.L.P., para el ejercicio fiscal 2025. | U34: DEPARTAMENTO DE TESORERIA | V34: DECRETO 0126.- Se EXPIDE la Ley de Ingresos para el Municipio de Venado, S.L.P., para el ejercicio fiscal 2025. | W34: ACUDIR DIRECTAMENTE AL AREA DE SECRETARIA A DAR CONOCIMIENTO DEL SERVICIO NEGADO Y PODER DAR SEGUIMIENTO Y UNA RESPUESTA FAVORABLE AL USUARIO. | X34: DOCUMENTACION REQUERIDA EN EL TRAMITE | Y34: SIN INFORMACIÓN ADICIONAL QUE INFORMAR | Z34: =Tabla_566299!A30 -> 27 | AA34: =Tabla_566299!A30 -> 27 | AB34: https://catalogonacional.gob.mx/ | AC34: TESORERÍA | AD34: 46010 | AE34: NO GENERADO
A35: 2025 | B35: 45931 | C35: 45961 | D35: ASIGANACION DE NOMENCLARURA | E35: Directo | F35: POBLACION EN GENERAL | G35: Brindar el servicio mediante el cual se verifica, rectifica y se asigna nomenclatura vial y domiciliaria a los inmuebles de la ciudad, que permite la ubicación exacta en el área urbana. | H35: PRESENCIAL | I35: IDENTIFICACION OFICIAL, PAGO PREDIAL | J35: IDENTIFICACION OFICIAL, PAGO PREDIAL | K35: http://www.cegaipslp.org.mx/HV2024Dos.nsf/nombre_de_la_vista/90633E95FCC22C4106258BD200601F7C/$File/RECIBO+2024-2027.pdf | L35: 45656 | M35: INMEDIATA | N35: 15 DIAS | O35: 15 DIAS | P35: 1 DIA | Q35: =Tabla_549847!A31 -> 28 | R35: EL OBJETIVO ES QUE SE RESPETE Y SE LLEVEN ACABO LOS PERMISOS OTORGADOS EN EL SERVICIO | S35: 56.57 | T35: DECRETO 0126.- Se EXPIDE la Ley de Ingresos para el Municipio de Venado, S.L.P., para el ejercicio fiscal 2025. ARTICULO 36 FRACCION I | U35: DEPARTAMENTO DE TESORERIA | V35: DECRETO 0126.- Se EXPIDE la Ley de Ingresos para el Municipio de Venado, S.L.P., para el ejercicio fiscal 2025. ARTICULO 36 FRACCION I | W35: ACUDIR DIRECTAMENTE AL AREA DE SECRETARIA A DAR CONOCIMIENTO DEL SERVICIO NEGADO Y PODER DAR SEGUIMIENTO Y UNA RESPUESTA FAVORABLE AL USUARIO. | X35: DOCUMENTACION REQUERIDA EN EL TRAMITE | Y35: SIN INFORMACIÓN ADICIONAL QUE INFORMAR | Z35: =Tabla_566299!A31 -> 28 | AA35: =Tabla_549839!A31 -> 28 | AB35: https://catalogonacional.gob.mx/ | AC35: TESORERÍA | AD35: 46010 | AE35: NO GENERADO
A36: 2025 | B36: 45931 | C36: 45961 | D36: CONSTANCIAS | E36: Directo | F36: POBLACION EN GENERAL | G36: Brindar a la ciudadania el servicio para solicitar documentos de carácter probatorio que no requiere solemnidad, puede ser personal. | H36: PRESENCIAL | I36: IDENTIFICCION OFICIAL | J36: IDENTIFICCION OFICIAL | K36: http://www.cegaipslp.org.mx/HV2024Dos.nsf/nombre_de_la_vista/90633E95FCC22C4106258BD200601F7C/$File/RECIBO+2024-2027.pdf | L36: 45656 | M36: INMEDIATA | N36: 15 DIAS | O36: 15 DIAS | P36: 15 DIAS | Q36: =Tabla_549847!A32 -> 29 | R36: EL OBJETIVO ES QUE SE RESPETE Y SE LLEVEN ACABO LOS PERMISOS OTORGADOS EN EL SERVICIO | S36: 50.91 | T36: DECRETO 0126.- Se EXPIDE la Ley de Ingresos para el Municipio de Venado, S.L.P., para el ejercicio fiscal 2025. ARTICULO 38 FRACCION IV | U36: DEPARTAMENTO DE TESORERIA | V36: DECRETO 0126.- Se EXPIDE la Ley de Ingresos para el Municipio de Venado, S.L.P., para el ejercicio fiscal 2025. ARTICULO 38 FRACCION IV | W36: ACUDIR DIRECTAMENTE AL AREA DE SECRETARIA A DAR CONOCIMIENTO DEL SERVICIO NEGADO Y PODER DAR SEGUIMIENTO Y UNA RESPUESTA FAVORABLE AL USUARIO. | X36: DOCUMENTACION REQUERIDA EN EL TRAMITE | Y36: SIN INFORMACIÓN ADICIONAL QUE INFORMAR | Z36: =Tabla_566299!A32 -> 29 | AA36: =Tabla_549839!A32 -> 29 | AB36: https://catalogonacional.gob.mx/ | AC36: TESORERÍA | AD36: 46010 | AE36: NO GENERADO
A37: 2025 | B37: 45931 | C37: 45961 | D37: PERMISO DE BAILE EN DOMICILIO PARTICULAR | E37: Directo | F37: POBLACION EN GENERAL | G37: Brindar a la poblacion el servicio de permiso de baile en domicilio particular con la finalidada de que se lleve acabo el evento particular con la normatividad y documentacion que esto require | H37: PRESENCIAL | I37: SOLICITUD, IDETIFICACION OFICIAL | J37: SOLICITUD, IDETIFICACION OFICIAL | K37: http://www.cegaipslp.org.mx/HV2024Dos.nsf/nombre_de_la_vista/90633E95FCC22C4106258BD200601F7C/$File/RECIBO+2024-2027.pdf | L37: 45656 | M37: INMEDIATA | N37: 15 DIAS | O37: 15 DIAS | P37: 1 DIA | Q37: =Tabla_549847!A33 -> 30 | R37: EL OBJETIVO ES QUE SE RESPETE Y SE LLEVEN ACABO LOS PERMISOS OTORGADOS EN EL SERVICIO | S37: 252.3 | T37: DECRETO 0126.- Se EXPIDE la Ley de Ingresos para el Municipio de Venado, S.L.P., para el ejercicio fiscal 2025. ARTICULO 38 FRACCION VII INCISO D) | U37: DEPARTAMENTO DE TESORERIA | V37: DECRETO 0126.- Se EXPIDE la Ley de Ingresos para el Municipio de Venado, S.L.P., para el ejercicio fiscal 2025. ARTICULO 38 FRACCION VII INCISO D) | W37: ACUDIR DIRECTAMENTE AL AREA DE SECRETARIA A DAR CONOCIMIENTO DEL SERVICIO NEGADO Y PODER DAR SEGUIMIENTO Y UNA RESPUESTA FAVORABLE AL USUARIO. | X37: DOCUMENTACION REQUERIDA EN EL TRAMITE | Y37: SIN INFORMACIÓN ADICIONAL QUE INFORMAR | Z37: =Tabla_566299!A33 -> 30 | AA37: =Tabla_566299!A33 -> 30 | AB37: https://catalogonacional.gob.mx/ | AC37: TESORERÍA | AD37: 46010 | AE37: NO GENERADO
