Workbook

Sheet Reporte de Formatos
A1: 56171
A2: TÍTULO | D2: NOMBRE CORTO | G2: DESCRIPCIÓN
A3: Presupuesto asignado_Presupuesto asignado anual | D3: LTAIPSLP84 XXVIA | G3: Se publicará la información del gasto programable que se le autorizó según el Presupuesto de Egresos correspondiente al inicio de cada año.
A4: 1 | B4: 4 | C4: 4 | D4: 6 | E4: 10 | F4: 7 | G4: 7 | H4: 2 | I4: 13 | J4: 14
A5: 549877 | B5: 549883 | C5: 549884 | D5: 549879 | E5: 549887 | F5: 549880 | G5: 549881 | H5: 549886 | I5: 549882 | J5: 549885
A6: Tabla Campos
A7: Ejercicio | B7: Fecha de inicio del periodo que se informa | C7: Fecha de término del periodo que se informa | D7: Presupuesto anual asignado al sujeto obligado | E7: Desglose del presupuesto por capítulo de gasto Tabla_549887 | F7: Hipervínculo al Presupuesto de Egresos correspondiente | G7: Hipervínculo a la página de internet “Transparencia Presupuestaria observatorio del gasto” | H7: Área(s) responsable(s) que genera(n), posee(n), publica(n) y actualizan la información | I7: Fecha de actualización | J7: Nota
A8: 2025 | B8: 45931 | C8: 45961 | D8: 104578029 | E8: =Tabla_549887!D4 -> 24528250 | G8: https://www.transparenciapresupuestaria.gob.mx/ | H8: TESORERIA | I8: =NOW() -> 46007.536 | J8: N/A
A9: 2025 | B9: =B8 -> 45931 | C9: =C8 -> 45961 | D9: 104578029 | E9: =Tabla_549887!D5 -> 7418375.8 | G9: https://www.transparenciapresupuestaria.gob.mx/ | H9: TESORERIA | I9: =NOW() -> 46007.536 | J9: N/A
A10: 2025 | B10: =B9 -> 45931 | C10: =C9 -> 45961 | D10: 104578029 | E10: =Tabla_549887!D6 -> 10300000 | G10: https://www.transparenciapresupuestaria.gob.mx/ | H10: TESORERIA | I10: =NOW() -> 46007.536 | J10: N/A
A11: 2025 | B11: =B10 -> 45931 | C11: =C10 -> 45961 | D11: 104578029 | E11: =Tabla_549887!D7 -> 5490000 | G11: https://www.transparenciapresupuestaria.gob.mx/ | H11: TESORERIA | I11: =NOW() -> 46007.536 | J11: N/A
A12: 2025 | B12: =B11 -> 45931 | C12: =C11 -> 45961 | D12: 104578029 | E12: =Tabla_549887!D8 -> 1380000 | G12: https://www.transparenciapresupuestaria.gob.mx/ | H12: TESORERIA | I12: =NOW() -> 46007.536 | J12: N/A
A13: 2025 | B13: =B12 -> 45931 | C13: =C12 -> 45961 | D13: 104578029 | E13: =Tabla_549887!D9 -> 55461403 | G13: https://www.transparenciapresupuestaria.gob.mx/ | H13: TESORERIA | I13: =NOW() -> 46007.536 | J13: N/A

Sheet Tabla_549887
B1: 2 | C1: 2 | D1: 6
B2: 70173 | C2: 70174 | D2: 70175
A3: ID | B3: Clave del capítulo de gasto | C3: Denominación del capítulo de gasto | D3: Presupuesto por capítulo de gasto
A4: 1 | B4: 1000 | C4: SERVICIOS PERSONALES | D4: 24528250
A5: 2 | B5: 2000 | C5: MATERIALES Y SUMINISTROS | D5: 7418375.8
A6: 3 | B6: 3000 | C6: SERVICIOS GENERALES | D6: 10300000
A7: 4 | B7: 4000 | C7: TRANSFERENCIAS, ASIGNACIONES, SUBSIDIO | D7: 5490000
A8: 5 | B8: 5000 | C8: BIENES MUEBLES, INMUEBLES E INTANGIBLE | D8: 1380000
A9: 6 | B9: 6000 | C9: INVERSIÓN PÚBLICA | D9: 55461403
