Workbook
Name Hidden_13: Hidden_1!$A$1:$A$2
Name Hidden_27: Hidden_2!$A$1:$A$2
Name Hidden_311: Hidden_3!$A$1:$A$2
Name Hidden_414: Hidden_4!$A$1:$A$32
Name Hidden_515: Hidden_5!$A$1:$A$2
Name Hidden_617: Hidden_6!$A$1:$A$26
Name Hidden_629: [1]Hidden_6!$A$1:$A$26
Name Hidden_721: Hidden_7!$A$1:$A$41
Name Hidden_733: [1]Hidden_7!$A$1:$A$41
Name Hidden_828: Hidden_8!$A$1:$A$32

Sheet Reporte de Formatos
A1: 56189
A2: TÍTULO | D2: NOMBRE CORTO | G2: DESCRIPCIÓN
A3: Padrón de personas proveedoras y contratistas | D3: LTAIPSLP84XXXVIII | G3: La información relativa a las personas físicas y morales con las que se celebre contratos de adquisiciones, arrendamientos, servicios, obras públicas y/o servicios relacionados con las mismas y en su caso éste deberá guardar correspondencia con el registro electrónico de proveedores que le corresponda
A4: 1 | B4: 4 | C4: 4 | D4: 9 | E4: 1 | F4: 1 | G4: 1 | H4: 9 | I4: 1 | J4: 10 | K4: 1 | L4: 9 | M4: 1 | N4: 1 | O4: 9 | P4: 9 | Q4: 2 | R4: 9 | S4: 2 | T4: 1 | U4: 1 | V4: 9 | W4: 2 | X4: 1 | Y4: 2 | Z4: 1 | AA4: 2 | AB4: 1 | AC4: 9 | AD4: 1 | AE4: 2 | AF4: 2 | AG4: 2 | AH4: 2 | AI4: 1 | AJ4: 1 | AK4: 1 | AL4: 1 | AM4: 1 | AN4: 1 | AO4: 7 | AP4: 1 | AQ4: 1 | AR4: 7 | AS4: 7 | AT4: 2 | AU4: 13 | AV4: 14
A5: 550315 | B5: 550301 | C5: 550302 | D5: 550298 | E5: 550307 | F5: 550308 | G5: 550309 | H5: 571608 | I5: 550310 | J5: 590298 | K5: 550322 | L5: 550299 | M5: 550324 | N5: 550305 | O5: 550300 | P5: 550287 | Q5: 550330 | R5: 550286 | S5: 550326 | T5: 550316 | U5: 550317 | V5: 550306 | W5: 550327 | X5: 550318 | Y5: 550328 | Z5: 550319 | AA5: 550329 | AB5: 550320 | AC5: 550288 | AD5: 550321 | AE5: 550291 | AF5: 550292 | AG5: 550293 | AH5: 550294 | AI5: 550295 | AJ5: 550311 | AK5: 550296 | AL5: 550323 | AM5: 550325 | AN5: 550314 | AO5: 550297 | AP5: 550312 | AQ5: 550313 | AR5: 550285 | AS5: 550332 | AT5: 550303 | AU5: 550290 | AV5: 550304
A6: Tabla Campos
A7: Ejercicio | B7: Fecha de inicio del periodo que se informa | C7: Fecha de término del periodo que se informa | D7: Personalidad jurídica de la persona proveedora o contratista (catálogo) | E7: Nombre(s) de la persona física proveedora o contratista | F7: Primer apellido de la persona física proveedora o contratista | G7: Segundo apellido de la persona física proveedora o contratista | H7: ESTE CRITERIO APLICA A PARTIR DEL 01/04/2023 -> Sexo (catálogo) | I7: Denominación o razón social de la persona moral proveedora o contratista | J7: Persona(s) beneficiaria(s) final(es) tratándose de persona moral Tabla_590298 | K7: Estratificación | L7: Origen de la persona proveedora o contratista (catálogo) | M7: País de origen, si la empresa es una filial extranjera | N7: Registro Federal de Contribuyentes (RFC) de la persona física o moral con homoclave incluida | O7: Entidad federativa de la persona física o moral (catálogo) | P7: La persona proveedora o contratista realiza subcontrataciones (catálogo) | Q7: Actividad económica de la empresa | R7: Domicilio fiscal: Tipo de vialidad (catálogo) | S7: Domicilio fiscal: Nombre de la vialidad | T7: Domicilio fiscal: Número exterior | U7: Domicilio fiscal: Número interior, en su caso | V7: Domicilio fiscal: Tipo de asentamiento (catálogo) | W7: Domicilio fiscal: Nombre del asentamiento | X7: Domicilio fiscal: Clave de la localidad | Y7: Domicilio fiscal: Nombre de la localidad | Z7: Domicilio fiscal: Clave del municipio | AA7: Domicilio fiscal: Nombre del municipio o delegación | AB7: Domicilio fiscal: Clave de la Entidad Federativa | AC7: Domicilio fiscal: Entidad Federativa (catálogo) | AD7: Domicilio fiscal: Código postal | AE7: País del domicilio en el extranjero, en su caso | AF7: Ciudad del domicilio en el extranjero, en su caso | AG7: Calle del domicilio en el extranjero, en su caso | AH7: Número del domicilio en el extranjero, en su caso | AI7: Nombre del/la representante legal de la empresa | AJ7: Primer apellido del/la representante legal de la empresa | AK7: Segundo apellido del/la representante legal de la empresa | AL7: Teléfono de contacto del/la representante legal de la empresa | AM7: Correo electrónico del/la representante legal, en su caso | AN7: Tipo de acreditación legal representante legal | AO7: Página web de la persona proveedora o contratista | AP7: Teléfono oficial de la persona proveedora o contratista | AQ7: Correo electrónico comercial de la persona proveedora o contratista | AR7: Hipervínculo al registro electrónico de personas proveedoras y contratistas | AS7: Hipervínculo al Directorio de Proveedores y Contratistas Sancionados | AT7: Área(s) responsable(s) que genera(n), posee(n), publica(n) y actualizan la información | AU7: Fecha de actualización | AV7: Nota
A8: 2025 | B8: 45778 | C8: 45808 | D8: Persona moral | E8: ='[1]Reporte de Formatos'!W8 -> TIARA YAZMIN | F8: ='[1]Reporte de Formatos'!X8 -> MARQUEZ | G8: ='[1]Reporte de Formatos'!Y8 -> SORIANO | H8: ='[1]Reporte de Formatos'!Z8 -> Mujer | I8: ='[1]Reporte de Formatos'!AA8 -> TIARA YAZMIN MARQUEZ SORIANO | J8: ='[1]Reporte de Formatos'!AB8 -> TIARA YAZMIN MARQUEZ SORIANO | K8: SERVICIOS | L8: Nacional | M8: NO SE GENERO | N8: MAST980921L32 | O8: San Luis Potosí | P8: No | Q8: OBRA PUBLICA Y SERVICIOS RELACIONADOS | R8: Avenida | S8: HIMNO NACIONAL | T8: 456 | U8: 0 | V8: Ciudad | W8: SAN LUIS POTOSI | X8: 24 | Y8: SAN LUIS POTOSI | Z8: 24 | AA8: SAN LUIS POTOSI | AB8: 24 | AC8: San Luis Potosí | AD8: 78369 | AE8: NO SE GENERO | AF8: NO SE GENERO | AG8: NO SE GENERO | AH8: NO SE GENERO | AI8: NO SE GENERO | AJ8: NO SE GENERO | AK8: NO SE GENERO | AL8: NO SE GENERO | AM8: NO SE GENERO | AN8: NO SE GENERO | AO8: NO SE GENERO | AP8: NO SE GENERO | AQ8: NO SE GENERO | AR8: http://www.cegaipslp.org.mx/HV2025.nsf/nombre_de_la_vista/9F23179210D5E04706258CFD005BFD71/$File/MAYO+2025.pdf | AS8: http://www.cegaipslp.org.mx/HV2025.nsf/nombre_de_la_vista/9F23179210D5E04706258CFD005BFD71/$File/MAYO+2025.pdf | AT8: COORDINACION DE DESARROLLO SOCIAL RAMO 33 | AU8: 45890 | AV8: NINGUNA
A9: 2025 | B9: 45778 | C9: 45808 | D9: Persona moral | E9: ='[1]Reporte de Formatos'!W10 -> SERVCOC, S.A. DE C.V. | F9: ='[1]Reporte de Formatos'!X10 -> SERVCOC, S.A. DE C.V. | G9: ='[1]Reporte de Formatos'!Y10 -> SERVCOC, S.A. DE C.V. | H9: ='[1]Reporte de Formatos'!Z10 -> Hombre | I9: ='[1]Reporte de Formatos'!AA10 -> SERVCOC, S.A. DE C.V. | J9: ='[1]Reporte de Formatos'!AB10 -> SERVCOC, S.A. DE C.V. | K9: SERVICIOS | L9: Nacional | M9: NO SE GENERO | N9: SER161118CQ3 | O9: San Luis Potosí | P9: No | Q9: OBRA PUBLICA Y SERVICIOS RELACIONADOS | R9: Calle | S9: CUAUHTEMOC | T9: 698 | U9: 0 | V9: Ciudad | W9: SAN LUIS POTOSI | X9: 24 | Y9: SAN LUIS POTOSI | Z9: 24 | AA9: SAN LUIS POTOSI | AB9: 24 | AC9: San Luis Potosí | AD9: 79617 | AE9: NO SE GENERO | AF9: NO SE GENERO | AG9: NO SE GENERO | AH9: NO SE GENERO | AI9: NO SE GENERO | AJ9: NO SE GENERO | AK9: NO SE GENERO | AL9: NO SE GENERO | AM9: NO SE GENERO | AN9: NO SE GENERO | AO9: NO SE GENERO | AP9: NO SE GENERO | AQ9: NO SE GENERO | AR9: http://www.cegaipslp.org.mx/HV2025.nsf/nombre_de_la_vista/9F23179210D5E04706258CFD005BFD71/$File/MAYO+2025.pdf | AS9: http://www.cegaipslp.org.mx/HV2025.nsf/nombre_de_la_vista/9F23179210D5E04706258CFD005BFD71/$File/MAYO+2025.pdf | AT9: COORDINACION DE DESARROLLO SOCIAL RAMO 33 | AU9: 45890 | AV9: NINGUNA
A10: 2025 | B10: 45778 | C10: 45808 | D10: Persona física | E10: ='[1]Reporte de Formatos'!W12 -> LUIS ALFONSO | F10: ='[1]Reporte de Formatos'!X12 -> TORRES | G10: ='[1]Reporte de Formatos'!Y12 -> MENDEZ | H10: ='[1]Reporte de Formatos'!Z12 -> Hombre | I10: ='[1]Reporte de Formatos'!AA12 -> CHU CONSTRUCCIONES HUASTECA UNIDA S.A. DE C.V. | J10: ='[1]Reporte de Formatos'!AB12 -> CHU CONSTRUCCIONES HUASTECA UNIDA S.A. DE C.V. | K10: OBRA PUBLICA | L10: Nacional | M10: NO SE GENERO | N10: CCH210707CN6 | O10: San Luis Potosí | P10: No | Q10: OBRA PUBLICA Y SERVICIOS RELACIONADOS | R10: Callejón | S10: DE LAS FLORES | T10: 185 | U10: 0 | V10: Ciudad | W10: SAN LUIS POTOSI | X10: 24 | Y10: SAN LUIS POTOSI | Z10: 24 | AA10: SAN LUIS POTOSI | AB10: 24 | AC10: San Luis Potosí | AD10: 78170 | AE10: NO SE GENERO | AF10: NO SE GENERO | AG10: NO SE GENERO | AH10: NO SE GENERO | AI10: NO SE GENERO | AJ10: NO SE GENERO | AK10: NO SE GENERO | AL10: NO SE GENERO | AM10: NO SE GENERO | AN10: NO SE GENERO | AO10: NO SE GENERO | AP10: NO SE GENERO | AQ10: NO SE GENERO | AR10: http://www.cegaipslp.org.mx/HV2025.nsf/nombre_de_la_vista/9F23179210D5E04706258CFD005BFD71/$File/MAYO+2025.pdf | AS10: http://www.cegaipslp.org.mx/HV2025.nsf/nombre_de_la_vista/9F23179210D5E04706258CFD005BFD71/$File/MAYO+2025.pdf | AT10: COORDINACION DE DESARROLLO SOCIAL RAMO 33 | AU10: 45890 | AV10: NINGUNA
A11: 2025 | B11: 45778 | C11: 45808 | D11: Persona moral | E11: ='[1]Reporte de Formatos'!W13 -> JORGE | F11: ='[1]Reporte de Formatos'!X13 -> ACUÑA | G11: ='[1]Reporte de Formatos'!Y13 -> DEL CASTILLO | H11: ='[1]Reporte de Formatos'!Z13 -> Hombre | I11: ='[1]Reporte de Formatos'!AA13 -> JORMAT DE SAN LUIS CONSTRUCCIONES S.A. DE C.V. | J11: ='[1]Reporte de Formatos'!AB13 -> JORGE ACUÑA DEL CASTILLO | K11: OBRA PUBLICA | L11: Nacional | M11: NO SE GENERO | N11: JSL2214107996 | O11: San Luis Potosí | P11: No | Q11: OBRA PUBLICA Y SERVICIOS RELACIONADOS | R11: Calle | S11: RICARDO CASTRO | T11: 103 | U11: 0 | V11: Ciudad | W11: SAN LUIS POTOSI | X11: 24 | Y11: SAN LUIS POTOSI | Z11: 24 | AA11: SAN LUIS POTOSI | AB11: 24 | AC11: San Luis Potosí | AD11: 78280 | AE11: NO SE GENERO | AF11: NO SE GENERO | AG11: NO SE GENERO | AH11: NO SE GENERO | AI11: NO SE GENERO | AJ11: NO SE GENERO | AK11: NO SE GENERO | AL11: NO SE GENERO | AM11: NO SE GENERO | AN11: NO SE GENERO | AO11: NO SE GENERO | AP11: NO SE GENERO | AQ11: NO SE GENERO | AR11: http://www.cegaipslp.org.mx/HV2025.nsf/nombre_de_la_vista/9F23179210D5E04706258CFD005BFD71/$File/MAYO+2025.pdf | AS11: http://www.cegaipslp.org.mx/HV2025.nsf/nombre_de_la_vista/9F23179210D5E04706258CFD005BFD71/$File/MAYO+2025.pdf | AT11: COORDINACION DE DESARROLLO SOCIAL RAMO 33 | AU11: 45890 | AV11: NINGUNA
A12: 2025 | B12: 45778 | C12: 45808 | D12: Persona física | E12: ='[1]Reporte de Formatos'!W14 -> EDGAR | F12: ='[1]Reporte de Formatos'!X14 -> GARCIA | G12: ='[1]Reporte de Formatos'!Y14 -> LOPEZ | H12: ='[1]Reporte de Formatos'!Z14 -> Hombre | I12: ='[1]Reporte de Formatos'!AA14 -> EDGAR GARCIA LOPEZ | J12: ='[1]Reporte de Formatos'!AB14 -> EDGAR GARCIA LOPEZ | K12: OBRA PUBLICA | L12: Nacional | M12: NO SE GENERO | N12: GALE940212SA2 | O12: San Luis Potosí | P12: No | Q12: OBRA PUBLICA Y SERVICIOS RELACIONADOS | R12: Calle | S12: SIN NOMBRE | T12: S/N | U12: 0 | V12: Ejido | W12: ZAMARRIPA | X12: 7 | Y12: CEDRAL | Z12: 7 | AA12: CEDRAL | AB12: 24 | AC12: San Luis Potosí | AD12: 78534 | AE12: NO SE GENERO | AF12: NO SE GENERO | AG12: NO SE GENERO | AH12: NO SE GENERO | AI12: NO SE GENERO | AJ12: NO SE GENERO | AK12: NO SE GENERO | AL12: NO SE GENERO | AM12: NO SE GENERO | AN12: NO SE GENERO | AO12: NO SE GENERO | AP12: NO SE GENERO | AQ12: NO SE GENERO | AR12: http://www.cegaipslp.org.mx/HV2025.nsf/nombre_de_la_vista/9F23179210D5E04706258CFD005BFD71/$File/MAYO+2025.pdf | AS12: http://www.cegaipslp.org.mx/HV2025.nsf/nombre_de_la_vista/9F23179210D5E04706258CFD005BFD71/$File/MAYO+2025.pdf | AT12: COORDINACION DE DESARROLLO SOCIAL RAMO 33 | AU12: 45890 | AV12: NINGUNA

Sheet Hidden_1
A1: Persona física
A2: Persona moral

Sheet Hidden_2
A1: Hombre
A2: Mujer

Sheet Hidden_3
A1: Nacional
A2: Extranjero

Sheet Hidden_4
A1: México
A2: Guerrero
A3: Puebla
A4: Quintana Roo
A5: Guanajuato
A6: Durango
A7: Michoacán de Ocampo
A8: San Luis Potosí
A9: Campeche
A10: Coahuila de Zaragoza
A11: Nayarit
A12: Zacatecas
... A32: Baja California

Sheet Hidden_5
A1: Si
A2: No

Sheet Hidden_6
A1: Carretera
A2: Privada
A3: Eje vial
A4: Circunvalación
A5: Brecha
A6: Diagonal
A7: Calle
A8: Corredor
A9: Circuito
A10: Pasaje
A11: Vereda
A12: Calzada
... A26: Avenida

Sheet Hidden_7
A1: Aeropuerto
A2: Ampliación
A3: Barrio
A4: Cantón
A5: Ciudad
A6: Ciudad industrial
A7: Colonia
A8: Condominio
A9: Conjunto habitacional
A10: Corredor industrial
A11: Coto
A12: Cuartel
... A41: Zona naval

Sheet Hidden_8
A1: México
A2: Guerrero
A3: Puebla
A4: Quintana Roo
A5: Guanajuato
A6: Durango
A7: Michoacán de Ocampo
A8: San Luis Potosí
A9: Campeche
A10: Coahuila de Zaragoza
A11: Nayarit
A12: Zacatecas
... A32: Baja California

Sheet Tabla_590298
B1: 2 | C1: 2 | D1: 2
B2: 81356 | C2: 81358 | D2: 81361
A3: ID | B3: Nombre de la(s) persona(s) beneficiaria(s) final(es) | C3: Primer apellido de la(s) persona(s) beneficiaria(s) final(es) | D3: Segundo apellido de la(s) persona(s) beneficiaria(s) final(es)
A4: 1 | B4: ='Reporte de Formatos'!E8 -> TIARA YAZMIN | C4: ='Reporte de Formatos'!F8 -> MARQUEZ | D4: ='Reporte de Formatos'!G8 -> SORIANO
A5: 2 | B5: ='Reporte de Formatos'!E9 -> SERVCOC, S.A. DE C.V. | C5: ='Reporte de Formatos'!F9 -> SERVCOC, S.A. DE C.V. | D5: ='Reporte de Formatos'!G9 -> SERVCOC, S.A. DE C.V.
A6: 3 | B6: ='Reporte de Formatos'!E10 -> LUIS ALFONSO | C6: ='Reporte de Formatos'!F10 -> TORRES | D6: ='Reporte de Formatos'!G10 -> MENDEZ
A7: 4 | B7: ='Reporte de Formatos'!E11 -> JORGE | C7: ='Reporte de Formatos'!F11 -> ACUÑA | D7: ='Reporte de Formatos'!G11 -> DEL CASTILLO
A8: 5 | B8: ='Reporte de Formatos'!E12 -> EDGAR | C8: ='Reporte de Formatos'!F12 -> GARCIA | D8: ='Reporte de Formatos'!G12 -> LOPEZ
