Workbook
Name Hidden_13: Hidden_1!$A$1:$A$11
Name Hidden_211: Hidden_2!$A$1:$A$2

Sheet Reporte de Formatos
A1: 56156
A2: TÍTULO | D2: NOMBRE CORTO | G2: DESCRIPCIÓN
A3: Remuneración bruta y neta | D3: LTAIPSLP84XI | G3: La información relativa a la remuneración bruta y neta de todos los miembros del sujeto obligado de acuerdo con los tabuladores de sueldos y salarios, todas las percepciones en efectivo o en especie, sueldos, prestaciones, gratificaciones, primas, comisiones, dietas, bonos, estímulos, apoyos económicos, ingresos sistemas de compensación, entre otros.
A4: 1 | B4: 4 | C4: 4 | D4: 9 | E4: 1 | F4: 2 | G4: 2 | H4: 2 | I4: 1 | J4: 1 | K4: 1 | L4: 9 | M4: 6 | N4: 1 | O4: 6 | P4: 1 | Q4: 10 | R4: 10 | S4: 10 | T4: 10 | U4: 10 | V4: 10 | W4: 10 | X4: 10 | Y4: 10 | Z4: 10 | AA4: 10 | AB4: 10 | AC4: 10 | AD4: 2 | AE4: 4 | AF4: 13 | AG4: 14
A5: 549532 | B5: 549544 | C5: 549524 | D5: 549545 | E5: 549546 | F5: 549527 | G5: 549533 | H5: 549534 | I5: 549535 | J5: 549528 | K5: 549525 | L5: 549536 | M5: 549547 | N5: 549548 | O5: 549537 | P5: 549526 | Q5: 549551 | R5: 549538 | S5: 549552 | T5: 549522 | U5: 549542 | V5: 549529 | W5: 549539 | X5: 549530 | Y5: 549531 | Z5: 549549 | AA5: 549553 | AB5: 549550 | AC5: 549554 | AD5: 549540 | AE5: 549541 | AF5: 549543 | AG5: 549523
A6: Tabla Campos
A7: Ejercicio | B7: Fecha de inicio del periodo que se informa | C7: Fecha de término del periodo que se informa | D7: Tipo de integrante del sujeto obligado (catálogo) | E7: Clave o nivel del puesto | F7: Denominación o descripción del puesto | G7: Denominación del cargo | H7: Área de adscripción | I7: Nombre (s) | J7: Primer apellido | K7: Segundo apellido | L7: Sexo (catálogo) | M7: Monto de la remuneración bruta, de conformidad al Tabulador de sueldos y salarios que corresponda | N7: Tipo de moneda de la remuneración bruta | O7: Monto de la remuneración neta, de conformidad al Tabulador de sueldos y salarios que corresponda | P7: Tipo de moneda de la remuneración neta | Q7: Percepciones adicionales en dinero, Monto bruto y neto, tipo de moneda y su periodicidad Tabla_549551 | R7: Percepciones adicionales en especie y su periodicidad Tabla_549538 | S7: Ingresos, monto bruto y neto, tipo de moneda y su periodicidad Tabla_549552 | T7: Sistemas de compensación, monto bruto y neto, tipo de moneda y su periodicidad Tabla_549522 | U7: Gratificaciones, monto bruto y neto, tipo de moneda y su periodicidad Tabla_549542 | V7: Primas, monto bruto y neto, tipo de moneda y su periodicidad Tabla_549529 | W7: Comisiones, monto bruto y neto, tipo de moneda y su periodicidad Tabla_549539 | X7: Dietas, monto bruto y neto, tipo de moneda y su periodicidad Tabla_549530 | Y7: Bonos, monto bruto y neto, tipo de moneda y su periodicidad Tabla_549531 | Z7: Estímulos, monto bruto y neto, tipo de moneda y su periodicidad Tabla_549549 | AA7: Apoyos económicos, monto bruto y neto, tipo de moneda y su periodicidad Tabla_549553 | AB7: Prestaciones económicas, monto bruto y neto, tipo de moneda y su periodicidad Tabla_549550 | AC7: Prestaciones en especie y su periodicidad Tabla_549554 | AD7: Área(s) responsable(s) que genera(n), posee(n), publica(n) y actualizan la información | AE7: Fecha de validación | AF7: Fecha de Actualización | AG7: Nota
A8: 2024 | B8: 45413 | C8: 45443 | D8: Funcionario | E8: 1 A | F8: H. CABILDO | G8: PRESIDENTA MUNICIPAL | H8: H. CABILDO | I8: GUILLERMO | J8: MARTINEZ | K8: GUERRA | L8: Masculino | M8: 50403.36 | N8: PESO | O8: 40742.56 | P8: PESO | Q8: =Tabla_549551!A4 -> 1 | R8: =Tabla_549538!A2 -> 1 | S8: =Tabla_549552!A4 -> 1 | T8: =Tabla_549522!A4 -> 1 | U8: =Tabla_549542!A4 -> 1 | V8: =Tabla_549529!A4 -> 1 | W8: =Tabla_549539!A4 -> 1 | X8: =[1]Tabla_549530!A4 -> 1 | Y8: =Tabla_549531!A4 -> 1 | Z8: =Tabla_549549!A4 -> 1 | AA8: =Tabla_549553!A4 -> 1 | AB8: =Tabla_549550!A4 -> 1 | AC8: =Tabla_549554!A4 -> 1 | AD8: TESORERÍA | AE8: 45455 | AF8: 45455 | AG8: manifestarle tenga de su conocimiento que de acuerdo a la LEY DE LOS TRABAJADORES AL SERVICIO DE LAS INSTITUCIONES PÚBLICAS DEL ESTADO DE SAN LUIS POTOSI en el Título Segundo de los trabajadores Capítulo I disposiciones generales en el ARTÍCULO 12. Son trabajadores eventuales ya que están al servicio de personal subordinado, por tiempo determinados o por cantidad presupuestada por el Honorable Ayuntamiento de Venado, San Luis Potosi. y como lo indica la ley. En el CAPITULO V DE LOS SALARIOS en los artículos 38, 39, 40, 41,42 y 43 los salarios y prestaciones derivadas de la relación laboral a las que se hace acreedor el trabajador, tomando en cuenta que la presente administración se rige bajo los criterios de austeridad.
A9: 2024 | B9: 45413 | C9: 45443 | D9: Personal de confianza | E9: 1 A | F9: H. CABILDO | G9: SINDICO MUNICIPAL | H9: H. CABILDO | I9: SIMON | J9: SANCHEZ | K9: GONZALES | L9: Masculino | M9: 23339.2 | N9: PESO | O9: 20000 | P9: PESO | Q9: =Tabla_549551!A5 -> 2 | R9: =Tabla_549538!A3 -> 2 | S9: =Tabla_549552!A5 -> 2 | T9: =Tabla_549522!A5 -> 2 | U9: =Tabla_549542!A5 -> 2 | V9: =Tabla_549529!A5 -> 2 | W9: =Tabla_549539!A5 -> 2 | X9: =[1]Tabla_549530!A5 -> 2 | Y9: =Tabla_549531!A5 -> 2 | Z9: =Tabla_549549!A5 -> 2 | AA9: =Tabla_549553!A5 -> 2 | AB9: =Tabla_549550!A5 -> 2 | AC9: =Tabla_549554!A5 -> 2 | AD9: TESORERÍA | AE9: 45455 | AF9: 45455 | AG9: manifestarle tenga de su conocimiento que de acuerdo a la LEY DE LOS TRABAJADORES AL SERVICIO DE LAS INSTITUCIONES PÚBLICAS DEL ESTADO DE SAN LUIS POTOSI en el Título Segundo de los trabajadores Capítulo I disposiciones generales en el ARTÍCULO 12. Son trabajadores eventuales ya que están al servicio de personal subordinado, por tiempo determinados o por cantidad presupuestada por el Honorable Ayuntamiento de Venado, San Luis Potosi. y como lo indica la ley. En el CAPITULO V DE LOS SALARIOS en los artículos 38, 39, 40, 41,42 y 43 los salarios y prestaciones derivadas de la relación laboral a las que se hace acreedor el trabajador, tomando en cuenta que la presente administración se rige bajo los criterios de austeridad.
A10: 2024 | B10: 45413 | C10: 45443 | D10: Personal de confianza | E10: 1 A | F10: H. CABILDO | G10: REGIDOR | H10: H. CABILDO | I10: OLIVIA | J10: VALDEZ | K10: MARTINEZ | L10: Femenino | M10: 23339.2 | N10: PESO | O10: 20000 | P10: PESO | Q10: =Tabla_549551!A6 -> 3 | R10: =Tabla_549538!A4 -> 3 | S10: =Tabla_549552!A6 -> 3 | T10: =Tabla_549522!A6 -> 3 | U10: =Tabla_549542!A6 -> 3 | V10: =Tabla_549529!A6 -> 3 | W10: =Tabla_549539!A6 -> 3 | X10: =[1]Tabla_549530!A6 -> 3 | Y10: =Tabla_549531!A6 -> 3 | Z10: =Tabla_549549!A6 -> 3 | AA10: =Tabla_549553!A6 -> 3 | AB10: =Tabla_549550!A6 -> 3 | AC10: =Tabla_549554!A6 -> 3 | AD10: TESORERÍA | AE10: 45455 | AF10: 45455 | AG10: manifestarle tenga de su conocimiento que de acuerdo a la LEY DE LOS TRABAJADORES AL SERVICIO DE LAS INSTITUCIONES PÚBLICAS DEL ESTADO DE SAN LUIS POTOSI en el Título Segundo de los trabajadores Capítulo I disposiciones generales en el ARTÍCULO 12. Son trabajadores eventuales ya que están al servicio de personal subordinado, por tiempo determinados o por cantidad presupuestada por el Honorable Ayuntamiento de Venado, San Luis Potosi. y como lo indica la ley. En el CAPITULO V DE LOS SALARIOS en los artículos 38, 39, 40, 41,42 y 43 los salarios y prestaciones derivadas de la relación laboral a las que se hace acreedor el trabajador, tomando en cuenta que la presente administración se rige bajo los criterios de austeridad.
A11: 2024 | B11: 45413 | C11: 45443 | D11: Personal de confianza | E11: 1 A | F11: H. CABILDO | G11: REGIDOR | H11: H. CABILDO | I11: GLORIA LETICIA | J11: MEDINA | K11: RIVERA | L11: Femenino | M11: 23339.2 | N11: PESO | O11: 20000 | P11: PESO | Q11: =Tabla_549551!A7 -> 4 | R11: =Tabla_549538!A5 -> 4 | S11: =Tabla_549552!A7 -> 4 | T11: =Tabla_549522!A7 -> 4 | U11: =Tabla_549542!A7 -> 4 | V11: =Tabla_549529!A7 -> 4 | W11: =Tabla_549539!A7 -> 4 | X11: =[1]Tabla_549530!A7 -> 4 | Y11: =Tabla_549531!A7 -> 4 | Z11: =Tabla_549549!A7 -> 4 | AA11: =Tabla_549553!A7 -> 4 | AB11: =Tabla_549550!A7 -> 4 | AC11: =Tabla_549554!A7 -> 4 | AD11: TESORERÍA | AE11: 45455 | AF11: 45455 | AG11: manifestarle tenga de su conocimiento que de acuerdo a la LEY DE LOS TRABAJADORES AL SERVICIO DE LAS INSTITUCIONES PÚBLICAS DEL ESTADO DE SAN LUIS POTOSI en el Título Segundo de los trabajadores Capítulo I disposiciones generales en el ARTÍCULO 12. Son trabajadores eventuales ya que están al servicio de personal subordinado, por tiempo determinados o por cantidad presupuestada por el Honorable Ayuntamiento de Venado, San Luis Potosi. y como lo indica la ley. En el CAPITULO V DE LOS SALARIOS en los artículos 38, 39, 40, 41,42 y 43 los salarios y prestaciones derivadas de la relación laboral a las que se hace acreedor el trabajador, tomando en cuenta que la presente administración se rige bajo los criterios de austeridad.
A12: 2024 | B12: 45413 | C12: 45443 | D12: Personal de confianza | E12: 1 A | F12: H. CABILDO | G12: REGIDOR | H12: H. CABILDO | I12: ALVARO | J12: ZAVALA | K12: ALVAREZ | L12: Masculino | M12: 23339.2 | N12: PESO | O12: 20000 | P12: PESO | Q12: =Tabla_549551!A8 -> 5 | R12: =Tabla_549538!A6 -> 5 | S12: =Tabla_549552!A8 -> 5 | T12: =Tabla_549522!A8 -> 5 | U12: =Tabla_549542!A8 -> 5 | V12: =Tabla_549529!A8 -> 5 | W12: =Tabla_549539!A8 -> 5 | X12: =[1]Tabla_549530!A8 -> 5 | Y12: =Tabla_549531!A8 -> 5 | Z12: =Tabla_549549!A8 -> 5 | AA12: =Tabla_549553!A8 -> 5 | AB12: =Tabla_549550!A8 -> 5 | AC12: =Tabla_549554!A8 -> 5 | AD12: TESORERÍA | AE12: 45455 | AF12: 45455 | AG12: manifestarle tenga de su conocimiento que de acuerdo a la LEY DE LOS TRABAJADORES AL SERVICIO DE LAS INSTITUCIONES PÚBLICAS DEL ESTADO DE SAN LUIS POTOSI en el Título Segundo de los trabajadores Capítulo I disposiciones generales en el ARTÍCULO 12. Son trabajadores eventuales ya que están al servicio de personal subordinado, por tiempo determinados o por cantidad presupuestada por el Honorable Ayuntamiento de Venado, San Luis Potosi. y como lo indica la ley. En el CAPITULO V DE LOS SALARIOS en los artículos 38, 39, 40, 41,42 y 43 los salarios y prestaciones derivadas de la relación laboral a las que se hace acreedor el trabajador, tomando en cuenta que la presente administración se rige bajo los criterios de austeridad.
A13: 2024 | B13: 45413 | C13: 45443 | D13: Personal de confianza | E13: 1 A | F13: H. CABILDO | G13: REGIDOR | H13: H. CABILDO | I13: CECILIA | J13: MOLINA | K13: HERNANDEZ | L13: Femenino | M13: 23339.2 | N13: PESO | O13: 20000 | P13: PESO | Q13: =Tabla_549551!A9 -> 6 | R13: =Tabla_549538!A7 -> 6 | S13: =Tabla_549552!A9 -> 6 | T13: =Tabla_549522!A9 -> 6 | U13: =Tabla_549542!A9 -> 6 | V13: =Tabla_549529!A9 -> 6 | W13: =Tabla_549539!A9 -> 6 | X13: =[1]Tabla_549530!A9 -> 6 | Y13: =Tabla_549531!A9 -> 6 | Z13: =Tabla_549549!A9 -> 6 | AA13: =Tabla_549553!A9 -> 6 | AB13: =Tabla_549550!A9 -> 6 | AC13: =Tabla_549554!A9 -> 6 | AD13: TESORERÍA | AE13: 45455 | AF13: 45455 | AG13: manifestarle tenga de su conocimiento que de acuerdo a la LEY DE LOS TRABAJADORES AL SERVICIO DE LAS INSTITUCIONES PÚBLICAS DEL ESTADO DE SAN LUIS POTOSI en el Título Segundo de los trabajadores Capítulo I disposiciones generales en el ARTÍCULO 12. Son trabajadores eventuales ya que están al servicio de personal subordinado, por tiempo determinados o por cantidad presupuestada por el Honorable Ayuntamiento de Venado, San Luis Potosi. y como lo indica la ley. En el CAPITULO V DE LOS SALARIOS en los artículos 38, 39, 40, 41,42 y 43 los salarios y prestaciones derivadas de la relación laboral a las que se hace acreedor el trabajador, tomando en cuenta que la presente administración se rige bajo los criterios de austeridad.
A14: 2024 | B14: 45413 | C14: 45443 | D14: Personal de confianza | E14: 1 A | F14: H. CABILDO | G14: REGIDOR | H14: H. CABILDO | I14: MARIBEL | J14: MARTINEZ | K14: NORIEGA | L14: Femenino | M14: 23339.2 | N14: PESO | O14: 20000 | P14: PESO | Q14: =Tabla_549551!A10 -> 7 | R14: =Tabla_549538!A8 -> 7 | S14: =Tabla_549552!A10 -> 7 | T14: =Tabla_549522!A10 -> 7 | U14: =Tabla_549542!A10 -> 7 | V14: =Tabla_549529!A10 -> 7 | W14: =Tabla_549539!A10 -> 7 | X14: =[1]Tabla_549530!A10 -> 7 | Y14: =Tabla_549531!A10 -> 7 | Z14: =Tabla_549549!A10 -> 7 | AA14: =Tabla_549553!A10 -> 7 | AB14: =Tabla_549550!A10 -> 7 | AC14: =Tabla_549554!A10 -> 7 | AD14: TESORERÍA | AE14: 45455 | AF14: 45455 | AG14: manifestarle tenga de su conocimiento que de acuerdo a la LEY DE LOS TRABAJADORES AL SERVICIO DE LAS INSTITUCIONES PÚBLICAS DEL ESTADO DE SAN LUIS POTOSI en el Título Segundo de los trabajadores Capítulo I disposiciones generales en el ARTÍCULO 12. Son trabajadores eventuales ya que están al servicio de personal subordinado, por tiempo determinados o por cantidad presupuestada por el Honorable Ayuntamiento de Venado, San Luis Potosi. y como lo indica la ley. En el CAPITULO V DE LOS SALARIOS en los artículos 38, 39, 40, 41,42 y 43 los salarios y prestaciones derivadas de la relación laboral a las que se hace acreedor el trabajador, tomando en cuenta que la presente administración se rige bajo los criterios de austeridad.
A15: 2024 | B15: 45413 | C15: 45443 | D15: Personal de confianza | E15: 1 A | F15: H. CABILDO | G15: REGIDOR | H15: H. CABILDO | I15: LUIS FELIPE | J15: CASAS ALEMAN | K15: MARTINEZ | L15: Masculino | M15: 23339.2 | N15: PESO | O15: 20000 | P15: PESO | Q15: =Tabla_549551!A11 -> 8 | R15: =Tabla_549538!A9 -> 8 | S15: =Tabla_549552!A11 -> 8 | T15: =Tabla_549522!A11 -> 8 | U15: =Tabla_549542!A11 -> 8 | V15: =Tabla_549529!A11 -> 8 | W15: =Tabla_549539!A11 -> 8 | X15: =[1]Tabla_549530!A11 -> 8 | Y15: =Tabla_549531!A11 -> 8 | Z15: =Tabla_549549!A11 -> 8 | AA15: =Tabla_549553!A11 -> 8 | AB15: =Tabla_549550!A11 -> 8 | AC15: =Tabla_549554!A11 -> 8 | AD15: TESORERÍA | AE15: 45455 | AF15: 45455 | AG15: manifestarle tenga de su conocimiento que de acuerdo a la LEY DE LOS TRABAJADORES AL SERVICIO DE LAS INSTITUCIONES PÚBLICAS DEL ESTADO DE SAN LUIS POTOSI en el Título Segundo de los trabajadores Capítulo I disposiciones generales en el ARTÍCULO 12. Son trabajadores eventuales ya que están al servicio de personal subordinado, por tiempo determinados o por cantidad presupuestada por el Honorable Ayuntamiento de Venado, San Luis Potosi. y como lo indica la ley. En el CAPITULO V DE LOS SALARIOS en los artículos 38, 39, 40, 41,42 y 43 los salarios y prestaciones derivadas de la relación laboral a las que se hace acreedor el trabajador, tomando en cuenta que la presente administración se rige bajo los criterios de austeridad.
A16: 2024 | B16: 45413 | C16: 45443 | D16: Empleado | E16: 3 B | F16: AGUA POTABLE | G16: AUXILIAR DE MANTENIMIENTO DE TUBERIA | H16: AGUA POTABLE | I16: MOISES | J16: SAUCEDA | K16: BENITEZ | L16: Masculino | M16: 7467.9 | N16: PESO | O16: 7467.9 | P16: PESO | Q16: =Tabla_549551!A12 -> 9 | R16: =Tabla_549538!A10 -> 9 | S16: =Tabla_549552!A12 -> 9 | T16: =Tabla_549522!A12 -> 9 | U16: =Tabla_549542!A12 -> 9 | V16: =Tabla_549529!A12 -> 9 | W16: =Tabla_549539!A12 -> 9 | X16: =[1]Tabla_549530!A12 -> 9 | Y16: =Tabla_549531!A12 -> 9 | Z16: =Tabla_549549!A12 -> 9 | AA16: =Tabla_549553!A12 -> 9 | AB16: =Tabla_549550!A12 -> 9 | AC16: =Tabla_549554!A12 -> 9 | AD16: TESORERÍA | AE16: 45455 | AF16: 45455 | AG16: manifestarle tenga de su conocimiento que de acuerdo a la LEY DE LOS TRABAJADORES AL SERVICIO DE LAS INSTITUCIONES PÚBLICAS DEL ESTADO DE SAN LUIS POTOSI en el Título Segundo de los trabajadores Capítulo I disposiciones generales en el ARTÍCULO 12. Son trabajadores eventuales ya que están al servicio de personal subordinado, por tiempo determinados o por cantidad presupuestada por el Honorable Ayuntamiento de Venado, San Luis Potosi. y como lo indica la ley. En el CAPITULO V DE LOS SALARIOS en los artículos 38, 39, 40, 41,42 y 43 los salarios y prestaciones derivadas de la relación laboral a las que se hace acreedor el trabajador, tomando en cuenta que la presente administración se rige bajo los criterios de austeridad.
A17: 2024 | B17: 45413 | C17: 45443 | D17: Empleado | E17: 3 B | F17: AGUA POTABLE | G17: ENCARGADO DE MANTENIMIENTO DE TUBERIA | H17: AGUA POTABLE | I17: ISIDORO | J17: RUIZ | K17: RODRIGUEZ | L17: Masculino | M17: 7467.9 | N17: PESO | O17: 7467.9 | P17: PESO | Q17: =Tabla_549551!A13 -> 10 | R17: =Tabla_549538!A11 -> 10 | S17: =Tabla_549552!A13 -> 10 | T17: =Tabla_549522!A13 -> 10 | U17: =Tabla_549542!A13 -> 10 | V17: =Tabla_549529!A13 -> 10 | W17: =Tabla_549539!A13 -> 10 | X17: =[1]Tabla_549530!A13 -> 10 | Y17: =Tabla_549531!A13 -> 10 | Z17: =Tabla_549549!A13 -> 10 | AA17: =Tabla_549553!A13 -> 10 | AB17: =Tabla_549550!A13 -> 10 | AC17: =Tabla_549554!A13 -> 10 | AD17: TESORERÍA | AE17: 45455 | AF17: 45455 | AG17: manifestarle tenga de su conocimiento que de acuerdo a la LEY DE LOS TRABAJADORES AL SERVICIO DE LAS INSTITUCIONES PÚBLICAS DEL ESTADO DE SAN LUIS POTOSI en el Título Segundo de los trabajadores Capítulo I disposiciones generales en el ARTÍCULO 12. Son trabajadores eventuales ya que están al servicio de personal subordinado, por tiempo determinados o por cantidad presupuestada por el Honorable Ayuntamiento de Venado, San Luis Potosi. y como lo indica la ley. En el CAPITULO V DE LOS SALARIOS en los artículos 38, 39, 40, 41,42 y 43 los salarios y prestaciones derivadas de la relación laboral a las que se hace acreedor el trabajador, tomando en cuenta que la presente administración se rige bajo los criterios de austeridad.
A18: 2024 | B18: 45413 | C18: 45443 | D18: Empleado | E18: 3 B | F18: AGUA POTABLE | G18: NOTIFICADOR LECTURISTA | H18: AGUA POTABLE | I18: JUAN | J18: RAMOS | K18: OLVERA | L18: Masculino | M18: 9844.2 | N18: PESO | O18: 9025.3 | P18: PESO | Q18: =Tabla_549551!A14 -> 11 | R18: =Tabla_549538!A12 -> 11 | S18: =Tabla_549552!A14 -> 11 | T18: =Tabla_549522!A14 -> 11 | U18: =Tabla_549542!A14 -> 11 | V18: =Tabla_549529!A14 -> 11 | W18: =Tabla_549539!A14 -> 11 | X18: =[1]Tabla_549530!A14 -> 11 | Y18: =Tabla_549531!A14 -> 11 | Z18: =Tabla_549549!A14 -> 11 | AA18: =Tabla_549553!A14 -> 11 | AB18: =Tabla_549550!A14 -> 11 | AC18: =Tabla_549554!A14 -> 11 | AD18: TESORERÍA | AE18: 45455 | AF18: 45455 | AG18: manifestarle tenga de su conocimiento que de acuerdo a la LEY DE LOS TRABAJADORES AL SERVICIO DE LAS INSTITUCIONES PÚBLICAS DEL ESTADO DE SAN LUIS POTOSI en el Título Segundo de los trabajadores Capítulo I disposiciones generales en el ARTÍCULO 12. Son trabajadores eventuales ya que están al servicio de personal subordinado, por tiempo determinados o por cantidad presupuestada por el Honorable Ayuntamiento de Venado, San Luis Potosi. y como lo indica la ley. En el CAPITULO V DE LOS SALARIOS en los artículos 38, 39, 40, 41,42 y 43 los salarios y prestaciones derivadas de la relación laboral a las que se hace acreedor el trabajador, tomando en cuenta que la presente administración se rige bajo los criterios de austeridad.
A19: 2024 | B19: 45413 | C19: 45443 | D19: Empleado | E19: 3 B | F19: AGUA POTABLE | G19: AUXILIAR DE EQUIPO DE BOMBEO | H19: AGUA POTABLE | I19: GILBERTO | J19: CERDA | K19: MORALES | L19: Masculino | M19: 7467.9 | N19: PESO | O19: 7467.9 | P19: PESO | Q19: =Tabla_549551!A15 -> 12 | R19: =Tabla_549538!A13 -> 12 | S19: =Tabla_549552!A15 -> 12 | T19: =Tabla_549522!A15 -> 12 | U19: =Tabla_549542!A15 -> 12 | V19: =Tabla_549529!A15 -> 12 | W19: =Tabla_549539!A15 -> 12 | X19: =[1]Tabla_549530!A15 -> 12 | Y19: =Tabla_549531!A15 -> 12 | Z19: =Tabla_549549!A15 -> 12 | AA19: =Tabla_549553!A15 -> 12 | AB19: =Tabla_549550!A15 -> 12 | AC19: =Tabla_549554!A15 -> 12 | AD19: TESORERÍA | AE19: 45455 | AF19: 45455 | AG19: manifestarle tenga de su conocimiento que de acuerdo a la LEY DE LOS TRABAJADORES AL SERVICIO DE LAS INSTITUCIONES PÚBLICAS DEL ESTADO DE SAN LUIS POTOSI en el Título Segundo de los trabajadores Capítulo I disposiciones generales en el ARTÍCULO 12. Son trabajadores eventuales ya que están al servicio de personal subordinado, por tiempo determinados o por cantidad presupuestada por el Honorable Ayuntamiento de Venado, San Luis Potosi. y como lo indica la ley. En el CAPITULO V DE LOS SALARIOS en los artículos 38, 39, 40, 41,42 y 43 los salarios y prestaciones derivadas de la relación laboral a las que se hace acreedor el trabajador, tomando en cuenta que la presente administración se rige bajo los criterios de austeridad.
... A137: 2024 | B137: 45413 | C137: 45443 | D137: Personal de confianza | E137: 1 C | F137: UNIDAD DE INFORMACION | G137: TITULAR DE UNIDAD DE TRANSPARENCIA | H137: UNIDAD DE INFORMACION | I137: MA. DEL ROSARIO | J137: RIVERA | K137: PALACIOS | L137: Femenino | M137: 7467.9 | N137: PESO | O137: 7467.9 | P137: PESO | Q137: =Tabla_549551!A133 -> 130 | R137: =Tabla_549538!A131 -> 130 | S137: =Tabla_549552!A133 -> 130 | T137: =Tabla_549522!A133 -> 130 | U137: =Tabla_549542!A133 -> 130 | V137: =Tabla_549529!A133 -> 130 | W137: =Tabla_549539!A133 -> 130 | X137: =[1]Tabla_549530!A133 -> 130 | Y137: =Tabla_549531!A133 -> 130 | Z137: =Tabla_549549!A133 -> 130 | AA137: =Tabla_549553!A133 -> 130 | AB137: =Tabla_549550!A133 -> 130 | AC137: =Tabla_549554!A133 -> 130 | AD137: TESORERÍA | AE137: 45455 | AF137: 45455 | AG137: manifestarle tenga de su conocimiento que de acuerdo a la LEY DE LOS TRABAJADORES AL SERVICIO DE LAS INSTITUCIONES PÚBLICAS DEL ESTADO DE SAN LUIS POTOSI en el Título Segundo de los trabajadores Capítulo I disposiciones generales en el ARTÍCULO 12. Son trabajadores eventuales ya que están al servicio de personal subordinado, por tiempo determinados o por cantidad presupuestada por el Honorable Ayuntamiento de Venado, San Luis Potosi. y como lo indica la ley. En el CAPITULO V DE LOS SALARIOS en los artículos 38, 39, 40, 41,42 y 43 los salarios y prestaciones derivadas de la relación laboral a las que se hace acreedor el trabajador, tomando en cuenta que la presente administración se rige bajo los criterios de austeridad.

Sheet Hidden_1
A1: Funcionario
A2: Servidor(a) público(a)
A3: Servidor[a] público[a] eventual
A4: Integrante
A5: Empleado
A6: Representante popular
A7: Miembro del poder judicial
A8: Miembro de órgano autónomo
A9: Personal de confianza
A10: Prestador de servicios profesionales
A11: Otro

Sheet Hidden_2
A1: Femenino
A2: Masculino

Sheet Tabla_549551
B1: 2 | C1: 6 | D1: 6 | E1: 1 | F1: 1
B2: 70050 | C2: 70051 | D2: 70052 | E2: 70053 | F2: 70054
A3: ID | B3: Denominación de las percepciones adicionales en dinero | C3: Monto bruto de las percepciones adicionales en dinero | D3: Monto neto de las percepciones adicionales en dinero | E3: Tipo de moneda de las percepciones adicionales en dinero | F3: Periodicidad de las percepciones adicionales en dinero
A4: 1 | B4: NO GENERADO | C4: 0 | D4: 0 | E4: PESO | F4: QUINCENAL
A5: 2 | B5: NO GENERADO | C5: 0 | D5: 0 | E5: PESO | F5: QUINCENAL
A6: 3 | B6: NO GENERADO | C6: 0 | D6: 0 | E6: PESO | F6: QUINCENAL
A7: 4 | B7: NO GENERADO | C7: 0 | D7: 0 | E7: PESO | F7: QUINCENAL
A8: 5 | B8: NO GENERADO | C8: 0 | D8: 0 | E8: PESO | F8: QUINCENAL
A9: 6 | B9: NO GENERADO | C9: 0 | D9: 0 | E9: PESO | F9: QUINCENAL
A10: 7 | B10: NO GENERADO | C10: 0 | D10: 0 | E10: PESO | F10: QUINCENAL
A11: 8 | B11: NO GENERADO | C11: 0 | D11: 0 | E11: PESO | F11: QUINCENAL
A12: 9 | B12: NO GENERADO | C12: 0 | D12: 0 | E12: PESO | F12: QUINCENAL
A13: 10 | B13: NO GENERADO | C13: 0 | D13: 0 | E13: PESO | F13: QUINCENAL
A14: 11 | B14: NO GENERADO | C14: 0 | D14: 0 | E14: PESO | F14: QUINCENAL
A15: 12 | B15: NO GENERADO | C15: 0 | D15: 0 | E15: PESO | F15: QUINCENAL
... A133: 130 | B133: NO GENERADO | C133: 0 | D133: 0 | E133: PESO | F133: QUINCENAL

Sheet Tabla_549538
A1: ID | B1: Descripción de las percepciones adicionales en especie | C1: Periodicidad de las percepciones adicionales en especie
A2: 1 | B2: NO GENERA | C2: NO GENERA
A3: 2 | B3: NO GENERA | C3: NO GENERA
A4: 3 | B4: NO GENERA | C4: NO GENERA
A5: 4 | B5: NO GENERA | C5: NO GENERA
A6: 5 | B6: NO GENERA | C6: NO GENERA
A7: 6 | B7: NO GENERA | C7: NO GENERA
A8: 7 | B8: NO GENERA | C8: NO GENERA
A9: 8 | B9: NO GENERA | C9: NO GENERA
A10: 9 | B10: NO GENERA | C10: NO GENERA
A11: 10 | B11: NO GENERA | C11: NO GENERA
A12: 11 | B12: NO GENERA | C12: NO GENERA
A13: 12 | B13: NO GENERA | C13: NO GENERA
... A131: 130 | B131: NO GENERA | C131: NO GENERA

Sheet Tabla_549552
B1: 2 | C1: 6 | D1: 6 | E1: 1 | F1: 1
B2: 70057 | C2: 70058 | D2: 70059 | E2: 70055 | F2: 70056
A3: ID | B3: Denominación de los ingresos | C3: Monto bruto de los ingresos | D3: Monto neto de los ingresos | E3: Tipo de moneda de los ingresos | F3: Periodicidad de los ingresos
A4: 1 | B4: SALARIO | C4: 50403.36 | D4: 40742.56 | E4: PESO | F4: MENSUAL
A5: 2 | B5: SALARIO | C5: 23339.2 | D5: 20000 | E5: PESO | F5: MENSUAL
A6: 3 | B6: SALARIO | C6: 23339.2 | D6: 20000 | E6: PESO | F6: MENSUAL
A7: 4 | B7: SALARIO | C7: 23339.2 | D7: 20000 | E7: PESO | F7: MENSUAL
A8: 5 | B8: SALARIO | C8: 23339.2 | D8: 20000 | E8: PESO | F8: MENSUAL
A9: 6 | B9: SALARIO | C9: 23339.2 | D9: 20000 | E9: PESO | F9: MENSUAL
A10: 7 | B10: SALARIO | C10: 23339.2 | D10: 20000 | E10: PESO | F10: MENSUAL
A11: 8 | B11: SALARIO | C11: 23339.2 | D11: 20000 | E11: PESO | F11: MENSUAL
A12: 9 | B12: SALARIO | C12: 7467.9 | D12: 7467.9 | E12: PESO | F12: MENSUAL
A13: 10 | B13: SALARIO | C13: 7467.9 | D13: 7467.9 | E13: PESO | F13: MENSUAL
A14: 11 | B14: SALARIO | C14: 9844.2 | D14: 9025.3 | E14: PESO | F14: MENSUAL
A15: 12 | B15: SALARIO | C15: 7467.9 | D15: 7467.9 | E15: PESO | F15: MENSUAL
... A133: 130 | B133: SALARIO | C133: 7467.9 | D133: 7467.9 | E133: PESO | F133: MENSUAL

Sheet Tabla_549522
B1: 1 | C1: 6 | D1: 6 | E1: 1 | F1: 1
B2: 70008 | C2: 70009 | D2: 70010 | E2: 70011 | F2: 70012
A3: ID | B3: Denominación de los sistemas de compensación | C3: Monto bruto de los sistemas de compensación | D3: Monto neto de los sistemas de compensación | E3: Tipo de moneda de los sistemas de compensación | F3: Periodicidad de los sistemas de compensación
A4: 1 | B4: COMPENSACION | C4: 0 | D4: 0 | E4: PESO | F4: QUINCENAL
A5: 2 | B5: COMPENSACION | C5: 0 | D5: 0 | E5: PESO | F5: QUINCENAL
A6: 3 | B6: COMPENSACION | C6: 0 | D6: 0 | E6: PESO | F6: QUINCENAL
A7: 4 | B7: COMPENSACION | C7: 0 | D7: 0 | E7: PESO | F7: QUINCENAL
A8: 5 | B8: COMPENSACION | C8: 0 | D8: 0 | E8: PESO | F8: QUINCENAL
A9: 6 | B9: COMPENSACION | C9: 0 | D9: 0 | E9: PESO | F9: QUINCENAL
A10: 7 | B10: COMPENSACION | C10: 0 | D10: 0 | E10: PESO | F10: QUINCENAL
A11: 8 | B11: COMPENSACION | C11: 0 | D11: 0 | E11: PESO | F11: QUINCENAL
A12: 9 | B12: COMPENSACION | C12: 0 | D12: 0 | E12: PESO | F12: QUINCENAL
A13: 10 | B13: COMPENSACION | C13: 0 | D13: 0 | E13: PESO | F13: QUINCENAL
A14: 11 | B14: COMPENSACION | C14: 0 | D14: 0 | E14: PESO | F14: QUINCENAL
A15: 12 | B15: COMPENSACION | C15: 0 | D15: 0 | E15: PESO | F15: QUINCENAL
... A133: 130 | B133: COMPENSACION | C133: 0 | D133: 0 | E133: PESO | F133: QUINCENAL

Sheet Tabla_549542
B1: 1 | C1: 6 | D1: 6 | E1: 1 | F1: 1
B2: 70035 | C2: 70036 | D2: 70037 | E2: 70038 | F2: 70039
A3: ID | B3: Denominación de las gratificaciones | C3: Monto bruto de las gratificaciones | D3: Monto neto de las gratificaciones | E3: Tipo de moneda de las gratificaciones | F3: Periodicidad de las gratificaciones
A4: 1 | B4: NO GENERADO | C4: 0 | D4: 0 | E4: PESO | F4: NO GENERADO
A5: 2 | B5: NO GENERADO | C5: 0 | D5: 0 | E5: PESO | F5: NO GENERADO
A6: 3 | B6: NO GENERADO | C6: 0 | D6: 0 | E6: PESO | F6: NO GENERADO
A7: 4 | B7: NO GENERADO | C7: 0 | D7: 0 | E7: PESO | F7: NO GENERADO
A8: 5 | B8: NO GENERADO | C8: 0 | D8: 0 | E8: PESO | F8: NO GENERADO
A9: 6 | B9: NO GENERADO | C9: 0 | D9: 0 | E9: PESO | F9: NO GENERADO
A10: 7 | B10: NO GENERADO | C10: 0 | D10: 0 | E10: PESO | F10: NO GENERADO
A11: 8 | B11: NO GENERADO | C11: 0 | D11: 0 | E11: PESO | F11: NO GENERADO
A12: 9 | B12: NO GENERADO | C12: 0 | D12: 0 | E12: PESO | F12: NO GENERADO
A13: 10 | B13: NO GENERADO | C13: 0 | D13: 0 | E13: PESO | F13: NO GENERADO
A14: 11 | B14: NO GENERADO | C14: 0 | D14: 0 | E14: PESO | F14: NO GENERADO
A15: 12 | B15: NO GENERADO | C15: 0 | D15: 0 | E15: PESO | F15: NO GENERADO
... A133: 130 | B133: NO GENERADO | C133: 0 | D133: 0 | E133: PESO | F133: NO GENERADO

Sheet Tabla_549529
B1: 1 | C1: 6 | D1: 6 | E1: 1 | F1: 1
B2: 70013 | C2: 70014 | D2: 70015 | E2: 70016 | F2: 70017
A3: ID | B3: Denominación de las primas | C3: Monto bruto de las primas | D3: Monto neto de las primas | E3: Tipo de moneda de las primas | F3: Periodicidad de las primas
A4: 1 | B4: PRIMA VACACIONAL | C4: 0 | D4: 0 | E4: PESO | F4: SEMESTRAL
A5: 2 | B5: PRIMA VACACIONAL | C5: 0 | D5: 0 | E5: PESO | F5: SEMESTRAL
A6: 3 | B6: PRIMA VACACIONAL | C6: 0 | D6: 0 | E6: PESO | F6: SEMESTRAL
A7: 4 | B7: PRIMA VACACIONAL | C7: 0 | D7: 0 | E7: PESO | F7: SEMESTRAL
A8: 5 | B8: PRIMA VACACIONAL | C8: 0 | D8: 0 | E8: PESO | F8: SEMESTRAL
A9: 6 | B9: PRIMA VACACIONAL | C9: 0 | D9: 0 | E9: PESO | F9: SEMESTRAL
A10: 7 | B10: PRIMA VACACIONAL | C10: 0 | D10: 0 | E10: PESO | F10: SEMESTRAL
A11: 8 | B11: PRIMA VACACIONAL | C11: 0 | D11: 0 | E11: PESO | F11: SEMESTRAL
A12: 9 | B12: PRIMA VACACIONAL | C12: 0 | D12: 0 | E12: PESO | F12: SEMESTRAL
A13: 10 | B13: PRIMA VACACIONAL | C13: 2489.3 | D13: 1493.58 | E13: PESO | F13: SEMESTRAL
A14: 11 | B14: PRIMA VACACIONAL | C14: 0 | D14: 0 | E14: PESO | F14: SEMESTRAL
A15: 12 | B15: PRIMA VACACIONAL | C15: 0 | D15: 0 | E15: PESO | F15: SEMESTRAL
... A19: 16 | B19: PRIMA VACACIONAL | C19: 0 | D19: 0 | E19: PESO | F19: SEMESTRAL
A20: 17 | B20: PRIMA VACACIONAL | C20: 0 | D20: 0 | E20: PESO | F20: SEMESTRAL | H20: .
A21: 18 | B21: PRIMA VACACIONAL | C21: 0 | D21: 0 | E21: PESO | F21: SEMESTRAL
A22: 19 | B22: PRIMA VACACIONAL | C22: 0 | D22: 0 | E22: PESO | F22: SEMESTRAL
A23: 20 | B23: PRIMA VACACIONAL | C23: 0 | D23: 0 | E23: PESO | F23: SEMESTRAL
A24: 21 | B24: PRIMA VACACIONAL | C24: 0 | D24: 0 | E24: PESO | F24: SEMESTRAL
A25: 22 | B25: PRIMA VACACIONAL | C25: 0 | D25: 0 | E25: PESO | F25: SEMESTRAL
A26: 23 | B26: PRIMA VACACIONAL | C26: 0 | D26: 0 | E26: PESO | F26: SEMESTRAL
A27: 24 | B27: PRIMA VACACIONAL | C27: 0 | D27: 0 | E27: PESO | F27: SEMESTRAL
A28: 25 | B28: PRIMA VACACIONAL | C28: 0 | D28: 0 | E28: PESO | F28: SEMESTRAL
A29: 26 | B29: PRIMA VACACIONAL | C29: 0 | D29: 0 | E29: PESO | F29: SEMESTRAL
A30: 27 | B30: PRIMA VACACIONAL | C30: 0 | D30: 0 | E30: PESO | F30: SEMESTRAL
A31: 28 | B31: PRIMA VACACIONAL | C31: 4482.7 | D31: 2689.62 | E31: PESO | F31: SEMESTRAL
A32: 29 | B32: PRIMA VACACIONAL | C32: 0 | D32: 0 | E32: PESO | F32: SEMESTRAL
... A133: 130 | B133: PRIMA VACACIONAL | C133: 0 | D133: 0 | E133: PESO | F133: SEMESTRAL
H134: nn

Sheet Tabla_549539
B1: 1 | C1: 6 | D1: 6 | E1: 1 | F1: 1
B2: 70030 | C2: 70031 | D2: 70032 | E2: 70033 | F2: 70034
A3: ID | B3: Denominación de las comisiones | C3: Monto bruto de las comisiones | D3: Monto neto de las comisiones | E3: Tipo de moneda de las comisiones | F3: Periodicidad de las comisiones
A4: 1 | B4: NO GENERA | C4: 0 | D4: 0 | E4: PESO | F4: NO GENERA
A5: 2 | B5: NO GENERA | C5: 0 | D5: 0 | E5: PESO | F5: NO GENERA
A6: 3 | B6: NO GENERA | C6: 0 | D6: 0 | E6: PESO | F6: NO GENERA
A7: 4 | B7: NO GENERA | C7: 0 | D7: 0 | E7: PESO | F7: NO GENERA
A8: 5 | B8: NO GENERA | C8: 0 | D8: 0 | E8: PESO | F8: NO GENERA
A9: 6 | B9: NO GENERA | C9: 0 | D9: 0 | E9: PESO | F9: NO GENERA
A10: 7 | B10: NO GENERA | C10: 0 | D10: 0 | E10: PESO | F10: NO GENERA
A11: 8 | B11: NO GENERA | C11: 0 | D11: 0 | E11: PESO | F11: NO GENERA
A12: 9 | B12: NO GENERA | C12: 0 | D12: 0 | E12: PESO | F12: NO GENERA
A13: 10 | B13: NO GENERA | C13: 0 | D13: 0 | E13: PESO | F13: NO GENERA
A14: 11 | B14: NO GENERA | C14: 0 | D14: 0 | E14: PESO | F14: NO GENERA
A15: 12 | B15: NO GENERA | C15: 0 | D15: 0 | E15: PESO | F15: NO GENERA
... A133: 130 | B133: NO GENERA | C133: 0 | D133: 0 | E133: PESO | F133: NO GENERA

Sheet Tabla_549531
B1: 1 | C1: 6 | D1: 6 | E1: 1 | F1: 1
B2: 70023 | C2: 70024 | D2: 70025 | E2: 70026 | F2: 70027
A3: ID | B3: Denominación de los bonos | C3: Monto bruto de los bonos | D3: Monto neto de los bonos | E3: Tipo de moneda de los bonos | F3: Periodicidad de los bonos
A4: 1 | B4: NO GENERA | C4: 0 | D4: 0 | E4: PESO | F4: NO GENERA
A5: 2 | B5: NO GENERA | C5: 0 | D5: 0 | E5: PESO | F5: NO GENERA
A6: 3 | B6: NO GENERA | C6: 0 | D6: 0 | E6: PESO | F6: NO GENERA
A7: 4 | B7: NO GENERA | C7: 0 | D7: 0 | E7: PESO | F7: NO GENERA
A8: 5 | B8: NO GENERA | C8: 0 | D8: 0 | E8: PESO | F8: NO GENERA
A9: 6 | B9: NO GENERA | C9: 0 | D9: 0 | E9: PESO | F9: NO GENERA
A10: 7 | B10: NO GENERA | C10: 0 | D10: 0 | E10: PESO | F10: NO GENERA
A11: 8 | B11: NO GENERA | C11: 0 | D11: 0 | E11: PESO | F11: NO GENERA
A12: 9 | B12: NO GENERA | C12: 0 | D12: 0 | E12: PESO | F12: NO GENERA
A13: 10 | B13: NO GENERA | C13: 0 | D13: 0 | E13: PESO | F13: NO GENERA
A14: 11 | B14: NO GENERA | C14: 0 | D14: 0 | E14: PESO | F14: NO GENERA
A15: 12 | B15: NO GENERA | C15: 0 | D15: 0 | E15: PESO | F15: NO GENERA
... A133: 130 | B133: NO GENERA | C133: 0 | D133: 0 | E133: PESO | F133: NO GENERA

Sheet Tabla_549549
B1: 1 | C1: 6 | D1: 6 | E1: 1 | F1: 1
B2: 70040 | C2: 70041 | D2: 70042 | E2: 70043 | F2: 70044
A3: ID | B3: Denominación de los estímulos | C3: Monto bruto de los estímulos | D3: Monto neto de los estímulos | E3: Tipo de moneda de los estímulos | F3: Periodicidad de los estímulos
A4: 1 | B4: NO GENERA | C4: 0 | D4: 0 | E4: PESO | F4: NO GENERA
A5: 2 | B5: NO GENERA | C5: 0 | D5: 0 | E5: PESO | F5: NO GENERA
A6: 3 | B6: NO GENERA | C6: 0 | D6: 0 | E6: PESO | F6: NO GENERA
A7: 4 | B7: NO GENERA | C7: 0 | D7: 0 | E7: PESO | F7: NO GENERA
A8: 5 | B8: NO GENERA | C8: 0 | D8: 0 | E8: PESO | F8: NO GENERA
A9: 6 | B9: NO GENERA | C9: 0 | D9: 0 | E9: PESO | F9: NO GENERA
A10: 7 | B10: NO GENERA | C10: 0 | D10: 0 | E10: PESO | F10: NO GENERA
A11: 8 | B11: NO GENERA | C11: 0 | D11: 0 | E11: PESO | F11: NO GENERA
A12: 9 | B12: NO GENERA | C12: 0 | D12: 0 | E12: PESO | F12: NO GENERA
A13: 10 | B13: NO GENERA | C13: 0 | D13: 0 | E13: PESO | F13: NO GENERA
A14: 11 | B14: NO GENERA | C14: 0 | D14: 0 | E14: PESO | F14: NO GENERA
A15: 12 | B15: NO GENERA | C15: 0 | D15: 0 | E15: PESO | F15: NO GENERA
... A133: 130 | B133: NO GENERA | C133: 0 | D133: 0 | E133: PESO | F133: NO GENERA

Sheet Tabla_549553
B1: 1 | C1: 6 | D1: 6 | E1: 1 | F1: 1
B2: 70060 | C2: 70061 | D2: 70062 | E2: 70063 | F2: 70064
A3: ID | B3: Denominación de los apoyos económicos | C3: Monto bruto de los apoyos económicos | D3: Monto neto de los apoyos económicos | E3: Tipo de moneda de los apoyos económicos | F3: Periodicidad de los apoyos económicos
A4: 1 | B4: NO GENERA | C4: 0 | D4: 0 | E4: PESO | F4: NO GENERA
A5: 2 | B5: NO GENERA | C5: 0 | D5: 0 | E5: PESO | F5: NO GENERA
A6: 3 | B6: NO GENERA | C6: 0 | D6: 0 | E6: PESO | F6: NO GENERA
A7: 4 | B7: NO GENERA | C7: 0 | D7: 0 | E7: PESO | F7: NO GENERA
A8: 5 | B8: NO GENERA | C8: 0 | D8: 0 | E8: PESO | F8: NO GENERA
A9: 6 | B9: NO GENERA | C9: 0 | D9: 0 | E9: PESO | F9: NO GENERA
A10: 7 | B10: NO GENERA | C10: 0 | D10: 0 | E10: PESO | F10: NO GENERA
A11: 8 | B11: NO GENERA | C11: 0 | D11: 0 | E11: PESO | F11: NO GENERA
A12: 9 | B12: NO GENERA | C12: 0 | D12: 0 | E12: PESO | F12: NO GENERA
A13: 10 | B13: NO GENERA | C13: 0 | D13: 0 | E13: PESO | F13: NO GENERA
A14: 11 | B14: NO GENERA | C14: 0 | D14: 0 | E14: PESO | F14: NO GENERA
A15: 12 | B15: NO GENERA | C15: 0 | D15: 0 | E15: PESO | F15: NO GENERA
... A133: 130 | B133: NO GENERA | C133: 0 | D133: 0 | E133: PESO | F133: NO GENERA

Sheet Tabla_549550
B1: 1 | C1: 6 | D1: 6 | E1: 1 | F1: 1
B2: 70045 | C2: 70046 | D2: 70047 | E2: 70048 | F2: 70049
A3: ID | B3: Denominación de las prestaciones económicas | C3: Monto bruto de las prestaciones económicas | D3: Monto neto de las prestaciones económicas | E3: Tipo de moneda de las prestaciones económicas | F3: Periodicidad de las prestaciones económicas
A4: 1 | B4: AGUINALDO | C4: 0 | D4: 0 | E4: PESO | F4: ANUAL
A5: 2 | B5: AGUINALDO | C5: 0 | D5: 0 | E5: PESO | F5: ANUAL
A6: 3 | B6: AGUINALDO | C6: 0 | D6: 0 | E6: PESO | F6: ANUAL
A7: 4 | B7: AGUINALDO | C7: 0 | D7: 0 | E7: PESO | F7: ANUAL
A8: 5 | B8: AGUINALDO | C8: 0 | D8: 0 | E8: PESO | F8: ANUAL
A9: 6 | B9: AGUINALDO | C9: 0 | D9: 0 | E9: PESO | F9: ANUAL
A10: 7 | B10: AGUINALDO | C10: 0 | D10: 0 | E10: PESO | F10: ANUAL
A11: 8 | B11: AGUINALDO | C11: 0 | D11: 0 | E11: PESO | F11: ANUAL
A12: 9 | B12: AGUINALDO | C12: 0 | D12: 0 | E12: PESO | F12: ANUAL
A13: 10 | B13: AGUINALDO | C13: 0 | D13: 0 | E13: PESO | F13: ANUAL
A14: 11 | B14: AGUINALDO | C14: 0 | D14: 0 | E14: PESO | F14: ANUAL
A15: 12 | B15: AGUINALDO | C15: 0 | D15: 0 | E15: PESO | F15: ANUAL
... A133: 130 | B133: AGUINALDO | C133: 0 | D133: 0 | E133: PESO | F133: ANUAL

Sheet Tabla_549554
B1: 1 | C1: 1
B2: 70065 | C2: 70066
A3: ID | B3: Descripción de las prestaciones en especie | C3: Periodicidad de las prestaciones en especie
A4: 1 | B4: NO GENERA | C4: NO GENERA
A5: 2 | B5: NO GENERA | C5: NO GENERA
A6: 3 | B6: NO GENERA | C6: NO GENERA
A7: 4 | B7: NO GENERA | C7: NO GENERA
A8: 5 | B8: NO GENERA | C8: NO GENERA
A9: 6 | B9: NO GENERA | C9: NO GENERA
A10: 7 | B10: NO GENERA | C10: NO GENERA
A11: 8 | B11: NO GENERA | C11: NO GENERA
A12: 9 | B12: NO GENERA | C12: NO GENERA
A13: 10 | B13: NO GENERA | C13: NO GENERA
A14: 11 | B14: NO GENERA | C14: NO GENERA
A15: 12 | B15: NO GENERA | C15: NO GENERA
... A133: 130 | B133: NO GENERA | C133: NO GENERA

Sheet Tabla_549530
B1: 1 | C1: 6 | D1: 6 | E1: 1 | F1: 1
B2: 70018 | C2: 70019 | D2: 70020 | E2: 70021 | F2: 70022
A3: ID | B3: Denominación de las dietas | C3: Monto bruto de las dietas | D3: Monto neto de las dietas | E3: Tipo de moneda de las dietas | F3: Periodicidad de las dietas
A4: 1 | B4: DIETAS | C4: 50403.36 | D4: 40742.56 | E4: PESO | F4: MENSUAL
A5: 2 | B5: DIETAS | C5: 23339.2 | D5: 20000 | E5: PESO | F5: MENSUAL
A6: 3 | B6: DIETAS | C6: 23339.2 | D6: 20000 | E6: PESO | F6: MENSUAL
A7: 4 | B7: DIETAS | C7: 23339.2 | D7: 20000 | E7: PESO | F7: MENSUAL
A8: 5 | B8: DIETAS | C8: 23339.2 | D8: 20000 | E8: PESO | F8: MENSUAL
A9: 6 | B9: DIETAS | C9: 23339.2 | D9: 20000 | E9: PESO | F9: MENSUAL
A10: 7 | B10: DIETAS | C10: 23339.2 | D10: 20000 | E10: PESO | F10: MENSUAL
A11: 8 | B11: DIETAS | C11: 23339.2 | D11: 20000 | E11: PESO | F11: MENSUAL
A12: 9 | B12: DIETAS | C12: 0 | D12: 0 | E12: PESO | F12: MENSUAL
A13: 10 | B13: DIETAS | C13: 0 | D13: 0 | E13: PESO | F13: MENSUAL
A14: 11 | B14: DIETAS | C14: 0 | D14: 0 | E14: PESO | F14: MENSUAL
A15: 12 | B15: DIETAS | C15: 0 | D15: 0 | E15: PESO | F15: MENSUAL
... A133: 130 | B133: DIETAS | C133: 0 | D133: 0 | E133: PESO | F133: MENSUAL

Sheet Hoja2

Sheet Hoja3

Sheet Hoja4
