Workbook
Name Hidden_13: Hidden_1!$A$1:$A$11
Name Hidden_211: Hidden_2!$A$1:$A$2

Sheet Reporte de Formatos
A1: 56156
A2: TÍTULO | D2: NOMBRE CORTO | G2: DESCRIPCIÓN
A3: Remuneración bruta y neta | D3: LTAIPSLP84XI | G3: La información relativa a la remuneración bruta y neta de todos los miembros del sujeto obligado de acuerdo con los tabuladores de sueldos y salarios, todas las percepciones en efectivo o en especie, sueldos, prestaciones, gratificaciones, primas, comisiones, dietas, bonos, estímulos, apoyos económicos, ingresos sistemas de compensación, entre otros.
A4: 1 | B4: 4 | C4: 4 | D4: 9 | E4: 1 | F4: 2 | G4: 2 | H4: 2 | I4: 1 | J4: 1 | K4: 1 | L4: 9 | M4: 6 | N4: 1 | O4: 6 | P4: 1 | Q4: 10 | R4: 10 | S4: 10 | T4: 10 | U4: 10 | V4: 10 | W4: 10 | X4: 10 | Y4: 10 | Z4: 10 | AA4: 10 | AB4: 10 | AC4: 10 | AD4: 2 | AE4: 4 | AF4: 13 | AG4: 14
A5: 549532 | B5: 549544 | C5: 549524 | D5: 549545 | E5: 549546 | F5: 549527 | G5: 549533 | H5: 549534 | I5: 549535 | J5: 549528 | K5: 549525 | L5: 549536 | M5: 549547 | N5: 549548 | O5: 549537 | P5: 549526 | Q5: 549551 | R5: 549538 | S5: 549552 | T5: 549522 | U5: 549542 | V5: 549529 | W5: 549539 | X5: 549530 | Y5: 549531 | Z5: 549549 | AA5: 549553 | AB5: 549550 | AC5: 549554 | AD5: 549540 | AE5: 549541 | AF5: 549543 | AG5: 549523
A6: Tabla Campos
A7: Ejercicio | B7: Fecha de inicio del periodo que se informa | C7: Fecha de término del periodo que se informa | D7: Tipo de integrante del sujeto obligado (catálogo) | E7: Clave o nivel del puesto | F7: Denominación o descripción del puesto | G7: Denominación del cargo | H7: Área de adscripción | I7: Nombre (s) | J7: Primer apellido | K7: Segundo apellido | L7: Sexo (catálogo) | M7: Monto de la remuneración bruta, de conformidad al Tabulador de sueldos y salarios que corresponda | N7: Tipo de moneda de la remuneración bruta | O7: Monto de la remuneración neta, de conformidad al Tabulador de sueldos y salarios que corresponda | P7: Tipo de moneda de la remuneración neta | Q7: Percepciones adicionales en dinero, Monto bruto y neto, tipo de moneda y su periodicidad Tabla_549551 | R7: Percepciones adicionales en especie y su periodicidad Tabla_549538 | S7: Ingresos, monto bruto y neto, tipo de moneda y su periodicidad Tabla_549552 | T7: Sistemas de compensación, monto bruto y neto, tipo de moneda y su periodicidad Tabla_549522 | U7: Gratificaciones, monto bruto y neto, tipo de moneda y su periodicidad Tabla_549542 | V7: Primas, monto bruto y neto, tipo de moneda y su periodicidad Tabla_549529 | W7: Comisiones, monto bruto y neto, tipo de moneda y su periodicidad Tabla_549539 | X7: Dietas, monto bruto y neto, tipo de moneda y su periodicidad Tabla_549530 | Y7: Bonos, monto bruto y neto, tipo de moneda y su periodicidad Tabla_549531 | Z7: Estímulos, monto bruto y neto, tipo de moneda y su periodicidad Tabla_549549 | AA7: Apoyos económicos, monto bruto y neto, tipo de moneda y su periodicidad Tabla_549553 | AB7: Prestaciones económicas, monto bruto y neto, tipo de moneda y su periodicidad Tabla_549550 | AC7: Prestaciones en especie y su periodicidad Tabla_549554 | AD7: Área(s) responsable(s) que genera(n), posee(n), publica(n) y actualizan la información | AE7: Fecha de validación | AF7: Fecha de Actualización | AG7: Nota
A8: 2022 | B8: 44713 | C8: 44742 | D8: Servidor(a) público(a) | E8: 1 A | F8: DIRECTOR GENERAL | G8: DIRECTOR GENERAL | H8: ADMINISTRATIVA | I8: JOSÉ MANUEL | J8: RODRÍGUEZ | K8: COLUNGA | L8: Masculino | M8: 20000 | N8: Peso Mexicano | O8: 20000 | P8: Peso Mexicano | Q8: =Tabla_549551!A4 -> 1 | R8: 17 | S8: 33 | T8: =[1]Tabla_549522!A4 -> 49 | U8: =[1]Tabla_549542!A4 -> 65 | V8: =[1]Tabla_549529!A4 -> 81 | W8: =[1]Tabla_549539!A4 -> 97 | X8: =[1]Tabla_549530!A4 -> 113 | Y8: =[1]Tabla_549531!A4 -> 129 | Z8: =[1]Tabla_549549!A4 -> 145 | AA8: =[1]Tabla_549553!A4 -> 161 | AB8: =[1]Tabla_549550!A4 -> 177 | AC8: =[1]Tabla_549554!A4 -> 193 | AD8: Dirección Administrativa | AE8: 44748 | AF8: 44748 | AG8: INFORMACIÓN CORRESPONDIENTE AL MES DE JUNIO DE 2022
A9: 2022 | B9: 44713 | C9: 44742 | D9: Servidor(a) público(a) | E9: 2 B | F9: DIRECCIÓN ADMINISTRATIVA Y COORD. ARCHIVO | G9: =F9 -> DIRECCIÓN ADMINISTRATIVA Y COORD. ARCHIVO | H9: ADMINISTRATIVA | I9: PERLA GUADALUPE | J9: GOVEA | K9: HERNÁNDEZ | L9: Femenino | M9: 14000 | N9: Peso Mexicano | O9: 14000 | P9: Peso Mexicano | Q9: =Tabla_549551!A5 -> 2 | R9: 18 | S9: 34 | T9: =[1]Tabla_549522!A5 -> 50 | U9: =[1]Tabla_549542!A5 -> 66 | V9: =[1]Tabla_549529!A5 -> 82 | W9: =[1]Tabla_549539!A5 -> 98 | X9: =[1]Tabla_549530!A5 -> 114 | Y9: =[1]Tabla_549531!A5 -> 130 | Z9: =[1]Tabla_549549!A5 -> 146 | AA9: =[1]Tabla_549553!A5 -> 162 | AB9: =[1]Tabla_549550!A5 -> 178 | AC9: =[1]Tabla_549554!A5 -> 194 | AD9: Dirección Administrativa | AE9: 44748 | AF9: 44748 | AG9: INFORMACIÓN CORRESPONDIENTE AL MES DE JUNIO DE 2022
A10: 2022 | B10: 44713 | C10: 44742 | D10: Servidor(a) público(a) | E10: 2 B | F10: ENCARGADO OPERATIVO DE ALMACÉN E INVENTARIOS | G10: =F10 -> ENCARGADO OPERATIVO DE ALMACÉN E INVENTARIOS | H10: OPERATIVA | I10: DIEGO SINUHÉ | J10: HERNÁNDEZ | K10: NIETO | L10: Masculino | M10: 8000 | N10: Peso Mexicano | O10: 8000 | P10: Peso Mexicano | Q10: =Tabla_549551!A6 -> 3 | R10: 19 | S10: 35 | T10: =[1]Tabla_549522!A6 -> 51 | U10: =[1]Tabla_549542!A6 -> 67 | V10: =[1]Tabla_549529!A6 -> 83 | W10: =[1]Tabla_549539!A6 -> 99 | X10: =[1]Tabla_549530!A6 -> 115 | Y10: =[1]Tabla_549531!A6 -> 131 | Z10: =[1]Tabla_549549!A6 -> 147 | AA10: =[1]Tabla_549553!A6 -> 163 | AB10: =[1]Tabla_549550!A6 -> 179 | AC10: =[1]Tabla_549554!A6 -> 195 | AD10: Dirección Administrativa | AE10: 44748 | AF10: 44748 | AG10: INFORMACIÓN CORRESPONDIENTE AL MES DE JUNIO DE 2022
A11: 2022 | B11: 44713 | C11: 44742 | D11: Servidor(a) público(a) | E11: 3 C | F11: ENCARGADA DE SISTEMA COMERCIAL | G11: =F11 -> ENCARGADA DE SISTEMA COMERCIAL | H11: ADMINISTRATIVA | I11: MARÍA EDHIT | J11: LUNA | K11: RESÉNDIZ | L11: Femenino | M11: 9600 | N11: Peso Mexicano | O11: 9600 | P11: Peso Mexicano | Q11: =Tabla_549551!A7 -> 4 | R11: 20 | S11: 36 | T11: =[1]Tabla_549522!A7 -> 52 | U11: =[1]Tabla_549542!A7 -> 68 | V11: =[1]Tabla_549529!A7 -> 84 | W11: =[1]Tabla_549539!A7 -> 100 | X11: =[1]Tabla_549530!A7 -> 116 | Y11: =[1]Tabla_549531!A7 -> 132 | Z11: =[1]Tabla_549549!A7 -> 148 | AA11: =[1]Tabla_549553!A7 -> 164 | AB11: =[1]Tabla_549550!A7 -> 180 | AC11: =[1]Tabla_549554!A7 -> 196 | AD11: Dirección Administrativa | AE11: 44748 | AF11: 44748 | AG11: INFORMACIÓN CORRESPONDIENTE AL MES DE JUNIO DE 2022
A12: 2022 | B12: 44713 | C12: 44742 | D12: Servidor(a) público(a) | E12: 3 C | F12: CAJERA | G12: =F12 -> CAJERA | H12: ADMINISTRATIVA | I12: LUCERO | J12: MONTOYA | K12: VELÁZQUEZ | L12: Femenino | M12: 6500 | N12: Peso Mexicano | O12: 6500 | P12: Peso Mexicano | Q12: =Tabla_549551!A8 -> 5 | R12: 21 | S12: 37 | T12: =[1]Tabla_549522!A8 -> 53 | U12: =[1]Tabla_549542!A8 -> 69 | V12: =[1]Tabla_549529!A8 -> 85 | W12: =[1]Tabla_549539!A8 -> 101 | X12: =[1]Tabla_549530!A8 -> 117 | Y12: =[1]Tabla_549531!A8 -> 133 | Z12: =[1]Tabla_549549!A8 -> 149 | AA12: =[1]Tabla_549553!A8 -> 165 | AB12: =[1]Tabla_549550!A8 -> 181 | AC12: =[1]Tabla_549554!A8 -> 197 | AD12: Dirección Administrativa | AE12: 44748 | AF12: 44748 | AG12: INFORMACIÓN CORRESPONDIENTE AL MES DE JUNIO DE 2022
A13: 2022 | B13: 44713 | C13: 44742 | D13: Servidor(a) público(a) | E13: 3 C | F13: ENCARGADO DE POZOS Y AUXILIAR LECTURISTA | G13: =F13 -> ENCARGADO DE POZOS Y AUXILIAR LECTURISTA | H13: OPERATIVA | I13: MIGUEL ÁNGEL | J13: MONTOYA | K13: VELÁZQUEZ | L13: Masculino | M13: 8000 | N13: Peso Mexicano | O13: 8000 | P13: Peso Mexicano | Q13: =Tabla_549551!A9 -> 6 | R13: 22 | S13: 38 | T13: =[1]Tabla_549522!A9 -> 54 | U13: =[1]Tabla_549542!A9 -> 70 | V13: =[1]Tabla_549529!A9 -> 86 | W13: =[1]Tabla_549539!A9 -> 102 | X13: =[1]Tabla_549530!A9 -> 118 | Y13: =[1]Tabla_549531!A9 -> 134 | Z13: =[1]Tabla_549549!A9 -> 150 | AA13: =[1]Tabla_549553!A9 -> 166 | AB13: =[1]Tabla_549550!A9 -> 182 | AC13: =[1]Tabla_549554!A9 -> 198 | AD13: Dirección Administrativa | AE13: 44748 | AF13: 44748 | AG13: INFORMACIÓN CORRESPONDIENTE AL MES DE JUNIO DE 2022
A14: 2022 | B14: 44713 | C14: 44742 | D14: Servidor(a) público(a) | E14: 3 C | F14: TÉCNICO OPERADOR DE AGUA POTABLE | G14: =F14 -> TÉCNICO OPERADOR DE AGUA POTABLE | H14: OPERATIVA | I14: LUCIO | J14: SANCHÉZ | K14: MARTÍNEZ | L14: Masculino | M14: 7500 | N14: Peso Mexicano | O14: 7500 | P14: Peso Mexicano | Q14: =Tabla_549551!A10 -> 7 | R14: 23 | S14: 39 | T14: =[1]Tabla_549522!A10 -> 55 | U14: =[1]Tabla_549542!A10 -> 71 | V14: =[1]Tabla_549529!A10 -> 87 | W14: =[1]Tabla_549539!A10 -> 103 | X14: =[1]Tabla_549530!A10 -> 119 | Y14: =[1]Tabla_549531!A10 -> 135 | Z14: =[1]Tabla_549549!A10 -> 151 | AA14: =[1]Tabla_549553!A10 -> 167 | AB14: =[1]Tabla_549550!A10 -> 183 | AC14: =[1]Tabla_549554!A10 -> 199 | AD14: Dirección Administrativa | AE14: 44748 | AF14: 44748 | AG14: INFORMACIÓN CORRESPONDIENTE AL MES DE JUNIO DE 2022
A15: 2022 | B15: 44713 | C15: 44742 | D15: Servidor(a) público(a) | E15: 3 C | F15: TÉCNICO OPERADOR DE AGUA POTABLE | G15: =F15 -> TÉCNICO OPERADOR DE AGUA POTABLE | H15: OPERATIVA | I15: ERIK EDUARDO | J15: GARCÍA | K15: BALTAZAR | L15: Masculino | M15: 4400 | N15: Peso Mexicano | O15: 4400 | P15: Peso Mexicano | Q15: =Tabla_549551!A11 -> 8 | R15: 24 | S15: 40 | T15: =[1]Tabla_549522!A11 -> 56 | U15: =[1]Tabla_549542!A11 -> 72 | V15: =[1]Tabla_549529!A11 -> 88 | W15: =[1]Tabla_549539!A11 -> 104 | X15: =[1]Tabla_549530!A11 -> 120 | Y15: =[1]Tabla_549531!A11 -> 136 | Z15: =[1]Tabla_549549!A11 -> 152 | AA15: =[1]Tabla_549553!A11 -> 168 | AB15: =[1]Tabla_549550!A11 -> 184 | AC15: =[1]Tabla_549554!A11 -> 200 | AD15: Dirección Administrativa | AE15: 44748 | AF15: 44748 | AG15: INFORMACIÓN CORRESPONDIENTE AL MES DE JUNIO DE 2022 LICENCIA A PARTIR DEL DÍA 2 DE FEBRERO DE 2022
A16: 2022 | B16: 44713 | C16: 44742 | D16: Servidor(a) público(a) | E16: 3 C | F16: TÉCNICO OPERADOR DE DRENAJE | G16: =F16 -> TÉCNICO OPERADOR DE DRENAJE | H16: OPERATIVA | I16: VALENTÍN | J16: LÓPEZ | K16: HUERTA | L16: Masculino | M16: 2608.2 | N16: Peso Mexicano | O16: 2608.2 | P16: Peso Mexicano | Q16: =Tabla_549551!A12 -> 9 | R16: 25 | S16: 41 | T16: =[1]Tabla_549522!A12 -> 57 | U16: =[1]Tabla_549542!A12 -> 73 | V16: =[1]Tabla_549529!A12 -> 89 | W16: =[1]Tabla_549539!A12 -> 105 | X16: =[1]Tabla_549530!A12 -> 121 | Y16: =[1]Tabla_549531!A12 -> 137 | Z16: =[1]Tabla_549549!A12 -> 153 | AA16: =[1]Tabla_549553!A12 -> 169 | AB16: =[1]Tabla_549550!A12 -> 185 | AC16: =[1]Tabla_549554!A12 -> 201 | AD16: Dirección Administrativa | AE16: 44748 | AF16: 44748 | AG16: INFORMACIÓN CORRESPONDIENTE AL MES DE JUNIO DE 2022 LICENCIA A PARTIR DEL DÍA 01 DE JUNIO 2022
A17: 2022 | B17: 44713 | C17: 44742 | D17: Servidor(a) público(a) | E17: 4 D | F17: LECTURISTA, NOTIFICADOR Y AUXILIAR DE BOMBERO | G17: =F17 -> LECTURISTA, NOTIFICADOR Y AUXILIAR DE BOMBERO | H17: OPERATIVA | I17: JOSÉ ROBERTO | J17: BASALDÚA | K17: CHAVERO | L17: Masculino | M17: 8000 | N17: Peso Mexicano | O17: 8000 | P17: Peso Mexicano | Q17: =Tabla_549551!A13 -> 10 | R17: 26 | S17: 42 | T17: =[1]Tabla_549522!A13 -> 58 | U17: =[1]Tabla_549542!A13 -> 74 | V17: =[1]Tabla_549529!A13 -> 90 | W17: =[1]Tabla_549539!A13 -> 106 | X17: =[1]Tabla_549530!A13 -> 122 | Y17: =[1]Tabla_549531!A13 -> 138 | Z17: =[1]Tabla_549549!A13 -> 154 | AA17: =[1]Tabla_549553!A13 -> 170 | AB17: =[1]Tabla_549550!A13 -> 186 | AC17: =[1]Tabla_549554!A13 -> 202 | AD17: Dirección Administrativa | AE17: 44748 | AF17: 44748 | AG17: INFORMACIÓN CORRESPONDIENTE AL MES DE JUNIO DE 2022
A18: 2022 | B18: 44713 | C18: 44742 | D18: Servidor(a) público(a) | E18: 4 D | F18: LECTURISTA, NOTIFICADOR Y AUXILIAR DE BOMBERO | G18: =F18 -> LECTURISTA, NOTIFICADOR Y AUXILIAR DE BOMBERO | H18: OPERATIVA | I18: LUIS ALBERTO | J18: FLORES | K18: GUILLÉN | L18: Masculino | M18: 8000 | N18: Peso Mexicano | O18: 8000 | P18: Peso Mexicano | Q18: =Tabla_549551!A14 -> 11 | R18: 27 | S18: 43 | T18: =[1]Tabla_549522!A14 -> 59 | U18: =[1]Tabla_549542!A14 -> 75 | V18: =[1]Tabla_549529!A14 -> 91 | W18: =[1]Tabla_549539!A14 -> 107 | X18: =[1]Tabla_549530!A14 -> 123 | Y18: =[1]Tabla_549531!A14 -> 139 | Z18: =[1]Tabla_549549!A14 -> 155 | AA18: =[1]Tabla_549553!A14 -> 171 | AB18: =[1]Tabla_549550!A14 -> 187 | AC18: =[1]Tabla_549554!A14 -> 203 | AD18: Dirección Administrativa | AE18: 44748 | AF18: 44748 | AG18: INFORMACIÓN CORRESPONDIENTE AL MES DE JUNIO DE 2022 LICENCIA A PARTIR DEL DÍA 7 DE MARZO DE 2022
A19: 2022 | B19: 44713 | C19: 44742 | D19: Servidor(a) público(a) | E19: 3 C | F19: ENCARGADA DE DIFUSIÓN CULTURA DE AGUA Y ELABORACIÓN DE CONTRATOS | G19: =F19 -> ENCARGADA DE DIFUSIÓN CULTURA DE AGUA Y ELABORACIÓN DE CONTRATOS | H19: ADMINISTRATIVA | I19: CLARA GUADALUPE | J19: RAMÍREZ | K19: DURÁN | L19: Femenino | M19: 6000 | N19: Peso Mexicano | O19: 6000 | P19: Peso Mexicano | Q19: =Tabla_549551!A15 -> 12 | R19: 28 | S19: 44 | T19: =[1]Tabla_549522!A15 -> 60 | U19: =[1]Tabla_549542!A15 -> 76 | V19: =[1]Tabla_549529!A15 -> 92 | W19: =[1]Tabla_549539!A15 -> 108 | X19: =[1]Tabla_549530!A15 -> 124 | Y19: =[1]Tabla_549531!A15 -> 140 | Z19: =[1]Tabla_549549!A15 -> 156 | AA19: =[1]Tabla_549553!A15 -> 172 | AB19: =[1]Tabla_549550!A15 -> 188 | AC19: =[1]Tabla_549554!A15 -> 204 | AD19: Dirección Administrativa | AE19: 44748 | AF19: 44748 | AG19: INFORMACIÓN CORRESPONDIENTE AL MES DE JUNIO DE 2022
A20: 2022 | B20: 44713 | C20: 44742 | D20: Servidor(a) público(a) | E20: 3 C | F20: ENCARGADA DE TRANSPARENCIA | G20: =F20 -> ENCARGADA DE TRANSPARENCIA | H20: ADMINISTRATIVA | I20: NORA ILDA | J20: GARCÍA | K20: PALOMO | L20: Femenino | M20: 5600 | N20: Peso Mexicano | O20: 5600 | P20: Peso Mexicano | Q20: =Tabla_549551!A16 -> 13 | R20: 29 | S20: 45 | T20: =[1]Tabla_549522!A16 -> 61 | U20: =[1]Tabla_549542!A16 -> 77 | V20: =[1]Tabla_549529!A16 -> 93 | W20: =[1]Tabla_549539!A16 -> 109 | X20: =[1]Tabla_549530!A16 -> 125 | Y20: =[1]Tabla_549531!A16 -> 141 | Z20: =[1]Tabla_549549!A16 -> 157 | AA20: =[1]Tabla_549553!A16 -> 173 | AB20: =[1]Tabla_549550!A16 -> 189 | AC20: =[1]Tabla_549554!A16 -> 205 | AD20: Dirección Administrativa | AE20: 44748 | AF20: 44748 | AG20: INFORMACIÓN CORRESPONDIENTE AL MES DE JUNIO DE 2022
... A22: 2022 | B22: 44713 | C22: 44742 | D22: Servidor[a] público[a] eventual | E22: 4 D | F22: EMPLEADO EVENTUAL | G22: =F22 -> EMPLEADO EVENTUAL | H22: OPERATIVA | I22: EDUARDO FLORENCIO | J22: DELGADO | K22: VILLANUEVA | L22: Masculino | M22: 5400 | N22: Peso Mexicano | O22: 5400 | P22: Peso Mexicano | Q22: =Tabla_549551!A18 -> 15 | R22: 31 | S22: 47 | T22: =[1]Tabla_549522!A18 -> 63 | U22: =[1]Tabla_549542!A18 -> 79 | V22: =[1]Tabla_549529!A18 -> 95 | W22: =[1]Tabla_549539!A18 -> 111 | X22: =[1]Tabla_549530!A18 -> 127 | Y22: =[1]Tabla_549531!A18 -> 143 | Z22: =[1]Tabla_549549!A18 -> 159 | AA22: =[1]Tabla_549553!A18 -> 175 | AB22: =[1]Tabla_549550!A18 -> 191 | AC22: =[1]Tabla_549554!A18 -> 207 | AD22: Dirección Administrativa | AE22: 44748 | AF22: 44748 | AG22: INFORMACIÓN CORRESPONDIENTE AL MES DE JUNIO DE 2022
A23: 2022 | B23: 44713 | C23: 44742 | D23: Servidor[a] público[a] eventual | E23: 4 D | F23: EMPLEADO EVENTUAL | G23: EMPLEADO EVENTUAL | H23: OPERATIVA | I23: JUAN FRANCISCO | J23: MARTÍNEZ | K23: JIMÉNEZ | L23: Masculino | M23: 5400 | N23: Peso Mexicano | O23: 5400 | P23: Peso Mexicano | Q23: =[1]Tabla_549551!A19 -> 16 | R23: 32 | S23: 48 | T23: =[1]Tabla_549522!A19 -> 64 | U23: =[1]Tabla_549542!A19 -> 80 | V23: =[1]Tabla_549529!A19 -> 96 | W23: =[1]Tabla_549539!A19 -> 112 | X23: =[1]Tabla_549530!A19 -> 128 | Y23: =[1]Tabla_549531!A19 -> 144 | Z23: =[1]Tabla_549549!A19 -> 160 | AA23: =[1]Tabla_549553!A19 -> 176 | AB23: =[1]Tabla_549550!A19 -> 192 | AC23: =[1]Tabla_549554!A19 -> 208 | AD23: Dirección Administrativa | AE23: 44748 | AF23: 44748 | AG23: INFORMACIÓN CORRESPONDIENTE AL MES DE JUNIO DE 2022

Sheet Hidden_1
A1: Funcionario
A2: Servidor(a) público(a)
A3: Servidor[a] público[a] eventual
A4: Integrante
A5: Empleado
A6: Representante popular
A7: Miembro del poder judicial
A8: Miembro de órgano autónomo
A9: Personal de confianza
A10: Prestador de servicios profesionales
A11: Otro

Sheet Hidden_2
A1: Femenino
A2: Masculino

Sheet Tabla_549551
B1: 2 | C1: 6 | D1: 6 | E1: 1 | F1: 1
B2: 70050 | C2: 70051 | D2: 70052 | E2: 70053 | F2: 70054
A3: ID | B3: Denominación de las percepciones adicionales en dinero | C3: Monto bruto de las percepciones adicionales en dinero | D3: Monto neto de las percepciones adicionales en dinero | E3: Tipo de moneda de las percepciones adicionales en dinero | F3: Periodicidad de las percepciones adicionales en dinero
A4: 1 | B4: NO SE GENERA | C4: 0 | D4: 0 | E4: NO SE GENERA | F4: NO SE GENERA
A5: 2 | B5: NO SE GENERA | C5: 0 | D5: 0 | E5: NO SE GENERA | F5: NO SE GENERA
A6: 3 | B6: NO SE GENERA | C6: 0 | D6: 0 | E6: NO SE GENERA | F6: NO SE GENERA
A7: 4 | B7: NO SE GENERA | C7: 0 | D7: 0 | E7: NO SE GENERA | F7: NO SE GENERA
A8: 5 | B8: NO SE GENERA | C8: 0 | D8: 0 | E8: NO SE GENERA | F8: NO SE GENERA
A9: 6 | B9: NO SE GENERA | C9: 0 | D9: 0 | E9: NO SE GENERA | F9: NO SE GENERA
A10: 7 | B10: NO SE GENERA | C10: 0 | D10: 0 | E10: NO SE GENERA | F10: NO SE GENERA
A11: 8 | B11: NO SE GENERA | C11: 0 | D11: 0 | E11: NO SE GENERA | F11: NO SE GENERA
A12: 9 | B12: NO SE GENERA | C12: 0 | D12: 0 | E12: NO SE GENERA | F12: NO SE GENERA
A13: 10 | B13: NO SE GENERA | C13: 0 | D13: 0 | E13: NO SE GENERA | F13: NO SE GENERA
A14: 11 | B14: NO SE GENERA | C14: 0 | D14: 0 | E14: NO SE GENERA | F14: NO SE GENERA
A15: 12 | B15: NO SE GENERA | C15: 0 | D15: 0 | E15: NO SE GENERA | F15: NO SE GENERA
... A19: 16 | B19: NO SE GENERA | C19: 0 | D19: 0 | E19: NO SE GENERA | F19: NO SE GENERA

Sheet Tabla_549538
B1: 2 | C1: 1
B2: 70028 | C2: 70029
A3: ID | B3: Descripción de las percepciones adicionales en especie | C3: Periodicidad de las percepciones adicionales en especie
A4: 17 | B4: DESPENSA | C4: ANUAL
A5: 18 | B5: DESPENSA | C5: ANUAL
A6: 19 | B6: DESPENSA | C6: ANUAL
A7: 20 | B7: DESPENSA | C7: ANUAL
A8: 21 | B8: DESPENSA | C8: ANUAL
A9: 22 | B9: DESPENSA | C9: ANUAL
A10: 23 | B10: DESPENSA | C10: ANUAL
A11: 24 | B11: DESPENSA | C11: ANUAL
A12: 25 | B12: DESPENSA | C12: ANUAL
A13: 26 | B13: DESPENSA | C13: ANUAL
A14: 27 | B14: DESPENSA | C14: ANUAL
A15: 28 | B15: DESPENSA | C15: ANUAL
... A19: 32 | B19: NO SE GENERA | C19: NO SE GENERA

Sheet Tabla_549552
B1: 2 | C1: 6 | D1: 6 | E1: 1 | F1: 1
B2: 70057 | C2: 70058 | D2: 70059 | E2: 70055 | F2: 70056
A3: ID | B3: Denominación de los ingresos | C3: Monto bruto de los ingresos | D3: Monto neto de los ingresos | E3: Tipo de moneda de los ingresos | F3: Periodicidad de los ingresos
A4: 33 | B4: SALARIO | C4: 20000 | D4: 20000 | E4: PESOS MEXICANOS | F4: MENSUAL
A5: 34 | B5: SALARIO | C5: 14000 | D5: 14000 | E5: PESOS MEXICANOS | F5: MENSUAL
A6: 35 | B6: SALARIO | C6: 8000 | D6: 8000 | E6: PESOS MEXICANOS | F6: MENSUAL
A7: 36 | B7: SALARIO | C7: 9600 | D7: 9600 | E7: PESOS MEXICANOS | F7: MENSUAL
A8: 37 | B8: SALARIO | C8: 6500 | D8: 6500 | E8: PESOS MEXICANOS | F8: MENSUAL
A9: 38 | B9: SALARIO | C9: 8000 | D9: 8000 | E9: PESOS MEXICANOS | F9: MENSUAL
A10: 39 | B10: SALARIO | C10: 7500 | D10: 7500 | E10: PESOS MEXICANOS | F10: MENSUAL
A11: 40 | B11: SALARIO | C11: 0 | D11: 0 | E11: PESOS MEXICANOS | F11: MENSUAL
A12: 41 | B12: SALARIO | C12: 2608.2 | D12: 2608.2 | E12: PESOS MEXICANOS | F12: MENSUAL
A13: 42 | B13: SALARIO | C13: 8000 | D13: 8000 | E13: PESOS MEXICANOS | F13: MENSUAL
A14: 43 | B14: SALARIO | C14: 0 | D14: 0 | E14: PESOS MEXICANOS | F14: MENSUAL
A15: 44 | B15: SALARIO | C15: 6000 | D15: 6000 | E15: PESOS MEXICANOS | F15: MENSUAL
... A19: 48 | B19: SALARIO | C19: 5400 | D19: 5400 | E19: PESOS MEXICANOS | F19: MENSUAL

Sheet Tabla_549522
B1: 1 | C1: 6 | D1: 6 | E1: 1 | F1: 1
B2: 70008 | C2: 70009 | D2: 70010 | E2: 70011 | F2: 70012
A3: ID | B3: Denominación de los sistemas de compensación | C3: Monto bruto de los sistemas de compensación | D3: Monto neto de los sistemas de compensación | E3: Tipo de moneda de los sistemas de compensación | F3: Periodicidad de los sistemas de compensación
A4: 49 | B4: NO SE GENERA | C4: 0 | D4: 0 | E4: NO SE GENERA | F4: NO SE GENERA
A5: 50 | B5: NO SE GENERA | C5: 0 | D5: 0 | E5: NO SE GENERA | F5: NO SE GENERA
A6: 51 | B6: NO SE GENERA | C6: 0 | D6: 0 | E6: NO SE GENERA | F6: NO SE GENERA
A7: 52 | B7: NO SE GENERA | C7: 0 | D7: 0 | E7: NO SE GENERA | F7: NO SE GENERA
A8: 53 | B8: NO SE GENERA | C8: 0 | D8: 0 | E8: NO SE GENERA | F8: NO SE GENERA
A9: 54 | B9: NO SE GENERA | C9: 0 | D9: 0 | E9: NO SE GENERA | F9: NO SE GENERA
A10: 55 | B10: NO SE GENERA | C10: 0 | D10: 0 | E10: NO SE GENERA | F10: NO SE GENERA
A11: 56 | B11: NO SE GENERA | C11: 0 | D11: 0 | E11: NO SE GENERA | F11: NO SE GENERA
A12: 57 | B12: NO SE GENERA | C12: 0 | D12: 0 | E12: NO SE GENERA | F12: NO SE GENERA
A13: 58 | B13: NO SE GENERA | C13: 0 | D13: 0 | E13: NO SE GENERA | F13: NO SE GENERA
A14: 59 | B14: NO SE GENERA | C14: 0 | D14: 0 | E14: NO SE GENERA | F14: NO SE GENERA
A15: 60 | B15: NO SE GENERA | C15: 0 | D15: 0 | E15: NO SE GENERA | F15: NO SE GENERA
... A19: 64 | B19: NO SE GENERA | C19: 0 | D19: 0 | E19: NO SE GENERA | F19: NO SE GENERA

Sheet Tabla_549542
B1: 1 | C1: 6 | D1: 6 | E1: 1 | F1: 1
B2: 70035 | C2: 70036 | D2: 70037 | E2: 70038 | F2: 70039
A3: ID | B3: Denominación de las gratificaciones | C3: Monto bruto de las gratificaciones | D3: Monto neto de las gratificaciones | E3: Tipo de moneda de las gratificaciones | F3: Periodicidad de las gratificaciones
A4: 65 | B4: AGUINALDO | C4: 33333.33 | D4: =C4 -> 33333.33 | E4: PESOS MEXICANOS | F4: ANUAL
A5: 66 | B5: AGUINALDO | C5: 23333.33 | D5: =C5 -> 23333.33 | E5: PESOS MEXICANOS | F5: ANUAL
A6: 67 | B6: AGUINALDO | C6: 13333.33 | D6: =C6 -> 13333.33 | E6: PESOS MEXICANOS | F6: ANUAL
A7: 68 | B7: AGUINALDO | C7: 16000 | D7: =C7 -> 16000 | E7: PESOS MEXICANOS | F7: ANUAL
A8: 69 | B8: AGUINALDO | C8: 10833.33 | D8: =C8 -> 10833.33 | E8: PESOS MEXICANOS | F8: ANUAL
A9: 70 | B9: AGUINALDO | C9: 13333.33 | D9: =C9 -> 13333.33 | E9: PESOS MEXICANOS | F9: ANUAL
A10: 71 | B10: AGUINALDO | C10: 12500 | D10: =C10 -> 12500 | E10: PESOS MEXICANOS | F10: ANUAL
A11: 72 | B11: AGUINALDO | C11: 0 | D11: =C11 -> 0 | E11: PESOS MEXICANOS | F11: ANUAL
A12: 73 | B12: AGUINALDO | C12: 0 | D12: 0 | E12: PESOS MEXICANOS | F12: ANUAL
A13: 74 | B13: AGUINALDO | C13: 13333.33 | D13: =C13 -> 13333.33 | E13: PESOS MEXICANOS | F13: ANUAL
A14: 75 | B14: AGUINALDO | C14: 0 | D14: 0 | E14: PESOS MEXICANOS | F14: ANUAL
A15: 76 | B15: AGUINALDO | C15: 10000 | D15: =C15 -> 10000 | E15: PESOS MEXICANOS | F15: ANUAL
A16: 77 | B16: AGUINALDO | C16: 9333.33 | D16: =C16 -> 9333.33 | E16: PESOS MEXICANOS | F16: ANUAL
A17: 78 | B17: NO SE GENERA | C17: 0 | D17: 0 | E17: NO SE GENERA | F17: NO SE GENERA
A18: 79 | B18: NO SE GENERA | C18: 0 | D18: 0 | E18: NO SE GENERA | F18: NO SE GENERA
A19: 80 | B19: NO SE GENERA | C19: 0 | D19: 0 | E19: NO SE GENERA | F19: NO SE GENERA

Sheet Tabla_549529
B1: 1 | C1: 6 | D1: 6 | E1: 1 | F1: 1
B2: 70013 | C2: 70014 | D2: 70015 | E2: 70016 | F2: 70017
A3: ID | B3: Denominación de las primas | C3: Monto bruto de las primas | D3: Monto neto de las primas | E3: Tipo de moneda de las primas | F3: Periodicidad de las primas
A4: 81 | B4: PRIMA VACACIONAL | C4: 2666.66 | D4: =C4 -> 2666.66 | E4: PESOS MEXICANOS | F4: SEMESTRAL
A5: 82 | B5: PRIMA VACACIONAL | C5: 1866.6 | D5: =C5 -> 1866.6 | E5: PESOS MEXICANOS | F5: SEMESTRAL
A6: 83 | B6: PRIMA VACACIONAL | C6: 1066.66 | D6: =C6 -> 1066.66 | E6: PESOS MEXICANOS | F6: SEMESTRAL
A7: 84 | B7: PRIMA VACACIONAL | C7: 1280 | D7: =C7 -> 1280 | E7: PESOS MEXICANOS | F7: SEMESTRAL
A8: 85 | B8: PRIMA VACACIONAL | C8: 866.66 | D8: =C8 -> 866.66 | E8: PESOS MEXICANOS | F8: SEMESTRAL
A9: 86 | B9: PRIMA VACACIONAL | C9: 1066.66 | D9: =C9 -> 1066.66 | E9: PESOS MEXICANOS | F9: SEMESTRAL
A10: 87 | B10: PRIMA VACACIONAL | C10: 1000 | D10: =C10 -> 1000 | E10: PESOS MEXICANOS | F10: SEMESTRAL
A11: 88 | B11: PRIMA VACACIONAL | C11: 0 | D11: 0 | E11: PESOS MEXICANOS | F11: SEMESTRAL
A12: 89 | B12: PRIMA VACACIONAL | C12: 0 | D12: 0 | E12: PESOS MEXICANOS | F12: SEMESTRAL
A13: 90 | B13: PRIMA VACACIONAL | C13: 1066.66 | D13: 1066.66 | E13: PESOS MEXICANOS | F13: SEMESTRAL
A14: 91 | B14: PRIMA VACACIONAL | C14: 0 | D14: 0 | E14: PESOS MEXICANOS | F14: SEMESTRAL
A15: 92 | B15: PRIMA VACACIONAL | C15: 800 | D15: 800 | E15: PESOS MEXICANOS | F15: SEMESTRAL
A16: 93 | B16: PRIMA VACACIONAL | C16: 746.66 | D16: 746.66 | E16: PESOS MEXICANOS | F16: SEMESTRAL
A17: 94 | B17: NO SE GENERA | C17: 0 | D17: 0 | E17: NO SE GENERA | F17: NO SE GENERA
A18: 95 | B18: NO SE GENERA | C18: 0 | D18: 0 | E18: NO SE GENERA | F18: NO SE GENERA
A19: 96 | B19: NO SE GENERA | C19: 0 | D19: 0 | E19: NO SE GENERA | F19: NO SE GENERA

Sheet Tabla_549539
B1: 1 | C1: 6 | D1: 6 | E1: 1 | F1: 1
B2: 70030 | C2: 70031 | D2: 70032 | E2: 70033 | F2: 70034
A3: ID | B3: Denominación de las comisiones | C3: Monto bruto de las comisiones | D3: Monto neto de las comisiones | E3: Tipo de moneda de las comisiones | F3: Periodicidad de las comisiones
A4: 97 | B4: NO SE GENERA | C4: 0 | D4: 0 | E4: NO SE GENERA | F4: NO SE GENERA
A5: 98 | B5: NO SE GENERA | C5: 0 | D5: 0 | E5: NO SE GENERA | F5: NO SE GENERA
A6: 99 | B6: NO SE GENERA | C6: 0 | D6: 0 | E6: NO SE GENERA | F6: NO SE GENERA
A7: 100 | B7: NO SE GENERA | C7: 0 | D7: 0 | E7: NO SE GENERA | F7: NO SE GENERA
A8: 101 | B8: NO SE GENERA | C8: 0 | D8: 0 | E8: NO SE GENERA | F8: NO SE GENERA
A9: 102 | B9: NO SE GENERA | C9: 0 | D9: 0 | E9: NO SE GENERA | F9: NO SE GENERA
A10: 103 | B10: NO SE GENERA | C10: 0 | D10: 0 | E10: NO SE GENERA | F10: NO SE GENERA
A11: 104 | B11: NO SE GENERA | C11: 0 | D11: 0 | E11: NO SE GENERA | F11: NO SE GENERA
A12: 105 | B12: NO SE GENERA | C12: 0 | D12: 0 | E12: NO SE GENERA | F12: NO SE GENERA
A13: 106 | B13: NO SE GENERA | C13: 0 | D13: 0 | E13: NO SE GENERA | F13: NO SE GENERA
A14: 107 | B14: NO SE GENERA | C14: 0 | D14: 0 | E14: NO SE GENERA | F14: NO SE GENERA
A15: 108 | B15: NO SE GENERA | C15: 0 | D15: 0 | E15: NO SE GENERA | F15: NO SE GENERA
... A19: 112 | B19: NO SE GENERA | C19: 0 | D19: 0 | E19: NO SE GENERA | F19: NO SE GENERA

Sheet Tabla_549530
B1: 1 | C1: 6 | D1: 6 | E1: 1 | F1: 1
B2: 70018 | C2: 70019 | D2: 70020 | E2: 70021 | F2: 70022
A3: ID | B3: Denominación de las dietas | C3: Monto bruto de las dietas | D3: Monto neto de las dietas | E3: Tipo de moneda de las dietas | F3: Periodicidad de las dietas
A4: 113 | B4: NO SE GENERA | C4: 0 | D4: 0 | E4: NO SE GENERA | F4: NO SE GENERA
A5: 114 | B5: NO SE GENERA | C5: 0 | D5: 0 | E5: NO SE GENERA | F5: NO SE GENERA
A6: 115 | B6: NO SE GENERA | C6: 0 | D6: 0 | E6: NO SE GENERA | F6: NO SE GENERA
A7: 116 | B7: NO SE GENERA | C7: 0 | D7: 0 | E7: NO SE GENERA | F7: NO SE GENERA
A8: 117 | B8: NO SE GENERA | C8: 0 | D8: 0 | E8: NO SE GENERA | F8: NO SE GENERA
A9: 118 | B9: NO SE GENERA | C9: 0 | D9: 0 | E9: NO SE GENERA | F9: NO SE GENERA
A10: 119 | B10: NO SE GENERA | C10: 0 | D10: 0 | E10: NO SE GENERA | F10: NO SE GENERA
A11: 120 | B11: NO SE GENERA | C11: 0 | D11: 0 | E11: NO SE GENERA | F11: NO SE GENERA
A12: 121 | B12: NO SE GENERA | C12: 0 | D12: 0 | E12: NO SE GENERA | F12: NO SE GENERA
A13: 122 | B13: NO SE GENERA | C13: 0 | D13: 0 | E13: NO SE GENERA | F13: NO SE GENERA
A14: 123 | B14: NO SE GENERA | C14: 0 | D14: 0 | E14: NO SE GENERA | F14: NO SE GENERA
A15: 124 | B15: NO SE GENERA | C15: 0 | D15: 0 | E15: NO SE GENERA | F15: NO SE GENERA
... A19: 128 | B19: NO SE GENERA | C19: 0 | D19: 0 | E19: NO SE GENERA | F19: NO SE GENERA

Sheet Tabla_549531
B1: 1 | C1: 6 | D1: 6 | E1: 1 | F1: 1
B2: 70023 | C2: 70024 | D2: 70025 | E2: 70026 | F2: 70027
A3: ID | B3: Denominación de los bonos | C3: Monto bruto de los bonos | D3: Monto neto de los bonos | E3: Tipo de moneda de los bonos | F3: Periodicidad de los bonos
A4: 129 | B4: NO SE GENERA | C4: 0 | D4: 0 | E4: NO SE GENERA | F4: NO SE GENERA
A5: 130 | B5: NO SE GENERA | C5: 0 | D5: 0 | E5: NO SE GENERA | F5: NO SE GENERA
A6: 131 | B6: NO SE GENERA | C6: 0 | D6: 0 | E6: NO SE GENERA | F6: NO SE GENERA
A7: 132 | B7: NO SE GENERA | C7: 0 | D7: 0 | E7: NO SE GENERA | F7: NO SE GENERA
A8: 133 | B8: NO SE GENERA | C8: 0 | D8: 0 | E8: NO SE GENERA | F8: NO SE GENERA
A9: 134 | B9: NO SE GENERA | C9: 0 | D9: 0 | E9: NO SE GENERA | F9: NO SE GENERA
A10: 135 | B10: NO SE GENERA | C10: 0 | D10: 0 | E10: NO SE GENERA | F10: NO SE GENERA
A11: 136 | B11: NO SE GENERA | C11: 0 | D11: 0 | E11: NO SE GENERA | F11: NO SE GENERA
A12: 137 | B12: NO SE GENERA | C12: 0 | D12: 0 | E12: NO SE GENERA | F12: NO SE GENERA
A13: 138 | B13: NO SE GENERA | C13: 0 | D13: 0 | E13: NO SE GENERA | F13: NO SE GENERA
A14: 139 | B14: NO SE GENERA | C14: 0 | D14: 0 | E14: NO SE GENERA | F14: NO SE GENERA
A15: 140 | B15: NO SE GENERA | C15: 0 | D15: 0 | E15: NO SE GENERA | F15: NO SE GENERA
... A19: 144 | B19: NO SE GENERA | C19: 0 | D19: 0 | E19: NO SE GENERA | F19: NO SE GENERA

Sheet Tabla_549549
B1: 1 | C1: 6 | D1: 6 | E1: 1 | F1: 1
B2: 70040 | C2: 70041 | D2: 70042 | E2: 70043 | F2: 70044
A3: ID | B3: Denominación de los estímulos | C3: Monto bruto de los estímulos | D3: Monto neto de los estímulos | E3: Tipo de moneda de los estímulos | F3: Periodicidad de los estímulos
A4: 145 | B4: NO SE GENERA | C4: 0 | D4: 0 | E4: NO SE GENERA | F4: NO SE GENERA
A5: 146 | B5: NO SE GENERA | C5: 0 | D5: 0 | E5: NO SE GENERA | F5: NO SE GENERA
A6: 147 | B6: NO SE GENERA | C6: 0 | D6: 0 | E6: NO SE GENERA | F6: NO SE GENERA
A7: 148 | B7: NO SE GENERA | C7: 0 | D7: 0 | E7: NO SE GENERA | F7: NO SE GENERA
A8: 149 | B8: NO SE GENERA | C8: 0 | D8: 0 | E8: NO SE GENERA | F8: NO SE GENERA
A9: 150 | B9: NO SE GENERA | C9: 0 | D9: 0 | E9: NO SE GENERA | F9: NO SE GENERA
A10: 151 | B10: NO SE GENERA | C10: 0 | D10: 0 | E10: NO SE GENERA | F10: NO SE GENERA
A11: 152 | B11: NO SE GENERA | C11: 0 | D11: 0 | E11: NO SE GENERA | F11: NO SE GENERA
A12: 153 | B12: NO SE GENERA | C12: 0 | D12: 0 | E12: NO SE GENERA | F12: NO SE GENERA
A13: 154 | B13: NO SE GENERA | C13: 0 | D13: 0 | E13: NO SE GENERA | F13: NO SE GENERA
A14: 155 | B14: NO SE GENERA | C14: 0 | D14: 0 | E14: NO SE GENERA | F14: NO SE GENERA
A15: 156 | B15: NO SE GENERA | C15: 0 | D15: 0 | E15: NO SE GENERA | F15: NO SE GENERA
... A19: 160 | B19: NO SE GENERA | C19: 0 | D19: 0 | E19: NO SE GENERA | F19: NO SE GENERA

Sheet Tabla_549553
B1: 1 | C1: 6 | D1: 6 | E1: 1 | F1: 1
B2: 70060 | C2: 70061 | D2: 70062 | E2: 70063 | F2: 70064
A3: ID | B3: Denominación de los apoyos económicos | C3: Monto bruto de los apoyos económicos | D3: Monto neto de los apoyos económicos | E3: Tipo de moneda de los apoyos económicos | F3: Periodicidad de los apoyos económicos
A4: 161 | B4: NO SE GENERA | C4: 0 | D4: 0 | E4: NO SE GENERA | F4: NO SE GENERA
A5: 162 | B5: NO SE GENERA | C5: 0 | D5: 0 | E5: NO SE GENERA | F5: NO SE GENERA
A6: 163 | B6: NO SE GENERA | C6: 0 | D6: 0 | E6: NO SE GENERA | F6: NO SE GENERA
A7: 164 | B7: NO SE GENERA | C7: 0 | D7: 0 | E7: NO SE GENERA | F7: NO SE GENERA
A8: 165 | B8: NO SE GENERA | C8: 0 | D8: 0 | E8: NO SE GENERA | F8: NO SE GENERA
A9: 166 | B9: NO SE GENERA | C9: 0 | D9: 0 | E9: NO SE GENERA | F9: NO SE GENERA
A10: 167 | B10: NO SE GENERA | C10: 0 | D10: 0 | E10: NO SE GENERA | F10: NO SE GENERA
A11: 168 | B11: NO SE GENERA | C11: 0 | D11: 0 | E11: NO SE GENERA | F11: NO SE GENERA
A12: 169 | B12: NO SE GENERA | C12: 0 | D12: 0 | E12: NO SE GENERA | F12: NO SE GENERA
A13: 170 | B13: NO SE GENERA | C13: 0 | D13: 0 | E13: NO SE GENERA | F13: NO SE GENERA
A14: 171 | B14: NO SE GENERA | C14: 0 | D14: 0 | E14: NO SE GENERA | F14: NO SE GENERA
A15: 172 | B15: NO SE GENERA | C15: 0 | D15: 0 | E15: NO SE GENERA | F15: NO SE GENERA
... A19: 176 | B19: NO SE GENERA | C19: 0 | D19: 0 | E19: NO SE GENERA | F19: NO SE GENERA

Sheet Tabla_549550
B1: 1 | C1: 6 | D1: 6 | E1: 1 | F1: 1
B2: 70045 | C2: 70046 | D2: 70047 | E2: 70048 | F2: 70049
A3: ID | B3: Denominación de las prestaciones económicas | C3: Monto bruto de las prestaciones económicas | D3: Monto neto de las prestaciones económicas | E3: Tipo de moneda de las prestaciones económicas | F3: Periodicidad de las prestaciones económicas
A4: 177 | B4: NO SE GENERA | C4: 0 | D4: 0 | E4: NO SE GENERA | F4: NO SE GENERA
A5: 178 | B5: NO SE GENERA | C5: 0 | D5: 0 | E5: NO SE GENERA | F5: NO SE GENERA
A6: 179 | B6: NO SE GENERA | C6: 0 | D6: 0 | E6: NO SE GENERA | F6: NO SE GENERA
A7: 180 | B7: NO SE GENERA | C7: 0 | D7: 0 | E7: NO SE GENERA | F7: NO SE GENERA
A8: 181 | B8: NO SE GENERA | C8: 0 | D8: 0 | E8: NO SE GENERA | F8: NO SE GENERA
A9: 182 | B9: NO SE GENERA | C9: 0 | D9: 0 | E9: NO SE GENERA | F9: NO SE GENERA
A10: 183 | B10: NO SE GENERA | C10: 0 | D10: 0 | E10: NO SE GENERA | F10: NO SE GENERA
A11: 184 | B11: NO SE GENERA | C11: 0 | D11: 0 | E11: NO SE GENERA | F11: NO SE GENERA
A12: 185 | B12: NO SE GENERA | C12: 0 | D12: 0 | E12: NO SE GENERA | F12: NO SE GENERA
A13: 186 | B13: NO SE GENERA | C13: 0 | D13: 0 | E13: NO SE GENERA | F13: NO SE GENERA
A14: 187 | B14: NO SE GENERA | C14: 0 | D14: 0 | E14: NO SE GENERA | F14: NO SE GENERA
A15: 188 | B15: NO SE GENERA | C15: 0 | D15: 0 | E15: NO SE GENERA | F15: NO SE GENERA
... A19: 192 | B19: NO SE GENERA | C19: 0 | D19: 0 | E19: NO SE GENERA | F19: NO SE GENERA

Sheet Tabla_549554
B1: 1 | C1: 1
B2: 70065 | C2: 70066
A3: ID | B3: Descripción de las prestaciones en especie | C3: Periodicidad de las prestaciones en especie
A4: 193 | B4: NO SE GENERA | C4: NO SE GENERA
A5: 194 | B5: NO SE GENERA | C5: NO SE GENERA
A6: 195 | B6: NO SE GENERA | C6: NO SE GENERA
A7: 196 | B7: NO SE GENERA | C7: NO SE GENERA
A8: 197 | B8: NO SE GENERA | C8: NO SE GENERA
A9: 198 | B9: NO SE GENERA | C9: NO SE GENERA
A10: 199 | B10: NO SE GENERA | C10: NO SE GENERA
A11: 200 | B11: NO SE GENERA | C11: NO SE GENERA
A12: 201 | B12: NO SE GENERA | C12: NO SE GENERA
A13: 202 | B13: NO SE GENERA | C13: NO SE GENERA
A14: 203 | B14: NO SE GENERA | C14: NO SE GENERA
A15: 204 | B15: NO SE GENERA | C15: NO SE GENERA
... A19: 208 | B19: NO SE GENERA | C19: NO SE GENERA
