Workbook
Name Hidden_13: Hidden_1!$A$1:$A$11
Name Hidden_211: Hidden_2!$A$1:$A$2

Sheet Reporte de Formatos
A1: 56156
A2: TÍTULO | D2: NOMBRE CORTO | G2: DESCRIPCIÓN
A3: Remuneración bruta y neta | D3: LTAIPSLP84XI | G3: La información relativa a la remuneración bruta y neta de todos los miembros del sujeto obligado de acuerdo con los tabuladores de sueldos y salarios, todas las percepciones en efectivo o en especie, sueldos, prestaciones, gratificaciones, primas, comisiones, dietas, bonos, estímulos, apoyos económicos, ingresos sistemas de compensación, entre otros.
A4: 1 | B4: 4 | C4: 4 | D4: 9 | E4: 1 | F4: 2 | G4: 2 | H4: 2 | I4: 1 | J4: 1 | K4: 1 | L4: 9 | M4: 6 | N4: 1 | O4: 6 | P4: 1 | Q4: 10 | R4: 10 | S4: 10 | T4: 10 | U4: 10 | V4: 10 | W4: 10 | X4: 10 | Y4: 10 | Z4: 10 | AA4: 10 | AB4: 10 | AC4: 10 | AD4: 2 | AE4: 4 | AF4: 13 | AG4: 14
A5: 549532 | B5: 549544 | C5: 549524 | D5: 549545 | E5: 549546 | F5: 549527 | G5: 549533 | H5: 549534 | I5: 549535 | J5: 549528 | K5: 549525 | L5: 549536 | M5: 549547 | N5: 549548 | O5: 549537 | P5: 549526 | Q5: 549551 | R5: 549538 | S5: 549552 | T5: 549522 | U5: 549542 | V5: 549529 | W5: 549539 | X5: 549530 | Y5: 549531 | Z5: 549549 | AA5: 549553 | AB5: 549550 | AC5: 549554 | AD5: 549540 | AE5: 549541 | AF5: 549543 | AG5: 549523
A6: Tabla Campos
A7: Ejercicio | B7: Fecha de inicio del periodo que se informa | C7: Fecha de término del periodo que se informa | D7: Tipo de integrante del sujeto obligado (catálogo) | E7: Clave o nivel del puesto | F7: Denominación o descripción del puesto | G7: Denominación del cargo | H7: Área de adscripción | I7: Nombre (s) | J7: Primer apellido | K7: Segundo apellido | L7: Sexo (catálogo) | M7: Monto de la remuneración bruta, de conformidad al Tabulador de sueldos y salarios que corresponda | N7: Tipo de moneda de la remuneración bruta | O7: Monto de la remuneración neta, de conformidad al Tabulador de sueldos y salarios que corresponda | P7: Tipo de moneda de la remuneración neta | Q7: Percepciones adicionales en dinero, Monto bruto y neto, tipo de moneda y su periodicidad Tabla_549551 | R7: Percepciones adicionales en especie y su periodicidad Tabla_549538 | S7: Ingresos, monto bruto y neto, tipo de moneda y su periodicidad Tabla_549552 | T7: Sistemas de compensación, monto bruto y neto, tipo de moneda y su periodicidad Tabla_549522 | U7: Gratificaciones, monto bruto y neto, tipo de moneda y su periodicidad Tabla_549542 | V7: Primas, monto bruto y neto, tipo de moneda y su periodicidad Tabla_549529 | W7: Comisiones, monto bruto y neto, tipo de moneda y su periodicidad Tabla_549539 | X7: Dietas, monto bruto y neto, tipo de moneda y su periodicidad Tabla_549530 | Y7: Bonos, monto bruto y neto, tipo de moneda y su periodicidad Tabla_549531 | Z7: Estímulos, monto bruto y neto, tipo de moneda y su periodicidad Tabla_549549 | AA7: Apoyos económicos, monto bruto y neto, tipo de moneda y su periodicidad Tabla_549553 | AB7: Prestaciones económicas, monto bruto y neto, tipo de moneda y su periodicidad Tabla_549550 | AC7: Prestaciones en especie y su periodicidad Tabla_549554 | AD7: Área(s) responsable(s) que genera(n), posee(n), publica(n) y actualizan la información | AE7: Fecha de validación | AF7: Fecha de Actualización | AG7: Nota
A8: 2020 | B8: 43831 | C8: 43861 | D8: Servidor(a) público(a) | E8: 305 | F8: Cocinera | G8: Cocinera en el turno de fin de semana | H8: Direccion General del Centro de Asistencia Social Rafael Nieto | I8: Edna Veronica | J8: Castillo | K8: Muñoz | L8: Femenino | M8: 16237 | N8: PESO MEXICANO | O8: =+M8 -> 16237 | P8: PESO MEXICANO | Q8: 8 | R8: 8 | S8: 8 | T8: 8 | U8: 8 | V8: 8 | W8: 8 | X8: 8 | Y8: 8 | Z8: 8 | AA8: 8 | AB8: 8 | AC8: 8 | AD8: DIRECCION GENERAL | AE8: 43866 | AF8: 43866
A9: 2020 | B9: 43831 | C9: 43861 | D9: Servidor(a) público(a) | E9: 512 | F9: Maestro o Educador | G9: Prefecto al cuidado de los niños en el turno de fin de semana y nocturno | H9: Direccion General del Centro de Asistencia Social Rafael Nieto | I9: Jose David | J9: Hernandez | K9: Orta | L9: Masculino | M9: 19553.46 | N9: PESO MEXICANO | O9: 19553.46 | P9: PESO MEXICANO | Q9: 9 | R9: 9 | S9: 9 | T9: 9 | U9: 9 | V9: 9 | W9: 9 | X9: 9 | Y9: 9 | Z9: 9 | AA9: 9 | AB9: 9 | AC9: 9 | AD9: DIRECCION GENERAL | AE9: 43866 | AF9: 43866
A10: 2020 | B10: 43831 | C10: 43861 | D10: Otro | E10: ninguna | F10: prefecta | G10: Prefecta al cuidado de los niños en el turno Matutino | H10: Direccion General del Centro de Asistencia Social Rafael Nieto | I10: Maria Magdalena | J10: Ramos | K10: Ramirez | L10: Femenino | M10: 6095.49 | N10: PESO MEXICANO | O10: 5675.3 | P10: PESO MEXICANO | Q10: 10 | R10: 10 | S10: 10 | T10: 10 | U10: 10 | V10: 10 | W10: 10 | X10: 10 | Y10: 10 | Z10: 10 | AA10: 10 | AB10: 10 | AC10: 10 | AD10: DIRECCION GENERAL | AE10: 43866 | AF10: 43866 | AG10: no cuenta con clave o nivel de puesto debido a que la relacion laboral corresponde a un contrato por tiempo indeterninado o un contrato por honorarios, y en estos no se manejan claves.
A11: 2020 | B11: 43831 | C11: 43861 | D11: Servidor(a) público(a) | E11: 507 | F11: Enfermero Auxiliar | G11: Enfermero a cargo turno vespertino y fin de semana | H11: Direccion General del Centro de Asistencia Social Rafael Nieto | I11: Sergio Francisco | J11: Esquivel | K11: Gomez | L11: Masculino | M11: 19553.46 | N11: PESO MEXICANO | O11: 19553.46 | P11: PESO MEXICANO | Q11: 11 | R11: 11 | S11: 11 | T11: 11 | U11: 11 | V11: 11 | W11: 11 | X11: 11 | Y11: 11 | Z11: 11 | AA11: 11 | AB11: 11 | AC11: 11 | AD11: DIRECCION GENERAL | AE11: 43866 | AF11: 43866
A12: 2020 | B12: 43831 | C12: 43861 | D12: Servidor(a) público(a) | E12: 512 | F12: Maestro o Educador | G12: Prefecto al cuidado de los niños en el turno nocturno | H12: Direccion General del Centro de Asistencia Social Rafael Nieto | I12: Gerardo | J12: Lugo | K12: Lugo | L12: Masculino | M12: 19553.46 | N12: PESO MEXICANO | O12: 19553.46 | P12: PESO MEXICANO | Q12: 12 | R12: 12 | S12: 12 | T12: 12 | U12: 12 | V12: 12 | W12: 12 | X12: 12 | Y12: 12 | Z12: 12 | AA12: 12 | AB12: 12 | AC12: 12 | AD12: DIRECCION GENERAL | AE12: 43866 | AF12: 43866
A13: 2020 | B13: 43831 | C13: 43861 | D13: Otro | E13: ninguna | F13: Prefecto | G13: Prefecto al cuidado de los niños en el turno de fin de semana | H13: Direccion General del Centro de Asistencia Social Rafael Nieto | I13: Jairo Cristobal | J13: Norato | K13: Franco | L13: Masculino | M13: 12141.38 | N13: PESO MEXICANO | O13: 10824.26 | P13: PESO MEXICANO | Q13: 13 | R13: 13 | S13: 13 | T13: 13 | U13: 13 | V13: 13 | W13: 13 | X13: 13 | Y13: 13 | Z13: 13 | AA13: 13 | AB13: 13 | AC13: 13 | AD13: DIRECCION GENERAL | AE13: 43866 | AF13: 43866 | AG13: no cuenta con clave o nivel de puesto debido a que la relacion laboral corresponde a un contrato por tiempo indeterninado o un contrato por honorarios, y en estos no se manejan claves.
A14: 2020 | B14: 43831 | C14: 43861 | D14: Servidor(a) público(a) | E14: 512 | F14: Maestro o Educador | G14: Prefecto al cuidado de los niños en el turno vespertino y nocturno | H14: Direccion General del Centro de Asistencia Social Rafael Nieto | I14: Alfredo | J14: Betancourt | K14: Gonzalez | L14: Masculino | M14: 19553.46 | N14: PESO MEXICANO | O14: 19553.46 | P14: PESO MEXICANO | Q14: 14 | R14: 14 | S14: 14 | T14: 14 | U14: 14 | V14: 14 | W14: 14 | X14: 14 | Y14: 14 | Z14: 14 | AA14: 14 | AB14: 14 | AC14: 14 | AD14: DIRECCION GENERAL | AE14: 43866 | AF14: 43866
A15: 2020 | B15: 43831 | C15: 43861 | D15: Servidor(a) público(a) | E15: ninguna | F15: Prefecto | G15: Prefecto al cuidado de los niños en el turno vespertino | H15: Direccion General del Centro de Asistencia Social Rafael Nieto | I15: Jose Francisco | J15: Espinoza | K15: Monjaras | L15: Masculino | M15: 19553.46 | N15: PESO MEXICANO | O15: 19553.46 | P15: PESO MEXICANO | Q15: 15 | R15: 15 | S15: 15 | T15: 15 | U15: 15 | V15: 15 | W15: 15 | X15: 15 | Y15: 15 | Z15: 15 | AA15: 15 | AB15: 15 | AC15: 15 | AD15: DIRECCION GENERAL | AE15: 43866 | AF15: 43866 | AG15: no cuenta con clave o nivel de puesto debido a que la relacion laboral corresponde a un contrato por tiempo indeterninado o un contrato por honorarios, y en estos no se manejan claves.
A16: 2020 | B16: 43831 | C16: 43861 | D16: Servidor(a) público(a) | E16: ninguna | F16: Conductor | G16: Conductor comisionado a la PPNNA | H16: Direccion General del Centro de Asistencia Social Rafael Nieto | I16: Arturo | J16: Garcia | K16: Alfaro | L16: Masculino | M16: 9360.08 | N16: PESO MEXICANO | O16: 9360 | P16: PESO MEXICANO | Q16: 16 | R16: 16 | S16: 16 | T16: 16 | U16: 16 | V16: 16 | W16: 16 | X16: 16 | Y16: 16 | Z16: 16 | AA16: 16 | AB16: 16 | AC16: 16 | AD16: DIRECCION GENERAL | AE16: 43866 | AF16: 43866 | AG16: no cuenta con clave o nivel de puesto debido a que la relacion laboral corresponde a un contrato por tiempo indeterninado o un contrato por honorarios, y en estos no se manejan claves.
A17: 2020 | B17: 43831 | C17: 43861 | D17: Servidor(a) público(a) | E17: 512 | F17: Prefecto | G17: Prefecto al cuidado de los niños en el turno nocturno | H17: Direccion General del Centro de Asistencia Social Rafael Nieto | I17: Job Roy | J17: Rodriguez | K17: Mendez | L17: Masculino | M17: 19553.46 | N17: PESO MEXICANO | O17: 19553.46 | P17: PESO MEXICANO | Q17: 17 | R17: 17 | S17: 17 | T17: 17 | U17: 17 | V17: 17 | W17: 17 | X17: 17 | Y17: 17 | Z17: 17 | AA17: 17 | AB17: 17 | AC17: 17 | AD17: DIRECCION GENERAL | AE17: 43866 | AF17: 43866
A18: 2020 | B18: 43831 | C18: 43861 | D18: Servidor(a) público(a) | E18: 512 | F18: Prefecto | G18: Prefecto al cuidado de los niños en el turno vespertino y nocturno | H18: Direccion General del Centro de Asistencia Social Rafael Nieto | I18: Oscar Raul | J18: Rodriguez | K18: Ruiz | L18: Masculino | M18: 19553.46 | N18: PESO MEXICANO | O18: 19553.46 | P18: PESO MEXICANO | Q18: 18 | R18: 18 | S18: 18 | T18: 18 | U18: 18 | V18: 18 | W18: 18 | X18: 18 | Y18: 18 | Z18: 18 | AA18: 18 | AB18: 18 | AC18: 18 | AD18: DIRECCION GENERAL | AE18: 43866 | AF18: 43866
A19: 2020 | B19: 43831 | C19: 43861 | D19: Otro | E19: ninguna | F19: Auxiliar en Trabajo Social | G19: Auxiliar en Trabajo Social | H19: Direccion General del Centro de Asistencia Social Rafael Nieto | I19: Rosa Maria | J19: Ibarra | K19: Catarino | L19: Femenino | M19: 10009.45 | N19: PESO MEXICANO | O19: 9084.6 | P19: PESO MEXICANO | Q19: 19 | R19: 19 | S19: 19 | T19: 19 | U19: 19 | V19: 19 | W19: 19 | X19: 19 | Y19: 19 | Z19: 19 | AA19: 19 | AB19: 19 | AC19: 19 | AD19: DIRECCION GENERAL | AE19: 43866 | AF19: 43866 | AG19: no cuenta con clave o nivel de puesto debido a que la relacion laboral corresponde a un contrato por tiempo indeterninado o un contrato por honorarios, y en estos no se manejan claves.
A20: 2020 | B20: 43831 | C20: 43861 | D20: Otro | E20: ninguna | F20: Prefecto | G20: Prefecto al cuidado de los niños en el turno nocturno | H20: Direccion General del Centro de Asistencia Social Rafael Nieto | I20: Jose Gustavo | J20: Gomez | K20: Rocha | L20: Masculino | M20: 10367.9 | N20: PESO MEXICANO | O20: 9378.64 | P20: PESO MEXICANO | Q20: 20 | R20: 20 | S20: 20 | T20: 20 | U20: 20 | V20: 20 | W20: 20 | X20: 20 | Y20: 20 | Z20: 20 | AA20: 20 | AB20: 20 | AC20: 20 | AD20: DIRECCION GENERAL | AE20: 43866 | AF20: 43866 | AG20: no cuenta con clave o nivel de puesto debido a que la relacion laboral corresponde a un contrato por tiempo indeterninado o un contrato por honorarios, y en estos no se manejan claves.
A21: 2020 | B21: 43831 | C21: 43861 | D21: Servidor(a) público(a) | E21: 101 | F21: Lavandera | G21: Lavandera encargada del area de Lavanderia en el turno matutino | H21: Direccion General del Centro de Asistencia Social Rafael Nieto | I21: Maria de la Luz | J21: Lopez | K21: Bravo | L21: Femenino | M21: 13451.91 | N21: PESO MEXICANO | O21: 13451.91 | P21: PESO MEXICANO | Q21: 21 | R21: 21 | S21: 21 | T21: 21 | U21: 21 | V21: 21 | W21: 21 | X21: 21 | Y21: 21 | Z21: 21 | AA21: 21 | AB21: 21 | AC21: 21 | AD21: DIRECCION GENERAL | AE21: 43866 | AF21: 43866
A22: 2020 | B22: 43831 | C22: 43861 | D22: Otro | E22: ninguna | F22: Psicologa | G22: Psicologa tratante de los niños en el turno matutino y vespertino | H22: Direccion General del Centro de Asistencia Social Rafael Nieto | I22: Agueda Pia | J22: Moreno | K22: Madrigal | L22: Femenino | M22: 11462 | N22: PESO MEXICANO | O22: 10276.92 | P22: PESO MEXICANO | Q22: 22 | R22: 22 | S22: 22 | T22: 22 | U22: 22 | V22: 22 | W22: 22 | X22: 22 | Y22: 22 | Z22: 22 | AA22: 22 | AB22: 22 | AC22: 22 | AD22: DIRECCION GENERAL | AE22: 43866 | AF22: 43866 | AG22: no cuenta con clave o nivel de puesto debido a que la relacion laboral corresponde a un contrato por tiempo indeterninado o un contrato por honorarios, y en estos no se manejan claves.
A23: 2020 | B23: 43831 | C23: 43861 | D23: Servidor(a) público(a) | E23: 206 | F23: Mozo de Oficina | G23: Mozo de Oficina en el turno vespertino | H23: Direccion General del Centro de Asistencia Social Rafael Nieto | I23: Maria del Carmen | J23: Flores | K23: Escalante | L23: Femenino | M23: 14333 | N23: PESO MEXICANO | O23: 14333 | P23: PESO MEXICANO | Q23: 23 | R23: 23 | S23: 23 | T23: 23 | U23: 23 | V23: 23 | W23: 23 | X23: 23 | Y23: 23 | Z23: 23 | AA23: 23 | AB23: 23 | AC23: 23 | AD23: DIRECCION GENERAL | AE23: 43866 | AF23: 43866
A24: 2020 | B24: 43831 | C24: 43861 | D24: Servidor(a) público(a) | E24: 206 | F24: Mozo de Oficina | G24: Mozo de Oficina en el turno matutino | H24: Direccion General del Centro de Asistencia Social Rafael Nieto | I24: Maribel | J24: Torres | K24: Coronado | L24: Femenino | M24: 14333 | N24: PESO MEXICANO | O24: 14333 | P24: PESO MEXICANO | Q24: 24 | R24: 24 | S24: 24 | T24: 24 | U24: 24 | V24: 24 | W24: 24 | X24: 24 | Y24: 24 | Z24: 24 | AA24: 24 | AB24: 24 | AC24: 24 | AD24: DIRECCION GENERAL | AE24: 43866 | AF24: 43866
A25: 2020 | B25: 43831 | C25: 43861 | D25: Otro | E25: ninguna | F25: Auxiliar de Mantenimiento | G25: Auxiliar de Mantenimiento del Instituto de Reintegracion Social Rafael Nieto | H25: Direccion General del Centro de Asistencia Social Rafael Nieto | I25: Tomas | J25: Silva | K25: Garcia | L25: Masculino | M25: 11986.13 | N25: PESO MEXICANO | O25: 10702.42 | P25: PESO MEXICANO | Q25: 25 | R25: 25 | S25: 25 | T25: 25 | U25: 25 | V25: 25 | W25: 25 | X25: 25 | Y25: 25 | Z25: 25 | AA25: 25 | AB25: 25 | AC25: 25 | AD25: DIRECCION GENERAL | AE25: 43866 | AF25: 43866 | AG25: no cuenta con clave o nivel de puesto debido a que la relacion laboral corresponde a un contrato por tiempo indeterninado o un contrato por honorarios, y en estos no se manejan claves.
A26: 2020 | B26: 43831 | C26: 43861 | D26: Otro | E26: ninguna | F26: Pedagoga | G26: Pedagoga de apoyo al aprendizaje de los niños | H26: Direccion General del Centro de Asistencia Social Rafael Nieto | I26: Gloria Montserrat | J26: Salvador | K26: Ferrer | L26: Femenino | M26: 12141 | N26: PESO MEXICANO | O26: 12141 | P26: PESO MEXICANO | Q26: 26 | R26: 26 | S26: 26 | T26: 26 | U26: 26 | V26: 26 | W26: 26 | X26: 26 | Y26: 26 | Z26: 26 | AA26: 26 | AB26: 26 | AC26: 26 | AD26: DIRECCION GENERAL | AE26: 43866 | AF26: 43866 | AG26: no cuenta con clave o nivel de puesto debido a que la relacion laboral corresponde a un contrato por tiempo indeterninado o un contrato por honorarios, y en estos no se manejan claves.
A27: 2020 | B27: 43831 | C27: 43861 | D27: Otro | E27: ninguna | F27: Auxiliar de Administracion y Prefectura | G27: Auxiliar de Administracion y Prefectura | H27: Direccion General del Centro de Asistencia Social Rafael Nieto | I27: Bernardo | J27: Zavala | K27: Pereda | L27: Masculino | M27: 12141.38 | N27: PESO MEXICANO | O27: 12141.38 | P27: PESO MEXICANO | Q27: 27 | R27: 27 | S27: 27 | T27: 27 | U27: 27 | V27: 27 | W27: 27 | X27: 27 | Y27: 27 | Z27: 27 | AA27: 27 | AB27: 27 | AC27: 27 | AD27: DIRECCION GENERAL | AE27: 43866 | AF27: 43866 | AG27: no cuenta con clave o nivel de puesto debido a que la relacion laboral corresponde a un contrato por tiempo indeterninado o un contrato por honorarios, y en estos no se manejan claves.
A28: 2020 | B28: 43831 | C28: 43861 | D28: Servidor(a) público(a) | E28: 306 | F28: Auxiliar en Puericultismo | G28: Auxiliar en Puericultismo en el turno vespertino | H28: Direccion General del Centro de Asistencia Social Rafael Nieto | I28: Anani del Carmen | J28: Puente | K28: Yañez | L28: Femenino | M28: 16237.17 | N28: PESO MEXICANO | O28: 16237.17 | P28: PESO MEXICANO | Q28: 28 | R28: 28 | S28: 28 | T28: 28 | U28: 28 | V28: 28 | W28: 28 | X28: 28 | Y28: 28 | Z28: 28 | AA28: 28 | AB28: 28 | AC28: 28 | AD28: DIRECCION GENERAL | AE28: 43866 | AF28: 43866
A29: 2020 | B29: 43831 | C29: 43861 | D29: Servidor(a) público(a) | E29: 305 | F29: Cocinera | G29: Cocinera en el turno matutino | H29: Direccion General del Centro de Asistencia Social Rafael Nieto | I29: Maria Esperanza | J29: Castillo | K29: Palomo | L29: Femenino | M29: 16237.17 | N29: PESO MEXICANO | O29: 16237.17 | P29: PESO MEXICANO | Q29: 29 | R29: 29 | S29: 29 | T29: 29 | U29: 29 | V29: 29 | W29: 29 | X29: 29 | Y29: 29 | Z29: 29 | AA29: 29 | AB29: 29 | AC29: 29 | AD29: DIRECCION GENERAL | AE29: 43866 | AF29: 43866
A30: 2020 | B30: 43831 | C30: 43861 | D30: Servidor(a) público(a) | E30: 313 | F30: Jardinero | G30: Jardinero del Instituto de Reintegacion Social Rafael nieto | H30: Direccion General del Centro de Asistencia Social Rafael Nieto | I30: Jose Manuel | J30: Heredia | K30: Guerrero | L30: Masculino | M30: 16237.17 | N30: PESO MEXICANO | O30: 16237.17 | P30: PESO MEXICANO | Q30: 30 | R30: 30 | S30: 30 | T30: 30 | U30: 30 | V30: 30 | W30: 30 | X30: 30 | Y30: 30 | Z30: 30 | AA30: 30 | AB30: 30 | AC30: 30 | AD30: DIRECCION GENERAL | AE30: 43866 | AF30: 43866
A31: 2020 | B31: 43831 | C31: 43861 | D31: Servidor(a) público(a) | E31: 305 | F31: Cocinera | G31: Intendente en el turno matutino | H31: Direccion General del Centro de Asistencia Social Rafael Nieto | I31: Maria Elena | J31: Martinez | K31: Rodriguez | L31: Femenino | M31: 16237.17 | N31: PESO MEXICANO | O31: 16237.17 | P31: PESO MEXICANO | Q31: 31 | R31: 31 | S31: 31 | T31: 31 | U31: 31 | V31: 31 | W31: 31 | X31: 31 | Y31: 31 | Z31: 31 | AA31: 31 | AB31: 31 | AC31: 31 | AD31: DIRECCION GENERAL | AE31: 43866 | AF31: 43866
A32: 2020 | B32: 43831 | C32: 43861 | D32: Servidor(a) público(a) | E32: 305 | F32: Cocinera | G32: Cocinera en el turno matutino | H32: Direccion General del Centro de Asistencia Social Rafael Nieto | I32: Maria del Socorro | J32: Orozco | K32: Villaseñor | L32: Femenino | M32: 16237.17 | N32: PESO MEXICANO | O32: 16237.17 | P32: PESO MEXICANO | Q32: 32 | R32: 32 | S32: 32 | T32: 32 | U32: 32 | V32: 32 | W32: 32 | X32: 32 | Y32: 32 | Z32: 32 | AA32: 32 | AB32: 32 | AC32: 32 | AD32: DIRECCION GENERAL | AE32: 43866 | AF32: 43866
A33: 2020 | B33: 43831 | C33: 43861 | D33: Servidor(a) público(a) | E33: 305 | F33: Cocinera | G33: Cocinera en el turno vespertino | H33: Direccion General del Centro de Asistencia Social Rafael Nieto | I33: Maria Ofelia | J33: Rodriguez | K33: Mendoza | L33: Femenino | M33: 16237.17 | N33: PESO MEXICANO | O33: 16237.17 | P33: PESO MEXICANO | Q33: 33 | R33: 33 | S33: 33 | T33: 33 | U33: 33 | V33: 33 | W33: 33 | X33: 33 | Y33: 33 | Z33: 33 | AA33: 33 | AB33: 33 | AC33: 33 | AD33: DIRECCION GENERAL | AE33: 43866 | AF33: 43866
A34: 2020 | B34: 43831 | C34: 43861 | D34: Servidor(a) público(a) | E34: 305 | F34: Cocinera | G34: Lavandera encargada del area de Lavanderia en el turno matutino | H34: Direccion General del Centro de Asistencia Social Rafael Nieto | I34: Adelaida | J34: Zuñiga | K34: Mendoza | L34: Femenino | M34: 16237.17 | N34: PESO MEXICANO | O34: 16237.17 | P34: PESO MEXICANO | Q34: 34 | R34: 34 | S34: 34 | T34: 34 | U34: 34 | V34: 34 | W34: 34 | X34: 34 | Y34: 34 | Z34: 34 | AA34: 34 | AB34: 34 | AC34: 34 | AD34: DIRECCION GENERAL | AE34: 43866 | AF34: 43866
A35: 2020 | B35: 43831 | C35: 43861 | D35: Servidor(a) público(a) | E35: 512 | F35: Maestro o Educador | G35: Maestra de 4to grado de primaria | H35: Direccion General del Centro de Asistencia Social Rafael Nieto | I35: Manuela de Fatima Karina | J35: Moreno | K35: Gutierrez | L35: Femenino | M35: 19553.46 | N35: PESO MEXICANO | O35: 19553.46 | P35: PESO MEXICANO | Q35: 35 | R35: 35 | S35: 35 | T35: 35 | U35: 35 | V35: 35 | W35: 35 | X35: 35 | Y35: 35 | Z35: 35 | AA35: 35 | AB35: 35 | AC35: 35 | AD35: DIRECCION GENERAL | AE35: 43866 | AF35: 43866
A36: 2020 | B36: 43831 | C36: 43861 | D36: Servidor(a) público(a) | E36: 412 | F36: Encargado de Mantenimiento | G36: Encargado de Mantenimiento comisionado al SADTGE | H36: Direccion General del Centro de Asistencia Social Rafael Nieto | I36: Enrique | J36: Ramirez | K36: Camacho | L36: Masculino | M36: 17165.58 | N36: PESO MEXICANO | O36: 17165.58 | P36: PESO MEXICANO | Q36: 36 | R36: 36 | S36: 36 | T36: 36 | U36: 36 | V36: 36 | W36: 36 | X36: 36 | Y36: 36 | Z36: 36 | AA36: 36 | AB36: 36 | AC36: 36 | AD36: DIRECCION GENERAL | AE36: 43866 | AF36: 43866
A37: 2020 | B37: 43831 | C37: 43861 | D37: Servidor(a) público(a) | E37: 512 | F37: Maestra Educadora | G37: Prefecta al cuidado de los niños en el turno vespertino | H37: Direccion General del Centro de Asistencia Social Rafael Nieto | I37: Maria Guadalupe | J37: Castillo | K37: Viña | L37: Femenino | M37: 19553.46 | N37: PESO MEXICANO | O37: 19553.46 | P37: PESO MEXICANO | Q37: 37 | R37: 37 | S37: 37 | T37: 37 | U37: 37 | V37: 37 | W37: 37 | X37: 37 | Y37: 37 | Z37: 37 | AA37: 37 | AB37: 37 | AC37: 37 | AD37: DIRECCION GENERAL | AE37: 43866 | AF37: 43866
A38: 2020 | B38: 43831 | C38: 43861 | D38: Servidor(a) público(a) | E38: 512 | F38: Maestra Educadora | G38: Maestra Educadora de 6to grado de primaria | H38: Direccion General del Centro de Asistencia Social Rafael Nieto | I38: Claudia Margarita | J38: Cervantes | K38: Fraga | L38: Femenino | M38: 19553.46 | N38: PESO MEXICANO | O38: 19553.46 | P38: PESO MEXICANO | Q38: 38 | R38: 38 | S38: 38 | T38: 38 | U38: 38 | V38: 38 | W38: 38 | X38: 38 | Y38: 38 | Z38: 38 | AA38: 38 | AB38: 38 | AC38: 38 | AD38: DIRECCION GENERAL | AE38: 43866 | AF38: 43866
A39: 2020 | B39: 43831 | C39: 43861 | D39: Servidor(a) público(a) | E39: 514 | F39: Tecnico no Especializado | G39: Prefecta al cuidado de los niños en el turno Matutino | H39: Direccion General del Centro de Asistencia Social Rafael Nieto | I39: Fatima de los Angeles | J39: Estrada | K39: Rivera | L39: Femenino | M39: 19553.46 | N39: PESO MEXICANO | O39: 19553.46 | P39: PESO MEXICANO | Q39: 39 | R39: 39 | S39: 39 | T39: 39 | U39: 39 | V39: 39 | W39: 39 | X39: 39 | Y39: 39 | Z39: 39 | AA39: 39 | AB39: 39 | AC39: 39 | AD39: DIRECCION GENERAL | AE39: 43866 | AF39: 43866
... A48: 2020 | B48: 43831 | C48: 43861 | D48: Personal de confianza | E48: 1406 | F48: Directora General | G48: Directora General del Instituto de Reintegracion Social Rafael Nieto | H48: Direccion General del Centro de Asistencia Social Rafael Nieto | I48: Claudia | J48: Hinojosa | K48: Celis | L48: Femenino | M48: 29835.01 | N48: PESO MEXICANO | O48: 24375.57 | P48: PESO MEXICANO | Q48: 48 | R48: 48 | S48: 48 | T48: 48 | U48: 48 | V48: 48 | W48: 48 | X48: 48 | Y48: 48 | Z48: 48 | AA48: 48 | AB48: 48 | AC48: 48 | AD48: DIRECCION GENERAL | AE48: 43866 | AF48: 43866
A49: 2020 | B49: 43831 | C49: 43861 | D49: Otro | E49: ninguna | F49: Intendente | G49: Inendente turno vespertino | H49: Direccion General del Centro de Asistencia Social Rafael Nieto | I49: Margarita Catalina | J49: Lopez | K49: Hernandez | L49: Femenino | M49: 5400 | N49: PESO MEXICANO | O49: 5358 | P49: PESO MEXICANO | Q49: 49 | R49: 49 | S49: 49 | T49: 49 | U49: 49 | V49: 49 | W49: 49 | X49: 49 | Y49: 49 | Z49: 49 | AA49: 49 | AB49: 49 | AC49: 49 | AD49: DIRECCION GENERAL | AE49: 43866 | AF49: 43866 | AG49: no cuenta con clave o nivel de puesto debido a que la relacion laboral corresponde a un contrato por tiempo indeterninado o un contrato por honorarios, y en estos no se manejan claves.

Sheet Hidden_1
A1: Funcionario
A2: Servidor(a) público(a)
A3: Servidor[a] público[a] eventual
A4: Integrante
A5: Empleado
A6: Representante popular
A7: Miembro del poder judicial
A8: Miembro de órgano autónomo
A9: Personal de confianza
A10: Prestador de servicios profesionales
A11: Otro

Sheet Hidden_2
A1: Femenino
A2: Masculino

Sheet Tabla_549551
B1: 2 | C1: 6 | D1: 6 | E1: 1 | F1: 1
B2: 70050 | C2: 70051 | D2: 70052 | E2: 70053 | F2: 70054
A3: ID | B3: Denominación de las percepciones adicionales en dinero | C3: Monto bruto de las percepciones adicionales en dinero | D3: Monto neto de las percepciones adicionales en dinero | E3: Tipo de moneda de las percepciones adicionales en dinero | F3: Periodicidad de las percepciones adicionales en dinero
A8: 8 | B8: PERCEPCIONES ADICIONALES | C8: 10409 | D8: 10409 | E8: PESO MEXICANO | F8: MENSUAL
A9: 9 | B9: PERCEPCIONES ADICIONALES | C9: =+C8 -> 10409 | D9: =+D8 -> 10409 | E9: PESO MEXICANO | F9: MENSUAL
A10: 10 | B10: PERCEPCIONES ADICIONALES | C10: 0 | D10: 0 | E10: PESO MEXICANO | F10: MENSUAL
A11: 11 | B11: PERCEPCIONES ADICIONALES | C11: 11084.8 | D11: 11084.8 | E11: PESO MEXICANO | F11: MENSUAL
A12: 12 | B12: PERCEPCIONES ADICIONALES | C12: =+C11 -> 11084.8 | D12: =+D11 -> 11084.8 | E12: PESO MEXICANO | F12: MENSUAL
A13: 13 | B13: PERCEPCIONES ADICIONALES | C13: 0 | D13: 0 | E13: PESO MEXICANO | F13: MENSUAL
A14: 14 | B14: PERCEPCIONES ADICIONALES | C14: =+C12 -> 11084.8 | D14: =+D12 -> 11084.8 | E14: PESO MEXICANO | F14: MENSUAL
A15: 15 | B15: PERCEPCIONES ADICIONALES | C15: 0 | D15: 0 | E15: PESO MEXICANO | F15: MENSUAL
A16: 16 | B16: PERCEPCIONES ADICIONALES | C16: 0 | D16: 0 | E16: PESO MEXICANO | F16: MENSUAL
A17: 17 | B17: PERCEPCIONES ADICIONALES | C17: =+C14 -> 11084.8 | D17: =+D14 -> 11084.8 | E17: PESO MEXICANO | F17: MENSUAL
A18: 18 | B18: PERCEPCIONES ADICIONALES | C18: =+C17 -> 11084.8 | D18: =+D17 -> 11084.8 | E18: PESO MEXICANO | F18: MENSUAL
A19: 19 | B19: PERCEPCIONES ADICIONALES | C19: 0 | D19: 0 | E19: PESO MEXICANO | F19: MENSUAL
A20: 20 | B20: PERCEPCIONES ADICIONALES | C20: 0 | D20: 0 | E20: PESO MEXICANO | F20: MENSUAL
A21: 21 | B21: PERCEPCIONES ADICIONALES | C21: 10078 | D21: 10078 | E21: PESO MEXICANO | F21: MENSUAL
A22: 22 | B22: PERCEPCIONES ADICIONALES | C22: 0 | D22: 0 | E22: PESO MEXICANO | F22: MENSUAL
A23: 23 | B23: PERCEPCIONES ADICIONALES | C23: 10183.2 | D23: 10183.2 | E23: PESO MEXICANO | F23: MENSUAL
A24: 24 | B24: PERCEPCIONES ADICIONALES | C24: =+C23 -> 10183.2 | D24: =+D23 -> 10183.2 | E24: PESO MEXICANO | F24: MENSUAL
A25: 25 | B25: PERCEPCIONES ADICIONALES | C25: 0 | D25: 0 | E25: PESO MEXICANO | F25: MENSUAL
A26: 26 | B26: PERCEPCIONES ADICIONALES | C26: 0 | D26: 0 | E26: PESO MEXICANO | F26: MENSUAL
A27: 27 | B27: PERCEPCIONES ADICIONALES | C27: 0 | D27: 0 | E27: PESO MEXICANO | F27: MENSUAL
A28: 28 | B28: PERCEPCIONES ADICIONALES | C28: 10409 | D28: 10409 | E28: PESO MEXICANO | F28: MENSUAL
A29: 29 | B29: PERCEPCIONES ADICIONALES | C29: 10409 | D29: 10409 | E29: PESO MEXICANO | F29: MENSUAL
A30: 30 | B30: PERCEPCIONES ADICIONALES | C30: 10409 | D30: 10409 | E30: PESO MEXICANO | F30: MENSUAL
A31: 31 | B31: PERCEPCIONES ADICIONALES | C31: 10409 | D31: 10409 | E31: PESO MEXICANO | F31: MENSUAL
A32: 32 | B32: PERCEPCIONES ADICIONALES | C32: 10409 | D32: 10409 | E32: PESO MEXICANO | F32: MENSUAL
A33: 33 | B33: PERCEPCIONES ADICIONALES | C33: 10409 | D33: 10409 | E33: PESO MEXICANO | F33: MENSUAL
A34: 34 | B34: PERCEPCIONES ADICIONALES | C34: 10409 | D34: 10409 | E34: PESO MEXICANO | F34: MENSUAL
A35: 35 | B35: PERCEPCIONES ADICIONALES | C35: =+C18 -> 11084.8 | D35: =+D18 -> 11084.8 | E35: PESO MEXICANO | F35: MENSUAL
A36: 36 | B36: PERCEPCIONES ADICIONALES | C36: 10524.6 | D36: 10524.6 | E36: PESO MEXICANO | F36: MENSUAL
A37: 37 | B37: PERCEPCIONES ADICIONALES | C37: 11084.8 | D37: 11084.8 | E37: PESO MEXICANO | F37: MENSUAL
A38: 38 | B38: PERCEPCIONES ADICIONALES | C38: 11084.8 | D38: 11084.8 | E38: PESO MEXICANO | F38: MENSUAL
A39: 39 | B39: PERCEPCIONES ADICIONALES | C39: 11084.8 | D39: 11084.8 | E39: PESO MEXICANO | F39: MENSUAL
A40: 40 | B40: PERCEPCIONES ADICIONALES | C40: 11084.8 | D40: 11084.8 | E40: PESO MEXICANO | F40: MENSUAL
A41: 41 | B41: PERCEPCIONES ADICIONALES | C41: 11084.8 | D41: 11084.8 | E41: PESO MEXICANO | F41: MENSUAL
A42: 42 | B42: PERCEPCIONES ADICIONALES | C42: 11084.8 | D42: 11084.8 | E42: PESO MEXICANO | F42: MENSUAL
A43: 43 | B43: PERCEPCIONES ADICIONALES | C43: 11084.8 | D43: 11084.8 | E43: PESO MEXICANO | F43: MENSUAL
A44: 44 | B44: PERCEPCIONES ADICIONALES | C44: 13027.2 | D44: 13027.2 | E44: PESO MEXICANO | F44: MENSUAL
A45: 45 | B45: PERCEPCIONES ADICIONALES | C45: =+C44 -> 13027.2 | D45: =+D44 -> 13027.2 | E45: PESO MEXICANO | F45: MENSUAL
A46: 46 | B46: PERCEPCIONES ADICIONALES | C46: 13348.2 | D46: 13348.2 | E46: PESO MEXICANO | F46: MENSUAL
A47: 47 | B47: PERCEPCIONES ADICIONALES | C47: 19489.8 | D47: 19489.8 | E47: PESO MEXICANO | F47: MENSUAL
A48: 48 | B48: PERCEPCIONES ADICIONALES | C48: 1300 | D48: 1300 | E48: PESO MEXICANO | F48: MENSUAL
A49: 49 | B49: PERCEPCIONES ADICIONALES | C49: 0 | D49: 0 | E49: PESO MEXICANO | F49: MENSUAL

Sheet Tabla_549538
B1: 2 | C1: 1
B2: 70028 | C2: 70029
A3: ID | B3: Descripción de las percepciones adicionales en especie | C3: Periodicidad de las percepciones adicionales en especie
A8: 8 | B8: NO SE GENERA EN VIRTUD DE QUE EL RAFAEL NIETO NO GENERA PRESTACIONES EN ESPECIE | C8: NO SE GENERA EN VIRTUD DE QUE EL RAFAEL NIETO NO GENERA PRESTACIONES EN ESPECIE
A9: 9 | B9: NO SE GENERA EN VIRTUD DE QUE EL RAFAEL NIETO NO GENERA PRESTACIONES EN ESPECIE | C9: NO SE GENERA EN VIRTUD DE QUE EL RAFAEL NIETO NO GENERA PRESTACIONES EN ESPECIE
A10: 10 | B10: NO SE GENERA EN VIRTUD DE QUE EL RAFAEL NIETO NO GENERA PRESTACIONES EN ESPECIE | C10: NO SE GENERA EN VIRTUD DE QUE EL RAFAEL NIETO NO GENERA PRESTACIONES EN ESPECIE
A11: 11 | B11: NO SE GENERA EN VIRTUD DE QUE EL RAFAEL NIETO NO GENERA PRESTACIONES EN ESPECIE | C11: NO SE GENERA EN VIRTUD DE QUE EL RAFAEL NIETO NO GENERA PRESTACIONES EN ESPECIE
A12: 12 | B12: NO SE GENERA EN VIRTUD DE QUE EL RAFAEL NIETO NO GENERA PRESTACIONES EN ESPECIE | C12: NO SE GENERA EN VIRTUD DE QUE EL RAFAEL NIETO NO GENERA PRESTACIONES EN ESPECIE
A13: 13 | B13: NO SE GENERA EN VIRTUD DE QUE EL RAFAEL NIETO NO GENERA PRESTACIONES EN ESPECIE | C13: NO SE GENERA EN VIRTUD DE QUE EL RAFAEL NIETO NO GENERA PRESTACIONES EN ESPECIE
A14: 14 | B14: NO SE GENERA EN VIRTUD DE QUE EL RAFAEL NIETO NO GENERA PRESTACIONES EN ESPECIE | C14: NO SE GENERA EN VIRTUD DE QUE EL RAFAEL NIETO NO GENERA PRESTACIONES EN ESPECIE
A15: 15 | B15: NO SE GENERA EN VIRTUD DE QUE EL RAFAEL NIETO NO GENERA PRESTACIONES EN ESPECIE | C15: NO SE GENERA EN VIRTUD DE QUE EL RAFAEL NIETO NO GENERA PRESTACIONES EN ESPECIE
A16: 16 | B16: NO SE GENERA EN VIRTUD DE QUE EL RAFAEL NIETO NO GENERA PRESTACIONES EN ESPECIE | C16: NO SE GENERA EN VIRTUD DE QUE EL RAFAEL NIETO NO GENERA PRESTACIONES EN ESPECIE
A17: 17 | B17: NO SE GENERA EN VIRTUD DE QUE EL RAFAEL NIETO NO GENERA PRESTACIONES EN ESPECIE | C17: NO SE GENERA EN VIRTUD DE QUE EL RAFAEL NIETO NO GENERA PRESTACIONES EN ESPECIE
A18: 18 | B18: NO SE GENERA EN VIRTUD DE QUE EL RAFAEL NIETO NO GENERA PRESTACIONES EN ESPECIE | C18: NO SE GENERA EN VIRTUD DE QUE EL RAFAEL NIETO NO GENERA PRESTACIONES EN ESPECIE
A19: 19 | B19: NO SE GENERA EN VIRTUD DE QUE EL RAFAEL NIETO NO GENERA PRESTACIONES EN ESPECIE | C19: NO SE GENERA EN VIRTUD DE QUE EL RAFAEL NIETO NO GENERA PRESTACIONES EN ESPECIE
... A49: 49 | B49: NO SE GENERA EN VIRTUD DE QUE EL RAFAEL NIETO NO GENERA PRESTACIONES EN ESPECIE | C49: NO SE GENERA EN VIRTUD DE QUE EL RAFAEL NIETO NO GENERA PRESTACIONES EN ESPECIE

Sheet Tabla_549552
B1: 2 | C1: 6 | D1: 6 | E1: 1 | F1: 1
B2: 70057 | C2: 70058 | D2: 70059 | E2: 70055 | F2: 70056
A3: ID | B3: Denominación de los ingresos | C3: Monto bruto de los ingresos | D3: Monto neto de los ingresos | E3: Tipo de moneda de los ingresos | F3: Periodicidad de los ingresos
A8: 8 | B8: SUELDOS Y PRESTACIONES MENSUALES | C8: =+'Reporte de Formatos'!M8+Tabla_549549!C8+Tabla_549550!C8 -> 16237 | D8: =+C8 -> 16237 | E8: PESO MEXICANO | F8: MENSUAL
A9: 9 | B9: SUELDOS Y PRESTACIONES MENSUALES | C9: =+'Reporte de Formatos'!M9+Tabla_549549!C9+Tabla_549550!C9 -> 19553.46 | D9: =+C9 -> 19553.46 | E9: PESO MEXICANO | F9: MENSUAL
A10: 10 | B10: SUELDOS Y PRESTACIONES MENSUALES | C10: =+'Reporte de Formatos'!M10+Tabla_549549!C10+Tabla_549550!C10 -> 6095.49 | D10: =+C10 -> 6095.49 | E10: PESO MEXICANO | F10: MENSUAL
A11: 11 | B11: SUELDOS Y PRESTACIONES MENSUALES | C11: =+'Reporte de Formatos'!M11+Tabla_549549!C11+Tabla_549550!C11 -> 19553.46 | D11: =+C11 -> 19553.46 | E11: PESO MEXICANO | F11: MENSUAL
A12: 12 | B12: SUELDOS Y PRESTACIONES MENSUALES | C12: =+'Reporte de Formatos'!M12+Tabla_549549!C12+Tabla_549550!C12 -> 19553.46 | D12: =+C12 -> 19553.46 | E12: PESO MEXICANO | F12: MENSUAL
A13: 13 | B13: SUELDOS Y PRESTACIONES MENSUALES | C13: =+'Reporte de Formatos'!M13+Tabla_549549!C13+Tabla_549550!C13 -> 12141.38 | D13: =+C13 -> 12141.38 | E13: PESO MEXICANO | F13: MENSUAL
A14: 14 | B14: SUELDOS Y PRESTACIONES MENSUALES | C14: =+'Reporte de Formatos'!M14+Tabla_549549!C14+Tabla_549550!C14 -> 19553.46 | D14: =+C14 -> 19553.46 | E14: PESO MEXICANO | F14: MENSUAL
A15: 15 | B15: SUELDOS Y PRESTACIONES MENSUALES | C15: =+'Reporte de Formatos'!M15+Tabla_549549!C15+Tabla_549550!C15 -> 19553.46 | D15: =+C15 -> 19553.46 | E15: PESO MEXICANO | F15: MENSUAL
A16: 16 | B16: SUELDOS Y PRESTACIONES MENSUALES | C16: =+'Reporte de Formatos'!M16+Tabla_549549!C16+Tabla_549550!C16 -> 9360.08 | D16: =+C16 -> 9360.08 | E16: PESO MEXICANO | F16: MENSUAL
A17: 17 | B17: SUELDOS Y PRESTACIONES MENSUALES | C17: 29986.66 | D17: =+C17 -> 29986.66 | E17: PESO MEXICANO | F17: MENSUAL
A18: 18 | B18: SUELDOS Y PRESTACIONES MENSUALES | C18: 29986.66 | D18: =+C18 -> 29986.66 | E18: PESO MEXICANO | F18: MENSUAL
A19: 19 | B19: SUELDOS Y PRESTACIONES MENSUALES | C19: =+'Reporte de Formatos'!M19+Tabla_549549!C19+Tabla_549550!C19 -> 10009.45 | D19: =+C19 -> 10009.45 | E19: PESO MEXICANO | F19: MENSUAL
A20: 20 | B20: SUELDOS Y PRESTACIONES MENSUALES | C20: =+'Reporte de Formatos'!M20+Tabla_549549!C20+Tabla_549550!C20 -> 10367.9 | D20: =+C20 -> 10367.9 | E20: PESO MEXICANO | F20: MENSUAL
A21: 21 | B21: SUELDOS Y PRESTACIONES MENSUALES | C21: =+'Reporte de Formatos'!M21+Tabla_549549!C21+Tabla_549550!C21 -> 13451.91 | D21: =+C21 -> 13451.91 | E21: PESO MEXICANO | F21: MENSUAL
A22: 22 | B22: SUELDOS Y PRESTACIONES MENSUALES | C22: =+'Reporte de Formatos'!M22+Tabla_549549!C22+Tabla_549550!C22 -> 11462 | D22: =+C22 -> 11462 | E22: PESO MEXICANO | F22: MENSUAL
A23: 23 | B23: SUELDOS Y PRESTACIONES MENSUALES | C23: =+'Reporte de Formatos'!M23+Tabla_549549!C23+Tabla_549550!C23 -> 14333 | D23: =+C23 -> 14333 | E23: PESO MEXICANO | F23: MENSUAL
A24: 24 | B24: SUELDOS Y PRESTACIONES MENSUALES | C24: =+'Reporte de Formatos'!M24+Tabla_549549!C24+Tabla_549550!C24 -> 14333 | D24: =+C24 -> 14333 | E24: PESO MEXICANO | F24: MENSUAL
A25: 25 | B25: SUELDOS Y PRESTACIONES MENSUALES | C25: =+'Reporte de Formatos'!M25+Tabla_549549!C25+Tabla_549550!C25 -> 11986.13 | D25: =+C25 -> 11986.13 | E25: PESO MEXICANO | F25: MENSUAL
A26: 26 | B26: SUELDOS Y PRESTACIONES MENSUALES | C26: =+'Reporte de Formatos'!M26+Tabla_549549!C26+Tabla_549550!C26 -> 12141 | D26: =+C26 -> 12141 | E26: PESO MEXICANO | F26: MENSUAL
A27: 27 | B27: SUELDOS Y PRESTACIONES MENSUALES | C27: =+'Reporte de Formatos'!M27+Tabla_549549!C27+Tabla_549550!C27 -> 12141.38 | D27: =+C27 -> 12141.38 | E27: PESO MEXICANO | F27: MENSUAL
A28: 28 | B28: SUELDOS Y PRESTACIONES MENSUALES | C28: =+'Reporte de Formatos'!M28+Tabla_549549!C28+Tabla_549550!C28 -> 16237.17 | D28: =+C28 -> 16237.17 | E28: PESO MEXICANO | F28: MENSUAL
A29: 29 | B29: SUELDOS Y PRESTACIONES MENSUALES | C29: =+'Reporte de Formatos'!M29+Tabla_549549!C29+Tabla_549550!C29 -> 16237.17 | D29: =+C29 -> 16237.17 | E29: PESO MEXICANO | F29: MENSUAL
A30: 30 | B30: SUELDOS Y PRESTACIONES MENSUALES | C30: =+'Reporte de Formatos'!M30+Tabla_549549!C30+Tabla_549550!C30 -> 16237.17 | D30: =+C30 -> 16237.17 | E30: PESO MEXICANO | F30: MENSUAL
... A49: 49 | B49: SUELDOS Y PRESTACIONES MENSUALES | C49: =+'Reporte de Formatos'!M49+Tabla_549549!C49+Tabla_549550!C49 -> 5400 | D49: =+C49 -> 5400 | E49: PESO MEXICANO | F49: MENSUAL

Sheet Tabla_549522
B1: 1 | C1: 6 | D1: 6 | E1: 1 | F1: 1
B2: 70008 | C2: 70009 | D2: 70010 | E2: 70011 | F2: 70012
A3: ID | B3: Denominación de los sistemas de compensación | C3: Monto bruto de los sistemas de compensación | D3: Monto neto de los sistemas de compensación | E3: Tipo de moneda de los sistemas de compensación | F3: Periodicidad de los sistemas de compensación
A8: 8 | B8: NO SE GENERA EN VIRTUO DE QUE EL CENTRO RAFAEL NIETO NO GENERA COMPENSACIONES | C8: 0 | D8: 0 | E8: NO SE GENERA EN VIRTUO DE QUE EL CENTRO RAFAEL NIETO NO GENERA COMPENSACIONES | F8: NO SE GENERA EN VIRTUO DE QUE EL CENTRO RAFAEL NIETO NO GENERA COMPENSACIONES
A9: 9 | B9: NO SE GENERA EN VIRTUO DE QUE EL CENTRO RAFAEL NIETO NO GENERA COMPENSACIONES | C9: 0 | D9: 0 | E9: NO SE GENERA EN VIRTUO DE QUE EL CENTRO RAFAEL NIETO NO GENERA COMPENSACIONES | F9: NO SE GENERA EN VIRTUO DE QUE EL CENTRO RAFAEL NIETO NO GENERA COMPENSACIONES
A10: 10 | B10: NO SE GENERA EN VIRTUO DE QUE EL CENTRO RAFAEL NIETO NO GENERA COMPENSACIONES | C10: 0 | D10: 0 | E10: NO SE GENERA EN VIRTUO DE QUE EL CENTRO RAFAEL NIETO NO GENERA COMPENSACIONES | F10: NO SE GENERA EN VIRTUO DE QUE EL CENTRO RAFAEL NIETO NO GENERA COMPENSACIONES
A11: 11 | B11: NO SE GENERA EN VIRTUO DE QUE EL CENTRO RAFAEL NIETO NO GENERA COMPENSACIONES | C11: 0 | D11: 0 | E11: NO SE GENERA EN VIRTUO DE QUE EL CENTRO RAFAEL NIETO NO GENERA COMPENSACIONES | F11: NO SE GENERA EN VIRTUO DE QUE EL CENTRO RAFAEL NIETO NO GENERA COMPENSACIONES
A12: 12 | B12: NO SE GENERA EN VIRTUO DE QUE EL CENTRO RAFAEL NIETO NO GENERA COMPENSACIONES | C12: 0 | D12: 0 | E12: NO SE GENERA EN VIRTUO DE QUE EL CENTRO RAFAEL NIETO NO GENERA COMPENSACIONES | F12: NO SE GENERA EN VIRTUO DE QUE EL CENTRO RAFAEL NIETO NO GENERA COMPENSACIONES
A13: 13 | B13: NO SE GENERA EN VIRTUO DE QUE EL CENTRO RAFAEL NIETO NO GENERA COMPENSACIONES | C13: 0 | D13: 0 | E13: NO SE GENERA EN VIRTUO DE QUE EL CENTRO RAFAEL NIETO NO GENERA COMPENSACIONES | F13: NO SE GENERA EN VIRTUO DE QUE EL CENTRO RAFAEL NIETO NO GENERA COMPENSACIONES
A14: 14 | B14: NO SE GENERA EN VIRTUO DE QUE EL CENTRO RAFAEL NIETO NO GENERA COMPENSACIONES | C14: 0 | D14: 0 | E14: NO SE GENERA EN VIRTUO DE QUE EL CENTRO RAFAEL NIETO NO GENERA COMPENSACIONES | F14: NO SE GENERA EN VIRTUO DE QUE EL CENTRO RAFAEL NIETO NO GENERA COMPENSACIONES
A15: 15 | B15: NO SE GENERA EN VIRTUO DE QUE EL CENTRO RAFAEL NIETO NO GENERA COMPENSACIONES | C15: 0 | D15: 0 | E15: NO SE GENERA EN VIRTUO DE QUE EL CENTRO RAFAEL NIETO NO GENERA COMPENSACIONES | F15: NO SE GENERA EN VIRTUO DE QUE EL CENTRO RAFAEL NIETO NO GENERA COMPENSACIONES
A16: 16 | B16: NO SE GENERA EN VIRTUO DE QUE EL CENTRO RAFAEL NIETO NO GENERA COMPENSACIONES | C16: 0 | D16: 0 | E16: NO SE GENERA EN VIRTUO DE QUE EL CENTRO RAFAEL NIETO NO GENERA COMPENSACIONES | F16: NO SE GENERA EN VIRTUO DE QUE EL CENTRO RAFAEL NIETO NO GENERA COMPENSACIONES
A17: 17 | B17: NO SE GENERA EN VIRTUO DE QUE EL CENTRO RAFAEL NIETO NO GENERA COMPENSACIONES | C17: 0 | D17: 0 | E17: NO SE GENERA EN VIRTUO DE QUE EL CENTRO RAFAEL NIETO NO GENERA COMPENSACIONES | F17: NO SE GENERA EN VIRTUO DE QUE EL CENTRO RAFAEL NIETO NO GENERA COMPENSACIONES
A18: 18 | B18: NO SE GENERA EN VIRTUO DE QUE EL CENTRO RAFAEL NIETO NO GENERA COMPENSACIONES | C18: 0 | D18: 0 | E18: NO SE GENERA EN VIRTUO DE QUE EL CENTRO RAFAEL NIETO NO GENERA COMPENSACIONES | F18: NO SE GENERA EN VIRTUO DE QUE EL CENTRO RAFAEL NIETO NO GENERA COMPENSACIONES
A19: 19 | B19: NO SE GENERA EN VIRTUO DE QUE EL CENTRO RAFAEL NIETO NO GENERA COMPENSACIONES | C19: 0 | D19: 0 | E19: NO SE GENERA EN VIRTUO DE QUE EL CENTRO RAFAEL NIETO NO GENERA COMPENSACIONES | F19: NO SE GENERA EN VIRTUO DE QUE EL CENTRO RAFAEL NIETO NO GENERA COMPENSACIONES
... A49: 49 | B49: NO SE GENERA EN VIRTUO DE QUE EL CENTRO RAFAEL NIETO NO GENERA COMPENSACIONES | C49: 0 | D49: 0 | E49: NO SE GENERA EN VIRTUO DE QUE EL CENTRO RAFAEL NIETO NO GENERA COMPENSACIONES | F49: NO SE GENERA EN VIRTUO DE QUE EL CENTRO RAFAEL NIETO NO GENERA COMPENSACIONES

Sheet Tabla_549542
B1: 1 | C1: 6 | D1: 6 | E1: 1 | F1: 1
B2: 70035 | C2: 70036 | D2: 70037 | E2: 70038 | F2: 70039
A3: ID | B3: Denominación de las gratificaciones | C3: Monto bruto de las gratificaciones | D3: Monto neto de las gratificaciones | E3: Tipo de moneda de las gratificaciones | F3: Periodicidad de las gratificaciones
A8: 8 | B8: AGUINALDO | C8: 65588 | D8: 65588 | E8: PESO MEXICANO | F8: ANUALES
A9: 9 | B9: AGUINALDO | C9: 72216 | D9: 72216 | E9: PESO MEXICANO | F9: ANUALES
A10: 10 | B10: AGUINALDO | C10: 3048 | D10: 3048 | E10: PESO MEXICANO | F10: ANUALES
A11: 11 | B11: AGUINALDO | C11: 72216 | D11: 72216 | E11: PESO MEXICANO | F11: ANUALES
A12: 12 | B12: AGUINALDO | C12: 72216 | D12: 72216 | E12: PESO MEXICANO | F12: ANUALES
A13: 13 | B13: AGUINALDO | C13: 6071 | D13: 6071 | E13: PESO MEXICANO | F13: ANUALES
A14: 14 | B14: AGUINALDO | C14: 72216 | D14: 72216 | E14: PESO MEXICANO | F14: ANUALES
A15: 15 | B15: AGUINALDO | C15: 15600 | D15: 15600 | E15: PESO MEXICANO | F15: ANUALES
A16: 16 | B16: AGUINALDO | C16: 15600 | D16: 15600 | E16: PESO MEXICANO | F16: ANUALES
A17: 17 | B17: AGUINALDO | C17: 72216 | D17: 72216 | E17: PESO MEXICANO | F17: ANUALES
A18: 18 | B18: AGUINALDO | C18: 72216 | D18: 72216 | E18: PESO MEXICANO | F18: ANUALES
A19: 19 | B19: AGUINALDO | C19: 5005 | D19: 5005 | E19: PESO MEXICANO | F19: ANUALES
... A49: 49 | B49: AGUINALDO | C49: 5400 | D49: 5400 | E49: PESO MEXICANO | F49: ANUALES

Sheet Tabla_549529
B1: 1 | C1: 6 | D1: 6 | E1: 1 | F1: 1
B2: 70013 | C2: 70014 | D2: 70015 | E2: 70016 | F2: 70017
A3: ID | B3: Denominación de las primas | C3: Monto bruto de las primas | D3: Monto neto de las primas | E3: Tipo de moneda de las primas | F3: Periodicidad de las primas
A8: 8 | B8: PRIMAS VACACIONALES | C8: 9912.67 | D8: 9912.67 | E8: PESO MEXICANO | F8: ANUAL
A9: 9 | B9: PRIMAS VACACIONALES | C9: 11939 | D9: 11939 | E9: PESO MEXICANO | F9: ANUAL
A10: 10 | B10: PRIMAS VACACIONALES | C10: 304.77 | D10: 304.77 | E10: PESO MEXICANO | F10: ANUAL
A11: 11 | B11: PRIMAS VACACIONALES | C11: 11939 | D11: 11939 | E11: PESO MEXICANO | F11: ANUAL
A12: 12 | B12: PRIMAS VACACIONALES | C12: 11939 | D12: 11939 | E12: PESO MEXICANO | F12: ANUAL
A13: 13 | B13: PRIMAS VACACIONALES | C13: 607 | D13: 607 | E13: PESO MEXICANO | F13: ANUAL
A14: 14 | B14: PRIMAS VACACIONALES | C14: 11939 | D14: 11939 | E14: PESO MEXICANO | F14: ANUAL
A15: 15 | B15: PRIMAS VACACIONALES | C15: 1248 | D15: 1248 | E15: PESO MEXICANO | F15: ANUAL
A16: 16 | B16: PRIMAS VACACIONALES | C16: 1248 | D16: 1248 | E16: PESO MEXICANO | F16: ANUAL
A17: 17 | B17: PRIMAS VACACIONALES | C17: 11939 | D17: 11939 | E17: PESO MEXICANO | F17: ANUAL
A18: 18 | B18: PRIMAS VACACIONALES | C18: 11939 | D18: 11939 | E18: PESO MEXICANO | F18: ANUAL
A19: 19 | B19: PRIMAS VACACIONALES | C19: 500.47 | D19: 500.47 | E19: PESO MEXICANO | F19: ANUAL
... A49: 49 | B49: PRIMAS VACACIONALES | C49: 540 | D49: 540 | E49: PESO MEXICANO | F49: ANUAL

Sheet Tabla_549539
B1: 1 | C1: 6 | D1: 6 | E1: 1 | F1: 1
B2: 70030 | C2: 70031 | D2: 70032 | E2: 70033 | F2: 70034
A3: ID | B3: Denominación de las comisiones | C3: Monto bruto de las comisiones | D3: Monto neto de las comisiones | E3: Tipo de moneda de las comisiones | F3: Periodicidad de las comisiones
A8: 8 | B8: NO SE GENERA EN VIRTUD DE QUE EL CENTRO RAFAEL NIETO NO GENERA COMISIONES | C8: 0 | D8: 0 | E8: NO SE GENERA EN VIRTUD DE QUE EL CENTRO RAFAEL NIETO NO GENERA COMISIONES | F8: NO SE GENERA EN VIRTUD DE QUE EL CENTRO RAFAEL NIETO NO GENERA COMISIONES
A9: 9 | B9: NO SE GENERA EN VIRTUD DE QUE EL CENTRO RAFAEL NIETO NO GENERA COMISIONES | C9: 0 | D9: 0 | E9: NO SE GENERA EN VIRTUD DE QUE EL CENTRO RAFAEL NIETO NO GENERA COMISIONES | F9: NO SE GENERA EN VIRTUD DE QUE EL CENTRO RAFAEL NIETO NO GENERA COMISIONES
A10: 10 | B10: NO SE GENERA EN VIRTUD DE QUE EL CENTRO RAFAEL NIETO NO GENERA COMISIONES | C10: 0 | D10: 0 | E10: NO SE GENERA EN VIRTUD DE QUE EL CENTRO RAFAEL NIETO NO GENERA COMISIONES | F10: NO SE GENERA EN VIRTUD DE QUE EL CENTRO RAFAEL NIETO NO GENERA COMISIONES
A11: 11 | B11: NO SE GENERA EN VIRTUD DE QUE EL CENTRO RAFAEL NIETO NO GENERA COMISIONES | C11: 0 | D11: 0 | E11: NO SE GENERA EN VIRTUD DE QUE EL CENTRO RAFAEL NIETO NO GENERA COMISIONES | F11: NO SE GENERA EN VIRTUD DE QUE EL CENTRO RAFAEL NIETO NO GENERA COMISIONES
A12: 12 | B12: NO SE GENERA EN VIRTUD DE QUE EL CENTRO RAFAEL NIETO NO GENERA COMISIONES | C12: 0 | D12: 0 | E12: NO SE GENERA EN VIRTUD DE QUE EL CENTRO RAFAEL NIETO NO GENERA COMISIONES | F12: NO SE GENERA EN VIRTUD DE QUE EL CENTRO RAFAEL NIETO NO GENERA COMISIONES
A13: 13 | B13: NO SE GENERA EN VIRTUD DE QUE EL CENTRO RAFAEL NIETO NO GENERA COMISIONES | C13: 0 | D13: 0 | E13: NO SE GENERA EN VIRTUD DE QUE EL CENTRO RAFAEL NIETO NO GENERA COMISIONES | F13: NO SE GENERA EN VIRTUD DE QUE EL CENTRO RAFAEL NIETO NO GENERA COMISIONES
A14: 14 | B14: NO SE GENERA EN VIRTUD DE QUE EL CENTRO RAFAEL NIETO NO GENERA COMISIONES | C14: 0 | D14: 0 | E14: NO SE GENERA EN VIRTUD DE QUE EL CENTRO RAFAEL NIETO NO GENERA COMISIONES | F14: NO SE GENERA EN VIRTUD DE QUE EL CENTRO RAFAEL NIETO NO GENERA COMISIONES
A15: 15 | B15: NO SE GENERA EN VIRTUD DE QUE EL CENTRO RAFAEL NIETO NO GENERA COMISIONES | C15: 0 | D15: 0 | E15: NO SE GENERA EN VIRTUD DE QUE EL CENTRO RAFAEL NIETO NO GENERA COMISIONES | F15: NO SE GENERA EN VIRTUD DE QUE EL CENTRO RAFAEL NIETO NO GENERA COMISIONES
A16: 16 | B16: NO SE GENERA EN VIRTUD DE QUE EL CENTRO RAFAEL NIETO NO GENERA COMISIONES | C16: 0 | D16: 0 | E16: NO SE GENERA EN VIRTUD DE QUE EL CENTRO RAFAEL NIETO NO GENERA COMISIONES | F16: NO SE GENERA EN VIRTUD DE QUE EL CENTRO RAFAEL NIETO NO GENERA COMISIONES
A17: 17 | B17: NO SE GENERA EN VIRTUD DE QUE EL CENTRO RAFAEL NIETO NO GENERA COMISIONES | C17: 0 | D17: 0 | E17: NO SE GENERA EN VIRTUD DE QUE EL CENTRO RAFAEL NIETO NO GENERA COMISIONES | F17: NO SE GENERA EN VIRTUD DE QUE EL CENTRO RAFAEL NIETO NO GENERA COMISIONES
A18: 18 | B18: NO SE GENERA EN VIRTUD DE QUE EL CENTRO RAFAEL NIETO NO GENERA COMISIONES | C18: 0 | D18: 0 | E18: NO SE GENERA EN VIRTUD DE QUE EL CENTRO RAFAEL NIETO NO GENERA COMISIONES | F18: NO SE GENERA EN VIRTUD DE QUE EL CENTRO RAFAEL NIETO NO GENERA COMISIONES
A19: 19 | B19: NO SE GENERA EN VIRTUD DE QUE EL CENTRO RAFAEL NIETO NO GENERA COMISIONES | C19: 0 | D19: 0 | E19: NO SE GENERA EN VIRTUD DE QUE EL CENTRO RAFAEL NIETO NO GENERA COMISIONES | F19: NO SE GENERA EN VIRTUD DE QUE EL CENTRO RAFAEL NIETO NO GENERA COMISIONES
... A49: 49 | B49: NO SE GENERA EN VIRTUD DE QUE EL CENTRO RAFAEL NIETO NO GENERA COMISIONES | C49: 0 | D49: 0 | E49: NO SE GENERA EN VIRTUD DE QUE EL CENTRO RAFAEL NIETO NO GENERA COMISIONES | F49: NO SE GENERA EN VIRTUD DE QUE EL CENTRO RAFAEL NIETO NO GENERA COMISIONES

Sheet Tabla_549530
B1: 1 | C1: 6 | D1: 6 | E1: 1 | F1: 1
B2: 70018 | C2: 70019 | D2: 70020 | E2: 70021 | F2: 70022
A3: ID | B3: Denominación de las dietas | C3: Monto bruto de las dietas | D3: Monto neto de las dietas | E3: Tipo de moneda de las dietas | F3: Periodicidad de las dietas
A8: 8 | B8: NO SE GENERA, YA QUE EN EL PERIODO QUE SE INFORMA EL CENTRO RAFAEL NIETO NO GENERA DIETAS | C8: 0 | D8: 0 | E8: NO SE GENERA, YA QUE EN EL PERIODO QUE SE INFORMA EL CENTRO RAFAEL NIETO NO GENERA DIETAS | F8: NO SE GENERA, YA QUE EN EL PERIODO QUE SE INFORMA EL CENTRO RAFAEL NIETO NO GENERA DIETAS
A9: 9 | B9: NO SE GENERA, YA QUE EN EL PERIODO QUE SE INFORMA EL CENTRO RAFAEL NIETO NO GENERA DIETAS | C9: 0 | D9: 0 | E9: NO SE GENERA, YA QUE EN EL PERIODO QUE SE INFORMA EL CENTRO RAFAEL NIETO NO GENERA DIETAS | F9: NO SE GENERA, YA QUE EN EL PERIODO QUE SE INFORMA EL CENTRO RAFAEL NIETO NO GENERA DIETAS
A10: 10 | B10: NO SE GENERA, YA QUE EN EL PERIODO QUE SE INFORMA EL CENTRO RAFAEL NIETO NO GENERA DIETAS | C10: 0 | D10: 0 | E10: NO SE GENERA, YA QUE EN EL PERIODO QUE SE INFORMA EL CENTRO RAFAEL NIETO NO GENERA DIETAS | F10: NO SE GENERA, YA QUE EN EL PERIODO QUE SE INFORMA EL CENTRO RAFAEL NIETO NO GENERA DIETAS
A11: 11 | B11: NO SE GENERA, YA QUE EN EL PERIODO QUE SE INFORMA EL CENTRO RAFAEL NIETO NO GENERA DIETAS | C11: 0 | D11: 0 | E11: NO SE GENERA, YA QUE EN EL PERIODO QUE SE INFORMA EL CENTRO RAFAEL NIETO NO GENERA DIETAS | F11: NO SE GENERA, YA QUE EN EL PERIODO QUE SE INFORMA EL CENTRO RAFAEL NIETO NO GENERA DIETAS
A12: 12 | B12: NO SE GENERA, YA QUE EN EL PERIODO QUE SE INFORMA EL CENTRO RAFAEL NIETO NO GENERA DIETAS | C12: 0 | D12: 0 | E12: NO SE GENERA, YA QUE EN EL PERIODO QUE SE INFORMA EL CENTRO RAFAEL NIETO NO GENERA DIETAS | F12: NO SE GENERA, YA QUE EN EL PERIODO QUE SE INFORMA EL CENTRO RAFAEL NIETO NO GENERA DIETAS
A13: 13 | B13: NO SE GENERA, YA QUE EN EL PERIODO QUE SE INFORMA EL CENTRO RAFAEL NIETO NO GENERA DIETAS | C13: 0 | D13: 0 | E13: NO SE GENERA, YA QUE EN EL PERIODO QUE SE INFORMA EL CENTRO RAFAEL NIETO NO GENERA DIETAS | F13: NO SE GENERA, YA QUE EN EL PERIODO QUE SE INFORMA EL CENTRO RAFAEL NIETO NO GENERA DIETAS
A14: 14 | B14: NO SE GENERA, YA QUE EN EL PERIODO QUE SE INFORMA EL CENTRO RAFAEL NIETO NO GENERA DIETAS | C14: 0 | D14: 0 | E14: NO SE GENERA, YA QUE EN EL PERIODO QUE SE INFORMA EL CENTRO RAFAEL NIETO NO GENERA DIETAS | F14: NO SE GENERA, YA QUE EN EL PERIODO QUE SE INFORMA EL CENTRO RAFAEL NIETO NO GENERA DIETAS
A15: 15 | B15: NO SE GENERA, YA QUE EN EL PERIODO QUE SE INFORMA EL CENTRO RAFAEL NIETO NO GENERA DIETAS | C15: 0 | D15: 0 | E15: NO SE GENERA, YA QUE EN EL PERIODO QUE SE INFORMA EL CENTRO RAFAEL NIETO NO GENERA DIETAS | F15: NO SE GENERA, YA QUE EN EL PERIODO QUE SE INFORMA EL CENTRO RAFAEL NIETO NO GENERA DIETAS
A16: 16 | B16: NO SE GENERA, YA QUE EN EL PERIODO QUE SE INFORMA EL CENTRO RAFAEL NIETO NO GENERA DIETAS | C16: 0 | D16: 0 | E16: NO SE GENERA, YA QUE EN EL PERIODO QUE SE INFORMA EL CENTRO RAFAEL NIETO NO GENERA DIETAS | F16: NO SE GENERA, YA QUE EN EL PERIODO QUE SE INFORMA EL CENTRO RAFAEL NIETO NO GENERA DIETAS
A17: 17 | B17: NO SE GENERA, YA QUE EN EL PERIODO QUE SE INFORMA EL CENTRO RAFAEL NIETO NO GENERA DIETAS | C17: 0 | D17: 0 | E17: NO SE GENERA, YA QUE EN EL PERIODO QUE SE INFORMA EL CENTRO RAFAEL NIETO NO GENERA DIETAS | F17: NO SE GENERA, YA QUE EN EL PERIODO QUE SE INFORMA EL CENTRO RAFAEL NIETO NO GENERA DIETAS
A18: 18 | B18: NO SE GENERA, YA QUE EN EL PERIODO QUE SE INFORMA EL CENTRO RAFAEL NIETO NO GENERA DIETAS | C18: 0 | D18: 0 | E18: NO SE GENERA, YA QUE EN EL PERIODO QUE SE INFORMA EL CENTRO RAFAEL NIETO NO GENERA DIETAS | F18: NO SE GENERA, YA QUE EN EL PERIODO QUE SE INFORMA EL CENTRO RAFAEL NIETO NO GENERA DIETAS
A19: 19 | B19: NO SE GENERA, YA QUE EN EL PERIODO QUE SE INFORMA EL CENTRO RAFAEL NIETO NO GENERA DIETAS | C19: 0 | D19: 0 | E19: NO SE GENERA, YA QUE EN EL PERIODO QUE SE INFORMA EL CENTRO RAFAEL NIETO NO GENERA DIETAS | F19: NO SE GENERA, YA QUE EN EL PERIODO QUE SE INFORMA EL CENTRO RAFAEL NIETO NO GENERA DIETAS
... A49: 49 | B49: NO SE GENERA, YA QUE EN EL PERIODO QUE SE INFORMA EL CENTRO RAFAEL NIETO NO GENERA DIETAS | C49: 0 | D49: 0 | E49: NO SE GENERA, YA QUE EN EL PERIODO QUE SE INFORMA EL CENTRO RAFAEL NIETO NO GENERA DIETAS | F49: NO SE GENERA, YA QUE EN EL PERIODO QUE SE INFORMA EL CENTRO RAFAEL NIETO NO GENERA DIETAS

Sheet Tabla_549531
B1: 1 | C1: 6 | D1: 6 | E1: 1 | F1: 1
B2: 70023 | C2: 70024 | D2: 70025 | E2: 70026 | F2: 70027
A3: ID | B3: Denominación de los bonos | C3: Monto bruto de los bonos | D3: Monto neto de los bonos | E3: Tipo de moneda de los bonos | F3: Periodicidad de los bonos
A8: 8 | B8: NO SE GENERA INFORMACION EN VIRTUD DE QUE EL CENTRO RAFAEL NIETO NO CUENTA CON BONOS | C8: 0 | D8: 0 | E8: NO SE GENERA INFORMACION EN VIRTUD DE QUE EL CENTRO RAFAEL NIETO NO CUENTA CON BONOS | F8: NO SE GENERA INFORMACION EN VIRTUD DE QUE EL CENTRO RAFAEL NIETO NO CUENTA CON BONOS
A9: 9 | B9: NO SE GENERA INFORMACION EN VIRTUD DE QUE EL CENTRO RAFAEL NIETO NO CUENTA CON BONOS | C9: 0 | D9: 0 | E9: NO SE GENERA INFORMACION EN VIRTUD DE QUE EL CENTRO RAFAEL NIETO NO CUENTA CON BONOS | F9: NO SE GENERA INFORMACION EN VIRTUD DE QUE EL CENTRO RAFAEL NIETO NO CUENTA CON BONOS
A10: 10 | B10: NO SE GENERA INFORMACION EN VIRTUD DE QUE EL CENTRO RAFAEL NIETO NO CUENTA CON BONOS | C10: 0 | D10: 0 | E10: NO SE GENERA INFORMACION EN VIRTUD DE QUE EL CENTRO RAFAEL NIETO NO CUENTA CON BONOS | F10: NO SE GENERA INFORMACION EN VIRTUD DE QUE EL CENTRO RAFAEL NIETO NO CUENTA CON BONOS
A11: 11 | B11: NO SE GENERA INFORMACION EN VIRTUD DE QUE EL CENTRO RAFAEL NIETO NO CUENTA CON BONOS | C11: 0 | D11: 0 | E11: NO SE GENERA INFORMACION EN VIRTUD DE QUE EL CENTRO RAFAEL NIETO NO CUENTA CON BONOS | F11: NO SE GENERA INFORMACION EN VIRTUD DE QUE EL CENTRO RAFAEL NIETO NO CUENTA CON BONOS
A12: 12 | B12: NO SE GENERA INFORMACION EN VIRTUD DE QUE EL CENTRO RAFAEL NIETO NO CUENTA CON BONOS | C12: 0 | D12: 0 | E12: NO SE GENERA INFORMACION EN VIRTUD DE QUE EL CENTRO RAFAEL NIETO NO CUENTA CON BONOS | F12: NO SE GENERA INFORMACION EN VIRTUD DE QUE EL CENTRO RAFAEL NIETO NO CUENTA CON BONOS
A13: 13 | B13: NO SE GENERA INFORMACION EN VIRTUD DE QUE EL CENTRO RAFAEL NIETO NO CUENTA CON BONOS | C13: 0 | D13: 0 | E13: NO SE GENERA INFORMACION EN VIRTUD DE QUE EL CENTRO RAFAEL NIETO NO CUENTA CON BONOS | F13: NO SE GENERA INFORMACION EN VIRTUD DE QUE EL CENTRO RAFAEL NIETO NO CUENTA CON BONOS
A14: 14 | B14: NO SE GENERA INFORMACION EN VIRTUD DE QUE EL CENTRO RAFAEL NIETO NO CUENTA CON BONOS | C14: 0 | D14: 0 | E14: NO SE GENERA INFORMACION EN VIRTUD DE QUE EL CENTRO RAFAEL NIETO NO CUENTA CON BONOS | F14: NO SE GENERA INFORMACION EN VIRTUD DE QUE EL CENTRO RAFAEL NIETO NO CUENTA CON BONOS
A15: 15 | B15: NO SE GENERA INFORMACION EN VIRTUD DE QUE EL CENTRO RAFAEL NIETO NO CUENTA CON BONOS | C15: 0 | D15: 0 | E15: NO SE GENERA INFORMACION EN VIRTUD DE QUE EL CENTRO RAFAEL NIETO NO CUENTA CON BONOS | F15: NO SE GENERA INFORMACION EN VIRTUD DE QUE EL CENTRO RAFAEL NIETO NO CUENTA CON BONOS
A16: 16 | B16: NO SE GENERA INFORMACION EN VIRTUD DE QUE EL CENTRO RAFAEL NIETO NO CUENTA CON BONOS | C16: 0 | D16: 0 | E16: NO SE GENERA INFORMACION EN VIRTUD DE QUE EL CENTRO RAFAEL NIETO NO CUENTA CON BONOS | F16: NO SE GENERA INFORMACION EN VIRTUD DE QUE EL CENTRO RAFAEL NIETO NO CUENTA CON BONOS
A17: 17 | B17: NO SE GENERA INFORMACION EN VIRTUD DE QUE EL CENTRO RAFAEL NIETO NO CUENTA CON BONOS | C17: 0 | D17: 0 | E17: NO SE GENERA INFORMACION EN VIRTUD DE QUE EL CENTRO RAFAEL NIETO NO CUENTA CON BONOS | F17: NO SE GENERA INFORMACION EN VIRTUD DE QUE EL CENTRO RAFAEL NIETO NO CUENTA CON BONOS
A18: 18 | B18: NO SE GENERA INFORMACION EN VIRTUD DE QUE EL CENTRO RAFAEL NIETO NO CUENTA CON BONOS | C18: 0 | D18: 0 | E18: NO SE GENERA INFORMACION EN VIRTUD DE QUE EL CENTRO RAFAEL NIETO NO CUENTA CON BONOS | F18: NO SE GENERA INFORMACION EN VIRTUD DE QUE EL CENTRO RAFAEL NIETO NO CUENTA CON BONOS
A19: 19 | B19: NO SE GENERA INFORMACION EN VIRTUD DE QUE EL CENTRO RAFAEL NIETO NO CUENTA CON BONOS | C19: 0 | D19: 0 | E19: NO SE GENERA INFORMACION EN VIRTUD DE QUE EL CENTRO RAFAEL NIETO NO CUENTA CON BONOS | F19: NO SE GENERA INFORMACION EN VIRTUD DE QUE EL CENTRO RAFAEL NIETO NO CUENTA CON BONOS
... A49: 49 | B49: NO SE GENERA INFORMACION EN VIRTUD DE QUE EL CENTRO RAFAEL NIETO NO CUENTA CON BONOS | C49: 0 | D49: 0 | E49: NO SE GENERA INFORMACION EN VIRTUD DE QUE EL CENTRO RAFAEL NIETO NO CUENTA CON BONOS | F49: NO SE GENERA INFORMACION EN VIRTUD DE QUE EL CENTRO RAFAEL NIETO NO CUENTA CON BONOS

Sheet Tabla_549549
B1: 1 | C1: 6 | D1: 6 | E1: 1 | F1: 1
B2: 70040 | C2: 70041 | D2: 70042 | E2: 70043 | F2: 70044
A3: ID | B3: Denominación de los estímulos | C3: Monto bruto de los estímulos | D3: Monto neto de los estímulos | E3: Tipo de moneda de los estímulos | F3: Periodicidad de los estímulos
A8: 8 | B8: NO GENERA EN VIRTUD DE QUE EL CENTRO RAFAEL NIETO NO CUENTA CON ESTIMULOS | C8: 0 | D8: 0 | E8: NO GENERA EN VIRTUD DE QUE EL CENTRO RAFAEL NIETO NO CUENTA CON ESTIMULOS | F8: MENSUAL
A9: 9 | B9: NO GENERA EN VIRTUD DE QUE EL CENTRO RAFAEL NIETO NO CUENTA CON ESTIMULOS | C9: 0 | D9: 0 | E9: NO GENERA EN VIRTUD DE QUE EL CENTRO RAFAEL NIETO NO CUENTA CON ESTIMULOS | F9: MENSUAL
A10: 10 | B10: NO GENERA EN VIRTUD DE QUE EL CENTRO RAFAEL NIETO NO CUENTA CON ESTIMULOS | C10: 0 | D10: 0 | E10: NO GENERA EN VIRTUD DE QUE EL CENTRO RAFAEL NIETO NO CUENTA CON ESTIMULOS | F10: MENSUAL
A11: 11 | B11: NO GENERA EN VIRTUD DE QUE EL CENTRO RAFAEL NIETO NO CUENTA CON ESTIMULOS | C11: 0 | D11: 0 | E11: NO GENERA EN VIRTUD DE QUE EL CENTRO RAFAEL NIETO NO CUENTA CON ESTIMULOS | F11: MENSUAL
A12: 12 | B12: NO GENERA EN VIRTUD DE QUE EL CENTRO RAFAEL NIETO NO CUENTA CON ESTIMULOS | C12: 0 | D12: 0 | E12: NO GENERA EN VIRTUD DE QUE EL CENTRO RAFAEL NIETO NO CUENTA CON ESTIMULOS | F12: MENSUAL
A13: 13 | B13: NO GENERA EN VIRTUD DE QUE EL CENTRO RAFAEL NIETO NO CUENTA CON ESTIMULOS | C13: 0 | D13: 0 | E13: NO GENERA EN VIRTUD DE QUE EL CENTRO RAFAEL NIETO NO CUENTA CON ESTIMULOS | F13: MENSUAL
A14: 14 | B14: NO GENERA EN VIRTUD DE QUE EL CENTRO RAFAEL NIETO NO CUENTA CON ESTIMULOS | C14: 0 | D14: 0 | E14: NO GENERA EN VIRTUD DE QUE EL CENTRO RAFAEL NIETO NO CUENTA CON ESTIMULOS | F14: MENSUAL
A15: 15 | B15: NO GENERA EN VIRTUD DE QUE EL CENTRO RAFAEL NIETO NO CUENTA CON ESTIMULOS | C15: 0 | D15: 0 | E15: NO GENERA EN VIRTUD DE QUE EL CENTRO RAFAEL NIETO NO CUENTA CON ESTIMULOS | F15: MENSUAL
A16: 16 | B16: NO GENERA EN VIRTUD DE QUE EL CENTRO RAFAEL NIETO NO CUENTA CON ESTIMULOS | C16: 0 | D16: 0 | E16: NO GENERA EN VIRTUD DE QUE EL CENTRO RAFAEL NIETO NO CUENTA CON ESTIMULOS | F16: MENSUAL
A17: 17 | B17: NO GENERA EN VIRTUD DE QUE EL CENTRO RAFAEL NIETO NO CUENTA CON ESTIMULOS | C17: 0 | D17: 0 | E17: NO GENERA EN VIRTUD DE QUE EL CENTRO RAFAEL NIETO NO CUENTA CON ESTIMULOS | F17: MENSUAL
A18: 18 | B18: NO GENERA EN VIRTUD DE QUE EL CENTRO RAFAEL NIETO NO CUENTA CON ESTIMULOS | C18: 0 | D18: 0 | E18: NO GENERA EN VIRTUD DE QUE EL CENTRO RAFAEL NIETO NO CUENTA CON ESTIMULOS | F18: MENSUAL
A19: 19 | B19: NO GENERA EN VIRTUD DE QUE EL CENTRO RAFAEL NIETO NO CUENTA CON ESTIMULOS | C19: 0 | D19: 0 | E19: NO GENERA EN VIRTUD DE QUE EL CENTRO RAFAEL NIETO NO CUENTA CON ESTIMULOS | F19: MENSUAL
... A49: 49 | B49: NO GENERA EN VIRTUD DE QUE EL CENTRO RAFAEL NIETO NO CUENTA CON ESTIMULOS | C49: 0 | D49: 0 | E49: NO GENERA EN VIRTUD DE QUE EL CENTRO RAFAEL NIETO NO CUENTA CON ESTIMULOS | F49: MENSUAL

Sheet Tabla_549553
B1: 1 | C1: 6 | D1: 6 | E1: 1 | F1: 1
B2: 70060 | C2: 70061 | D2: 70062 | E2: 70063 | F2: 70064
A3: ID | B3: Denominación de los apoyos económicos | C3: Monto bruto de los apoyos económicos | D3: Monto neto de los apoyos económicos | E3: Tipo de moneda de los apoyos económicos | F3: Periodicidad de los apoyos económicos
A8: 8 | B8: NO GENERA EN VIRTUD DE QUE EL CENTRO RAFAEL NIETO NO CUENTA CON APOYOS ECONOMICOS | C8: 0 | D8: 0 | E8: NO GENERA EN VIRTUD DE QUE EL CENTRO RAFAEL NIETO NO CUENTA CON APOYOS ECONOMICOS | F8: NO GENERA EN VIRTUD DE QUE EL CENTRO RAFAEL NIETO NO CUENTA CON APOYOS ECONOMICOS
A9: 9 | B9: NO GENERA EN VIRTUD DE QUE EL CENTRO RAFAEL NIETO NO CUENTA CON APOYOS ECONOMICOS | C9: 0 | D9: 0 | E9: NO GENERA EN VIRTUD DE QUE EL CENTRO RAFAEL NIETO NO CUENTA CON APOYOS ECONOMICOS | F9: NO GENERA EN VIRTUD DE QUE EL CENTRO RAFAEL NIETO NO CUENTA CON APOYOS ECONOMICOS
A10: 10 | B10: NO GENERA EN VIRTUD DE QUE EL CENTRO RAFAEL NIETO NO CUENTA CON APOYOS ECONOMICOS | C10: 0 | D10: 0 | E10: NO GENERA EN VIRTUD DE QUE EL CENTRO RAFAEL NIETO NO CUENTA CON APOYOS ECONOMICOS | F10: NO GENERA EN VIRTUD DE QUE EL CENTRO RAFAEL NIETO NO CUENTA CON APOYOS ECONOMICOS
A11: 11 | B11: NO GENERA EN VIRTUD DE QUE EL CENTRO RAFAEL NIETO NO CUENTA CON APOYOS ECONOMICOS | C11: 0 | D11: 0 | E11: NO GENERA EN VIRTUD DE QUE EL CENTRO RAFAEL NIETO NO CUENTA CON APOYOS ECONOMICOS | F11: NO GENERA EN VIRTUD DE QUE EL CENTRO RAFAEL NIETO NO CUENTA CON APOYOS ECONOMICOS
A12: 12 | B12: NO GENERA EN VIRTUD DE QUE EL CENTRO RAFAEL NIETO NO CUENTA CON APOYOS ECONOMICOS | C12: 0 | D12: 0 | E12: NO GENERA EN VIRTUD DE QUE EL CENTRO RAFAEL NIETO NO CUENTA CON APOYOS ECONOMICOS | F12: NO GENERA EN VIRTUD DE QUE EL CENTRO RAFAEL NIETO NO CUENTA CON APOYOS ECONOMICOS
A13: 13 | B13: NO GENERA EN VIRTUD DE QUE EL CENTRO RAFAEL NIETO NO CUENTA CON APOYOS ECONOMICOS | C13: 0 | D13: 0 | E13: NO GENERA EN VIRTUD DE QUE EL CENTRO RAFAEL NIETO NO CUENTA CON APOYOS ECONOMICOS | F13: NO GENERA EN VIRTUD DE QUE EL CENTRO RAFAEL NIETO NO CUENTA CON APOYOS ECONOMICOS
A14: 14 | B14: NO GENERA EN VIRTUD DE QUE EL CENTRO RAFAEL NIETO NO CUENTA CON APOYOS ECONOMICOS | C14: 0 | D14: 0 | E14: NO GENERA EN VIRTUD DE QUE EL CENTRO RAFAEL NIETO NO CUENTA CON APOYOS ECONOMICOS | F14: NO GENERA EN VIRTUD DE QUE EL CENTRO RAFAEL NIETO NO CUENTA CON APOYOS ECONOMICOS
A15: 15 | B15: NO GENERA EN VIRTUD DE QUE EL CENTRO RAFAEL NIETO NO CUENTA CON APOYOS ECONOMICOS | C15: 0 | D15: 0 | E15: NO GENERA EN VIRTUD DE QUE EL CENTRO RAFAEL NIETO NO CUENTA CON APOYOS ECONOMICOS | F15: NO GENERA EN VIRTUD DE QUE EL CENTRO RAFAEL NIETO NO CUENTA CON APOYOS ECONOMICOS
A16: 16 | B16: NO GENERA EN VIRTUD DE QUE EL CENTRO RAFAEL NIETO NO CUENTA CON APOYOS ECONOMICOS | C16: 0 | D16: 0 | E16: NO GENERA EN VIRTUD DE QUE EL CENTRO RAFAEL NIETO NO CUENTA CON APOYOS ECONOMICOS | F16: NO GENERA EN VIRTUD DE QUE EL CENTRO RAFAEL NIETO NO CUENTA CON APOYOS ECONOMICOS
A17: 17 | B17: NO GENERA EN VIRTUD DE QUE EL CENTRO RAFAEL NIETO NO CUENTA CON APOYOS ECONOMICOS | C17: 0 | D17: 0 | E17: NO GENERA EN VIRTUD DE QUE EL CENTRO RAFAEL NIETO NO CUENTA CON APOYOS ECONOMICOS | F17: NO GENERA EN VIRTUD DE QUE EL CENTRO RAFAEL NIETO NO CUENTA CON APOYOS ECONOMICOS
A18: 18 | B18: NO GENERA EN VIRTUD DE QUE EL CENTRO RAFAEL NIETO NO CUENTA CON APOYOS ECONOMICOS | C18: 0 | D18: 0 | E18: NO GENERA EN VIRTUD DE QUE EL CENTRO RAFAEL NIETO NO CUENTA CON APOYOS ECONOMICOS | F18: NO GENERA EN VIRTUD DE QUE EL CENTRO RAFAEL NIETO NO CUENTA CON APOYOS ECONOMICOS
A19: 19 | B19: NO GENERA EN VIRTUD DE QUE EL CENTRO RAFAEL NIETO NO CUENTA CON APOYOS ECONOMICOS | C19: 0 | D19: 0 | E19: NO GENERA EN VIRTUD DE QUE EL CENTRO RAFAEL NIETO NO CUENTA CON APOYOS ECONOMICOS | F19: NO GENERA EN VIRTUD DE QUE EL CENTRO RAFAEL NIETO NO CUENTA CON APOYOS ECONOMICOS
... A49: 49 | B49: NO GENERA EN VIRTUD DE QUE EL CENTRO RAFAEL NIETO NO CUENTA CON APOYOS ECONOMICOS | C49: 0 | D49: 0 | E49: NO GENERA EN VIRTUD DE QUE EL CENTRO RAFAEL NIETO NO CUENTA CON APOYOS ECONOMICOS | F49: NO GENERA EN VIRTUD DE QUE EL CENTRO RAFAEL NIETO NO CUENTA CON APOYOS ECONOMICOS

Sheet Tabla_549550
B1: 1 | C1: 6 | D1: 6 | E1: 1 | F1: 1
B2: 70045 | C2: 70046 | D2: 70047 | E2: 70048 | F2: 70049
A3: ID | B3: Denominación de las prestaciones económicas | C3: Monto bruto de las prestaciones económicas | D3: Monto neto de las prestaciones económicas | E3: Tipo de moneda de las prestaciones económicas | F3: Periodicidad de las prestaciones económicas
A8: 8 | B8: NO SE GENERA INFORMACION EN VIRTUD DE QUE EL CENTRO DE ASISTENCIA SOCIAL RAFAEL NIETO NO GENERA PRESTACIONES ECONÓMICAS | C8: 0 | D8: 0 | E8: NO SE GENERA INFORMACION EN VIRTUD DE QUE EL CENTRO DE ASISTENCIA SOCIAL RAFAEL NIETO NO GENERA PRESTACIONES ECONÓMICAS | F8: NO SE GENERA INFORMACION EN VIRTUD DE QUE EL CENTRO DE ASISTENCIA SOCIAL RAFAEL NIETO NO GENERA PRESTACIONES ECONÓMICAS
A9: 9 | B9: NO SE GENERA INFORMACION EN VIRTUD DE QUE EL CENTRO DE ASISTENCIA SOCIAL RAFAEL NIETO NO GENERA PRESTACIONES ECONÓMICAS | C9: 0 | D9: 0 | E9: NO SE GENERA INFORMACION EN VIRTUD DE QUE EL CENTRO DE ASISTENCIA SOCIAL RAFAEL NIETO NO GENERA PRESTACIONES ECONÓMICAS | F9: NO SE GENERA INFORMACION EN VIRTUD DE QUE EL CENTRO DE ASISTENCIA SOCIAL RAFAEL NIETO NO GENERA PRESTACIONES ECONÓMICAS
A10: 10 | B10: NO SE GENERA INFORMACION EN VIRTUD DE QUE EL CENTRO DE ASISTENCIA SOCIAL RAFAEL NIETO NO GENERA PRESTACIONES ECONÓMICAS | C10: 0 | D10: 0 | E10: NO SE GENERA INFORMACION EN VIRTUD DE QUE EL CENTRO DE ASISTENCIA SOCIAL RAFAEL NIETO NO GENERA PRESTACIONES ECONÓMICAS | F10: NO SE GENERA INFORMACION EN VIRTUD DE QUE EL CENTRO DE ASISTENCIA SOCIAL RAFAEL NIETO NO GENERA PRESTACIONES ECONÓMICAS
A11: 11 | B11: NO SE GENERA INFORMACION EN VIRTUD DE QUE EL CENTRO DE ASISTENCIA SOCIAL RAFAEL NIETO NO GENERA PRESTACIONES ECONÓMICAS | C11: 0 | D11: 0 | E11: NO SE GENERA INFORMACION EN VIRTUD DE QUE EL CENTRO DE ASISTENCIA SOCIAL RAFAEL NIETO NO GENERA PRESTACIONES ECONÓMICAS | F11: NO SE GENERA INFORMACION EN VIRTUD DE QUE EL CENTRO DE ASISTENCIA SOCIAL RAFAEL NIETO NO GENERA PRESTACIONES ECONÓMICAS
A12: 12 | B12: NO SE GENERA INFORMACION EN VIRTUD DE QUE EL CENTRO DE ASISTENCIA SOCIAL RAFAEL NIETO NO GENERA PRESTACIONES ECONÓMICAS | C12: 0 | D12: 0 | E12: NO SE GENERA INFORMACION EN VIRTUD DE QUE EL CENTRO DE ASISTENCIA SOCIAL RAFAEL NIETO NO GENERA PRESTACIONES ECONÓMICAS | F12: NO SE GENERA INFORMACION EN VIRTUD DE QUE EL CENTRO DE ASISTENCIA SOCIAL RAFAEL NIETO NO GENERA PRESTACIONES ECONÓMICAS
A13: 13 | B13: NO SE GENERA INFORMACION EN VIRTUD DE QUE EL CENTRO DE ASISTENCIA SOCIAL RAFAEL NIETO NO GENERA PRESTACIONES ECONÓMICAS | C13: 0 | D13: 0 | E13: NO SE GENERA INFORMACION EN VIRTUD DE QUE EL CENTRO DE ASISTENCIA SOCIAL RAFAEL NIETO NO GENERA PRESTACIONES ECONÓMICAS | F13: NO SE GENERA INFORMACION EN VIRTUD DE QUE EL CENTRO DE ASISTENCIA SOCIAL RAFAEL NIETO NO GENERA PRESTACIONES ECONÓMICAS
A14: 14 | B14: NO SE GENERA INFORMACION EN VIRTUD DE QUE EL CENTRO DE ASISTENCIA SOCIAL RAFAEL NIETO NO GENERA PRESTACIONES ECONÓMICAS | C14: 0 | D14: 0 | E14: NO SE GENERA INFORMACION EN VIRTUD DE QUE EL CENTRO DE ASISTENCIA SOCIAL RAFAEL NIETO NO GENERA PRESTACIONES ECONÓMICAS | F14: NO SE GENERA INFORMACION EN VIRTUD DE QUE EL CENTRO DE ASISTENCIA SOCIAL RAFAEL NIETO NO GENERA PRESTACIONES ECONÓMICAS
A15: 15 | B15: NO SE GENERA INFORMACION EN VIRTUD DE QUE EL CENTRO DE ASISTENCIA SOCIAL RAFAEL NIETO NO GENERA PRESTACIONES ECONÓMICAS | C15: 0 | D15: 0 | E15: NO SE GENERA INFORMACION EN VIRTUD DE QUE EL CENTRO DE ASISTENCIA SOCIAL RAFAEL NIETO NO GENERA PRESTACIONES ECONÓMICAS | F15: NO SE GENERA INFORMACION EN VIRTUD DE QUE EL CENTRO DE ASISTENCIA SOCIAL RAFAEL NIETO NO GENERA PRESTACIONES ECONÓMICAS
A16: 16 | B16: NO SE GENERA INFORMACION EN VIRTUD DE QUE EL CENTRO DE ASISTENCIA SOCIAL RAFAEL NIETO NO GENERA PRESTACIONES ECONÓMICAS | C16: 0 | D16: 0 | E16: NO SE GENERA INFORMACION EN VIRTUD DE QUE EL CENTRO DE ASISTENCIA SOCIAL RAFAEL NIETO NO GENERA PRESTACIONES ECONÓMICAS | F16: NO SE GENERA INFORMACION EN VIRTUD DE QUE EL CENTRO DE ASISTENCIA SOCIAL RAFAEL NIETO NO GENERA PRESTACIONES ECONÓMICAS
A17: 17 | B17: NO SE GENERA INFORMACION EN VIRTUD DE QUE EL CENTRO DE ASISTENCIA SOCIAL RAFAEL NIETO NO GENERA PRESTACIONES ECONÓMICAS | C17: 0 | D17: 0 | E17: NO SE GENERA INFORMACION EN VIRTUD DE QUE EL CENTRO DE ASISTENCIA SOCIAL RAFAEL NIETO NO GENERA PRESTACIONES ECONÓMICAS | F17: NO SE GENERA INFORMACION EN VIRTUD DE QUE EL CENTRO DE ASISTENCIA SOCIAL RAFAEL NIETO NO GENERA PRESTACIONES ECONÓMICAS
A18: 18 | B18: NO SE GENERA INFORMACION EN VIRTUD DE QUE EL CENTRO DE ASISTENCIA SOCIAL RAFAEL NIETO NO GENERA PRESTACIONES ECONÓMICAS | C18: 0 | D18: 0 | E18: NO SE GENERA INFORMACION EN VIRTUD DE QUE EL CENTRO DE ASISTENCIA SOCIAL RAFAEL NIETO NO GENERA PRESTACIONES ECONÓMICAS | F18: NO SE GENERA INFORMACION EN VIRTUD DE QUE EL CENTRO DE ASISTENCIA SOCIAL RAFAEL NIETO NO GENERA PRESTACIONES ECONÓMICAS
A19: 19 | B19: NO SE GENERA INFORMACION EN VIRTUD DE QUE EL CENTRO DE ASISTENCIA SOCIAL RAFAEL NIETO NO GENERA PRESTACIONES ECONÓMICAS | C19: 0 | D19: 0 | E19: NO SE GENERA INFORMACION EN VIRTUD DE QUE EL CENTRO DE ASISTENCIA SOCIAL RAFAEL NIETO NO GENERA PRESTACIONES ECONÓMICAS | F19: NO SE GENERA INFORMACION EN VIRTUD DE QUE EL CENTRO DE ASISTENCIA SOCIAL RAFAEL NIETO NO GENERA PRESTACIONES ECONÓMICAS
... A49: 49 | B49: NO SE GENERA INFORMACION EN VIRTUD DE QUE EL CENTRO DE ASISTENCIA SOCIAL RAFAEL NIETO NO GENERA PRESTACIONES ECONÓMICAS | C49: 0 | D49: 0 | E49: NO SE GENERA INFORMACION EN VIRTUD DE QUE EL CENTRO DE ASISTENCIA SOCIAL RAFAEL NIETO NO GENERA PRESTACIONES ECONÓMICAS | F49: NO SE GENERA INFORMACION EN VIRTUD DE QUE EL CENTRO DE ASISTENCIA SOCIAL RAFAEL NIETO NO GENERA PRESTACIONES ECONÓMICAS

Sheet Tabla_549554
B1: 1 | C1: 1
B2: 70065 | C2: 70066
A3: ID | B3: Descripción de las prestaciones en especie | C3: Periodicidad de las prestaciones en especie
A8: 8 | B8: NO GENERA INFORMACION EN VIRTUD DE QUE EL CENTRO RAFAEL NIETO NO CUENTA CON PRESTACIONES EN ESPECIE | C8: NO GENERA INFORMACION EN VIRTUD DE QUE EL CENTRO RAFAEL NIETO NO CUENTA CON PRESTACIONES EN ESPECIE
A9: 9 | B9: NO GENERA INFORMACION EN VIRTUD DE QUE EL CENTRO RAFAEL NIETO NO CUENTA CON PRESTACIONES EN ESPECIE | C9: NO GENERA INFORMACION EN VIRTUD DE QUE EL CENTRO RAFAEL NIETO NO CUENTA CON PRESTACIONES EN ESPECIE
A10: 10 | B10: NO GENERA INFORMACION EN VIRTUD DE QUE EL CENTRO RAFAEL NIETO NO CUENTA CON PRESTACIONES EN ESPECIE | C10: NO GENERA INFORMACION EN VIRTUD DE QUE EL CENTRO RAFAEL NIETO NO CUENTA CON PRESTACIONES EN ESPECIE
A11: 11 | B11: NO GENERA INFORMACION EN VIRTUD DE QUE EL CENTRO RAFAEL NIETO NO CUENTA CON PRESTACIONES EN ESPECIE | C11: NO GENERA INFORMACION EN VIRTUD DE QUE EL CENTRO RAFAEL NIETO NO CUENTA CON PRESTACIONES EN ESPECIE
A12: 12 | B12: NO GENERA INFORMACION EN VIRTUD DE QUE EL CENTRO RAFAEL NIETO NO CUENTA CON PRESTACIONES EN ESPECIE | C12: NO GENERA INFORMACION EN VIRTUD DE QUE EL CENTRO RAFAEL NIETO NO CUENTA CON PRESTACIONES EN ESPECIE
A13: 13 | B13: NO GENERA INFORMACION EN VIRTUD DE QUE EL CENTRO RAFAEL NIETO NO CUENTA CON PRESTACIONES EN ESPECIE | C13: NO GENERA INFORMACION EN VIRTUD DE QUE EL CENTRO RAFAEL NIETO NO CUENTA CON PRESTACIONES EN ESPECIE
A14: 14 | B14: NO GENERA INFORMACION EN VIRTUD DE QUE EL CENTRO RAFAEL NIETO NO CUENTA CON PRESTACIONES EN ESPECIE | C14: NO GENERA INFORMACION EN VIRTUD DE QUE EL CENTRO RAFAEL NIETO NO CUENTA CON PRESTACIONES EN ESPECIE
A15: 15 | B15: NO GENERA INFORMACION EN VIRTUD DE QUE EL CENTRO RAFAEL NIETO NO CUENTA CON PRESTACIONES EN ESPECIE | C15: NO GENERA INFORMACION EN VIRTUD DE QUE EL CENTRO RAFAEL NIETO NO CUENTA CON PRESTACIONES EN ESPECIE
A16: 16 | B16: NO GENERA INFORMACION EN VIRTUD DE QUE EL CENTRO RAFAEL NIETO NO CUENTA CON PRESTACIONES EN ESPECIE | C16: NO GENERA INFORMACION EN VIRTUD DE QUE EL CENTRO RAFAEL NIETO NO CUENTA CON PRESTACIONES EN ESPECIE
A17: 17 | B17: NO GENERA INFORMACION EN VIRTUD DE QUE EL CENTRO RAFAEL NIETO NO CUENTA CON PRESTACIONES EN ESPECIE | C17: NO GENERA INFORMACION EN VIRTUD DE QUE EL CENTRO RAFAEL NIETO NO CUENTA CON PRESTACIONES EN ESPECIE
A18: 18 | B18: NO GENERA INFORMACION EN VIRTUD DE QUE EL CENTRO RAFAEL NIETO NO CUENTA CON PRESTACIONES EN ESPECIE | C18: NO GENERA INFORMACION EN VIRTUD DE QUE EL CENTRO RAFAEL NIETO NO CUENTA CON PRESTACIONES EN ESPECIE
A19: 19 | B19: NO GENERA INFORMACION EN VIRTUD DE QUE EL CENTRO RAFAEL NIETO NO CUENTA CON PRESTACIONES EN ESPECIE | C19: NO GENERA INFORMACION EN VIRTUD DE QUE EL CENTRO RAFAEL NIETO NO CUENTA CON PRESTACIONES EN ESPECIE
... A49: 49 | B49: NO GENERA INFORMACION EN VIRTUD DE QUE EL CENTRO RAFAEL NIETO NO CUENTA CON PRESTACIONES EN ESPECIE | C49: NO GENERA INFORMACION EN VIRTUD DE QUE EL CENTRO RAFAEL NIETO NO CUENTA CON PRESTACIONES EN ESPECIE

Sheet Hoja1
