Workbook
Name Hidden_1_Tabla_5502084: Hidden_1_Tabla_550208!$A$1:$A$3
Name Hidden_13: Hidden_1!$A$1:$A$2
Name Hidden_24: Hidden_2!$A$1:$A$5
Name Hidden_335: Hidden_3!$A$1:$A$2

Sheet Reporte de Formatos
A1: 56184
A2: TÍTULO | D2: NOMBRE CORTO | G2: DESCRIPCIÓN
A3: Resultados adjudicaciones, invitaciones y licitaciones_Procedimientos de adjudicación directa | D3: LTAIPSLP84XXXIVB | G3: En este apartado se dispone cuáles son los contenidos y la forma en que los sujetos obligados deberán publicar y actualizar la información que generen, relativa a los procedimientos de adjudicación directa, así como los equivalentes que realizan en términos de las normas que resulten aplicables en materia de adquisiciones, arrendamiento de bienes muebles, prestación de servicios y contrataciones de obras públicas, y los servicios relacionados con las mismas
A4: 1 | B4: 4 | C4: 4 | D4: 9 | E4: 9 | F4: 1 | G4: 2 | H4: 7 | I4: 2 | J4: 10 | K4: 2 | L4: 2 | M4: 2 | N4: 2 | O4: 1 | P4: 2 | Q4: 2 | R4: 1 | S4: 4 | T4: 6 | U4: 6 | V4: 6 | W4: 6 | X4: 1 | Y4: 1 | Z4: 1 | AA4: 2 | AB4: 6 | AC4: 4 | AD4: 4 | AE4: 7 | AF4: 7 | AG4: 1 | AH4: 2 | AI4: 10 | AJ4: 9 | AK4: 10 | AL4: 2 | AM4: 7 | AN4: 7 | AO4: 7 | AP4: 7 | AQ4: 2 | AR4: 4 | AS4: 13 | AT4: 14
A5: 550186 | B5: 550210 | C5: 550211 | D5: 550222 | E5: 550221 | F5: 550183 | G5: 550191 | H5: 550203 | I5: 550192 | J5: 550223 | K5: 550216 | L5: 550212 | M5: 550217 | N5: 550218 | O5: 550219 | P5: 550188 | Q5: 550189 | R5: 550184 | S5: 550196 | T5: 550197 | U5: 550198 | V5: 550200 | W5: 550201 | X5: 550181 | Y5: 550182 | Z5: 550185 | AA5: 550193 | AB5: 550199 | AC5: 550194 | AD5: 550213 | AE5: 550207 | AF5: 550206 | AG5: 550187 | AH5: 550224 | AI5: 550208 | AJ5: 550225 | AK5: 550220 | AL5: 550190 | AM5: 550226 | AN5: 550204 | AO5: 550205 | AP5: 550202 | AQ5: 550214 | AR5: 550195 | AS5: 550209 | AT5: 550215
A6: Tabla Campos
A7: Ejercicio | B7: Fecha de inicio del periodo que se informa | C7: Fecha de término del periodo que se informa | D7: Tipo de procedimiento (catálogo) | E7: Materia (catálogo) | F7: Número de expediente, folio o nomenclatura que lo identifique | G7: Motivos y fundamentos legales aplicados para realizar la adjudicación directa | H7: Hipervínculo a la autorización del ejercicio de la opción | I7: Descripción de obras, bienes o servicios | J7: Nombre completo o razón social de las cotizaciones consideradas y monto de las mismas Tabla_550223 | K7: Nombre(s) del adjudicado | L7: Primer apellido del adjudicado | M7: Segundo apellido del adjudicado | N7: Razón social del adjudicado | O7: Registro Federal de Contribuyentes (RFC) de la persona física o moral adjudicada | P7: Área(s) solicitante(s) | Q7: Área(s) responsable(s) de la ejecución del contrato | R7: Número que identifique al contrato | S7: Fecha del contrato | T7: Monto del contrato sin impuestos incluidos | U7: Monto total del contrato con impuestos incluidos (expresado en pesos mexicanos) | V7: Monto mínimo, en su caso | W7: Monto máximo, en su caso | X7: Tipo de moneda | Y7: Tipo de cambio de referencia, en su caso | Z7: Forma de pago | AA7: Objeto del contrato | AB7: Monto total de garantías y/o contragarantías, en caso de que se otorgaran durante el procedimiento | AC7: Fecha de inicio del plazo de entrega o ejecución de servicios contratados u obra pública | AD7: Fecha de término del plazo de entrega o ejecución de servicios u obra pública | AE7: Hipervínculo al documento del contrato y anexos, versión pública si así corresponde | AF7: Hipervínculo al comunicado de suspensión, rescisión o terminación anticipada del contrato | AG7: Origen de los recursos públicos | AH7: Fuentes de financiamiento | AI7: Datos de la obra pública y/o servicios relacionados con la misma Tabla_550208 | AJ7: Se realizaron convenios modificatorios (catálogo) | AK7: Datos de los convenios modificatorios de la contratación Tabla_550220 | AL7: Mecanismos de vigilancia y supervisión contratos | AM7: Hipervínculo, en su caso a los informes de avance físico en versión pública | AN7: Hipervínculo a los informes de avance financiero | AO7: Hipervínculo acta de recepción física de trabajos ejecutados u homóloga | AP7: Hipervínculo al finiquito | AQ7: Área(s) responsable(s) que genera(n), posee(n), publica(n) y actualizan la información | AR7: Fecha de validación | AS7: Fecha de actualización | AT7: Nota
A8: 2019 | B8: 43466 | C8: 43496 | D8: Adjudicación directa | E8: Adquisiciones | F8: 149653 | G8: Articulo 25 Ley de Adquisiciones del estado | H8: http://www.cegaipslp.org.mx/HV2019.nsf/nombre_de_la_vista/781C20E3DABA45718625839B0056258C/$File/LTAIPSLP84XXXIVB.pdf | I8: Medicamento General | J8: No se genera | K8: No se genera | L8: No se genera | M8: No se genera | N8: PR Medical Group, S.A. de C.V. | O8: PMG180129RC2 | P8: Area administrativa | Q8: División de Recursos Materiales | R8: 01/AD/29222/OFTALMO/2019 | S8: 43466 | T8: 115714 | U8: 134228.24 | V8: 115714 | W8: 115714 | X8: Moneda Nacional | Y8: No se genera | Z8: Pago Diferido | AA8: Compra-Venta | AB8: No se genera | AC8: 43467 | AD8: 43483 | AE8: http://www.cegaipslp.org.mx/HV2019.nsf/nombre_de_la_vista/781C20E3DABA45718625839B0056258C/$File/LTAIPSLP84XXXIVB.pdf | AF8: http://www.cegaipslp.org.mx/HV2019.nsf/nombre_de_la_vista/781C20E3DABA45718625839B0056258C/$File/LTAIPSLP84XXXIVB.pdf | AG8: Estatales | AH8: Cuotas de recuperacion | AI8: =+Tabla_550208!A4 -> 1 | AJ8: No | AK8: =+Tabla_550220!A4 -> 1 | AL8: Entradas y salidas de Almacén | AM8: http://www.cegaipslp.org.mx/HV2019.nsf/nombre_de_la_vista/781C20E3DABA45718625839B0056258C/$File/LTAIPSLP84XXXIVB.pdf | AN8: http://www.cegaipslp.org.mx/HV2019.nsf/nombre_de_la_vista/781C20E3DABA45718625839B0056258C/$File/LTAIPSLP84XXXIVB.pdf | AO8: http://www.cegaipslp.org.mx/HV2019.nsf/nombre_de_la_vista/781C20E3DABA45718625839B0056258C/$File/LTAIPSLP84XXXIVB.pdf | AP8: http://www.cegaipslp.org.mx/HV2019.nsf/nombre_de_la_vista/781C20E3DABA45718625839B0056258C/$File/LTAIPSLP84XXXIVB.pdf | AQ8: División de Recursos Materiales | AR8: 43532 | AS8: 43504 | AT8: No se genera
A9: 2019 | B9: 43466 | C9: 43496 | D9: Adjudicación directa | E9: Adquisiciones | F9: 149698 | G9: Articulo 25 Ley de Adquisiciones del estado | H9: http://www.cegaipslp.org.mx/HV2019.nsf/nombre_de_la_vista/781C20E3DABA45718625839B0056258C/$File/LTAIPSLP84XXXIVB.pdf | I9: Medicamento General | J9: No se genera | K9: No se genera | L9: No se genera | M9: No se genera | N9: Combustibles Diesel del Centro, S.A. de C.V. | O9: CDC-870925 1Z2 | P9: Area administrativa | Q9: División de Recursos Materiales | R9: 02/AD/29247/COMBUSTIBLE/2019 | S9: 43466 | T9: 122430 | U9: 142018.8 | V9: 122430 | W9: 142018.8 | X9: Moneda Nacional | Y9: No se genera | Z9: Pago Diferido | AA9: Compra-Venta | AB9: No se genera | AE9: http://www.cegaipslp.org.mx/HV2019.nsf/nombre_de_la_vista/781C20E3DABA45718625839B0056258C/$File/LTAIPSLP84XXXIVB.pdf | AF9: http://www.cegaipslp.org.mx/HV2019.nsf/nombre_de_la_vista/781C20E3DABA45718625839B0056258C/$File/LTAIPSLP84XXXIVB.pdf | AG9: Estatales | AH9: Cuotas de recuperacion | AI9: 1 | AJ9: No | AK9: 1 | AL9: Entradas y salidas de Almacén | AM9: http://www.cegaipslp.org.mx/HV2019.nsf/nombre_de_la_vista/781C20E3DABA45718625839B0056258C/$File/LTAIPSLP84XXXIVB.pdf | AN9: http://www.cegaipslp.org.mx/HV2019.nsf/nombre_de_la_vista/781C20E3DABA45718625839B0056258C/$File/LTAIPSLP84XXXIVB.pdf | AO9: http://www.cegaipslp.org.mx/HV2019.nsf/nombre_de_la_vista/781C20E3DABA45718625839B0056258C/$File/LTAIPSLP84XXXIVB.pdf | AP9: http://www.cegaipslp.org.mx/HV2019.nsf/nombre_de_la_vista/781C20E3DABA45718625839B0056258C/$File/LTAIPSLP84XXXIVB.pdf | AQ9: División de Recursos Materiales | AR9: 43532 | AS9: 43504 | AT9: No se genera
A10: 2019 | B10: 43466 | C10: 43496 | D10: Adjudicación directa | E10: Adquisiciones | F10: 149753 | G10: Articulo 25 Ley de Adquisiciones del estado | H10: http://www.cegaipslp.org.mx/HV2019.nsf/nombre_de_la_vista/781C20E3DABA45718625839B0056258C/$File/LTAIPSLP84XXXIVB.pdf | I10: Medicamento General | J10: No se genera | K10: No se genera | L10: No se genera | M10: No se genera | N10: Fresenius Medical Care de México | O10: FMC990121BB3 | P10: Area Medica | Q10: División de Recursos Materiales | R10: 03/AD/29036/HEMO/2019 | S10: 43466 | T10: 99489.84 | U10: 115408.21 | V10: 115408.21 | W10: 115408.21 | X10: Moneda Nacional | Y10: No se genera | Z10: Pago Diferido | AA10: Compra-Venta | AB10: No se genera | AC10: 43474 | AD10: 43482 | AE10: http://www.cegaipslp.org.mx/HV2019.nsf/nombre_de_la_vista/781C20E3DABA45718625839B0056258C/$File/LTAIPSLP84XXXIVB.pdf | AF10: http://www.cegaipslp.org.mx/HV2019.nsf/nombre_de_la_vista/781C20E3DABA45718625839B0056258C/$File/LTAIPSLP84XXXIVB.pdf | AG10: Estatales | AH10: Cuotas de recuperacion | AI10: =+Tabla_550208!A4 -> 1 | AJ10: No | AK10: =+Tabla_550220!A4 -> 1 | AL10: Entradas y salidas de Almacén | AM10: http://www.cegaipslp.org.mx/HV2019.nsf/nombre_de_la_vista/781C20E3DABA45718625839B0056258C/$File/LTAIPSLP84XXXIVB.pdf | AN10: http://www.cegaipslp.org.mx/HV2019.nsf/nombre_de_la_vista/781C20E3DABA45718625839B0056258C/$File/LTAIPSLP84XXXIVB.pdf | AO10: http://www.cegaipslp.org.mx/HV2019.nsf/nombre_de_la_vista/781C20E3DABA45718625839B0056258C/$File/LTAIPSLP84XXXIVB.pdf | AP10: http://www.cegaipslp.org.mx/HV2019.nsf/nombre_de_la_vista/781C20E3DABA45718625839B0056258C/$File/LTAIPSLP84XXXIVB.pdf | AQ10: División de Recursos Materiales | AR10: 43532 | AS10: 43504 | AT10: No se genera
A11: 2019 | B11: 43466 | C11: 43496 | D11: Adjudicación directa | E11: Adquisiciones | F11: 149883 | G11: Articulo 25 Ley de Adquisiciones del estado | H11: http://www.cegaipslp.org.mx/HV2019.nsf/nombre_de_la_vista/781C20E3DABA45718625839B0056258C/$File/LTAIPSLP84XXXIVB.pdf | I11: Medicamento General | J11: No se genera | K11: No se genera | L11: No se genera | M11: No se genera | N11: Distribución Especializada de Medicamentos, S.A. de C.V. | O11: DEM940426E32 | P11: Area Medica | Q11: División de Recursos Materiales | R11: 04/AD/29328/ONCO/2019 | S11: 43466 | T11: 151595 | U11: 151595 | V11: 151595 | W11: 151595 | X11: Moneda Nacional | Y11: No se genera | Z11: Pago Diferido | AA11: Compra-Venta | AB11: No se genera | AC11: 43479 | AD11: 43482 | AE11: http://www.cegaipslp.org.mx/HV2019.nsf/nombre_de_la_vista/781C20E3DABA45718625839B0056258C/$File/LTAIPSLP84XXXIVB.pdf | AF11: http://www.cegaipslp.org.mx/HV2019.nsf/nombre_de_la_vista/781C20E3DABA45718625839B0056258C/$File/LTAIPSLP84XXXIVB.pdf | AG11: Estatales | AH11: Cuotas de recuperacion | AI11: =+Tabla_550208!A4 -> 1 | AJ11: No | AK11: =+Tabla_550220!A4 -> 1 | AL11: Entradas y salidas de Almacén | AM11: http://www.cegaipslp.org.mx/HV2019.nsf/nombre_de_la_vista/781C20E3DABA45718625839B0056258C/$File/LTAIPSLP84XXXIVB.pdf | AN11: http://www.cegaipslp.org.mx/HV2019.nsf/nombre_de_la_vista/781C20E3DABA45718625839B0056258C/$File/LTAIPSLP84XXXIVB.pdf | AO11: http://www.cegaipslp.org.mx/HV2019.nsf/nombre_de_la_vista/781C20E3DABA45718625839B0056258C/$File/LTAIPSLP84XXXIVB.pdf | AP11: http://www.cegaipslp.org.mx/HV2019.nsf/nombre_de_la_vista/781C20E3DABA45718625839B0056258C/$File/LTAIPSLP84XXXIVB.pdf | AQ11: División de Recursos Materiales | AR11: 43532 | AS11: 43504 | AT11: No se genera
A12: 2019 | B12: 43466 | C12: 43496 | D12: Adjudicación directa | E12: Adquisiciones | F12: 149889 | G12: Articulo 25 Ley de Adquisiciones del estado | H12: http://www.cegaipslp.org.mx/HV2019.nsf/nombre_de_la_vista/781C20E3DABA45718625839B0056258C/$File/LTAIPSLP84XXXIVB.pdf | I12: Medicamento General | J12: No se genera | K12: No se genera | L12: No se genera | M12: No se genera | N12: Capace Medical, S.A. de C.V. | O12: CME101201AT4 | P12: Area Medica | Q12: División de Recursos Materiales | R12: 05/AD/729333/MATCUR/2019 | S12: 43466 | T12: 119880 | U12: 139060.8 | V12: 139060.8 | W12: 139060.8 | X12: Moneda Nacional | Y12: No se genera | Z12: Pago Diferido | AA12: Compra-Venta | AB12: No se genera | AC12: 43480 | AD12: 43481 | AE12: http://www.cegaipslp.org.mx/HV2019.nsf/nombre_de_la_vista/781C20E3DABA45718625839B0056258C/$File/LTAIPSLP84XXXIVB.pdf | AF12: http://www.cegaipslp.org.mx/HV2019.nsf/nombre_de_la_vista/781C20E3DABA45718625839B0056258C/$File/LTAIPSLP84XXXIVB.pdf | AG12: Estatales | AH12: Cuotas de recuperacion | AI12: =+Tabla_550208!A4 -> 1 | AJ12: No | AK12: =+Tabla_550220!A4 -> 1 | AL12: Entradas y salidas de Almacén | AM12: http://www.cegaipslp.org.mx/HV2019.nsf/nombre_de_la_vista/781C20E3DABA45718625839B0056258C/$File/LTAIPSLP84XXXIVB.pdf | AN12: http://www.cegaipslp.org.mx/HV2019.nsf/nombre_de_la_vista/781C20E3DABA45718625839B0056258C/$File/LTAIPSLP84XXXIVB.pdf | AO12: http://www.cegaipslp.org.mx/HV2019.nsf/nombre_de_la_vista/781C20E3DABA45718625839B0056258C/$File/LTAIPSLP84XXXIVB.pdf | AP12: http://www.cegaipslp.org.mx/HV2019.nsf/nombre_de_la_vista/781C20E3DABA45718625839B0056258C/$File/LTAIPSLP84XXXIVB.pdf | AQ12: División de Recursos Materiales | AR12: 43532 | AS12: 43504 | AT12: No se genera
A13: 2019 | B13: 43466 | C13: 43496 | D13: Adjudicación directa | E13: Adquisiciones | F13: 149698 | G13: Articulo 25 Ley de Adquisiciones del estado | H13: http://www.cegaipslp.org.mx/HV2019.nsf/nombre_de_la_vista/781C20E3DABA45718625839B0056258C/$File/LTAIPSLP84XXXIVB.pdf | I13: Mantenimiento | J13: No se genera | K13: No se genera | L13: No se genera | M13: No se genera | N13: Combustibles Diesel del Centro, S.A. de C.V. | O13: CDC-870925 1Z2 | P13: Area administrativa | Q13: División de Recursos Materiales | R13: 06/AD/29247/COMBUS/2019 | S13: 43466 | T13: 122430 | U13: 142018.8 | V13: 142018.8 | W13: 142018.8 | X13: Moneda Nacional | Y13: No se genera | Z13: Pago Diferido | AA13: Compra-Venta | AB13: No se genera | AC13: 43469 | AD13: 43469 | AE13: http://www.cegaipslp.org.mx/HV2019.nsf/nombre_de_la_vista/781C20E3DABA45718625839B0056258C/$File/LTAIPSLP84XXXIVB.pdf | AF13: http://www.cegaipslp.org.mx/HV2019.nsf/nombre_de_la_vista/781C20E3DABA45718625839B0056258C/$File/LTAIPSLP84XXXIVB.pdf | AG13: Estatales | AH13: Cuotas de recuperacion | AI13: =+Tabla_550208!A4 -> 1 | AJ13: No | AK13: =+Tabla_550220!A4 -> 1 | AL13: Entradas y salidas de Almacén | AM13: http://www.cegaipslp.org.mx/HV2019.nsf/nombre_de_la_vista/781C20E3DABA45718625839B0056258C/$File/LTAIPSLP84XXXIVB.pdf | AN13: http://www.cegaipslp.org.mx/HV2019.nsf/nombre_de_la_vista/781C20E3DABA45718625839B0056258C/$File/LTAIPSLP84XXXIVB.pdf | AO13: http://www.cegaipslp.org.mx/HV2019.nsf/nombre_de_la_vista/781C20E3DABA45718625839B0056258C/$File/LTAIPSLP84XXXIVB.pdf | AP13: http://www.cegaipslp.org.mx/HV2019.nsf/nombre_de_la_vista/781C20E3DABA45718625839B0056258C/$File/LTAIPSLP84XXXIVB.pdf | AQ13: División de Recursos Materiales | AR13: 43532 | AS13: 43504 | AT13: No se genera
A14: 2019 | B14: 43466 | C14: 43496 | D14: Adjudicación directa | E14: Adquisiciones | F14: 149944 | G14: Articulo 25 Ley de Adquisiciones del estado | H14: http://www.cegaipslp.org.mx/HV2019.nsf/nombre_de_la_vista/781C20E3DABA45718625839B0056258C/$File/LTAIPSLP84XXXIVB.pdf | I14: Medicamento General | J14: No se genera | K14: No se genera | L14: No se genera | M14: No se genera | N14: Ampharma, S.A. de C.V. | O14: LORJ7906241Z5 | P14: Area administrativa | Q14: División de Recursos Materiales | R14: 07/AD/729360/REACBANC/2019 | S14: 43466 | T14: 184635.5 | U14: 214177.18 | V14: 214177.18 | W14: 214177.18 | X14: Moneda Nacional | Y14: No se genera | Z14: Pago Diferido | AA14: Compra-Venta | AB14: No se genera | AC14: 43481 | AD14: 43488 | AE14: http://www.cegaipslp.org.mx/HV2019.nsf/nombre_de_la_vista/781C20E3DABA45718625839B0056258C/$File/LTAIPSLP84XXXIVB.pdf | AF14: http://www.cegaipslp.org.mx/HV2019.nsf/nombre_de_la_vista/781C20E3DABA45718625839B0056258C/$File/LTAIPSLP84XXXIVB.pdf | AG14: Estatales | AH14: Cuotas de recuperacion | AI14: =+Tabla_550208!A4 -> 1 | AJ14: No | AK14: =+Tabla_550220!A4 -> 1 | AL14: Entradas y salidas de Almacén | AM14: http://www.cegaipslp.org.mx/HV2019.nsf/nombre_de_la_vista/781C20E3DABA45718625839B0056258C/$File/LTAIPSLP84XXXIVB.pdf | AN14: http://www.cegaipslp.org.mx/HV2019.nsf/nombre_de_la_vista/781C20E3DABA45718625839B0056258C/$File/LTAIPSLP84XXXIVB.pdf | AO14: http://www.cegaipslp.org.mx/HV2019.nsf/nombre_de_la_vista/781C20E3DABA45718625839B0056258C/$File/LTAIPSLP84XXXIVB.pdf | AP14: http://www.cegaipslp.org.mx/HV2019.nsf/nombre_de_la_vista/781C20E3DABA45718625839B0056258C/$File/LTAIPSLP84XXXIVB.pdf | AQ14: División de Recursos Materiales | AR14: 43532 | AS14: 43504 | AT14: No se genera
A15: 2019 | B15: 43466 | C15: 43496 | D15: Adjudicación directa | E15: Adquisiciones | F15: 150031 | G15: Articulo 25 Ley de Adquisiciones del estado | H15: http://www.cegaipslp.org.mx/HV2019.nsf/nombre_de_la_vista/781C20E3DABA45718625839B0056258C/$File/LTAIPSLP84XXXIVB.pdf | I15: Medicamento General | J15: No se genera | K15: No se genera | L15: No se genera | M15: No se genera | N15: Comercializadora Biomedical, S.A. de C.V. | O15: CBI090910LE7 | P15: Area Medica | Q15: División de Recursos Materiales | R15: 09/AD/729420/REACBANC/2019 | S15: 43466 | T15: 159699.78 | U15: 185251.74 | V15: 185251.74 | W15: 185251.74 | X15: Moneda Nacional | Y15: No se genera | Z15: Pago Diferido | AA15: Compra-Venta | AB15: No se genera | AC15: 43486 | AD15: 43489 | AE15: http://www.cegaipslp.org.mx/HV2019.nsf/nombre_de_la_vista/781C20E3DABA45718625839B0056258C/$File/LTAIPSLP84XXXIVB.pdf | AF15: http://www.cegaipslp.org.mx/HV2019.nsf/nombre_de_la_vista/781C20E3DABA45718625839B0056258C/$File/LTAIPSLP84XXXIVB.pdf | AG15: Estatales | AH15: Cuotas de recuperacion | AI15: =+Tabla_550208!A4 -> 1 | AJ15: No | AK15: =+Tabla_550220!A4 -> 1 | AL15: Entradas y salidas de Almacén | AM15: http://www.cegaipslp.org.mx/HV2019.nsf/nombre_de_la_vista/781C20E3DABA45718625839B0056258C/$File/LTAIPSLP84XXXIVB.pdf | AN15: http://www.cegaipslp.org.mx/HV2019.nsf/nombre_de_la_vista/781C20E3DABA45718625839B0056258C/$File/LTAIPSLP84XXXIVB.pdf | AO15: http://www.cegaipslp.org.mx/HV2019.nsf/nombre_de_la_vista/781C20E3DABA45718625839B0056258C/$File/LTAIPSLP84XXXIVB.pdf | AP15: http://www.cegaipslp.org.mx/HV2019.nsf/nombre_de_la_vista/781C20E3DABA45718625839B0056258C/$File/LTAIPSLP84XXXIVB.pdf | AQ15: División de Recursos Materiales | AR15: 43532 | AS15: 43504 | AT15: No se genera
A16: 2019 | B16: 43466 | C16: 43496 | D16: Adjudicación directa | E16: Adquisiciones | F16: 150069 | G16: Articulo 25 Ley de Adquisiciones del estado | H16: http://www.cegaipslp.org.mx/HV2019.nsf/nombre_de_la_vista/781C20E3DABA45718625839B0056258C/$File/LTAIPSLP84XXXIVB.pdf | I16: Medicamento General | J16: No se genera | K16: No se genera | L16: No se genera | M16: No se genera | N16: Fresenius Medical Care de México | O16: FMC990121BB3 | P16: Area Medica | Q16: División de Recursos Materiales | R16: 10/AD/729452/HEMO/2019 | S16: 43466 | T16: 133506.96 | U16: 154868.07 | V16: 154868.07 | W16: 154868.07 | X16: Moneda Nacional | Y16: No se genera | Z16: Pago Diferido | AA16: Compra-Venta | AB16: No se genera | AC16: 43487 | AD16: 43490 | AE16: http://www.cegaipslp.org.mx/HV2019.nsf/nombre_de_la_vista/781C20E3DABA45718625839B0056258C/$File/LTAIPSLP84XXXIVB.pdf | AF16: http://www.cegaipslp.org.mx/HV2019.nsf/nombre_de_la_vista/781C20E3DABA45718625839B0056258C/$File/LTAIPSLP84XXXIVB.pdf | AG16: Estatales | AH16: Cuotas de recuperacion | AI16: =+Tabla_550208!A4 -> 1 | AJ16: No | AK16: =+Tabla_550220!A4 -> 1 | AL16: Entradas y salidas de Almacén | AM16: http://www.cegaipslp.org.mx/HV2019.nsf/nombre_de_la_vista/781C20E3DABA45718625839B0056258C/$File/LTAIPSLP84XXXIVB.pdf | AN16: http://www.cegaipslp.org.mx/HV2019.nsf/nombre_de_la_vista/781C20E3DABA45718625839B0056258C/$File/LTAIPSLP84XXXIVB.pdf | AO16: http://www.cegaipslp.org.mx/HV2019.nsf/nombre_de_la_vista/781C20E3DABA45718625839B0056258C/$File/LTAIPSLP84XXXIVB.pdf | AP16: http://www.cegaipslp.org.mx/HV2019.nsf/nombre_de_la_vista/781C20E3DABA45718625839B0056258C/$File/LTAIPSLP84XXXIVB.pdf | AQ16: División de Recursos Materiales | AR16: 43532 | AS16: 43504 | AT16: No se genera
A17: 2019 | B17: 43466 | C17: 43496 | D17: Adjudicación directa | E17: Adquisiciones | F17: 150058 | G17: Articulo 25 Ley de Adquisiciones del estado | H17: http://www.cegaipslp.org.mx/HV2019.nsf/nombre_de_la_vista/781C20E3DABA45718625839B0056258C/$File/LTAIPSLP84XXXIVB.pdf | I17: Mantenimiento | J17: No se genera | K17: No se genera | L17: No se genera | M17: No se genera | N17: Asfaltos Energex, S.A. de C.V. | O17: AEN9806087SA | P17: Area administrativa | Q17: División de Recursos Materiales | R17: 11/AD/729447/COMBUS/2019 | S17: 43466 | T17: 127500 | U17: 147900 | V17: 147900 | W17: 147900 | X17: Moneda Nacional | Y17: No se genera | Z17: Pago Diferido | AA17: Compra-Venta | AB17: No se genera | AC17: 43486 | AD17: 43487 | AE17: http://www.cegaipslp.org.mx/HV2019.nsf/nombre_de_la_vista/781C20E3DABA45718625839B0056258C/$File/LTAIPSLP84XXXIVB.pdf | AF17: http://www.cegaipslp.org.mx/HV2019.nsf/nombre_de_la_vista/781C20E3DABA45718625839B0056258C/$File/LTAIPSLP84XXXIVB.pdf | AG17: Estatales | AH17: Cuotas de recuperacion | AI17: =+Tabla_550208!A4 -> 1 | AJ17: No | AK17: =+Tabla_550220!A4 -> 1 | AL17: Entradas y salidas de Almacén | AM17: http://www.cegaipslp.org.mx/HV2019.nsf/nombre_de_la_vista/781C20E3DABA45718625839B0056258C/$File/LTAIPSLP84XXXIVB.pdf | AN17: http://www.cegaipslp.org.mx/HV2019.nsf/nombre_de_la_vista/781C20E3DABA45718625839B0056258C/$File/LTAIPSLP84XXXIVB.pdf | AO17: http://www.cegaipslp.org.mx/HV2019.nsf/nombre_de_la_vista/781C20E3DABA45718625839B0056258C/$File/LTAIPSLP84XXXIVB.pdf | AP17: http://www.cegaipslp.org.mx/HV2019.nsf/nombre_de_la_vista/781C20E3DABA45718625839B0056258C/$File/LTAIPSLP84XXXIVB.pdf | AQ17: División de Recursos Materiales | AR17: 43532 | AS17: 43504 | AT17: No se genera
A18: 2019 | B18: 43466 | C18: 43496 | D18: Adjudicación directa | E18: Adquisiciones | F18: 150084 | G18: Articulo 25 Ley de Adquisiciones del estado | H18: http://www.cegaipslp.org.mx/HV2019.nsf/nombre_de_la_vista/781C20E3DABA45718625839B0056258C/$File/LTAIPSLP84XXXIVB.pdf | I18: Medicamento General | J18: No se genera | K18: No se genera | L18: No se genera | M18: No se genera | N18: Fujifilm de México, S.A. de C.V. | O18: FME941104GN8 | P18: Area Medica | Q18: División de Recursos Materiales | R18: 12/AD/729463/ULTRN2019 | S18: 43466 | T18: 456665 | U18: 529731.4 | V18: 529731.4 | W18: 529731.4 | X18: Moneda Nacional | Y18: No se genera | Z18: Pago Diferido | AA18: Compra-Venta | AB18: No se genera | AC18: 43487 | AD18: 43528 | AE18: http://www.cegaipslp.org.mx/HV2019.nsf/nombre_de_la_vista/781C20E3DABA45718625839B0056258C/$File/LTAIPSLP84XXXIVB.pdf | AF18: http://www.cegaipslp.org.mx/HV2019.nsf/nombre_de_la_vista/781C20E3DABA45718625839B0056258C/$File/LTAIPSLP84XXXIVB.pdf | AG18: Estatales | AH18: Cuotas de recuperacion | AI18: =+Tabla_550208!A4 -> 1 | AJ18: No | AK18: =+Tabla_550220!A4 -> 1 | AL18: Entradas y salidas de Almacén | AM18: http://www.cegaipslp.org.mx/HV2019.nsf/nombre_de_la_vista/781C20E3DABA45718625839B0056258C/$File/LTAIPSLP84XXXIVB.pdf | AN18: http://www.cegaipslp.org.mx/HV2019.nsf/nombre_de_la_vista/781C20E3DABA45718625839B0056258C/$File/LTAIPSLP84XXXIVB.pdf | AO18: http://www.cegaipslp.org.mx/HV2019.nsf/nombre_de_la_vista/781C20E3DABA45718625839B0056258C/$File/LTAIPSLP84XXXIVB.pdf | AP18: http://www.cegaipslp.org.mx/HV2019.nsf/nombre_de_la_vista/781C20E3DABA45718625839B0056258C/$File/LTAIPSLP84XXXIVB.pdf | AQ18: División de Recursos Materiales | AR18: 43532 | AS18: 43504 | AT18: No se genera
A19: 2019 | B19: 43466 | C19: 43496 | D19: Adjudicación directa | E19: Adquisiciones | F19: 150206 | G19: Articulo 25 Ley de Adquisiciones del estado | H19: http://www.cegaipslp.org.mx/HV2019.nsf/nombre_de_la_vista/781C20E3DABA45718625839B0056258C/$File/LTAIPSLP84XXXIVB.pdf | I19: Medicamento General | J19: No se genera | K19: No se genera | L19: No se genera | M19: No se genera | N19: Distribuidora de Fármacos y Fragancias | O19: DFF000601IQ0 | P19: Area administrativa | Q19: División de Recursos Materiales | R19: 13/AD1729503MEDGEN/2019 | S19: 43466 | T19: 165012.5 | U19: 165012.5 | V19: 165012.5 | W19: 165012.5 | X19: Moneda Nacional | Y19: No se genera | Z19: Pago Diferido | AA19: Compra-Venta | AB19: No se genera | AC19: 43493 | AD19: 43494 | AE19: http://www.cegaipslp.org.mx/HV2019.nsf/nombre_de_la_vista/781C20E3DABA45718625839B0056258C/$File/LTAIPSLP84XXXIVB.pdf | AF19: http://www.cegaipslp.org.mx/HV2019.nsf/nombre_de_la_vista/781C20E3DABA45718625839B0056258C/$File/LTAIPSLP84XXXIVB.pdf | AG19: Estatales | AH19: Cuotas de recuperacion | AI19: =+Tabla_550208!A4 -> 1 | AJ19: No | AK19: =+Tabla_550220!A4 -> 1 | AL19: Entradas y salidas de Almacén | AM19: http://www.cegaipslp.org.mx/HV2019.nsf/nombre_de_la_vista/781C20E3DABA45718625839B0056258C/$File/LTAIPSLP84XXXIVB.pdf | AN19: http://www.cegaipslp.org.mx/HV2019.nsf/nombre_de_la_vista/781C20E3DABA45718625839B0056258C/$File/LTAIPSLP84XXXIVB.pdf | AO19: http://www.cegaipslp.org.mx/HV2019.nsf/nombre_de_la_vista/781C20E3DABA45718625839B0056258C/$File/LTAIPSLP84XXXIVB.pdf | AP19: http://www.cegaipslp.org.mx/HV2019.nsf/nombre_de_la_vista/781C20E3DABA45718625839B0056258C/$File/LTAIPSLP84XXXIVB.pdf | AQ19: División de Recursos Materiales | AR19: 43532 | AS19: 43504 | AT19: No se genera
A20: 2019 | B20: 43466 | C20: 43496 | D20: Adjudicación directa | E20: Adquisiciones | F20: 150226 | G20: Articulo 25 Ley de Adquisiciones del estado | H20: http://www.cegaipslp.org.mx/HV2019.nsf/nombre_de_la_vista/781C20E3DABA45718625839B0056258C/$File/LTAIPSLP84XXXIVB.pdf | I20: Medicamento General | J20: No se genera | K20: No se genera | L20: No se genera | M20: No se genera | N20: Jhadyd S.A de C.V | O20: JHA010328FR1 | P20: Area administrativa | Q20: División de Recursos Materiales | R20: 14/AD/29503/MEDGEN/2019 | S20: 43466 | T20: 122275 | U20: 122275 | V20: 122275 | W20: 122275 | X20: Moneda Nacional | Y20: No se genera | Z20: Pago Diferido | AA20: Compra-Venta | AB20: No se genera | AC20: 43494 | AD20: 43497 | AE20: http://www.cegaipslp.org.mx/HV2019.nsf/nombre_de_la_vista/781C20E3DABA45718625839B0056258C/$File/LTAIPSLP84XXXIVB.pdf | AF20: http://www.cegaipslp.org.mx/HV2019.nsf/nombre_de_la_vista/781C20E3DABA45718625839B0056258C/$File/LTAIPSLP84XXXIVB.pdf | AG20: Estatales | AH20: Cuotas de recuperacion | AI20: =+Tabla_550208!A4 -> 1 | AJ20: No | AK20: =+Tabla_550220!A4 -> 1 | AL20: Entradas y salidas de Almacén | AM20: http://www.cegaipslp.org.mx/HV2019.nsf/nombre_de_la_vista/781C20E3DABA45718625839B0056258C/$File/LTAIPSLP84XXXIVB.pdf | AN20: http://www.cegaipslp.org.mx/HV2019.nsf/nombre_de_la_vista/781C20E3DABA45718625839B0056258C/$File/LTAIPSLP84XXXIVB.pdf | AO20: http://www.cegaipslp.org.mx/HV2019.nsf/nombre_de_la_vista/781C20E3DABA45718625839B0056258C/$File/LTAIPSLP84XXXIVB.pdf | AP20: http://www.cegaipslp.org.mx/HV2019.nsf/nombre_de_la_vista/781C20E3DABA45718625839B0056258C/$File/LTAIPSLP84XXXIVB.pdf | AQ20: División de Recursos Materiales | AR20: 43532 | AS20: 43504 | AT20: No se genera
A21: 2019 | B21: 43466 | C21: 43496 | D21: Adjudicación directa | E21: Adquisiciones | F21: 150264 | G21: Articulo 25 Ley de Adquisiciones del estado | H21: http://www.cegaipslp.org.mx/HV2019.nsf/nombre_de_la_vista/781C20E3DABA45718625839B0056258C/$File/LTAIPSLP84XXXIVB.pdf | I21: Medicamento General | J21: No se genera | K21: No se genera | L21: No se genera | M21: No se genera | N21: Degasa, S.A. de C.V. | O21: DEG-980701-5H8 | P21: Area administrativa | Q21: División de Recursos Materiales | R21: 15/AD/72950/MATCUR/2019 | S21: 43466 | T21: 105981.56 | U21: 122938.6 | V21: 122938.6 | W21: 122938.6 | X21: Moneda Nacional | Y21: No se genera | Z21: Pago Diferido | AA21: Compra-Venta | AB21: No se genera | AC21: 43495 | AD21: 43497 | AE21: http://www.cegaipslp.org.mx/HV2019.nsf/nombre_de_la_vista/781C20E3DABA45718625839B0056258C/$File/LTAIPSLP84XXXIVB.pdf | AF21: http://www.cegaipslp.org.mx/HV2019.nsf/nombre_de_la_vista/781C20E3DABA45718625839B0056258C/$File/LTAIPSLP84XXXIVB.pdf | AG21: Estatales | AH21: Cuotas de recuperacion | AI21: =+Tabla_550208!A4 -> 1 | AJ21: No | AK21: =+Tabla_550220!A4 -> 1 | AL21: Entradas y salidas de Almacén | AM21: http://www.cegaipslp.org.mx/HV2019.nsf/nombre_de_la_vista/781C20E3DABA45718625839B0056258C/$File/LTAIPSLP84XXXIVB.pdf | AN21: http://www.cegaipslp.org.mx/HV2019.nsf/nombre_de_la_vista/781C20E3DABA45718625839B0056258C/$File/LTAIPSLP84XXXIVB.pdf | AO21: http://www.cegaipslp.org.mx/HV2019.nsf/nombre_de_la_vista/781C20E3DABA45718625839B0056258C/$File/LTAIPSLP84XXXIVB.pdf | AP21: http://www.cegaipslp.org.mx/HV2019.nsf/nombre_de_la_vista/781C20E3DABA45718625839B0056258C/$File/LTAIPSLP84XXXIVB.pdf | AQ21: División de Recursos Materiales | AR21: 43532 | AS21: 43504 | AT21: No se genera
A22: 2019 | B22: 43466 | C22: 43496 | D22: Adjudicación directa | E22: Adquisiciones | F22: 150265 | G22: Articulo 25 Ley de Adquisiciones del estado | H22: http://www.cegaipslp.org.mx/HV2019.nsf/nombre_de_la_vista/781C20E3DABA45718625839B0056258C/$File/LTAIPSLP84XXXIVB.pdf | I22: Medicamento General | J22: No se genera | K22: No se genera | L22: No se genera | M22: No se genera | N22: Exth Group, S.A. de C.V. | O22: EGR170228E93 | P22: Area administrativa | Q22: División de Recursos Materiales | R22: 16/AD729504/MATCUR/2019 | S22: 43466 | T22: 148396.8 | U22: 172140.28 | V22: 172140.28 | W22: 172140.28 | X22: Moneda Nacional | Y22: No se genera | Z22: Pago Diferido | AA22: Compra-Venta | AB22: No se genera | AC22: 43495 | AD22: 43497 | AE22: http://www.cegaipslp.org.mx/HV2019.nsf/nombre_de_la_vista/781C20E3DABA45718625839B0056258C/$File/LTAIPSLP84XXXIVB.pdf | AF22: http://www.cegaipslp.org.mx/HV2019.nsf/nombre_de_la_vista/781C20E3DABA45718625839B0056258C/$File/LTAIPSLP84XXXIVB.pdf | AG22: Estatales | AH22: Cuotas de recuperacion | AI22: =+Tabla_550208!A4 -> 1 | AJ22: No | AK22: =+Tabla_550220!A4 -> 1 | AL22: Entradas y salidas de Almacén | AM22: http://www.cegaipslp.org.mx/HV2019.nsf/nombre_de_la_vista/781C20E3DABA45718625839B0056258C/$File/LTAIPSLP84XXXIVB.pdf | AN22: http://www.cegaipslp.org.mx/HV2019.nsf/nombre_de_la_vista/781C20E3DABA45718625839B0056258C/$File/LTAIPSLP84XXXIVB.pdf | AO22: http://www.cegaipslp.org.mx/HV2019.nsf/nombre_de_la_vista/781C20E3DABA45718625839B0056258C/$File/LTAIPSLP84XXXIVB.pdf | AP22: http://www.cegaipslp.org.mx/HV2019.nsf/nombre_de_la_vista/781C20E3DABA45718625839B0056258C/$File/LTAIPSLP84XXXIVB.pdf | AQ22: División de Recursos Materiales | AR22: 43532 | AS22: 43504 | AT22: No se genera
A23: 2019 | B23: 43466 | C23: 43496 | D23: Adjudicación directa | E23: Adquisiciones | F23: 150269 | G23: Articulo 25 Ley de Adquisiciones del estado | H23: http://www.cegaipslp.org.mx/HV2019.nsf/nombre_de_la_vista/781C20E3DABA45718625839B0056258C/$File/LTAIPSLP84XXXIVB.pdf | I23: Medicamento General | J23: No se genera | K23: No se genera | L23: No se genera | M23: No se genera | N23: Implementos Medicos de Occidente, S.A. de C.V. | O23: IMO-981125-IZ4 | P23: Area administrativa | Q23: División de Recursos Materiales | R23: 17/AD/72950/MATCUR/2019 | S23: 43466 | T23: 180595 | U23: 209490.2 | V23: 209490.2 | W23: 209490.2 | X23: Moneda Nacional | Y23: No se genera | Z23: Pago Diferido | AA23: Compra-Venta | AB23: No se genera | AC23: 43495 | AD23: 43497 | AE23: http://www.cegaipslp.org.mx/HV2019.nsf/nombre_de_la_vista/781C20E3DABA45718625839B0056258C/$File/LTAIPSLP84XXXIVB.pdf | AF23: http://www.cegaipslp.org.mx/HV2019.nsf/nombre_de_la_vista/781C20E3DABA45718625839B0056258C/$File/LTAIPSLP84XXXIVB.pdf | AG23: Estatales | AH23: Cuotas de recuperacion | AI23: =+Tabla_550208!A4 -> 1 | AJ23: No | AK23: =+Tabla_550220!A4 -> 1 | AL23: Entradas y salidas de Almacén | AM23: http://www.cegaipslp.org.mx/HV2019.nsf/nombre_de_la_vista/781C20E3DABA45718625839B0056258C/$File/LTAIPSLP84XXXIVB.pdf | AN23: http://www.cegaipslp.org.mx/HV2019.nsf/nombre_de_la_vista/781C20E3DABA45718625839B0056258C/$File/LTAIPSLP84XXXIVB.pdf | AO23: http://www.cegaipslp.org.mx/HV2019.nsf/nombre_de_la_vista/781C20E3DABA45718625839B0056258C/$File/LTAIPSLP84XXXIVB.pdf | AP23: http://www.cegaipslp.org.mx/HV2019.nsf/nombre_de_la_vista/781C20E3DABA45718625839B0056258C/$File/LTAIPSLP84XXXIVB.pdf | AQ23: División de Recursos Materiales | AR23: 43532 | AS23: 43504 | AT23: No se genera
A24: 2019 | B24: 43466 | C24: 43496 | D24: Adjudicación directa | E24: Adquisiciones | F24: 150263 Y 150270 | G24: Articulo 25 Ley de Adquisiciones del estado | H24: http://www.cegaipslp.org.mx/HV2019.nsf/nombre_de_la_vista/781C20E3DABA45718625839B0056258C/$File/LTAIPSLP84XXXIVB.pdf | I24: Medicamento General | J24: No se genera | K24: No se genera | L24: No se genera | M24: No se genera | N24: Jtc Proveedor Medico, S.A. de C.V. | O24: JPM-940426 VB3 | P24: Area administrativa | Q24: División de Recursos Materiales | R24: 18/AD/729504 | S24: 43466 | T24: =47367+56938.08 -> 104305.08 | U24: =54945.72+66048.16 -> 120993.88 | V24: =54945.72+66048.16 -> 120993.88 | W24: =54945.72+66048.16 -> 120993.88 | X24: Moneda Nacional | Y24: No se genera | Z24: Pago Diferido | AA24: Compra-Venta | AB24: No se genera | AC24: 43495 | AD24: 43497 | AE24: http://www.cegaipslp.org.mx/HV2019.nsf/nombre_de_la_vista/781C20E3DABA45718625839B0056258C/$File/LTAIPSLP84XXXIVB.pdf | AF24: http://www.cegaipslp.org.mx/HV2019.nsf/nombre_de_la_vista/781C20E3DABA45718625839B0056258C/$File/LTAIPSLP84XXXIVB.pdf | AG24: Estatales | AH24: Cuotas de recuperacion | AI24: =+Tabla_550208!A4 -> 1 | AJ24: No | AK24: =+Tabla_550220!A4 -> 1 | AL24: Entradas y salidas de Almacén | AM24: http://www.cegaipslp.org.mx/HV2019.nsf/nombre_de_la_vista/781C20E3DABA45718625839B0056258C/$File/LTAIPSLP84XXXIVB.pdf | AN24: http://www.cegaipslp.org.mx/HV2019.nsf/nombre_de_la_vista/781C20E3DABA45718625839B0056258C/$File/LTAIPSLP84XXXIVB.pdf | AO24: http://www.cegaipslp.org.mx/HV2019.nsf/nombre_de_la_vista/781C20E3DABA45718625839B0056258C/$File/LTAIPSLP84XXXIVB.pdf | AP24: http://www.cegaipslp.org.mx/HV2019.nsf/nombre_de_la_vista/781C20E3DABA45718625839B0056258C/$File/LTAIPSLP84XXXIVB.pdf | AQ24: División de Recursos Materiales | AR24: 43532 | AS24: 43504 | AT24: No se genera

Sheet Hidden_1
A1: Adjudicación directa
A2: Otra (especificar)

Sheet Hidden_2
A1: Obra pública
A2: Servicios relacionados con obra pública
A3: Adquisiciones
A4: Arrendamientos
A5: Servicios

Sheet Hidden_3
A1: Si
A2: No

Sheet Tabla_550223
B1: 1 | C1: 1 | D1: 1 | E1: 1 | F1: 1 | G1: 6
B2: 70223 | C2: 70224 | D2: 70225 | E2: 70226 | F2: 70227 | G2: 70228
A3: ID | B3: Nombre(s) | C3: Primer apellido | D3: Segundo apellido | E3: Razón social | F3: RFC de los posibles contratantes | G3: Monto total de la cotización con impuestos incluidos
A4: 1 | B4: No se genera | C4: No se genera | D4: No se genera | E4: PR Medical Group, S.A. de C.V. | F4: PMG180129RC2 | G4: 115714
A5: 2 | B5: No se genera | C5: No se genera | D5: No se genera | E5: No se genera | F5: No se genera | G5: 142018.8
A6: 3 | B6: No se genera | C6: No se genera | D6: No se genera | E6: Fresenius Medical Care de México | F6: FMC990121BB3 | G6: 115408.21
A7: 4 | B7: No se genera | C7: No se genera | D7: No se genera | E7: Distribución Especializada de Medicamentos, S.A. de C.V. | F7: DEM940426E32 | G7: 151595
A8: 5 | B8: No se genera | C8: No se genera | D8: No se genera | E8: Capace Medical, S.A. de C.V. | F8: CME101201AT4 | G8: 139060.8
A9: 6 | B9: No se genera | C9: No se genera | D9: No se genera | E9: Combustibles Diesel del Centro, S.A. de C.V. | F9: CDC-870925 1Z2 | G9: 142018.8
A10: 7 | B10: No se genera | C10: No se genera | D10: No se genera | E10: Ampharma, S.A. de C.V. | F10: LORJ7906281Z5 | G10: 214177.18
A11: 9 | B11: No se genera | C11: No se genera | D11: No se genera | E11: Comercializadora Biomedical, S.A. de C.V. | F11: CBI090910LE7 | G11: 185251.74
A12: 10 | B12: No se genera | C12: No se genera | D12: No se genera | E12: Fresenius Medical Care de México | F12: FMC990121BB3 | G12: 154868.07
A13: 11 | B13: No se genera | C13: No se genera | D13: No se genera | E13: Asfaltos Energex, S.A. de C.V. | F13: AEN9806087SA | G13: 147900
A14: 12 | B14: No se genera | C14: No se genera | D14: No se genera | E14: Fujifilm de México, S.A. de C.V. | F14: FME941104GN8 | G14: 529731.4
A15: 13 | B15: No se genera | C15: No se genera | D15: No se genera | E15: Distribuidora de Fármacos y Fragancias | F15: DFF000601IQ0 | G15: 165012.5
... A19: 17 | B19: No se genera | C19: No se genera | D19: No se genera | E19: Implementos Medicos de Occidente, S.A. de C.V. | F19: IMO-981125-IZ4 | G19: 209490.2
A20: 18 | B20: No se genera | C20: No se genera | D20: No se genera | E20: Jtc Proveedor Medico, S.A. de C.V. | F20: JPM-940426 VB3 | G20: =54945.72+66048.16 -> 120993.88

Sheet Tabla_550208
B1: 2 | C1: 7 | D1: 2 | E1: 9
B2: 70215 | C2: 70216 | D2: 70217 | E2: 70218
A3: ID | B3: Lugar donde se realizará la obra pública | C3: Hipervínculo a estudios de impacto urbano y ambiental | D3: En su caso, observaciones dirigidas a la población | E3: Etapa de la obra pública y/o servicio de la misma (catálogo)
A4: 1 | B4: No se genera | C4: http://www.cegaipslp.org.mx/HV2019.nsf/nombre_de_la_vista/781C20E3DABA45718625839B0056258C/$File/LTAIPSLP84XXXIVB.pdf | D4: No se genera | E4: en planeación

Sheet Hidden_1_Tabla_550208
A1: en planeación
A2: en ejecución
A3: en finiquito

Sheet Tabla_550220
B1: 2 | C1: 2 | D1: 4 | E1: 7
B2: 70219 | C2: 70220 | D2: 70221 | E2: 70222
A3: ID | B3: Número de convenio modificatorio | C3: Objeto del convenio modificatorio | D3: Fecha de firma del convenio modificatorio | E3: Hipervínculo al documento del convenio
A4: 1 | B4: No se genera | C4: No se genera | D4: 43496 | E4: http://www.cegaipslp.org.mx/HV2019.nsf/nombre_de_la_vista/781C20E3DABA45718625839B0056258C/$File/LTAIPSLP84XXXIVB.pdf
