Workbook
Name CMedios: Medios[Descripción]
Name CRespuestas: Fundamentación!$C$13:$C$23
Name CTramites: Fundamentación!$C$28:$C$30

Sheet Fundamentación
A1: Art | B1: Fracc | C1: Contenido
A2: 34 | B2: XV | C2: Recibir y sistematizar y, en su caso, requerir los informes mensuales que deberán enviarle los sujetos obligados, relativos a la recepción y tramitación de solicitudes de información pública que hayan recibido
A3: 54 | B3: VIII | C3: Llevar un registro de las solicitudes de acceso a la información, respuestas, resultados, costos de reproducción y envío
A4: 54 | B4: XII | C4: Informar por escrito a la CEGAIP, de forma mensual, sobre las solicitudes de información recibidas, el trámite y respuesta correspondiente en cada caso
B10: Catálogo de Tipos de Respuesta
B12: Respuesta | C12: Descripción
B13: 1 | C13: Información reservada.
B14: 2 | C14: Información confidencial.
B15: 3 | C15: Se pone a disposición la información para consulta directa.
B16: 4 | C16: Se requiere al solicitante.
B17: 5 | C17: Se tiene por no presentada la solicitud de información, por no atender requerimiento en plazo.
B18: 6 | C18: Sujeto obligado no competente, se le orienta ante qué sujeto obligado presentar su solicitud de información.
B19: 7 | C19: Información se encuentra disponible en la Plataforma.
B20: 8 | C20: Entrega de información por correo electrónico.
B21: 9 | C21: Entrega de información previo pago correspondiente.
B22: 10 | C22: Información inexistente
B23: 11 | C23: Otros
B25: Catálogo de Tipos de Trámites
B27: Trámite | C27: Descripción
B28: 1 | C28: Recibida
B29: 2 | C29: En trámite
B30: 3 | C30: Contestada
B33: Catálogo de Medios de Envío de la Respuesta
B35: Medio | C35: Descripción
B36: 1 | C36: PNT
B37: 2 | C37: Correo postal tradicional o por correo certificado con acuse de recibo
B38: 3 | C38: Correo electrónico
B39: 4 | C39: Personal
B40: 5 | C40: Telégrafo
B41: 6 | C41: Verbal

Sheet Formato
A1: Mes que reporta | B1: 3 | C1: <== Escriba en esta celda el número de mes que reporta y el año | F1: Resumen | G1: No. de solicitudes recibidas en el mes | H1: =COUNTIF(Formato!$L$10:$L$43,B1) -> 34 | I1: <== No escriba aquí nada, el formato calcula automáticamnete estos valores
B2: =IF(B1>0, CHOOSE(B1,"Enero", "Febrero", "Marzo", "Abril", "Mayo", "Junio", "Julio", "Agosto","Septiembre","Octubre","Noviembre","Diciembre"),"Escriba arriba número de mes a reportar") -> Marzo | G2: No. de solicitudes respondidas en el mes | H2: =COUNTIF(Formato!$M$10:$M$43,B1) -> 20 | I2: <== No escriba aquí nada, el formato calcula automáticamnete estos valores
A3: Año que reporta | B3: 2018 | M3: Notas:
M4: 1 | N4: Solamente se capturan datos en celdas en amarillo.
M5: 2 | N5: Los folios pueden ser recibidos en un mes y contestados en otro. Para su correcta contabilización, si un folio es recibido en un mes y contestado en el siguiente, deberá incluirse en ambos reportes. El resumen tomará en cuenta esto para no cotabilizarlo doble.
A6: Reporte enviado a la CEGAIP, Art 34FXV , Art 54FVIII y XII
A9: Número de folio. | B9: Nombre del solicitante | C9: Fecha de Recepción | D9: Información Solicitada | E9: Trámite | F9: Respuesta | G9: Fecha de Respuesta | H9: Resultado | I9: Costo de Reproducción | J9: Medio de Notificación | K9: Costo de envio | L9: Mes de Recepción | M9: Mes de Respuesta
A10: CEGAIP-SI-008/2018-MANUAL | B10: JESUS FEDERICO PIÑA FRAGA | C10: 43186 | D10: SOLICITO CONOCER Y SABER LOS NOMBRES DE LOS SERVIDORES PÚBLICOS QUE POR UNA PARTE SE LES IMPONE SANCIÓN Y POR OTRA PARTE SE DETERMINA NO IMPONER SANCION A OTRAS SERVIDORES PÚBLICOS, ESTO SEGÚN EL ACUERDO—CEGAIP-1242-2017.S.E.DE 14-DIC-2017,DE LA PONENCIA TRES(3) CONSECUENCIA DEL EXPEDIENTE: CEGAIP-PISA-024-2015-3, DEL CUAL NO SE PROPORCIONÓ NOMBRE ALGUNO DE LOS SERVIDORES PÚBLICOS QUE IBAN A SER SANCIONADOS POR EL INCUMPLIMIENTO DE UNA RESOLUCIÓN DICTADA POR EL PLENO; TAMPOCO SE ENCUENTRAN LOS NOMBRES DE LOS QUE YA NO FUERON SANCIONADOS, PERO HOY SOLICITO LOS NOMBRES DE UNOS Y DE OTROS, SANCIONADOS Y NO SANCIONADOS. LA REPRODUCCIÓN QUE HOY TAMBIÉN SOLICITO ES COPIA SIMPLE DEL PROYECTO PROPUESTO Y PRESENTADO ANTE EL PLENO POR LA COMISIONADA DE LA PO NENCIA TRES (3) CLAUDIA ELIZABETH AVALOS CEDILLO, EN DONDE SE ENCONTRA BAN DIVERSOS EXSERVIDORES PÚBLICOS Y SERVIDORES PÚBLICOS DE LA SEGE PROYECTO QUE FUÉ VOTADO POR UNANIMIDAD DE VOTOS DE LOS INTEGRANTES DEL PLENO DE LA CEGAIP, PARA SANCIONAR Y NO SANCIONAR. DICHO PROYECTO PROPUESTO ES CONCERNIENTE AL PROCEDIMIENTO DE SANCION PARA LOS SERVIDORES PÚBLICOS DE LA SEGE Y SEER. | E10: Contestada | F10: Se pone a disposición la información para consulta directa. | G10: 43201 | H10: De conformidad con el contenido del memorándum por el cual remite la presente solicitud, hizo de conocimiento del área que presido el acuerdo de reserva R.C.R. 01/2017, por el cual el Comité de Transparencia de esta Comisión reservó el expediente CEGAlP-PlSA-024/2015-3. Del análisis del aludido acuerdo, se advierte que el Comité de Transparencia confirmó la reserva del mencionado expediente, pues estimó que se encontraba dentro de la hipótesis de procedencia que previene el artículo 129, fracción X, de la Ley de Transparencia y Acceso a la Información Pública del Estado, pues en su momento determinó que la entrega del las constancias que integran el aludido expediente violentaría la conducción del procedimiento administrativo sancionador. Ahora bien, el particular solicita el proyecto de resolución que se presentó al Pleno de esta Comisión, así como el nombre de aquellos servidores y ex servidores públicos que fueron sancionados así como aquellos que no lo fueron; por ello, y en atención al mencionado acuerdo de reserva, el cual el día de hoy se encuentra vigente, con fundamento en lo dispuesto por el artículo 136 de la Ley de Transparencia y Acceso a la Información Pública del Estado, deberá entregar al particular dicho acuerdo o, en su Cordilera Hmalaya No. 605 • Lomas 4ta Sección • CP. 78216 • San Luis Potosí, SLP. 01800 223 42 47 • 825 10 20 • 825 64 68 • www.cegaipslp.orqmx defecto, llevar a cabo las gestiones necesarias para entregar la misma en caso de que a la fecha hayan cesado las causas que motivaron la reserva. Es importante puntualizar que, de conformidad con lo establecido en la resolución que confirmó la reserva de la información, el área que elaboró la solicitud de clasificación es la Secretaría de Pleno de esta Comisión, es decir, que dicha área es quien tiene bajo su resguardo el procedimiento de imposición de sanciones CEGAlP-PlSA-024/2015-3; por ende, conforme al lineamiento Décimo Sexto, fracciones I y ll, de los "Lineamientos Generales para la Clasificación y Desclasificación de la información, así como para la Elaboración de Versiones Públicas" corresponde al titular del área que resguarda la documentación o al Comité de Transparencia del sujeto obligado determinar si es susceptible de descalificación. En las anotadas circunstancias, la unidad administrativa a mi cargo se encuentra impedida para entregar la información que solicitada el particular, pues de hacerlo así supondría vulnerar una determinación que emitió el Comité de Transparencia de esta Comisión, pues el proyecto de resolución que se presentó es un elemento que se encuentra íntimamente relacionado con el expediente, pues al ser aprobado por el Pleno de esta Comisión el catorce de diciembre de dos mil diecisiete, se formalizó en la resolución que en definitiva se dictó y es parte integrante del proceso administrativo seguido en forma de juicio que se reservó. Consecuentemente, con fundamento en el artículo 136 de la Ley de Transparencia y Acceso a la Información Pública del Estado, usted, en su calidad de Titular de la Unidad de Transparencia, solicitó entregue al particular el acuerdo de reserva que se aprobó el veinticuatro de mato de dos mil diecisiete por parte del Comité de Transparencia de esta Comisión. | I10: NINGUNO | J10: PNT | K10: NINGUNO | L10: =IF(Formato!$C10<>"",MONTH(C10),"") -> 3 | M10: =IF(Formato!$G10<>"",MONTH(G10),"") -> 4
A11: CEGAIP-SI-091/2018- 00217918-PNT | B11: HORACIO CARRERAS GARCIA | C11: 43186 | D11: ´´ copia del comunicado de manera integra con firmas del comunicado que emitió esta comisión como BOLETÍN 100% AYSLP así como los acuerdos y oficios que menciona en el mismo. ´´ en una solicitud anterior me previno que porque no cumplo con requisitos pero no me dice cuales, me refiero al noletin que apafreció en su pagina con este titulo, basta que cheque su pagina o le pregunte al presidente de la comisión, o vea los medios de comunicación ya que fué muy vista esta nota en periódicos y redes sociales en donde el presidente de esta comisión o bien la comisión emitió el boletín con el titulo que refiero si su pagina tiene habilitado un buscador lo podrá ubicar y si no manden mi solicitud al SEDA para que les ayuden | E11: Contestada | F11: Información se encuentra disponible en la Plataforma. | G11: 43202 | H11: En relación con la nota aparecida este día en medios digitales e impresos, en la que se informa que esta Comisión Estatal de Garantía de Acceso a la Información Pública otorgó al Ayuntamiento de San Luis Potosí la más alta calificación por haber el 100 por ciento de cumplimiento en la última evaluación realizada el pasado diciembre de 2017, se precisa lo siguiente: Primero, la Plataforma Estatal de Transparencia San Luis se encuentra programada para contabilizar de manera automática, y en tiempo real, el número de formatos que cada sujeto obligado ingresa a la propia Plataforma, para después comparar esa información con el número total de formatos que a cada sujeto obligado corresponde, para así obtener y reflejar un porcentaje de cumplimiento cuantitativo, que puede ser consultado las 24 horas de los 365 días del año. Segundo, el porcentaje de cumplimiento cuantitativo no constituye una calificación en sí misma, sino que se trata de un indicador que permite, tanto al Órgano Garante como a la ciudadanía, conocer en un momento determinado el avance cuantitativo que registra cualquier sujeto obligado en sus tareas de carga de información a la Plataforma Estatal de Transparencia. Tercero, el análisis cualitativo, esto es de la calidad de la información ingresada a la Plataforma Estatal de Transparencia por parte de los sujetos obligados, lo llevó a cabo esta Comisión mediante la implementación de una verificación diagnóstica siguiendo para tal fin las disposiciones contenidas en el Acuerdo CEGAIP-487/2017 S.E., publicado en el Periódico Oficial del Estado el 06 de julio de 2017. Cuarto, que como resultado de la verificación diagnóstica el porcentaje de cumplimiento cualitativo del Ayuntamiento de San Luis Potosí fue de 60.60%, lo que fue debidamente notificado a ese sujeto obligado el 08 de noviembre de 2017 mediante oficio número CEGAIP-0838/2017. Quinto, los resultados obtenidos por los sujetos obligados que fueron revisados en el procedimiento de verificación diagnóstica pueden consultarse en la siguiente dirección electrónica http://189.213.126.20/evaluadometro2.nsf/TODOScualitativo?OpenPage. | I11: NINGUNO | J11: PNT | K11: NINGUNO | L11: =IF(Formato!$C11<>"",MONTH(C11),"") -> 3 | M11: =IF(Formato!$G11<>"",MONTH(G11),"") -> 4
A12: CEGAIP-SI-090/2018- 00217818-PNT | B12: HORACIO CARRERAS GARCIA | C12: 43186 | D12: solicito el documento en el que sea visible los resultados de la verificación, así como el documento mediante el cual ordeno el pleno dicha verificación que mes se verificó y a que sujetos obligados se verificaron, lo anterior debido a que considero que ya son 3 meses y no ha emitido ningún comunicado la CEGAIP de dicha acción | E12: Contestada | F12: Información se encuentra disponible en la Plataforma. | G12: 43201 | H12: En respuesta a lo solicitado, se le informa que mediante el acuerdo CEGAIP-114/2018, en la Sesión Ordinaria de Consejo del 05 de abril del 2018, el Pleno de esta Comisión aprobó los porcentajes de la evaluación realizada del 26 de enero al 27 de marzo del año en curso, en la cual se verificaron 64 sujetos obligados con información del mes de diciembre del 2017 en cuanto a información cualitativa de dichos sujetos. Dicha evaluación se llevó a cabo mediante la revisión aleatoria y muestral de los sujetos obligados dados de alta en el padrón de sujetos obligados mediante el acuerdo CEGAIP- 1113/2016 aprobado en la Sesión Ordinaria de Pleno del 15 de diciembre del 2016. Así mismo, hago de su conocimiento el porcentaje de cumplimiento cualitativo del mes de diciembre del 2017, de los sujetos que resultaron evaluados: Al respecto le informo que esta Unidad de verificaciones se encuentra en el proceso de notificación de dicho porcentaje. | I12: NINGUNO | J12: PNT | K12: NINGUNO | L12: =IF(Formato!$C12<>"",MONTH(C12),"") -> 3 | M12: =IF(Formato!$G12<>"",MONTH(G12),"") -> 4
A13: CEGAIP-SI-089/2018-CORREO ELECTRÓNICO-00217718-PNT | B13: MANUEL GUADARRAMA | C13: 43186 | D13: Del 1 de enero de 2017 al 31 de diciembre de 2017, ¿cuántas sanciones ha impuesto el Organismo Garante del Estado a funcionarios del Congreso del Estado por el incumplimiento a las obligaciones señaladas en la legislación en materia de transparencia? | E13: Contestada | F13: Información se encuentra disponible en la Plataforma. | G13: 43200 | H13: Al respecto se le informa que en las sesiones de pleno del año 2017, fueron aprobadas 57 multas (sanciones) en general, todas derivadas de los Procedimientos de Imposición de Sanción que se tramitan en esta área a mi cargo en términos de la abrogada Ley de Transparencia y Acceso a la Información Pública, y de esas sanciones, ninguna fue impuesta a funcionarios del Congreso del Estado. En términos de lo arriba señalado, se le proporcionan dos archivos en formato Excel que contienen los cuadros con el número de sanciones aprobadas en el año 2017, siendo cuatro sanciones impuestas en procedimientos del año 2015 y 53 sanciones impuestas en procedimientos del año 2016. Se informa al peticionario que la información se proporciona en el estado en que se encuentra. Finalmente, de conformidad con el artículo 154 tercer párrafo de la vigente Ley de Transparencia y Acceso a la Información Pública del Estado de San Luis Potosí, se le hace de su conocimiento que en caso de inconformidad podrá interponer el recurso de revisión establecido en el artículo 166 de la citada Ley de Transparencia. | I13: NINGUNO | J13: Correo electrónico | K13: NINGUNO | L13: =IF(Formato!$C13<>"",MONTH(C13),"") -> 3 | M13: =IF(Formato!$G13<>"",MONTH(G13),"") -> 4
A14: CEGAIP-SI-088/2018-CORREO ELECTRÓNICO-00217618-PNT | B14: MANUEL GUADARRAMA | C14: 43186 | D14: Por el incumplimiento a las determinaciones o resoluciones del Organismo Garante del Estado, ¿a cuántos servidores públicos del Congreso del Estado el Organismo Garante del Estado les ha impuesto medidas de apremio del 1 de enero de 2017 al 31 de diciembre de 2017? | E14: Contestada | F14: Información se encuentra disponible en la Plataforma. | G14: 43202 | H14: De conformidad con los artículos 18 y 19 de la Ley de Transparencia y Acceso a la Información Pública del Estado, el suscrito únicamente le doy respuesta a su solicitud de acceso a la información pública en lo que a esta dirección le compete. Ahora, es importante señalar que de conformidad con el lineamiento quinto , de los lineamientos que determinan el trámite interno para la aplicación de medidas de apremio establecidas en la Ley de Transparencia y Acceso a la Información Pública del Estado de San Luis Potosí corresponde a esta Dirección a mi cargo, la elaboración de los proyectos para la aplicación de las medidas de apremio previstas en el artículo 190 de la Ley de Transparencia y Acceso a la Información Pública del Estado. Así pues, en los archivos de esta área a mi cargo no existe documento alguno que ampare la información solicitada durante ese tiempo, es decir, esta área no ha elaborado proyectos para su correspondiente aprobación de la aplicación de medias de apremio sobre servidores públicos del Congreso del Estado o, en otras palabras no hay aplicación de medidas de apremio aplicadas por el Pleno en contra de los citados servidores público, ello se insiste porque esta área a mi cargo es la que lleva el registro de la aplicación de las referidas medidas y no hay registro alguno de esa naturaleza. Por último, no es el caso que el Comité de Información de esta CEGAIP declare la inexistencia sobre la información solicitada, en virtud de que de acuerdo a la disposición vista, esta área es la encargada de poseer la información en caso de que existiera, empero como ya lo expresé, esa información no existe. Lo anterior es de acuerdo al criterio 7/10 del Instituto Nacional de Transparencia, Acceso a la Información y Protección de Datos Personales que es como sigue. No será necesario que el Comité de Información declare formalmente la inexistencia, cuando del análisis a la normatividad aplicable no se desprenda obligación alguna de contar con la información solicitada ni se advierta algún otro elemento de convicción que apunte a su existencia. La Ley Federal de Transparencia y Acceso a la Información Pública Gubernamental y su Reglamento prevén un procedimiento a seguir para declarar formalmente la inexistencia por parte de las dependencias y entidades de la Administración Pública Federal. Éste implica, entre otras cosas, que los Comités de Información confirmen la inexistencia manifestada por las unidades administrativas competentes que hubiesen realizado la búsqueda de la información que se solicitó. No obstante lo anterior, existen situaciones en las que, por una parte al analizar la normatividad aplicable a la materia de la solicitud, no se advierte obligación alguna por parte de las dependencias y entidades de contar con la información y, por otra, no se tienen suficientes elementos de convicción que permitan suponer que ésta existe. En estos casos, se considera que no es necesario que el Comité de Información declare formalmente la inexistencia de los documentos requeridos. Por último, de conformidad con el artículo 154 de la Ley de Transparencia y Acceso a la Información Pública del Estado hago que conocimiento del solicitante que en contra de la respuesta a la presente solicitud de acceso a la información pública puede interponer el recurso de revisión dentro del plazo de 15 días contados a partir del día siguiente de la notificación de la presente respuesta en las oficinas ubicadas en la avenida Cordillera Himalaya 605, Lomas Cuarta Sección. | I14: NINGUNO | J14: Correo electrónico | K14: NINGUNO | L14: =IF(Formato!$C14<>"",MONTH(C14),"") -> 3 | M14: =IF(Formato!$G14<>"",MONTH(G14),"") -> 4
A15: CEGAIP-SI-087/2018-CORREO ELECTRÓNICO-00217518-PNT | B15: MANUEL GUADARRAMA | C15: 43186 | D15: Del 1 de enero de 2017 al 31 de diciembre de 2017, ¿cuántos recursos de revisión se han interpuesto ante el Organismo Garante del Estado derivado de las solicitudes al Congreso del Estado? Del 1 de enero de 2017 al 31 de diciembre de 2017, ¿en qué sentido (desechado o sobreseído, confirmación de la respuesta o, revocación o modificación de la respuesta) han sido las resoluciones del Organismo Garante del Estado ante los recursos de revisión que se han interpuesto en contra del Congreso del Estado del 1 de enero de 2017 al 31 de diciembre de 2017? | E15: Contestada | F15: Información se encuentra disponible en la Plataforma. | G15: 43201 | H15: Al respecto, con fundamento en el artículo 151 de la Ley de Transparencia y Acceso a la Información Pública del Estado de San Luis Potosí, sírvase encontrar adjunto al presente el registro de los recursos de revisión turnados a la ponencia 1, en la que puede localizar entre otros datos la información por Usted solicitada. Lo anterior en un ejercicio de Transparencia proactiva en relación con el principio de máxima publicidad establecido en el artículo 8° fracción VI de la materia. Asimismo, se hace de su conocimiento que la información se le entrega en el estado en que se encuentra, de conformidad con el artículo 60 y 61 de la Ley de Transparencia y Acceso a la Información Pública del Estado de San Luis Potosí. Esta Unidad de Ponencia 2 es competente para resolver su petición, lo anterior con fundamento en los artículos 6 de la Constitución Política de los Estados Unidos Mexicanos, 17 fracción III de la Constitución Política del Estado Libre y Soberano de San Luis Potosí, 4, 12, 174, fracción I de la Ley de Transparencia y Acceso a la Información Pública del Estado; y 51 del Reglamento Interior de esta Comisión procedo a otorgar el acceso a la información pública en los siguientes términos: Pues bien, en virtud de lo anterior me permito informarle que del periodo en cuestión se me han asignado 12 recursos revisión interpuestos contra actos del H. Congreso del Estado de San Luis Potosí, de los cuales se resolvieron de la manera siguiente: uno se aplico la Afirmativa Ficta, cuatro se modifico la respuesta, cuatro se revocó la respuesta y tres por un parte se sobreseyó la respuesta y por otra parte se modificó la respuesta. Con base en los establecido por los artículos 1°, 2°, fracción III; 3°, fracciones II, VI, VII, XI; 4°, 12, 18, 19, 23, 74, fracción III y 129 y 133 de la Ley General de Transparencia y Acceso a la Información Pública; 18, 19, 20, 59, 84, fracción XLIII; 88, fracción III; inciso a; 151 y 154 de la Ley de Transparencia y Acceso a la Información Pública del Estado, en correlación con el artículo 74, fracción III, inciso a, de la Ley General de Transparencia y Acceso a la Información Pública, esta Ponencia cuenta con atribuciones para otorgar de manera parcial la información solicitada: A partir del diez de mayo de dos mil dieciséis, se integraron como nuevas áreas administrativas las diversas ponencias que conforman a la Comisión Estatal de Garantía de Acceso a la Información Pública, mismas que operan con fundamento en el artículo 150, fracción I, de la Ley General, 174, fracción I, de la Ley Local y 51 del Reglamento Interior de la Comisión Estatal de Garantía de Acceso a la Información Pública; por lo que le corresponde al área que presido llevar a cabo el trámite de los recursos de revisión, así como el cumplimiento de las resoluciones dictadas dentro de los expedientes incorporados a la ponencia mediante el turno correspondiente; en consecuencia, esta unidad administrativa, en acatamiento a sus atribuciones proporcionará la información que con fundamento en los preceptos normativos citados tiene la obligación de generar, poseer y administrar a partir de la fecha en que se constituyó como unidad administrativa, es decir, lo relativo a los recursos que han sido turnados ante esta área. Con base en los fundamentos y motivos anteriormente expuestos, me permito poner a su disposición en modalidad electrónica la siguiente información: a) Cuadro General de Recepción Recursos de Revisión de dos mil diecisiete. b) Cuadro General de Proyectos de Recursos de Revisión de dos mil diecisiete. En los cuadros antes mencionados, usted podrá visualizar la totalidad de los recursos turnados a esta Ponencia, y a su vez, al encontrarse en un formato que permite el acceso en datos abiertos, usted podrá filtrar la información que es de su interés, misma que para su fácil identificación se trascribe a la presente respuesta: Recepciones de recursos de revisión en el periodo especificado: Número Número de Expediente SUJETO OBLIGADO Fecha de ingreso oficialía Hora de recepción Of. Fecha Recepción comisionada Auto Admisión SENTIDO 39 RR-114/2017 Congreso del Estado de San Luis Potosí 07-mar-17 18:05 08-mar-17 09-mar-17 ADMITE 40 RR-117/2017 Congreso del Estado de San Luis Potosí 07-mar-17 18:07 08-mar-17 09-mar-17 ADMITE 41 RR-120/2017 Congreso del Estado de San Luis Potosí 07-mar-17 18:09 08-mar-17 09-mar-17 ADMITE 63 RR-186/2017 Congreso del Estado de San Luis Potosí 07-abr-17 21:18 11-abr-17 74 RR-219/2017 Congreso del Estado de San Luis Potosí 21-abr-17 11:43 25-abr-17 25-abl-17 ADMITE 76 RR-225/2017 Congreso del Estado de San Luis Potosí 21-abr-17 18:40 25-abr-17 25-abl-17 ADMITE 83 RR-246/2017 Congreso del Estado de San Luis Potosí 02-may-17 11:12 02-may-17 11-may-17 ADMITE 100 RR-297/2017 Congreso del Estado de San Luis Potosí 06-jun-17 13:52 07-jun-17 12-jun-17 ADMITE 101 RR-300/2017 Congreso del Estado de San Luis Potosí 06-jun-17 13:55 07-jun-17 12-jun-17 ADMITE 102 RR-303/2017 Congreso del Estado de San Luis Potosí 06-jun-17 13:57 07-jun-17 12-jun-17 ADMITE 260 RR-771/2017 SIGEMI Congreso del Estado de San Luis Potosí 01-nov-17 18:00 08-nov-17 10-nov-17 ADMITE 271 RR-804/2017 Congreso del Estado de San Luis Potosí 28-nov-17 18:09 01-dic-17 04-dic-17 ADMITE 273 RR-810/2017 Congreso del Estado de San Luis Potosí 04-dic-17 18:19 05-dic-17 06-dic-17 ADMITE Recursos resueltos en el periodo solicitado: No. Número de Expediente Partes Fecha de citado Fecha de vencimiento Fecha de sesión Resolvió dentro del término Sentido Hipótesis de procedencia Art. 167 LTAIP. 39 RR-114/2017 Congreso del Estado de San Luis Potosí 24 de marzo de 2017 26 de abril de 2017 07 de abril de 2017 Sí Sobresee/Modifica IV 40 RR-117/2017 Congreso del Estado de San Luis Potosí 24 de marzo de 2017 26 de abril de 2017 07 de abril de 2017 Sí Sobresee/Modifica IV 41 RR-120/2017 Congreso del Estado de San Luis Potosí 24 de marzo de 2017 26 de abril de 2017 07 de abril de 2017 Sí Sobresee/Modifica IV 62 RR 186/2017-3 Congreso del Estado de San Luis Potosí 09 de mayo de 2017 01 de junio de 2017 30 de mayo de 2017 Sí Modifica IV 73 RR 219/2017 Congreso del Estado de San Luis Potosí 16 de mayo de 2017 09 de junio de 2017 06 de junio de 2017 Sí Modifica IV 75 RR 225/2017 Congreso del Estado de San Luis Potosí 16 de mayo de 2017 07 de junio de 2017 30 de mayo de 2017 Sí Revoca VII y XII 82 RR-246/2017 Congreso del Estado de San Luis Potosí 30 de mayo de 2017 22 de junio de 2017 15 de junio de 2017 Sí Modifica IV 99 RR-297/2017 Congreso del Estado de San Luis Potosí 23 de junio de 2017 08 de agosto de 2017 11 de julio de 2017 Sí Modifica V 100 RR-300/2017 Congreso del Estado de San Luis Potosí 23 de junio de 2017 08 de agosto de 2017 11 de julio de 2017 Sí Revoca IV 101 RR-303/2017 Congreso del Estado de San Luis Potosí 23 de junio de 2017 08 de agosto de 2017 11 de julio de 2017 Sí Revoca IV 259 RR-771/2017 SIGEMI Congreso del Estado de San Luis Potosí 04 de diciembre de 2017 08/01/2018 14 de diciembre de 2017 Sí Modifica IV 270 RR-804/2017 Congreso del Estado de San Luis Potosí 08 de enero de 2018 29/01/2018 15 de enero de 2018 Sí Confirma N/A 272 RR-810/2017 Congreso del Estado de San Luis Potosí 10 de enero de 2018 31/01/2018 31 de enero de 2018 Sí Modifica IV Por otra parte, cabe precisar que esta Ponencia solamente entrega el total de expedientes turnados a ésta, por lo que el área susceptible de poseer dicha información en su totalidad es la Secretaría de Pleno, ello de conformidad con los artículos 33, fracciones V y XXIV, del Reglamento Interior de la Comisión Estatal de Garantía de Acceso a la Información Pública del Estado. Las disposiciones citadas establecen: “ARTÍCULO 33. Atribuciones. Son atribuciones del Secretario de Pleno: (…) V.- Llevar el registro y control, cuando corresponda, de la documentación que conforma los anexos de cada acta de Pleno; XXIV.- Llevar el control y administración de los libros de gobierno de la Oficialía de Partes, de los recursos de revisión, en lo que corresponde al turno de los mismos a cada Ponencia y de los Escritos Sueltos”. Al respecto, se hace del conocimiento del peticionario, que la actual Ley de Transparencia y Acceso a la Información Pública del Estado de San Luis Potosí, contempla el recurso de revisión, y de conformidad con lo establecido en el artículo 33 fracción XVIII del Reglamento Interior de esta Comisión vigente, esta área a mi cargo es la encargada de Auxiliar al Presidente únicamente en el Registro y turno de los recursos de revisión a las Ponencias, más no es la encargada del trámite de los recursos, por tal, la información que posee esta área es la relativa al número de recursos de revisión que se han interpuesto ante esta Comisión en contra del Congreso del Estado en el año 2017, siendo 41 recursos de revisión interpuestos en contra del Congreso del Estado. Al efecto se adjunta un archivo electrónico en Excel, en el que se contiene el registro de todos los recursos de revisión que fueron interpuestos ante esta Comisión, en los que podrá localizar los interpuestos en contra del Congreso del Estado. Respecto a la segunda parte de su solicitud, relativa a: “en qué sentido (desechado o sobreseído, confirmación de la respuesta o, revocación o modificación de la respuesta) han sido las resoluciones del Organismo Garante del Estado ante los recursos de revisión que se han interpuesto en contra del Congreso del Estado del 1 de enero de 2017 al 31 de diciembre de 2017”, dicha información no obra en los archivos de esta área, en virtud de que, tal como se señaló, esta área únicamente auxilia al Presidente en el Registro y turno de los recursos de revisión a las Ponencias, más no es la encargada del trámite de los recursos, por tal, no se cuenta con la información a que se hace referencia. Se informa al peticionario que la información se proporciona en el estado en que se encuentra. Finalmente, de conformidad con el artículo 154 tercer párrafo de la vigente Ley de Transparencia y Acceso a la Información Pública del Estado de San Luis Potosí, se le hace de su conocimiento que en caso de inconformidad podrá interponer el recurso de revisión establecido en el artículo 166 de la citada Ley de Transparencia. | I15: NINGUNO | J15: Correo electrónico | K15: NINGUNO | L15: =IF(Formato!$C15<>"",MONTH(C15),"") -> 3 | M15: =IF(Formato!$G15<>"",MONTH(G15),"") -> 4
A16: CEGAIP-SI-086/2018-CORREO ELECTRÓNICO-00217418-PNT | B16: MANUEL GUADARRAMA | C16: 43186 | D16: Del 1 de enero de 2017 al 31 de diciembre de 2017, ¿cuántas recomendaciones emitió el Organismo Garante del Estado al Congreso del Estado? | E16: Contestada | F16: Información se encuentra disponible en la Plataforma. | G16: 43200 | H16: Al respecto, le hago de su conocimiento que durante el ejercicio 2017 no se recibió denuncia por incumplimiento a las obligaciones de transparencia comunes y específicas en contra del Congreso del Estado de San Luis Potosí. En virtud de lo anterior, me permito informarle que no hubo lugar a admitir denuncia alguna en contra del sujeto obligado al que alude en su petición, y por ende, tampoco hubo recomendaciones emitidas por este Órgano Garante al Congreso del Estado, que derivaran de denuncias por incumplimiento a las obligaciones de transparencia. Por lo anterior, es aplicable el CRITERIO 18/2013, sustentado por el Instituto Nacional de Transparencia, Acceso a la Información y Protección de Datos Personales, antes IFAI que a la letra dice: Respuesta igual a cero. No es necesario declarar formalmente la inexistencia. En los casos en que se requiere un dato estadístico o numérico, y el resultado de la búsqueda de la información sea cero, éste deberá entenderse como un dato que constituye un elemento numérico que atiende la solicitud, y no como la inexistencia de la información solicitada. Por lo anterior, en términos del artículo 42 de la Ley Federal de Transparencia y Acceso a la Información Pública Gubernamental, el número cero es una respuesta válida cuando se solicita información cuantitativa, en virtud de que se trata de un valor en sí mismo. Es decir, toda vez que en lo medular se solicitó información cuantitativa –número-, al no haberse presentado denuncias por incumplimiento a las obligaciones de transparencia en contra del Congreso del Estado de San Luis Potosí, durante el 2017, no hubo lugar a emitir recomendaciones derivadas de la presentación de denuncias, en otras palabras, la respuesta es cero, por lo que en el presente caso no resulta necesario declarar formalmente la inexistencia de la información. Para efecto de demostrar lo informado a través de la presente, con fundamento en lo dispuesto en el artículo 61 y 151, segundo párrafo, de la vigente Ley de Transparencia y Acceso a la Información Pública del Estado de San Luis Potosí, adjunto un archivo electrónico en formato Excel (base de datos) que contiene el registro conjuntado de las denuncias por incumplimiento a las obligaciones de transparencia recibidas durante el año 2017, en donde podrá visualizar el número de denuncia, fecha de presentación de la misma, el sujeto obligado a quien se le imputa el incumplimiento de las obligaciones de transparencia, y el motivo de la denuncia; registro el anterior, que se lleva en esta Unidad de Atención a Denuncias en cumplimiento al Lineamiento Segundo, párrafo primero, de los Lineamientos que determinan el procedimiento interno al que habrá de someterse el trámite y resolución de las denuncias por incumplimiento a las obligaciones de transparencia . Ahora bien, la información que se adjunta al presente ocurso se le entrega en el estado en que se encuentra, de conformidad con lo establecido en el artículo 60, segundo párrafo, de la Ley de Transparencia y Acceso a la Información Pública del Estado de San Luis Potosí, mismo que refiere que la obligación de entregar la información no implica el procesamiento, ni la adecuación de la información al interés del solicitante, salvo la producción de versiones públicas del documento, circunstancia última que en el caso no acontece. Asimismo, no es óbice señalar que el artículo 88 fracción III, inciso g), de la Ley de Transparencia y Acceso a la Información Pública del Estado de San Luis Potosí, exige a la Comisión Estatal de Garantía de Acceso a la Información Pública del Estado de San Luis Potosí, poner a disposición del público en medios electrónicos, la información sobre el número de denuncias por incumplimiento a las obligaciones de transparencia recibidas por el órgano garante. En ese sentido, me permito comunicarle que en la Plataforma Estatal de Transparencia puede consultar la información sobre el número de denuncias presentadas ante este Órgano garante desglosadas por mes, desde el mes de mayo del año 2015 al mes de diciembre de 2017. Para efecto de lo anterior, únicamente debe: 1. Ingresar al portal de transparencia de esta Comisión www.cegaipslp.org.mx 2. Seleccionar el apartado del periodo 2017, Obligaciones 1 semestre y 2 semestre, que se ubica en la parte izquierda de la página oficial electrónica de esta Comisión. 3. Seleccionar el sujeto obligado Comisión Estatal de Garantía de Acceso a la información Pública del Estado de San Luis Potosí, y dar clic en presentar reporte. 4. Seleccionar el periodo (mes) de su interés, elegir el artículo 88, posteriormente dar clic en la fracción III, inciso G. 5. Inmediatamente se desplegará un hipervínculo que lo dirigirá a una página en la que se visualiza un acceso directo y un hipervínculo. 6. Al Dar clic en el acceso directo o vínculo, se descargará el archivo que contiene la información que pudiese ser de su interés, es decir, el formato con la información sobre el número de denuncia, la fecha de presentación y el sujeto obligado en contra de quien se presentó cada una de ellas. No es óbice mencionarle, que en la Plataforma Estatal de Transparencia se actualiza la información de manera mensual, por lo que cada uno de los formatos publicados contienen la información del mes que se reporta. Finalmente, de conformidad con el artículo 154 tercer párrafo de la vigente Ley de Transparencia y Acceso a la Información Pública del Estado de San Luis Potosí, se le hace de su conocimiento que en caso de inconformidad podrá interponer el recurso de revisión establecido en el artículo 166 de la citada Ley de Transparencia. En respuesta a lo solicitado, se le informa lo siguiente de conformidad con lo dispuesto en el punto 2, inciso a) del Anexo I del Acuerdo CONAIP/SNT/ACUERDO/EXT-03-03/05/2017-2, emitido por el Consejo Nacional del Sistema Nacional de Transparencia, Acceso a la Información Pública y Protección de Datos Personales, publicado en el Diario Oficial de la Federación el 11 de mayo de 2017, que puede ser consultado a través de la siguiente dirección electrónica http://snt.org.mx/images/Doctos/CONAIP_SNT_ACUERDO_EXT03_05_2017_02.pdf, este Órgano Garante llevó a cabo la primera verificación a las obligaciones de transparencia consignadas en la legislación de la materia hoy vigente, sin que la misma tuviera efectos vinculantes. La disposición invocada es del tenor literal siguiente: “2. La primera verificación referida en el numeral precedente, en lo sucesivo Verificación diagnóstica, no tendrá para los sujetos obligados, efectos vinculantes con lo establecido en el artículo 88 del Capítulo VI de la Ley General. De igual forma, se integra de dos fases: en la primera de ellas, se realizarán verificaciones para detectar áreas de oportunidad de cada sujeto obligado para dar cumplimiento a las obligaciones de transparencia previstas en los artículos 70 a 82 de la Ley General, así como para realizar posibles ajustes y modificaciones a los Lineamientos generales y los criterios respectivos por parte del Sistema Nacional de Transparencia. En una segunda fase, las revisiones a los portales tendrán como propósito brindar seguimiento al cumplimiento de obligaciones.” Aunado a lo anterior, las recomendaciones que se le notificaron al Congreso del Estado fueron las derivadas del resultado de la evaluación diagnóstica, las cuales se pueden consultar a través de la siguiente dirección electrónica http://www.cegaipslp.org.mx/evaluadometro2.nsf/WEBEnBlanco?OpenPage, se integra en la “memoria técnica de evaluación”, y se busca el sujeto obligado Congreso del Estado, en la que se desglosan las recomendaciones emitidas por esta Comisión en relación a la evaluación diagnóstica realizada. | I16: NINGUNO | J16: Correo electrónico | K16: NINGUNO | L16: =IF(Formato!$C16<>"",MONTH(C16),"") -> 3 | M16: =IF(Formato!$G16<>"",MONTH(G16),"") -> 4
A17: CEGAIP-SI-CORREO ELECTRÓNICO-085/2018-00217218-PNT | B17: MANUEL GUADARRAMA | C17: 43186 | D17: Del 1 de enero de 2017 al 31 de diciembre de 2017, ¿cuántas personas denunciaron ante el Organismo Garante del Estado la falta de publicación de las obligaciones de transparencia comunes y específicas del Congreso del Estado? De las denuncias recibidas por el Organismo Garante del Estado entre el 1 de enero de 2017 al 31 de diciembre de 2017 por la falta de publicación de las obligaciones de transparencia comunes y específicas del Congreso del Estado, ¿cuántas fueron admitidas? | E17: Contestada | F17: Información se encuentra disponible en la Plataforma. | G17: 43194 | H17: Al respecto, me permito informarle que durante el ejercicio 2017 no se recibió denuncia por incumplimiento a las obligaciones de transparencia comunes y específicas en contra del Congreso del Estado de San Luis Potosí. Para efecto de demostrar lo anterior, con fundamento en lo dispuesto en el artículo 61 y 151, segundo párrafo, de la vigente Ley de Transparencia y Acceso a la Información Pública del Estado de San Luis Potosí, adjunto a la presente un archivo electrónico en formato Excel (base de datos) que contiene el registro conjuntado de las denuncias por incumplimiento a las obligaciones de transparencia recibidas durante el año 2017, en donde podrá visualizar el número de denuncia, fecha de presentación de la misma, el sujeto obligado a quien se le imputa el incumplimiento de las obligaciones de transparencia, y el motivo de la denuncia; registro el anterior, que se lleva en esta Unidad de Atención a Denuncias en cumplimiento al Lineamiento Segundo, párrafo primero, de los Lineamientos que determinan el procedimiento interno al que habrá de someterse el trámite y resolución de las denuncias por incumplimiento a las obligaciones de transparencia . Ahora bien, la información que se adjunta al presente ocurso se le entrega en el estado en que se encuentra, de conformidad con lo establecido en el artículo 60, segundo párrafo, de la Ley de Transparencia y Acceso a la Información Pública del Estado de San Luis Potosí, mismo que refiere que la obligación de entregar la información no implica el procesamiento, ni la adecuación de la información al interés del solicitante, salvo la producción de versiones públicas del documento, circunstancia última que en el caso no acontece. Asimismo, no es óbice señalar que el artículo 88 fracción III, inciso g), de la Ley de Transparencia y Acceso a la Información Pública del Estado de San Luis Potosí, exige a la Comisión Estatal de Garantía de Acceso a la Información Pública del Estado de San Luis Potosí, poner a disposición del público en medios electrónicos, la información sobre el número de denuncias por incumplimiento a las obligaciones de transparencia recibidas por el órgano garante. En ese sentido, me permito comunicarle que en la Plataforma Estatal de Transparencia puede consultar la información sobre el número de denuncias presentadas ante este Órgano garante desglosadas por mes, desde el mes de mayo del año 2015 al mes de diciembre de 2017. Para efecto de lo anterior, únicamente debe: 1. Ingresar al portal de transparencia de esta Comisión www.cegaipslp.org.mx 2. Seleccionar el apartado del periodo 2017, Obligaciones 1 semestre y 2 semestre, que se ubica en la parte izquierda de la página oficial electrónica de esta Comisión. 3. Seleccionar el sujeto obligado Comisión Estatal de Garantía de Acceso a la información Pública del Estado de San Luis Potosí, y dar clic en presentar reporte. 4. Seleccionar el periodo (mes) de su interés, elegir el artículo 88, posteriormente dar clic en la fracción III, inciso G. 5. Inmediatamente se desplegará un hipervínculo que lo dirigirá a una página en la que se visualiza un acceso directo y un hipervínculo. 6. Al Dar clic en el acceso directo o vínculo, se descargará el archivo que contiene la información que pudiese ser de su interés, es decir, el formato con la información sobre el número de denuncia, la fecha de presentación y el sujeto obligado en contra de quien se presentó cada una de ellas. No es óbice mencionarle, que en la Plataforma Estatal de Transparencia se actualiza la información de manera mensual, por lo que cada uno de los formatos publicados contienen la información del mes que se reporta. En lo tocante al segundo punto de su solicitud de acceso a la información, me permito comunicarle que en virtud de que durante el ejercicio 2017, no se presentó ninguna denuncia por incumplimiento a las obligaciones de transparencia en contra del Congreso del Estado de San Luis Potosí, por ende, no hubo lugar a admitir denuncia alguna en contra del sujeto obligado al que alude en su petición. Por lo anterior, es aplicable el CRITERIO 18/2013, sustentado por el Instituto Nacional de Transparencia, Acceso a la Información y Protección de Datos Personales, antes IFAI que a la letra dice: Respuesta igual a cero. No es necesario declarar formalmente la inexistencia. En los casos en que se requiere un dato estadístico o numérico, y el resultado de la búsqueda de la información sea cero, éste deberá entenderse como un dato que constituye un elemento numérico que atiende la solicitud, y no como la inexistencia de la información solicitada. Por lo anterior, en términos del artículo 42 de la Ley Federal de Transparencia y Acceso a la Información Pública Gubernamental, el número cero es una respuesta válida cuando se solicita información cuantitativa, en virtud de que se trata de un valor en sí mismo. Es decir, toda vez que en lo medular se solicitó información cuantitativa –número-, al no haberse presentado durante el 2017, denuncias por incumplimiento a las obligaciones de transparencia en contra del Congreso del Estado de San Luis Potosí, la respuesta es cero y, por tanto, la respuesta constituye un valor en sí mismo, por lo que en el caso no resulta necesario declarar formalmente la inexistencia de la información. Finalmente, de conformidad con el artículo 154 tercer párrafo de la vigente Ley de Transparencia y Acceso a la Información Pública del Estado de San Luis Potosí, se le hace de su conocimiento que en caso de inconformidad podrá interponer el recurso de revisión establecido en el artículo 166 de la citada Ley de Transparencia. | I17: NINGUNO | J17: Correo electrónico | K17: NINGUNO | L17: =IF(Formato!$C17<>"",MONTH(C17),"") -> 3 | M17: =IF(Formato!$G17<>"",MONTH(G17),"") -> 4
A18: CEGAIP-SI-084/2018-CORREO ELECTRÓNICO-00217018-PNT | B18: MANUEL GUADARRAMA | C18: 43186 | D18: Derivado de las acciones de vigilancia a través de la verificación virtual llevada a cabo por el Organismo Garante del Estado a los sujetos obligados, solicito los últimos resultados de cada sujeto obligado de esta verificación. | E18: Contestada | F18: Información se encuentra disponible en la Plataforma. | G18: 43200 | H18: En respuesta a lo solicitado, y para dar respuesta a la información solicitada se le informa lo siguiente: De conformidad con lo dispuesto en el punto 2, inciso a) del Anexo I del Acuerdo CONAIP/SNT/ACUERDO/EXT-03-03/05/2017-2, emitido por el Consejo Nacional del Sistema Nacional de Transparencia, Acceso a la Información Pública y Protección de Datos Personales, publicado en el Diario Oficial de la Federación el 11 de mayo de 2017, que puede ser consultado a través de la siguiente dirección electrónica http://snt.org.mx/images/Doctos/CONAIP_SNT_ACUERDO_EXT03_05_2017_02.pdf, este Órgano Garante llevó a cabo la primera verificación a las obligaciones de transparencia consignadas en la legislación de la materia hoy vigente, sin que la misma tuviera efectos vinculantes. La disposición invocada es del tenor literal siguiente: “2. La primera verificación referida en el numeral precedente, en lo sucesivo Verificación diagnóstica, no tendrá para los sujetos obligados, efectos vinculantes con lo establecido en el artículo 88 del Capítulo VI de la Ley General. De igual forma, se integra de dos fases: en la primera de ellas, se realizarán verificaciones para detectar áreas de oportunidad de cada sujeto obligado para dar cumplimiento a las obligaciones de transparencia previstas en los artículos 70 a 82 de la Ley General, así como para realizar posibles ajustes y modificaciones a los Lineamientos generales y los criterios respectivos por parte del Sistema Nacional de Transparencia. En una segunda fase, las revisiones a los portales tendrán como propósito brindar seguimiento al cumplimiento de obligaciones.” Aunado a lo anterior, las disposiciones del artículo 99 de la Ley de Transparencia y Acceso a la Información Pública del Estado y aplicando en lo conducente el “Manual de procedimientos y metodología de evaluación para verificar el cumplimiento de las obligaciones de transparencia que deben de publicar los sujetos obligados del ámbito federal en los portales de Internet y en la Plataforma Nacional de Transparencia”, referidos en el Anexo II del Acuerdo CONAIP/SNT/ACUERDO/EXT03-03/05/ 2017-02, aplicables en el caso de conformidad con el artículo Segundo del Acuerdo CEGAIP-487/2017, S.E., la verificación diagnóstica se llevó a cabo de manera muestral, de tal forma que no abarcó la totalidad de los sujetos obligados ni la totalidad de la información relativa a partir del mes de mayo de 2015 en que entró en vigor la Ley General de Transparencia y Acceso a la Información Pública. Con base en lo anterior, durante la verificación diagnóstica solo resultaron evaluados algunos sujetos obligados, y se revisó la información concerniente al mes de mayo del 2017. Dichos resultados pueden ser consultados, a través de la siguiente dirección electrónica http://www.cegaipslp.org.mx/evaluadometro2.nsf/WEBEnBlanco?OpenPage, en donde se puede consultar la información por cada sujeto obligado, en la parte donde se señala “todos los sujetos obligados”, se encuentra publicada la totalidad de los sujetos evaluados, y el porcentaje de cumplimiento obtenido; así mismo en la parte de memoria técnica de evaluación se contienen las memorias técnicas de dichos sujetos. | I18: NINGUNO | J18: Correo electrónico | K18: NINGUNO | L18: =IF(Formato!$C18<>"",MONTH(C18),"") -> 3 | M18: =IF(Formato!$G18<>"",MONTH(G18),"") -> 4
A19: CEGAIP-SI-083/2018-CORREO ELECTRÓNICO-00216718-PNT | B19: MANUEL GUADARRAMA | C19: 43186 | D19: Derivado de la verificación realizada por el organismo garante del estado para vigilar el cumplimiento de las obligaciones de transparencia, solicito el último dictamen emitido al Congreso del Estado. | E19: Contestada | F19: Información se encuentra disponible en la Plataforma. | G19: 43199 | H19: En respuesta a lo solicitado, se le informa que el último dictamen de evaluación realizó al Congreso del Estado de San Luis Potosí, fue en cumplimiento al acuerdo CONAIP/SNT/ACUERDO/EXT-03-03/05/2017-2, emitido por el Consejo Nacional del Sistema Nacional de Transparencia, Acceso a la Información Pública y Protección de Datos Personales, publicado en el Diario Oficial de la Federación el 11 de mayo de 2017, por lo cual se anexan las memorias técnicas de los artículos 84 sobre las obligaciones comunes y el artículos 86 sobre las obligaciones específicas. Resulta necesario asentar que este Órgano Garante llevó a cabo la primera verificación a las obligaciones de transparencia consignadas en la legislación de la materia hoy vigente, sin que la misma tuviera efectos vinculantes. Se anexan las memorias técnicas señaladas en versión electrónica. | I19: NINGUNO | J19: Correo electrónico | K19: NINGUNO | L19: =IF(Formato!$C19<>"",MONTH(C19),"") -> 3 | M19: =IF(Formato!$G19<>"",MONTH(G19),"") -> 4
A20: CEGAIP-SI-082/2018- 00214718-PNT | B20: JOSE PEREZ ARRIAGA | C20: 43185 | D20: CUANTAS DENUNCIAS POR FALTA DE PUBLICACIÓN DE SUS OBLIGACIONES DE TRANSPARENCIA HA RECIBIDO LA CEGAIP EN CONTRA DE LOS SUJETOS OBLIGADOS Y EN CONTRA DE QUE SUJETOS EN LO QUE VA DE ESTE AÑO Y EN QUE ESTATUS O ETAPA SE ENCUENTRA CADA UNO DE ELLOS | E20: Contestada | F20: Información se encuentra disponible en la Plataforma. | G20: 43201 | H20: En ese sentido, me permito comunicarle que de conformidad con lo estipulado en el artículo 74, fracción III, inciso g, de la Ley General de Transparencia y Acceso a la Información Pública, que encuentra su parangón en el artículo 88 fracción III, inciso g) de la Ley de Transparencia y Acceso a la Información Pública del Estado de San Luis Potosí, en la Plataforma Estatal de Transparencia puede consultar la información sobre el número de denuncias presentadas ante este Órgano garante desglosadas por mes, desde el mes de enero del año 2018. Para efecto de lo anterior, únicamente debe: 1. Ingresar al portal de transparencia de esta Comisión www.cegaipslp.org.mx 2. Seleccionar el apartado del periodo 2018, 1 semestre Obligaciones, que se ubica en la parte izquierda de la página oficial electrónica de esta Comisión. 3. Seleccionar el sujeto obligado Comisión Estatal de Garantía de Acceso a la información Pública del Estado de San Luis Potosí, y dar clic en presentar reporte. 4. Visualizará la información de las obligaciones de transparencia publicadas por este órgano garante en los meses de enero, febrero y marzo de 2018, y seleccionará el periodo (mes) de su interés 5. Una vez realizado lo anterior, se desplegará el listado de las obligaciones de transparencia, y en la parte inferior podrá localizar la información relativa a la obligación de transparencia establecida en el artículo 88, fracción III, inciso G. 6. Dar clic en el apartado del artículo 88, fracción III, inciso G, y visualizará el hipervínculo que dirige a la página que contiene el acceso directo y un hipervínculo. 7. Al dar clic en el acceso directo o vínculo, se descargará el archivo que contiene la información sobre las denuncias recibidas por este órgano garante, que contiene el número de denuncia, sujeto obligado en contra de quien se presentó cada una, los hechos o motivos de la denuncia y el fundamento de la misma. No es óbice mencionarle, que en la Plataforma Estatal de Transparencia se actualiza la información de manera mensual, por lo que cada uno de los formatos publicados contienen la información del mes que se reporta. Por otra parte, respecto del estado o etapa en que se encuentra cada una de las denuncias, se le informa que no hay disposición alguna que constriña a esta Unidad a llevar una estadística o registro del estado que guarda cada uno de los expedientes que se conforman con motivo de la presentación de las denuncias, pues en cada uno de ellos se contiene dicha información, sin embargo, en ejercicio de la transparencia proactiva, con fundamento en lo dispuesto en el artículo 60 primer y segundo párrafo, 61 y 151 segundo párrafo de la vigente Ley de Transparencia y Acceso a la Información Pública del Estado, adjunto un archivo electrónico en formato Excel (base de datos) que contiene el registro conjuntado de las denuncias por incumplimiento a las obligaciones de transparencia recibidas durante el año 2018, en donde podrá visualizar el número de denuncia, sujeto obligado a quien se le imputa el incumplimiento de las obligaciones de transparencia, el motivo de la denuncia, fundamento de la denuncia y la etapa de trámite en que se encuentra. Ahora bien, la información que se adjunta al presente ocurso se le entrega en el estado en que se encuentra, de conformidad con lo establecido en el artículo 60, segundo párrafo, de la Ley de Transparencia y Acceso a la Información Pública del Estado de San Luis Potosí, mismo que refiere que la obligación de entregar la información no implica el procesamiento, ni la adecuación de la información al interés del solicitante, salvo la producción de versiones públicas del documento, circunstancia última que en el caso no acontece. Finalmente, de conformidad con el artículo 154 tercer párrafo de la vigente Ley de Transparencia y Acceso a la Información Pública del Estado de San Luis Potosí, se le hace de su conocimiento que en caso de inconformidad podrá interponer el recurso de revisión establecido en el artículo 166 de la citada Ley de Transparencia. | I20: NINGUNO | J20: PNT | K20: NINGUNO | L20: =IF(Formato!$C20<>"",MONTH(C20),"") -> 3 | M20: =IF(Formato!$G20<>"",MONTH(G20),"") -> 4
A21: CEGAIP-SI-081/2018- 00181618-PNT | B21: Llobet IvánCetzal Martínez | C21: 43174 | D21: Quisiera conocer si ustedes realizan donaciones de versiones impresas de libros y/opublicaciones, material auditivo, visual, gráfico y/o cualquier otro que pudiere pertenecer al acervo bibliográfico de una biblioteca y que tengan a bien realizar o desarrollar en colaboración con alguien más, material propio, inédito o de coedición yo libros que llegaran a tener en excedente, así como saber si tienen sello editorial propio, sólo en caso de ser afirmativa su respuesta quisiera saber a quién debo dirigir la solicitud y desearía conocer el procedimiento a seguir para poder acceder a los mismos, puesto que serían para acrecentar el acervo bibliográfico de la UIMQRoo, que es una universidad pública con un modelo educativo único enfocado mayormente a indígenas en la península de Yucatán | E21: Contestada | F21: Información se encuentra disponible en la Plataforma. | G21: 43175 | H21: En relación a su solicitud de información presentada a través del sistema INFOMEX, perteneciente a la Plataforma Nacional de Transparencia el día 15 de marzo de 2018 con folio 00181618 e identificada con número interno CEGAIP-S.I.-081/18-00181618-PNT, relativa a: “Quisiera conocer si ustedes realizan donaciones de versiones impresas de libros y/o publicaciones, material auditivo, visual, gráfico y/o cualquier otro que pudiere pertenecer al acervo bibliográfico de una biblioteca y que tengan a bien realizar o desarrollar en colaboración con alguien más, material propio, inédito o de coedición yo libros que llegaran a tener en excedente….” Se hace de su conocimiento que la Comisión Estatal de Garantía y Acceso a la Información de San Luis Potosí no ha realizado ni realiza hasta el día de hoy ningún tipo de donación de libros y/o publicaciones, material auditivo, visual, gráfico y/o cualquier otro que pudiere pertenecer al acervo bibliográfico de una biblioteca. De igual manera se le comunica que la CEGAIP, no cuenta con ningún tipo de colaboración o convenio para la elaboración de material propio, inédito o de coedición con ninguna institución o editorial, así como tampoco se cuenta con sello editorial propio. Por lo anterior mencionado, me permito comunicarle que la información solicitada no es posible proporcionársela en razón de que la CEGAIP no genera, ni posee nada relativo a la información que se refiere su solicitud, debido a que no se encuentra dentro de nuestras obligaciones según lo establecido en el artículo 20 y 151 de la Ley de Transparencia y Acceso a la información Pública del Estado de San Luis Potosí, únicamente existe la obligación legal y administrativa de contar con la documentación que pertenece a la Institución, mas no aquella que refiere en su petitoria, es por ello que con fundamento en los artículos 54 fracción III y 158 de la ley en mención le sugiero que pudiera replantear su solicitud también a través del Sistema de Solicitudes de Acceso a la Información (INFOMEX) a los siguientes sujetos obligados: •Ente Obligado: Organismos Autónomos y en Dependencia o Entidad Pública: Universidad Autónoma de San Luis Potosí •Ente Obligado: Poder Ejecutivo y en Dependencia o Entidad Pública: Secretaria de Educación de Gobierno del Estado •Ente Obligado: Poder Ejecutivo y en Dependencia o Entidad Pública: Universidad Intercultural de San Luis Potosí. | I21: NINGUNO | J21: PNT | K21: NINGUNO | L21: =IF(Formato!$C21<>"",MONTH(C21),"") -> 3 | M21: =IF(Formato!$G21<>"",MONTH(G21),"") -> 3
A22: CEGAIP-SI-080/2018- 00181018-PNT | B22: Omar Gómez Fernández | C22: 43174 | D22: Tema de las capacitaciones que diariamente imparte el Ingeniero Fernando Escutía Rodriguez, a quien son impartidas y cuantas personas asisten Cual es el horario de atención del Ingeniero dentro de la cegaip Esto relacionado con las llamadas realizadas solicitando apoyo del mismo y de lo cual argumentan que se encuentra capacitando | E22: Contestada | F22: Información se encuentra disponible en la Plataforma. | G22: 43193 | H22: Dirección de administración y finanzas: Se comunica que los servidores públicos de esta Comisión están sujetos a un horario de servicio de 8:00 a 15:30 de lunes a jueves y de 8:00 a 14:30 hrs. los viernes; a reserva de que tengan algún asunto comisión fuera de las instalaciones de la misma. Dirección de tecnologías de la información: le informo que la información solicitada no es generada ni resguardada por la dirección de tecnologías de la información y comunicación social de esta comisión. Dirección de capacitación: La información materia de los requerimientos antes precisados no se genera por parte de esta Dirección a mi cargo, en virtud de que la participación del Ingeniero Fernando Escutia Rodríguez en las actividades de capacitación que organiza y ejecuta este Dirección de Capacitación no es permanente al no formar parte de su plantilla, sino que se brinda de manera esporádica en un marco de colaboración interna en la medida que lo permite el ejercicio de sus atribuciones y funciones, por lo que no se encuentra calendarizada. En ese tenor, cabe precisar que las actividades de asesoría permanente en materia de uso y carga de información en las Plataformas Nacional y Estatal de Transparencia que el Ingeniero Fernando Escutia Rodríguez, en su calidad de Director de Tecnologías de la Información y Comunicación Social, brinda a las personas titulares e integrantes de las unidades de transparencia de los distintos sujetos obligados, son diversas de las de capacitación que a esta Dirección corresponden. | I22: NINGUNO | J22: PNT | K22: NINGUNO | L22: =IF(Formato!$C22<>"",MONTH(C22),"") -> 3 | M22: =IF(Formato!$G22<>"",MONTH(G22),"") -> 4
