Workbook
Name CMedios: Medios[Descripción]
Name CRespuestas: Fundamentación!$C$13:$C$24
Name CTramites: Fundamentación!$C$29:$C$31

Sheet Fundamentación
A1: Art | B1: Fracc | C1: Contenido
A2: 34 | B2: XV | C2: Recibir y sistematizar y, en su caso, requerir los informes mensuales que deberán enviarle los sujetos obligados, relativos a la recepción y tramitación de solicitudes de información pública que hayan recibido
A3: 54 | B3: VIII | C3: Llevar un registro de las solicitudes de acceso a la información, respuestas, resultados, costos de reproducción y envío
A4: 54 | B4: XII | C4: Informar por escrito a la CEGAIP, de forma mensual, sobre las solicitudes de información recibidas, el trámite y respuesta correspondiente en cada caso
B10: Catálogo de Tipos de Respuesta
B12: Respuesta | C12: Descripción
B13: 1 | C13: Información reservada.
B14: 2 | C14: Información confidencial.
B15: 3 | C15: Se pone a disposición la información para consulta directa.
B16: 4 | C16: Se requiere al solicitante.
B17: 5 | C17: Se tiene por no presentada la solicitud de información, por no atender requerimiento en plazo.
B18: 6 | C18: Sujeto obligado no competente, se le orienta ante qué sujeto obligado presentar su solicitud de información.
B19: 7 | C19: Información se encuentra disponible en la Plataforma.
B20: 8 | C20: Entrega de información por correo electrónico.
B21: 9 | C21: Entrega de información previo pago correspondiente.
B22: 10 | C22: Información Inexistente
B23: 11 | C23: Ampliación de Plazo
B24: 12 | C24: Otros
B26: Catálogo de Tipos de Trámites
B28: Trámite | C28: Descripción
B29: 1 | C29: Recibida
B30: 2 | C30: En trámite
B31: 3 | C31: Contestada
B34: Catálogo de Medios de Envío de la Respuesta
B36: Medio | C36: Descripción
B37: 1 | C37: PNT
B38: 2 | C38: Correo postal tradicional o por correo certificado con acuse de recibo
B39: 3 | C39: Correo electrónico
B40: 4 | C40: Personal
B41: 5 | C41: Telégrafo
B42: 6 | C42: Verbal

Sheet Gráfico1

Sheet Formato
A1: Mes que reporta | B1: 5 | C1: <== Escriba en esta celda el número de mes que reporta y el año | F1: Resumen | G1: No. de solicitudes recibidas en el mes | H1: 1 | I1: <== No escriba aquí nada, el formato calcula automáticamnete estos valores
B2: MAYO | G2: No. de solicitudes respondidas en el mes | H2: 0 | I2: <== No escriba aquí nada, el formato calcula automáticamnete estos valores
A3: Año que reporta | B3: 2025 | M3: Notas:
M4: 1 | N4: Solamente se capturan datos en celdas en amarillo.
M5: 2 | N5: Los folios pueden ser recibidos en un mes y contestados en otro. Para su correcta contabilización, si un folio es recibido en un mes y contestado en el siguiente, deberá incluirse en ambos reportes. El resumen tomará en cuenta esto para no cotabilizarlo doble.
A6: Reporte enviado a la CEGAIP, Art 34FXV , Art 54FVIII y XII
D7: Actualizado al 30 de ABRIL 2025
A9: Número de folio. | B9: Nombre del solicitante | C9: Fecha de Recepción | D9: Información Solicitada | E9: Trámite | F9: Respuesta | G9: Fecha de Respuesta | H9: Resultado | I9: Costo de Reproducción | J9: PNT | K9: Costo de envio | L9: Mes de Recepción | M9: Mes de Respuesta | N9: Columna1 | O9: Columna2 | P9: Columna3 | Q9: Columna4 | R9: Columna5 | S9: Columna6 | T9: Columna7 | U9: Columna8 | V9: Columna9 | W9: Columna10 | X9: Columna11 | Y9: Columna12 | Z9: Columna13 | AA9: Columna14 | AB9: Columna15 | AC9: Columna16 | AD9: Columna17 | AE9: Columna18 | AF9: Columna19 | AG9: Columna20 | AH9: Columna21 | AI9: Columna22 | AJ9: Columna23 | AK9: Columna24 | AL9: Columna25 | AM9: Columna26 | AN9: Columna27 | AO9: Columna28 | AP9: Columna29 | AQ9: Columna30 | AR9: Columna31 | AS9: Columna32 | AT9: Columna33 | AU9: Columna34 | AV9: Columna35 | AW9: Columna36 | AX9: Columna37 | AY9: Columna38 | AZ9: Columna39 | BA9: Columna40 | BB9: Columna41 | BC9: Columna42 | BD9: Columna43
A10: 240473725000017 | B10: ADRIAN CUAUTEMOC TOVAR FABIAN | C10: 00/00/0000 | D10: Plantas tratadoras con las que cuenta el municipio, ubicación y situación en la que se encuentra En caso de encontrarse sin funcionar, cual es la situación de dicha planta tratadora. Cuál es la cantidad de agua que trata diariamente y cuál es el uso que se le da a dicho líquido Cuál es el monto mensual que se eroga para el funcionamiento de cada una Donde se vierten los lodos que se sacan de los tanques de sedimentación Cuanto se erogo durante los años 2020, 2021, 2022, 2023, 2024 y lo que va del 2025 en mantenimiento de la planta tratadora En caso de que sea una empresa quien se encarga de la operación de la planta tratadora, cual es el costo que se erogo durante los años el 2020, 2021, 2022, 2023, 2024 y lo que va del 2025 en el servicio que presta dicha empresa Como se aseguran de la calidad del agua que es tratada para no generar contaminación De acuerdo a la Ley General para la Prevención y Gestión Integral de Residuos (LGPGIR) y su Reglamento, así como las Normas Oficiales Mexicanas (NOM) y Normas Mexicanas (NMX), copo se aseguran de la correcta disposición de los residuos de las plantas tratadoras. En qué lugar se disponen de manera final los residuos de las plantas tratadoras. | E10: Recibida | F10: Otros | G10: 45790 | H10: Otros | I10: 0 | J10: PNT | K10: 0 | L10: =IF(Formato!$C10<>"",MONTH(C10),"") -> #VALUE! | M10: =IF(Formato!$G10<>"",MONTH(G10),"") -> 5 | N10: =IF(Formato!$C10<>"",MONTH(E10),"") -> #VALUE! | O10: =IF(Formato!$G10<>"",MONTH(I10),"") -> 1
L11: =IF(Formato!$C11<>"",MONTH(C11),"") | M11: =IF(Formato!$G11<>"",MONTH(G11),"") | N11: =IF(Formato!$C11<>"",MONTH(E11),"") | O11: =IF(Formato!$G11<>"",MONTH(I11),"")
L12: =IF(Formato!$C12<>"",MONTH(C12),"") | M12: =IF(Formato!$G12<>"",MONTH(G12),"") | N12: =IF(Formato!$C12<>"",MONTH(E12),"") | O12: =IF(Formato!$G12<>"",MONTH(I12),"")
L13: =IF(Formato!$C13<>"",MONTH(C13),"") | M13: =IF(Formato!$G13<>"",MONTH(G13),"") | N13: =IF(Formato!$C13<>"",MONTH(E13),"") | O13: =IF(Formato!$G13<>"",MONTH(I13),"")
L14: =IF(Formato!$C14<>"",MONTH(C14),"") | M14: =IF(Formato!$G14<>"",MONTH(G14),"") | N14: =IF(Formato!$C14<>"",MONTH(E14),"") | O14: =IF(Formato!$G14<>"",MONTH(I14),"")
L15: =IF(Formato!$C15<>"",MONTH(C15),"") | M15: =IF(Formato!$G15<>"",MONTH(G15),"") | N15: =IF(Formato!$C15<>"",MONTH(E15),"") | O15: =IF(Formato!$G15<>"",MONTH(I15),"")
L16: =IF(Formato!$C16<>"",MONTH(C16),"") | M16: =IF(Formato!$G16<>"",MONTH(G16),"") | N16: =IF(Formato!$C16<>"",MONTH(E16),"") | O16: =IF(Formato!$G16<>"",MONTH(I16),"")
L17: =IF(Formato!$C17<>"",MONTH(C17),"") | M17: =IF(Formato!$G17<>"",MONTH(G17),"") | N17: =IF(Formato!$C17<>"",MONTH(E17),"") | O17: =IF(Formato!$G17<>"",MONTH(I17),"")
L18: =IF(Formato!$C18<>"",MONTH(C18),"") | M18: =IF(Formato!$G18<>"",MONTH(G18),"") | N18: =IF(Formato!$C18<>"",MONTH(E18),"") | O18: =IF(Formato!$G18<>"",MONTH(I18),"")
L19: =IF(Formato!$C19<>"",MONTH(C19),"") | M19: =IF(Formato!$G19<>"",MONTH(G19),"") | N19: =IF(Formato!$C19<>"",MONTH(E19),"") | O19: =IF(Formato!$G19<>"",MONTH(I19),"")
L20: =IF(Formato!$C20<>"",MONTH(C20),"") | M20: =IF(Formato!$G20<>"",MONTH(G20),"") | N20: =IF(Formato!$C20<>"",MONTH(E20),"") | O20: =IF(Formato!$G20<>"",MONTH(I20),"")
L21: =IF(Formato!$C21<>"",MONTH(C21),"") | M21: =IF(Formato!$G21<>"",MONTH(G21),"") | N21: =IF(Formato!$C21<>"",MONTH(E21),"") | O21: =IF(Formato!$G21<>"",MONTH(I21),"")
L22: =IF(Formato!$C22<>"",MONTH(C22),"") | M22: =IF(Formato!$G22<>"",MONTH(G22),"") | N22: =IF(Formato!$C22<>"",MONTH(E22),"") | O22: =IF(Formato!$G22<>"",MONTH(I22),"")
... L26: =IF(Formato!$C26<>"",MONTH(C26),"") | M26: =IF(Formato!$G26<>"",MONTH(G26),"") | N26: =IF(Formato!$C26<>"",MONTH(E26),"") | O26: =IF(Formato!$G26<>"",MONTH(I26),"")
