Workbook
Name _R: #REF!
Name _R: #REF!
Name N: #REF!
Name N: #REF!
Name S: #REF!
Name S: #REF!

Sheet STG
C2: PROGRAMA A QUE SE REFIERE.
B4: Ubicación | D4: Inversión Total | F4: Meta | G4: Inicio | H4: TérmIno | J4: Estatus
B5: Mencionar municipios y localidades atendidaas
B7: Descripción breve del avance
B8: personas | E8: Serrvicios | G8: Apoyos
B17: Vertiente en base al plan sectoria
B18: Objetivo: se refiere a el objetivo del programa y su alcance Estrategia: de acuedo al plan sectorial Linea de Acción: de acuerdo al plan sectorial
B27: FOTO #1 PIE DE FOTO (BREVE DESCRIPCION, ACTIVIDAD, MES, LOCALIDAD, MUNICIPIO, ETC.) | E27: FOTO #2 PIE DE FOTO (BREVE DESCRIPCION, ACTIVIDAD, MES, LOCALIDAD, MUNICIPIO, ETC.) | I27: FOTO #3 PIE DE FOTO (BREVE DESCRIPCION, ACTIVIDAD, MES, LOCALIDAD, MUNICIPIO, ETC.)

Sheet SIIP
A1: SISTEMA ESTATAL PARA EL DESARROLLO INTEGRAL DE LA FAMILIA DEL ESTADO DE SAN LUIS POTOSI
F3: SISTEMA DE INFORMACIÓN DE LA INVERSIÓN PÚBLICA (SIIP 2024) / INTEGRACIÓN DEL 3er INFORME DE GOBIERNO
F4: INFORMACIÓN MÍNIMA PARA CAPTURAR
B6: Dirección / Unidad Administrativa :
A7: Nombre de la Obra o Acción | B7: Fechas (dd/mm/aa) | D7: Meta | F7: Localización Anotar Municipio ó Varios Municipios ó Todo el Estado | G7: Beneficiarios | I7: Inversión | L7: Porcentaje de Avance Mensual (%)
B8: Inicio | C8: Término | D8: Unidad de Medida | E8: Cantidad | G8: Personas | H8: Familias | I8: Federal (Anotar X) | J8: Estatal (Anotar 1, 2, 3, 4) | K8: Monto | L8: Fisico | M8: Financiero | N8: Meta
G9: ='1'!AL25 -> 18
A17: Notas: En caso de que un registro tenga inversión estatal y federal, utilizar un renglón por cada tipo. Favor de agregar las filas que considere necesarias. Puede hacer más anchas las columnas que considere necesarias. | H17: Fuentes de financiamiento según catálogos del SIIP 2024:
H18: Federal | I18: Federales - 2011 - Aportación Federal a Convenios (Antes Convenios Federales)
H19: Estatal | I19: 1.- Estatales - 2011 - Recursos Propios -Inv. Directa- (Antes Obras y Acciones, Inversión Directa)
I20: 2.- Estatales - 2011 - Ingresos Propios de Dependencias (Antes Recursos Propios del Organismo) (Esto genera captura de Expediente Técnico en Sistema de Finanzas, relacionado con CPI)
I21: 3.- Estatales - 2011 - Fondo de Aportaciones Múltiples FAM -Asistencia Social- (Antes FAM)
I22: 4.- Estatales - 2011 - Subsidios
K27: Fecha de elaboración: ____ de Junio de 2024

Sheet METAS (PED)
A5: Objetivo 1. Beneficiar a más de un millón de personas sujetas a la asistencia social con programas de salud, alimentación a niñas y niños, apoyos para mujeres, madres solteras, personas con discapacidad, adultos mayores, jóvenes y migrantes.
A6: Estrategia 1.2 Contribuir al desarrollo integral de las niñas, niños y adolescentes.
P7: SERVICIO: | Q7: ='POA-2026'!M58 -> 3300
P8: APOYOS | Q8: ='POA-2026'!M59 -> 42129
P9: PERSONA | Q9: ='POA-2026'!M60 -> 23
A12: Estrategia 1.3 Incrementar los apoyos sociales para mujeres y adultos mayores.
P13: SERVICIO: | Q13: ='POA-2026'!M63 -> 6336
P14: APOYOS | Q14: ='POA-2026'!M64 -> 66
A16: Estrategia 1.8 Asegurar la calidad en la atención a grupos en situación de riesgo o desamparo a través de las instituciones de asistencia social en el Estado, garantizando el cumplimiento de las leyes en la materia.
P17: SERVICIOS | Q17: ='POA-2026'!M69 -> 300

Sheet FICHA TEC.
C2: PROGRAMA A QUE SE REFIERE.
B4: Ubicación | D4: Inversión Total | F4: Meta | G4: Inicio | H4: TérmIno | J4: Estatus
B5: Mencionar municipios y localidades atendidaas
B7: Descripción breve del avance
B8: personas | C8: ='1'!AL88+AL88 -> 0 | E8: apoyos | F8: ='1'!AL82+AL89+AL89 -> 0 | I8: servicios | J8: ='1'!AL83+AL90+AL90 -> 453
B9: Describir la actividad asi como el avance de la misma en caso de tener una meta por alcanzar, mencionar numero de beneficiarios apoyos bridados etc,
B17: Vertiente en base al plan sectoria
B18: Objetivo: se refiere a el objetivo del programa y su alcance Estrategia: de acuedo al plan sectorial Linea de Acción: de acuerdo al plan sectorial
B27: FOTO #1 PIE DE FOTO (BREVE DESCRIPCION, ACTIVIDAD, MES, LOCALIDAD, MUNICIPIO, ETC.) | E27: FOTO #2 PIE DE FOTO (BREVE DESCRIPCION, ACTIVIDAD, MES, LOCALIDAD, MUNICIPIO, ETC.) | I27: FOTO #3 PIE DE FOTO (BREVE DESCRIPCION, ACTIVIDAD, MES, LOCALIDAD, MUNICIPIO, ETC.)

Sheet SNIMAS
B4: SEDIF San Luis
B6: Consenso de Montevideo
A8: Contesta las siguientes preguntas (extensión mínima de un párrafo):
E10: 1. ¿Qué programas y/o acciones se implementan en el SEDIF para lograr la integración plena de la población y su dinámica en el desarrollo sostenible con igualdad y respeto de los derechos humanos?
E15: 2. ¿Cómo se garantizan los Derechos, las necesidades, responsabilidades y demandas de niños, niñas, adolescentes?
A18: INDICADORES SNIMAS
A19: PERIODO REPORTADO: ENERO-MARZO | F19: AÑO: 2025
A20: (XXXXX) | F20: SISTEMA ESTATAL: SAN LUIS POTOSÍ
H21: ENERO | K21: FEBRERO | N21: MARZO | Q21: 1er. Trimestre
A23: Unidad/ Dirección | B23: Clave | C23: Indicador | H23: Valor | I23: Comentarios | K23: Valor | L23: Comentarios | N23: Valor | O23: Comentarios | Q23: Valor | R23: Comentarios
A24: Dirección General de Alimentación y Desarrollo Comunitario | B24: A1 | C24: Número de desayunos escolares fríos otorgados a nivel preescolar de TRIMESTRE
B25: A2 | C25: Número de desayunos escolares fríos otorgados a nivel primaria de TRIMESTRE
B26: A3 | C26: Número de desayunos escolares fríos otorgados a nivel secundaria de TRIMESTRE
B27: A4 | C27: Número de desayunos escolares calientes otorgados a nivel preescolar de TRIMESTRE
B28: A5 | C28: Número de desayunos escolares calientes otorgados a nivel primaria de TRIMESTRE
B29: A6 | C29: Número de desayunos escolares calientes otorgados a nivel secundaria de TRIMESTRE
B30: A7 | C30: Número de dotaciones alimentarias entregadas en el Programa de Asistencia Social Alimentaria en los Primeros 1000 días de vida de TRIMESTRE
B31: A8 | C31: Número de comidas de un tiempo entregadas en espacios alimentarios del Programa de Asistencia Social Alimentaria en los Primeros 1000 días de vida de TRIMESTRE
B32: A9 | C32: Número de apoyos alimentarios de prevención, previsión, atención y/o recuperación del Programa de Atención a Población en Condiciones de Emergencia de TRIMESTRE
A33: Unidad de Atención a Población Vulnerable | B33: C1 | C33: Número de niñas de hasta 11 años 11 meses de edad atendidas con motivo de prevención de la violencia familiar de TRIMESTRE
B34: C2 | C34: Número de niños de hasta 11 años 11 meses de edad atendidos con motivo de prevención de la violencia familiar de TRIMESTRE
B35: C3 | C35: Número de mujeres adolescentes de 12 años y hasta 17 años 11 meses de edad atendidas con motivo de prevención de la violencia familiar de TRIMESTRE
B36: C4 | C36: Número de hombres adolescentes de 12 años y hasta 17 años 11 meses de edad atendidos con motivo de prevención de la violencia familiar de TRIMESTRE
B37: C5 | C37: Número de familias atendidas con motivo de prevención de la violencia familiar de TRIMESTRE
B38: C6 | C38: Número de niñas de hasta 11 años 11 meses de edad atendidas con motivo de prevención de conductas de riesgo de TRIMESTRE
B39: C7 | C39: Número de niños de hasta 11 años 11 meses de edad atendidos con motivo de prevención de conductas de riesgo de TRIMESTRE
B40: C8 | C40: Número de mujeres adolescentes de 12 años y hasta 17 años 11 meses de edad atendidas con motivo de prevención de conductas de riesgo de TRIMESTRE
B41: C9 | C41: Número de hombres adolescentes de 12 años y hasta 17 años 11 meses de edad atendidos con motivo de prevención de conductas de riesgo de TRIMESTRE
B42: C10 | C42: Número de mujeres adultas mayores (de 60 años y más) a las que se les brindó asesoría psicológica de TRIMESTRE
B43: C11 | C43: Número de hombres adultos mayores (de 60 años y más) a los que se les brindó asesoría psicológica de TRIMESTRE
B44: C12 | C44: Número de mujeres adultas mayores (de 60 años y más) a las que se les brindó asesoría jurídica de TRIMESTRE
B45: C13 | C45: Número de hombres adultos mayores (de 60 años y más) a los que se les brindó asesoría jurídica de TRIMESTRE
... B55: C23 | C55: Número de hombres adultos mayores (de 60 años y más) en situación de calle que fueron atendidos con algún servicio por los Sistemas Estatales DIF de TRIMESTRE
A56: Dirección General de Integración Social | B56: D1 | C56: Número de niñas de hasta 11 años 11 meses de edad que reciben acogimiento residencial por los Sistemas Estatales DIF de TRIMESTRE | H56: ='1'!AN18 -> 6 | N56: =#REF! -> #REF! | Q56: =H56+K56+N56 -> #REF!
B57: D2 | C57: Número de niños de hasta 11 años 11 meses de edad que reciben acogimiento residencial por los Sistemas Estatales DIF de TRIMESTRE
B58: D3 | C58: Número de mujeres adolescentes de 12 años y hasta 17 años 11 meses de edad albergadas en Centros de Asistencia Social que otorgan acogimiento residencial por los Sistemas Estatales DIF TRIMESTRE | H58: ='1'!AN21 -> 12 | N58: =#REF! -> #REF! | Q58: =H58+K58+N58 -> #REF!
B59: D4 | C59: Número de hombres adolescentes de 12 años y hasta 17 años 11 meses de edad albergados en Centros de Asistencia Social que otorgan acogimiento residencial por los Sistemas Estatales DIF de TRIMESTRE
B60: D5 | C60: Número de mujeres adultas mayores (de 60 años y más) atendidas en Centros Gerontológicos y Casas Hogar para Ancianos en modalidad de residencia de TRIMESTRE
B61: D6 | C61: Número de hombres adultos mayores (de 60 años y más) atendidos en Centros Gerontológicos y Casas Hogar para Ancianos en modalidad de residencia de TRIMESTRE
B62: D7 | C62: Número de mujeres adultas mayores (de 60 años y más) atendidas en Centros Gerontológicos y Casas Hogar para Ancianos en modalidad de atención de día de TRIMESTRE
...

Sheet POA-2026
E1: CENTRO DE ASISTENCIA SOCIAL ROSARIO CASTELLANOS
E2: PROGRAMA OPERATIVO ANUAL 2026
A4: INSTITUCIÓN:CENTRO DE ASISTENCIA SOCIAL ROSARIO CASTELLANOS | P4: INVERSIÓN: | R4: 14028446
A5: MUNICIPIO: | B5: SAN LUIS POTOSÍ | P5: FUENTE DE FINANCIAMIENTO: SUBSIDIO GESLP
A6: LOCALIDAD | B6: SAN LUIS POTOSÍ
A7: Objetivo 1. Beneficiar a más de un millón de personas sujetas a la asistencia social con programas de salud, alimentación a niñas y niños, apoyos para mujeres, madres solteras, personas con discapacidad, adultos mayores, jóvenes y migrantes.
A8: Estrategia 1.2 Contribuir al desarrollo integral de las niñas, niños y adolescentes.
A9: Estrategía 1.3 Incrementar los apoyos sociales para mujeres y adultos mayores
A10: Estrategia 1.8 Asegurar la calidad en la atención a grupos en situación de riesgo o desamparo a través de las instituciones de asistencia social en el Estado, garantizando el cumplimiento de las leyes en la materia.
A11: LINEA DE ACCION | B11: ACTIVIDAD | C11: UNIDAD DE MEDIDA | D11: TIPO DE POBLACION | F11: ENE | G11: FEB | H11: MAR | I11: ABR | J11: MAY | K11: JUN | L11: JUL | M11: AGO | N11: SEP | O11: OCT | P11: NOV | Q11: DIC | R11: TOTAL | S11: META ANUAL | T11: % AVANCE
D12: ABIERTA | E12: CAUTIVA
B13: POBLACION ALBERGADA
A14: 1.2 | B14: NIÑAS Y ADOLESCENTES | C14: PERSONA | E14: * | F14: 23 | G14: 2 | H14: 2 | I14: 2 | J14: 2 | K14: 2 | L14: 2 | M14: 2 | N14: 2 | O14: 2 | P14: 2 | Q14: 2 | R14: =MAX(F14:Q14) -> 23 | S14: =R14 -> 23 | T14: =R14/S14 -> 1
B15: REST. FAM. | C15: SERVICIO | E15: * | F15: 2 | G15: 2 | H15: 2 | I15: 2 | J15: 2 | K15: 2 | L15: 2 | M15: 2 | N15: 2 | O15: 2 | P15: 2 | Q15: 2 | R15: =SUM(F15:Q15) -> 24 | S15: =R15 -> 24 | T15: =R15/S15 -> 1
B16: CANALIZACION A OTRO CENTRO | C16: SERVICIO | E16: * | F16: 1 | G16: 0 | H16: 0 | I16: 0 | J16: 0 | K16: 0 | L16: 1 | M16: 0 | N16: 0 | O16: 0 | P16: 0 | Q16: 0 | R16: =SUM(F16:Q16) -> 2 | S16: =R16 -> 2 | T16: =R16/S16 -> 1
B17: ADOPCION | C17: SERVICIO | E17: * | F17: 0 | G17: 0 | H17: 0 | I17: 0 | J17: 0 | K17: 0 | L17: 1 | M17: 0 | N17: 0 | O17: 0 | P17: 0 | Q17: 1 | R17: =SUM(F17:Q17) -> 2 | S17: =R17 -> 2 | T17: =R17/S17 -> 1
B18: BRINDAR ALIMENTACIÓN | C18: SERVICIO | E18: * | F18: 23 | G18: 23 | H18: 23 | I18: 23 | J18: 23 | K18: 23 | L18: 23 | M18: 23 | N18: 23 | O18: 23 | P18: 23 | Q18: 23 | R18: =SUM(F18:Q18) -> 276 | S18: =R18 -> 276 | T18: =R18/S18 -> 1
B19: ALIMENTACION DIARIA | C19: APOYO | E19: * | F19: 3565 | G19: 3220 | H19: 3565 | I19: 3450 | J19: 3565 | K19: 3450 | L19: 3565 | M19: 3565 | N19: 3450 | O19: 3565 | P19: 3450 | Q19: 3450 | R19: =SUM(F19:Q19) -> 41860 | S19: =R19 -> 41860 | T19: =R19/S19 -> 1
B20: ATENCIÓN SOCIAL
A21: 1.2 | B21: ENTREVISTA INICIAL Y SEGUIMIENTO | C21: SERVICIO | D21: * | F21: 23 | G21: 2 | H21: 2 | I21: 2 | J21: 2 | K21: 2 | L21: 25 | M21: 2 | N21: 2 | O21: 2 | P21: 2 | Q21: 2 | R21: =SUM(F21:Q21) -> 68 | S21: =R21 -> 68 | T21: =R21/S21 -> 1
B22: VINCULACION FAMILIAR | C22: SERVICIO | D22: * | F22: 15 | G22: 15 | H22: 15 | I22: 15 | J22: 15 | K22: 15 | L22: 15 | M22: 15 | N22: 15 | O22: 15 | P22: 15 | Q22: 15 | R22: =SUM(F22:Q22) -> 180 | S22: =R22 -> 180 | T22: =R22/S22 -> 1
B23: SUPERVISION DE CONVIVENCIAS | C23: SERVICIO | E23: * | F23: 25 | G23: 25 | H23: 25 | I23: 25 | J23: 25 | K23: 25 | L23: 25 | M23: 25 | N23: 25 | O23: 25 | P23: 25 | Q23: 25 | R23: =SUM(F23:Q23) -> 300 | S23: =R23 -> 300 | T23: =R23/S23 -> 1
B24: ENLACE INTERINSTITUCIONAL | C24: SERVICIO | E24: * | F24: 6 | G24: 6 | H24: 6 | I24: 6 | J24: 6 | K24: 6 | L24: 6 | M24: 6 | N24: 6 | O24: 6 | P24: 6 | Q24: 6 | R24: =SUM(F24:Q24) -> 72 | S24: =R24 -> 72 | T24: =R24/S24 -> 1
B25: ATENCION PSICOPEDAGOGICA
A26: 1.2 | B26: VALORACIÓN INDIVIDUAL | C26: SERVICIO | D26: * | F26: 23 | G26: 3 | H26: 3 | I26: 3 | J26: 3 | K26: 3 | L26: 3 | M26: 26 | N26: 3 | O26: 3 | P26: 3 | Q26: 3 | R26: =SUM(F26:Q26) -> 79 | S26: =R26 -> 79 | T26: =R26/S26 -> 1
B27: ATENCION PSICOLOGICA INDIVIDUAL | C27: SERVICIO | D27: * | F27: 92 | G27: 92 | H27: 92 | I27: 92 | J27: 92 | K27: 92 | L27: 92 | M27: 92 | N27: 92 | O27: 92 | P27: 92 | Q27: 92 | R27: =SUM(F27:Q27) -> 1104 | S27: =R27 -> 1104 | T27: =R27/S27 -> 1
B28: ATENCION DE PSIQUIATRIA | C28: SERVICIO | E28: * | F28: 7 | G28: 7 | H28: 7 | I28: 7 | J28: 7 | K28: 7 | L28: 7 | M28: 7 | N28: 7 | O28: 7 | P28: 7 | Q28: 7 | R28: =SUM(F28:Q28) -> 84 | S28: =R28 -> 84 | T28: =R28/S28 -> 1
B29: SESIONES GRUPALES | C29: SERVICIO | E29: * | F29: 12 | G29: 12 | H29: 12 | I29: 12 | J29: 12 | K29: 12 | L29: 12 | M29: 12 | N29: 12 | O29: 12 | P29: 12 | Q29: 12 | R29: =SUM(F29:Q29) -> 144 | S29: =R29 -> 144 | T29: =R29/S29 -> 1
B30: ATENCIÓN MEDICA
A31: 1.2 | B31: VALORACIÓN INICIAL | C31: SERVICIO | D31: * | F31: 23 | G31: 2 | H31: 2 | I31: 2 | J31: 2 | K31: 2 | L31: 2 | M31: 2 | N31: 2 | O31: 2 | P31: 2 | Q31: 2 | R31: =SUM(F31:Q31) -> 45 | S31: =R31 -> 45 | T31: =R31/S31 -> 1
B32: REHABILITACIÓN FISICA | C32: SERVICIO | E32: * | F32: 1 | G32: 1 | H32: 1 | I32: 1 | J32: 1 | K32: 1 | L32: 1 | M32: 1 | N32: 1 | O32: 1 | P32: 1 | Q32: 1 | R32: =SUM(F32:Q32) -> 12 | S32: =R32 -> 12 | T32: =R32/S32 -> 1
B33: LABORATORIOS Y ESTUDIOS CLÍNICOS | C33: APOYO | E33: * | F33: 23 | G33: 3 | H33: 3 | I33: 10 | J33: 3 | K33: 3 | L33: 3 | M33: 10 | N33: 3 | O33: 3 | P33: 3 | Q33: 10 | R33: =SUM(F33:Q33) -> 77 | S33: =R33 -> 77 | T33: =R33/S33 -> 1
B34: ATEN. MEDICA/ENFERMERIA | C34: SERVICIO | E34: * | F34: 50 | G34: 50 | H34: 50 | I34: 50 | J34: 50 | K34: 50 | L34: 50 | M34: 50 | N34: 50 | O34: 50 | P34: 50 | Q34: 50 | R34: =SUM(F34:Q34) -> 600 | S34: =R34 -> 600 | T34: =R34/S34 -> 1
B35: ATENCION ESPECIALIDADES MÉDICAS | C35: SERVICIO | E35: * | F35: 10 | G35: 10 | H35: 10 | I35: 10 | J35: 10 | K35: 10 | L35: 10 | M35: 10 | N35: 10 | O35: 10 | P35: 10 | Q35: 10 | R35: =SUM(F35:Q35) -> 120 | S35: =R35 -> 120 | T35: =R35/S35 -> 1
B36: ATENCION DE NUTRICIÓN | C36: SERVICIO | E36: * | F36: 23 | G36: 23 | H36: 23 | I36: 23 | J36: 23 | K36: 23 | L36: 23 | M36: 23 | N36: 23 | O36: 23 | P36: 23 | Q36: 23 | R36: =SUM(F36:Q36) -> 276 | S36: =R36 -> 276 | T36: =R36/S36 -> 1
B37: INSCRIPCIÓN SERV.SALUD | C37: SERVICIO | E37: * | F37: 3 | G37: 3 | H37: 3 | I37: 3 | J37: 3 | K37: 3 | L37: 3 | M37: 3 | N37: 3 | O37: 3 | P37: 3 | Q37: 3 | R37: =SUM(F37:Q37) -> 36 | S37: =R37 -> 36 | T37: =R37/S37 -> 1
B38: TRAT. FARMACOLOGICOS | C38: APOYO | E38: * | F38: 16 | G38: 16 | H38: 16 | I38: 16 | J38: 16 | K38: 16 | L38: 16 | M38: 16 | N38: 16 | O38: 16 | P38: 16 | Q38: 16 | R38: =SUM(F38:Q38) -> 192 | S38: =R38 -> 192 | T38: =R38/S38 -> 1
B39: EDUCACIÓN Y FORMACIÓN
A40: 1.3.3 | B40: ESCOLARIZACIÓN | C40: APOYO | E40: * | F40: 23 | G40: 2 | H40: 2 | I40: 2 | J40: 2 | K40: 2 | L40: 23 | M40: 2 | N40: 2 | O40: 2 | P40: 2 | Q40: 2 | R40: =SUM(F40:Q40) -> 66 | S40: =R40 -> 66 | T40: =R40/S40 -> 1
B41: ATENCIÓN ACADEMICA | C41: SERVICIO | E41: * | F41: 460 | G41: 460 | H41: 460 | I41: 460 | J41: 460 | K41: 460 | L41: 460 | M41: 460 | N41: 460 | O41: 460 | P41: 460 | Q41: 460 | R41: =SUM(F41:Q41) -> 5520 | S41: =R41 -> 5520 | T41: =R41/S41 -> 1
...

Sheet FORMATO
B2: SISTEMA PARA EL DESARROLLO INTEGRAL DE LA FAMILIA DEL ESTADO DE SAN LUIS POTOSÍ
A3: UNIDADES ADMINISTRATIVA :
A7: INFORME DE AVANCE MENSUAL DEL MES DE. __________________________2025
A9: Objetivo 1. | B9: Beneficiar a más de un millón de personas sujetas a la asistencia social con programas de salud, alimentación a niñas y niños, apoyos para mujeres, madres solteras, personas con discapacidad, adultos mayores, jóvenes y migrantes.
A10: Estrategia 1.2 | B10: Contribuir al desarrollo integral de las niñas, niños y adolescentes.
A11: LINEA DE ACCION 1.2.1 | B11: Brindar albergue en Centros Asistenciales con personal altamente capacitado con perespectiva de niñez y de discapacidad
A12: ACTIVIDAD | B12: GRUPO DE EDAD | C12: UNIDAD DE MEDIDA | D12: TIPO DE POBLACIÓN
F13: ZA | N13: ZC | V13: ZM | AD13: ZH
D14: ABIERTA | E14: CAUTIVA | F14: H | J14: M | N14: H | R14: M | V14: H | Z14: M | AD14: H | AH14: M | AL14: AVANCE | AM14: personas | AO14: Altiplano | AQ14: Centro | AS14: Media | AU14: Huasteca
F15: PD | G15: PO | H15: AFD | I15: PG | J15: PD | K15: PO | L15: AFD | M15: PG | N15: PD | O15: PO | P15: AFD | Q15: PG | R15: PD | S15: PO | T15: AFD | U15: PG | V15: PD | W15: PO | X15: AFD | Y15: PG | Z15: PD | AA15: PO | AB15: AFD | AC15: PG | AD15: PD | AE15: PO | AF15: AFD | AG15: PG | AH15: PD | AI15: PO | AJ15: AFD | AK15: PG | AM15: hombres | AN15: mujeres | AO15: hombres | AP15: mujeres | AQ15: hombres | AR15: mujeres | AS15: hombres | AT15: mujeres | AU15: hombres | AV15: mujeres
A16: POBLACION ALBERGADA | B16: 0 a 11 Años | C16: Servicio | AL16: =SUM(F16:AK16) -> 0 | AM16: =SUM(F16:I16)+SUM(N16:Q16)+SUM(V16:Y16)+SUM(AD16:AG16) -> 0 | AN16: =SUM(J16:M16)+SUM(R16:U16)+SUM(Z16:AC16)+SUM(AH16:AK16) -> 0 | AO16: =SUM(F16:I16) -> 0 | AP16: =SUM(J16:M16) -> 0 | AQ16: =SUM(N16:Q16) -> 0 | AR16: =SUM(R16:U16) -> 0 | AS16: =SUM(V16:Y16) -> 0 | AT16: =SUM(Z16:AC16) -> 0 | AU16: =SUM(AD16:AG16) -> 0 | AV16: =SUM(AH16:AK16) -> 0
C17: Apoyo | AL17: =SUM(F17:AK17) -> 0 | AM17: =SUM(F17:I17)+SUM(N17:Q17)+SUM(V17:Y17)+SUM(AD17:AG17) -> 0 | AN17: =SUM(J17:M17)+SUM(R17:U17)+SUM(Z17:AC17)+SUM(AH17:AK17) -> 0 | AO17: =SUM(F17:I17) -> 0 | AP17: =SUM(J17:M17) -> 0 | AQ17: =SUM(N17:Q17) -> 0 | AR17: =SUM(R17:U17) -> 0 | AS17: =SUM(V17:Y17) -> 0 | AT17: =SUM(Z17:AC17) -> 0 | AU17: =SUM(AD17:AG17) -> 0 | AV17: =SUM(AH17:AK17) -> 0
C18: Persona | E18: X | AL18: =SUM(F18:AK18) -> 0 | AM18: =SUM(F18:I18)+SUM(N18:Q18)+SUM(V18:Y18)+SUM(AD18:AG18) -> 0 | AN18: =SUM(J18:M18)+SUM(R18:U18)+SUM(Z18:AC18)+SUM(AH18:AK18) -> 0 | AO18: =SUM(F18:I18) -> 0 | AP18: =SUM(J18:M18) -> 0 | AQ18: =SUM(N18:Q18) -> 0 | AR18: =SUM(R18:U18) -> 0 | AS18: =SUM(V18:Y18) -> 0 | AT18: =SUM(Z18:AC18) -> 0 | AU18: =SUM(AD18:AG18) -> 0 | AV18: =SUM(AH18:AK18) -> 0
B19: 12 a 17 Años | C19: Servicio | AL19: =SUM(F19:AK19) -> 0 | AM19: =SUM(F19:I19)+SUM(N19:Q19)+SUM(V19:Y19)+SUM(AD19:AG19) -> 0 | AN19: =SUM(J19:M19)+SUM(R19:U19)+SUM(Z19:AC19)+SUM(AH19:AK19) -> 0 | AO19: =SUM(F19:I19) -> 0 | AP19: =SUM(J19:M19) -> 0 | AQ19: =SUM(N19:Q19) -> 0 | AR19: =SUM(R19:U19) -> 0 | AS19: =SUM(V19:Y19) -> 0 | AT19: =SUM(Z19:AC19) -> 0 | AU19: =SUM(AD19:AG19) -> 0 | AV19: =SUM(AH19:AK19) -> 0
C20: Apoyo | AL20: =SUM(F20:AK20) -> 0 | AM20: =SUM(F20:I20)+SUM(N20:Q20)+SUM(V20:Y20)+SUM(AD20:AG20) -> 0 | AN20: =SUM(J20:M20)+SUM(R20:U20)+SUM(Z20:AC20)+SUM(AH20:AK20) -> 0 | AO20: =SUM(F20:I20) -> 0 | AP20: =SUM(J20:M20) -> 0 | AQ20: =SUM(N20:Q20) -> 0 | AR20: =SUM(R20:U20) -> 0 | AS20: =SUM(V20:Y20) -> 0 | AT20: =SUM(Z20:AC20) -> 0 | AU20: =SUM(AD20:AG20) -> 0 | AV20: =SUM(AH20:AK20) -> 0
C21: Persona | E21: X | AL21: =SUM(F21:AK21) -> 0 | AM21: =SUM(F21:I21)+SUM(N21:Q21)+SUM(V21:Y21)+SUM(AD21:AG21) -> 0 | AN21: =SUM(J21:M21)+SUM(R21:U21)+SUM(Z21:AC21)+SUM(AH21:AK21) -> 0 | AO21: =SUM(F21:I21) -> 0 | AP21: =SUM(J21:M21) -> 0 | AQ21: =SUM(N21:Q21) -> 0 | AR21: =SUM(R21:U21) -> 0 | AS21: =SUM(V21:Y21) -> 0 | AT21: =SUM(Z21:AC21) -> 0 | AU21: =SUM(AD21:AG21) -> 0 | AV21: =SUM(AH21:AK21) -> 0
A22: T O T A L | C22: Persona | F22: =F18+F21 -> 0 | G22: =G18+G21 -> 0 | H22: =H18+H21 -> 0 | I22: =I18+I21 -> 0 | J22: =J18+J21 -> 0 | K22: =K18+K21 -> 0 | L22: =L18+L21 -> 0 | M22: =M18+M21 -> 0 | ... AK22: =AK18+AK21 -> 0 | AL22: =SUM(F22:AK22) -> 0 | AM22: =AM18+AM21 -> 0 | AN22: =AN18+AN21 -> 0 | AO22: =AO18+AO21 -> 0 | AP22: =AP18+AP21 -> 0 | AQ22: =AQ18+AQ21 -> 0 | AR22: =AR18+AR21 -> 0 | AS22: =AS18+AS21 -> 0 | AT22: =AT18+AT21 -> 0 | ... AV22: =AV18+AV21 -> 0
C23: Apoyos | F23: =+F17+F20 -> 0 | G23: =+G17+G20 -> 0 | H23: =+H17+H20 -> 0 | I23: =+I17+I20 -> 0 | J23: =+J17+J20 -> 0 | K23: =+K17+K20 -> 0 | L23: =+L17+L20 -> 0 | M23: =+M17+M20 -> 0 | ... AK23: =+AK17+AK20 -> 0 | AL23: =SUM(F23:AK23) -> 0 | AM23: =AM17+AM20 -> 0 | AN23: =AN17+AN20 -> 0 | AO23: =AO17+AO20 -> 0 | AP23: =AP17+AP20 -> 0 | AQ23: =AQ17+AQ20 -> 0 | AR23: =AR17+AR20 -> 0 | AS23: =AS17+AS20 -> 0 | AT23: =AT17+AT20 -> 0 | ... AV23: =AV17+AV20 -> 0
C24: Servicio | F24: =+F16+F19 -> 0 | G24: =+G16+G19 -> 0 | H24: =+H16+H19 -> 0 | I24: =+I16+I19 -> 0 | J24: =+J16+J19 -> 0 | K24: =+K16+K19 -> 0 | L24: =+L16+L19 -> 0 | M24: =+M16+M19 -> 0 | ... AK24: =+AK16+AK19 -> 0 | AL24: =SUM(F24:AK24) -> 0 | AM24: =AM16+AM19 -> 0 | AN24: =AN16+AN19 -> 0 | AO24: =AO16+AO19 -> 0 | AP24: =AP16+AP19 -> 0 | AQ24: =AQ16+AQ19 -> 0 | AR24: =AR16+AR19 -> 0 | AS24: =AS16+AS19 -> 0 | AT24: =AT16+AT19 -> 0 | ... AV24: =AV16+AV19 -> 0
A26: Objetivo 1. | B26: Beneficiar a más de un millón de personas sujetas a la asistencia social con programas de salud, alimentación a niñas y niños, apoyos para mujeres, madres solteras, personas con discapacidad, adultos mayores, jóvenes y migrantes.
A27: Estrategia 1.2 | B27: Contribuir al desarrollo integral de las niñas, niños y adolescentes.
A28: LINEA DE ACCION 1.2.3 | B28: Prevenir los riesgos psicosociales a los que se enfrenta las niñas, niños y adolescentes.
A29: ACTIVIDAD | B29: GRUPO DE EDAD | C29: UNIDAD DE MEDIDA | D29: TIPO DE POBLACIÓN
F30: ZA | N30: ZC | V30: ZM | AD30: ZH
D31: ABIERTA | E31: CAUTIVA | F31: H | J31: M | N31: H | R31: M | V31: H | Z31: M | AD31: H | AH31: M | AL31: AVANCE | AM31: personas | AO31: Altiplano | AQ31: Centro | AS31: Media | AU31: Huasteca
F32: PD | G32: PO | H32: AFD | I32: PG | J32: PD | K32: PO | L32: AFD | M32: PG | N32: PD | O32: PO | P32: AFD | Q32: PG | R32: PD | S32: PO | T32: AFD | U32: PG | V32: PD | W32: PO | X32: AFD | Y32: PG | Z32: PD | AA32: PO | AB32: AFD | AC32: PG | AD32: PD | AE32: PO | AF32: AFD | AG32: PG | AH32: PD | AI32: PO | AJ32: AFD | AK32: PG | AM32: hombres | AN32: mujeres | AO32: hombres | AP32: mujeres | AQ32: hombres | AR32: mujeres | AS32: hombres | AT32: mujeres | AU32: hombres | AV32: mujeres
A33: ATENCIÓN SOCIAL | B33: 0 a 11 Años | C33: Servicio | AL33: =SUM(F33:AK33) -> 0 | AM33: =SUM(F33:I33)+SUM(N33:Q33)+SUM(V33:Y33)+SUM(AD33:AG33) -> 0 | AN33: =SUM(J33:M33)+SUM(R33:U33)+SUM(Z33:AC33)+SUM(AH33:AK33) -> 0 | AO33: =SUM(F33:I33) -> 0 | AP33: =SUM(J33:M33) -> 0 | AQ33: =SUM(N33:Q33) -> 0 | AR33: =SUM(R33:U33) -> 0 | AS33: =SUM(V33:Y33) -> 0 | AT33: =SUM(Z33:AC33) -> 0 | AU33: =SUM(AD33:AG33) -> 0 | AV33: =SUM(AH33:AK33) -> 0
C34: Persona | E34: X | AL34: =SUM(F34:AK34) -> 0 | AM34: =SUM(F34:I34)+SUM(N34:Q34)+SUM(V34:Y34)+SUM(AD34:AG34) -> 0 | AN34: =SUM(J34:M34)+SUM(R34:U34)+SUM(Z34:AC34)+SUM(AH34:AK34) -> 0 | AO34: =SUM(F34:I34) -> 0 | AP34: =SUM(J34:M34) -> 0 | AQ34: =SUM(N34:Q34) -> 0 | AR34: =SUM(R34:U34) -> 0 | AS34: =SUM(V34:Y34) -> 0 | AT34: =SUM(Z34:AC34) -> 0 | AU34: =SUM(AD34:AG34) -> 0 | AV34: =SUM(AH34:AK34) -> 0
B35: 12 a 17 Años | C35: Servicio | AL35: =SUM(F35:AK35) -> 0 | AM35: =SUM(F35:I35)+SUM(N35:Q35)+SUM(V35:Y35)+SUM(AD35:AG35) -> 0 | AN35: =SUM(J35:M35)+SUM(R35:U35)+SUM(Z35:AC35)+SUM(AH35:AK35) -> 0 | AO35: =SUM(F35:I35) -> 0 | AP35: =SUM(J35:M35) -> 0 | AQ35: =SUM(N35:Q35) -> 0 | AR35: =SUM(R35:U35) -> 0 | AS35: =SUM(V35:Y35) -> 0 | AT35: =SUM(Z35:AC35) -> 0 | AU35: =SUM(AD35:AG35) -> 0 | AV35: =SUM(AH35:AK35) -> 0
C36: Persona | E36: X | AL36: =SUM(F36:AK36) -> 0 | AM36: =SUM(F36:I36)+SUM(N36:Q36)+SUM(V36:Y36)+SUM(AD36:AG36) -> 0 | AN36: =SUM(J36:M36)+SUM(R36:U36)+SUM(Z36:AC36)+SUM(AH36:AK36) -> 0 | AO36: =SUM(F36:I36) -> 0 | AP36: =SUM(J36:M36) -> 0 | AQ36: =SUM(N36:Q36) -> 0 | AR36: =SUM(R36:U36) -> 0 | AS36: =SUM(V36:Y36) -> 0 | AT36: =SUM(Z36:AC36) -> 0 | AU36: =SUM(AD36:AG36) -> 0 | AV36: =SUM(AH36:AK36) -> 0
B37: 18 a 59 Años | C37: Servicio | AL37: =SUM(F37:AK37) -> 0 | AM37: =SUM(F37:I37)+SUM(N37:Q37)+SUM(V37:Y37)+SUM(AD37:AG37) -> 0 | AN37: =SUM(J37:M37)+SUM(R37:U37)+SUM(Z37:AC37)+SUM(AH37:AK37) -> 0 | AO37: =SUM(F37:I37) -> 0 | AP37: =SUM(J37:M37) -> 0 | AQ37: =SUM(N37:Q37) -> 0 | AR37: =SUM(R37:U37) -> 0 | AS37: =SUM(V37:Y37) -> 0 | AT37: =SUM(Z37:AC37) -> 0 | AU37: =SUM(AD37:AG37) -> 0 | AV37: =SUM(AH37:AK37) -> 0
C38: Persona | E38: X | AL38: =SUM(F38:AK38) -> 0 | AM38: =SUM(F38:I38)+SUM(N38:Q38)+SUM(V38:Y38)+SUM(AD38:AG38) -> 0 | AN38: =SUM(J38:M38)+SUM(R38:U38)+SUM(Z38:AC38)+SUM(AH38:AK38) -> 0 | AO38: =SUM(F38:I38) -> 0 | AP38: =SUM(J38:M38) -> 0 | AQ38: =SUM(N38:Q38) -> 0 | AR38: =SUM(R38:U38) -> 0 | AS38: =SUM(V38:Y38) -> 0 | AT38: =SUM(Z38:AC38) -> 0 | AU38: =SUM(AD38:AG38) -> 0 | AV38: =SUM(AH38:AK38) -> 0
B39: 60 Años y más | C39: Servicio | AL39: =SUM(F39:AK39) -> 0 | AM39: =SUM(F39:I39)+SUM(N39:Q39)+SUM(V39:Y39)+SUM(AD39:AG39) -> 0 | AN39: =SUM(J39:M39)+SUM(R39:U39)+SUM(Z39:AC39)+SUM(AH39:AK39) -> 0 | AO39: =SUM(F39:I39) -> 0 | AP39: =SUM(J39:M39) -> 0 | AQ39: =SUM(N39:Q39) -> 0 | AR39: =SUM(R39:U39) -> 0 | AS39: =SUM(V39:Y39) -> 0 | AT39: =SUM(Z39:AC39) -> 0 | AU39: =SUM(AD39:AG39) -> 0 | AV39: =SUM(AH39:AK39) -> 0
C40: Persona | E40: X | AL40: =SUM(F40:AK40) -> 0 | AM40: =SUM(F40:I40)+SUM(N40:Q40)+SUM(V40:Y40)+SUM(AD40:AG40) -> 0 | AN40: =SUM(J40:M40)+SUM(R40:U40)+SUM(Z40:AC40)+SUM(AH40:AK40) -> 0 | AO40: =SUM(F40:I40) -> 0 | AP40: =SUM(J40:M40) -> 0 | AQ40: =SUM(N40:Q40) -> 0 | AR40: =SUM(R40:U40) -> 0 | AS40: =SUM(V40:Y40) -> 0 | AT40: =SUM(Z40:AC40) -> 0 | AU40: =SUM(AD40:AG40) -> 0 | AV40: =SUM(AH40:AK40) -> 0
A41: T O T A L | C41: Persona | F41: =F34+F36+F38+F40 -> 0 | G41: =G34+G36+G38+G40 -> 0 | H41: =H34+H36+H38+H40 -> 0 | I41: =I34+I36+I38+I40 -> 0 | J41: =J34+J36+J38+J40 -> 0 | K41: =K34+K36+K38+K40 -> 0 | L41: =L34+L36+L38+L40 -> 0 | M41: =M34+M36+M38+M40 -> 0 | ... AK41: =AK34+AK36+AK38+AK40 -> 0 | AL41: =SUM(F41:AK41) -> 0 | AM41: =AM34+AM36+AM38+AM40 -> 0 | AN41: =AN34+AN36+AN38+AN40 -> 0 | AO41: =AO34+AO36+AO38+AO40 -> 0 | AP41: =AP34+AP36+AP38+AP40 -> 0 | AQ41: =AQ34+AQ36+AQ38+AQ40 -> 0 | AR41: =AR34+AR36+AR38+AR40 -> 0 | AS41: =AS34+AS36+AS38+AS40 -> 0 | AT41: =AT34+AT36+AT38+AT40 -> 0 | ... AV41: =AV34+AV36+AV38+AV40 -> 0
C42: Servicio | F42: =+F33+F35+F37+F39 -> 0 | G42: =+G33+G35+G37+G39 -> 0 | H42: =+H33+H35+H37+H39 -> 0 | I42: =+I33+I35+I37+I39 -> 0 | J42: =+J33+J35+J37+J39 -> 0 | K42: =+K33+K35+K37+K39 -> 0 | L42: =+L33+L35+L37+L39 -> 0 | M42: =+M33+M35+M37+M39 -> 0 | ... AK42: =+AK33+AK35+AK37+AK39 -> 0 | AL42: =SUM(F42:AK42) -> 0 | AM42: =AM33+AM35+AM37+AM39 -> 0 | AN42: =AN33+AN35+AN37+AN39 -> 0 | AO42: =AO33+AO35+AO37+AO39 -> 0 | AP42: =AP33+AP35+AP37+AP39 -> 0 | AQ42: =AQ33+AQ35+AQ37+AQ39 -> 0 | AR42: =AR33+AR35+AR37+AR39 -> 0 | AS42: =AS33+AS35+AS37+AS39 -> 0 | AT42: =AT33+AT35+AT37+AT39 -> 0 | ... AV42: =AV33+AV35+AV37+AV39 -> 0
A44: Objetivo 1. | B44: Beneficiar a más de un millón de personas sujetas a la asistencia social con programas de salud, alimentación a niñas y niños, apoyos para mujeres, madres solteras, personas con discapacidad, adultos mayores, jóvenes y migrantes.
A45: Estrategia 1.2 | B45: Contribuir al desarrollo integral de las niñas, niños y adolescentes.
A46: LINEA DE ACCION 1.2.3 | B46: Prevenir los riesgos psicosociales a los que se enfrenta las niñas, niños y adolescentes.
A47: ACTIVIDAD | B47: GRUPO DE EDAD | C47: UNIDAD DE MEDIDA | D47: TIPO DE POBLACIÓN
...

Sheet POA INSTITUCIONAL
A1: No. | B1: No. Consecutivo | C1: Unidad Administrativa que generá la información | D1: Objetivo Institucional | E1: Estrategia | F1: Linea de Accion | G1: Acciones | H1: UNIDAD DE MEDIDA | I1: META ANUAL | J1: ENE | K1: FEB | L1: MAR | M1: 1er. TRIM | N1: ABRIL | O1: MAYO | P1: JUNIO | Q1: 2do. Trimestre | R1: Avance al 1er. Semestre | S1: # Avance al 1er. Semestre | T1: JULIO | U1: AGOSTO | V1: SEPTIEMBRE | W1: 3er. TRIM | X1: OCTUBRE | Y1: NOVIEMBRE | Z1: DICIEMBRE | AA1: 4TO. Trimestre | AB1: AVANCE ANUAL | AC1: # DE AVANCE ANUAL | AE1: META ANUAL | AF1: 1er. TRIM | AG1: 2do. Trimestre | AH1: 3er. TRIM | AI1: 4TO. Trimestre | AJ1: AVANCE ANUAL | AK1: # DE AVANCE ANUAL
A2: 17 | B2: 17.01 | C2: C.A.S. Rosario Castellanos | D2: Objetivo 1. Beneficiar a más de un millón de personas sujetas a la asistencia social con programas de salud, alimentación a niñas y niños, apoyos para mujeres, madres solteras, personas con discapacidad, adultos mayores, jóvenes y migrantes. | E2: Estrategia 1.2 Contribuir al desarrollo integral de las niñas, niños y adolescentes. | F2: Linea de Acción 1.2.1 Brindar albergue en Centros Asistenciales con personal altamente capacitado con perespectiva de niñez y de discapacidad | H2: SERVICIOS | I2: ='METAS (PED)'!Q7 -> 3300 | J2: ='1'!Q118 -> 412 | M2: =SUM(J2:L2) -> 412 | Q2: =SUM(N2:P2) -> 0 | R2: =L2+P2 -> 0 | S2: =R2/I2 -> 0 | W2: =SUM(T2:V2) -> 0 | AA2: =SUM(X2:Z2) -> 0 | AB2: =W2+AA2 -> 0 | AC2: =AB2/I2 -> 0 | AE2: =I2 -> 3300 | AJ2: =SUM(AF2:AI2) -> 0 | AK2: =AJ2/AE2 -> 0
A3: 17 | B3: 17.02 | C3: C.A.S. Rosario Castellanos | D3: Objetivo 1. Beneficiar a más de un millón de personas sujetas a la asistencia social con programas de salud, alimentación a niñas y niños, apoyos para mujeres, madres solteras, personas con discapacidad, adultos mayores, jóvenes y migrantes. | E3: Estrategia 1.2 Contribuir al desarrollo integral de las niñas, niños y adolescentes. | F3: Linea de Acción 1.2.1 Brindar albergue en Centros Asistenciales con personal altamente capacitado con perespectiva de niñez y de discapacidad | H3: APOYOS | I3: ='METAS (PED)'!Q8 -> 42129 | J3: ='1'!Q119 -> 14 | M3: =SUM(J3:L3) -> 14 | Q3: =SUM(N3:P3) -> 0 | R3: =L3+P3 -> 0 | S3: =R3/I3 -> 0 | W3: =SUM(T3:V3) -> 0 | AA3: =SUM(X3:Z3) -> 0 | AB3: =W3+AA3 -> 0 | AC3: =AB3/I3 -> 0 | AE3: =I3 -> 42129 | AJ3: =SUM(AF3:AI3) -> 0 | AK3: =AJ3/AE3 -> 0
A4: 17 | B4: 17.03 | C4: C.A.S. Rosario Castellanos | D4: Objetivo 1. Beneficiar a más de un millón de personas sujetas a la asistencia social con programas de salud, alimentación a niñas y niños, apoyos para mujeres, madres solteras, personas con discapacidad, adultos mayores, jóvenes y migrantes. | E4: Estrategia 1.2 Contribuir al desarrollo integral de las niñas, niños y adolescentes. | F4: Linea de Acción 1.2.1 Brindar albergue en Centros Asistenciales con personal altamente capacitado con perespectiva de niñez y de discapacidad | H4: PERSONAS | I4: ='METAS (PED)'!Q9 -> 23 | J4: ='1'!Q120 -> 18 | M4: =SUM(J4:L4) -> 18 | Q4: =MAX(M4:P4) -> 18 | R4: =L4+P4 -> 0 | S4: =R4/I4 -> 0 | W4: =MAX(T4:V4) -> 0 | AA4: =MAX(W4:Z4) -> 0 | AB4: =W4+AA4 -> 0 | AC4: =AB4/I4 -> 0 | AE4: =I4 -> 23 | AJ4: =MAX(AF4:AI4) -> 0 | AK4: =AJ4/AE4 -> 0
A5: 17 | B5: 17.04 | C5: C.A.S. Rosario Castellanos | D5: Objetivo 1. Beneficiar a más de un millón de personas sujetas a la asistencia social con programas de salud, alimentación a niñas y niños, apoyos para mujeres, madres solteras, personas con discapacidad, adultos mayores, jóvenes y migrantes. | E5: Estrategia 1.2 Contribuir al desarrollo integral de las niñas, niños y adolescentes. | F5: Linea de Accion 1.2.3.- Prevenir los riesgos psicosociales a los que se enfrenta las niñas, niños y adolescentes. | H5: SERVICIOS | I5: ='METAS (PED)'!#REF! -> #REF! | J5: ='1'!#REF! -> #REF! | M5: =SUM(J5:L5) -> #REF! | Q5: =SUM(N5:P5) -> 0 | R5: =L5+P5 -> 0 | S5: =R5/I5 -> #REF! | W5: =SUM(T5:V5) -> 0 | AA5: =SUM(X5:Z5) -> 0 | AB5: =W5+AA5 -> 0 | AC5: =AB5/I5 -> #REF! | AE5: =I5 -> #REF! | AJ5: =SUM(AF5:AI5) -> 0 | AK5: =AJ5/AE5 -> #REF!
A6: 17 | B6: 17.05 | C6: C.A.S. Rosario Castellanos | D6: Objetivo 1. Beneficiar a más de un millón de personas sujetas a la asistencia social con programas de salud, alimentación a niñas y niños, apoyos para mujeres, madres solteras, personas con discapacidad, adultos mayores, jóvenes y migrantes. | E6: Estrategia 1.2 Contribuir al desarrollo integral de las niñas, niños y adolescentes. | F6: Linea de Accion 1.2.3.- Prevenir los riesgos psicosociales a los que se enfrenta las niñas, niños y adolescentes. | H6: PERSONAS | I6: ='METAS (PED)'!#REF! -> #REF! | J6: ='1'!Q122 -> 0 | M6: =SUM(J6:L6) -> 0 | Q6: =SUM(N6:P6) -> 0 | R6: =L6+P6 -> 0 | S6: =R6/I6 -> #REF! | W6: =SUM(T6:V6) -> 0 | AA6: =SUM(X6:Z6) -> 0 | AB6: =W6+AA6 -> 0 | AC6: =AB6/I6 -> #REF! | AE6: =I6 -> #REF! | AJ6: =SUM(AF6:AI6) -> 0 | AK6: =AJ6/AE6 -> #REF!
A7: 17 | B7: 17.06 | C7: C.A.S. Rosario Castellanos | D7: Objetivo 1. Beneficiar a más de un millón de personas sujetas a la asistencia social con programas de salud, alimentación a niñas y niños, apoyos para mujeres, madres solteras, personas con discapacidad, adultos mayores, jóvenes y migrantes. | E7: Estrategia 1.3 Incrementar los apoyos sociales para mujeres y adultos mayores. | F7: Linea de Accion 1.3.3.-Gestionar talleres de auto empleo o capacitación para que cubran sus necesidades básicas. | H7: SERVICIOS | I7: ='METAS (PED)'!Q13 -> 6336 | J7: ='1'!Q125 -> 453 | M7: =SUM(J7:L7) -> 453 | Q7: =SUM(N7:P7) -> 0 | R7: =L7+P7 -> 0 | S7: =R7/I7 -> 0 | W7: =SUM(T7:V7) -> 0 | AA7: =SUM(X7:Z7) -> 0 | AB7: =W7+AA7 -> 0 | AC7: =AB7/I7 -> 0 | AE7: =I7 -> 6336 | AJ7: =SUM(AF7:AI7) -> 0 | AK7: =AJ7/AE7 -> 0
C8: C.A.S. Rosario Castellanos | D8: Objetivo 1. Beneficiar a más de un millón de personas sujetas a la asistencia social con programas de salud, alimentación a niñas y niños, apoyos para mujeres, madres solteras, personas con discapacidad, adultos mayores, jóvenes y migrantes. | E8: Estrategia 1.3 Incrementar los apoyos sociales para mujeres y adultos mayores. | F8: Linea de Accion 1.3.3.-Gestionar talleres de auto empleo o capacitación para que cubran sus necesidades básicas. | H8: APOYOS | I8: ='METAS (PED)'!Q14 -> 66 | J8: ='1'!Q126 -> 0 | M8: =SUM(J8:L8) -> 0 | Q8: =SUM(N8:P8) -> 0 | R8: =L8+P8 -> 0 | S8: =R8/I8 -> 0 | W8: =SUM(T8:V8) -> 0 | AA8: =SUM(X8:Z8) -> 0 | AB8: =W8+AA8 -> 0 | AC8: =AB8/I8 -> 0 | AE8: =I8 -> 66 | AJ8: =SUM(AF8:AI8) -> 0 | AK8: =AJ8/AE8 -> 0
C9: C.A.S. Rosario Castellanos | D9: Objetivo 1. Beneficiar a más de un millón de personas sujetas a la asistencia social con programas de salud, alimentación a niñas y niños, apoyos para mujeres, madres solteras, personas con discapacidad, adultos mayores, jóvenes y migrantes. | E9: Estrategia 1.3 Incrementar los apoyos sociales para mujeres y adultos mayores. | F9: Linea de Accion 1.3.3.-Gestionar talleres de auto empleo o capacitación para que cubran sus necesidades básicas. | H9: PERSONAS | I9: ='METAS (PED)'!#REF! -> #REF! | J9: ='1'!Q127 -> 0 | M9: =SUM(J9:L9) -> 0 | Q9: =SUM(N9:P9) -> 0 | R9: =L9+P9 -> 0 | S9: =R9/I9 -> #REF! | W9: =SUM(T9:V9) -> 0 | AA9: =SUM(X9:Z9) -> 0 | AB9: =W9+AA9 -> 0 | AC9: =AB9/I9 -> #REF! | AE9: =I9 -> #REF! | AJ9: =SUM(AF9:AI9) -> 0 | AK9: =AJ9/AE9 -> #REF!
C10: C.A.S. Rosario Castellanos | D10: Objetivo 1. Beneficiar a más de un millón de personas sujetas a la asistencia social con programas de salud, alimentación a niñas y niños, apoyos para mujeres, madres solteras, personas con discapacidad, adultos mayores, jóvenes y migrantes. | E10: Estrategia 1.8 Asegurar la calidad en la atención a grupos en situación de riesgo o desamparo a través de las instituciones de asistencia social en el Estado, garantizando el cumplimiento de las leyes en la materia. | F10: Linea de Accion 1.8.1 :Supervisar que las instituciones cumplan con los indicadores de institucionalidad y transparencia. | H10: SERVICIOS | I10: ='METAS (PED)'!Q17 -> 300 | J10: ='1'!Q130 -> 0 | M10: =SUM(J10:L10) -> 0 | Q10: =SUM(N10:P10) -> 0 | R10: =L10+P10 -> 0 | S10: =R10/I10 -> 0 | W10: =SUM(T10:V10) -> 0 | AA10: =SUM(X10:Z10) -> 0 | AB10: =W10+AA10 -> 0 | AC10: =AB10/I10 -> 0 | AE10: =I10 -> 300 | AJ10: =SUM(AF10:AI10) -> 0 | AK10: =AJ10/AE10 -> 0
P11: 6 | W11: Meta Anual | X11: 1er. Trimestre | Y11: 2do. Trimestre | Z11: 3er. Trimestre | AA11: 4to. Trimestre | AB11: Avance # | AC11: Avance %
V12: Apoyos | W12: =AE3+AE8 -> 42195 | X12: =AF3 -> 0 | Y12: =AG3 -> 0 | Z12: =AH3 -> 0 | AA12: =AI3 -> 0 | AB12: =SUM(X12:AA12) -> 0 | AC12: =AB12/W12 -> 0
V13: Personas | W13: =AE4+AE6+AE9 -> #REF! | X13: =AF4 -> 0 | Y13: =AG4 -> 0 | Z13: =AH4 -> 0 | AA13: =AI4 -> 0 | AB13: =SUM(X13:AA13) -> 0 | AC13: =AB13/W13 -> #REF!
V14: Servicios | W14: =AE2+AE5+AE7+AE10 -> #REF! | X14: =AF2+AF5+AF6+AF7 -> 0 | Y14: =AG2+AG5+AG6+AG7 -> 0 | Z14: =AH2+AH5+AH6+AH7 -> 0 | AA14: =AI2+AI5+AI6+AI7 -> 0 | AB14: =SUM(X14:AA14) -> 0 | AC14: =AB14/W14 -> #REF!

Sheet 1
B2: SISTEMA PARA EL DESARROLLO INTEGRAL DE LA FAMILIA DEL ESTADO DE SAN LUIS POTOSÍ
A3: UNIDADES ADMINISTRATIVA : CENTRO DE ASISTENCIA SOCIAL ROSARIO CASTELLANOS
A7: INFORME DE AVANCE MENSUAL DEL MES DE ENERO DEL 2026, DOS MIL VEINTISEIS.
A9: Objetivo 1. | B9: Beneficiar a más de un millón de personas sujetas a la asistencia social con programas de salud, alimentación a niñas y niños, apoyos para mujeres, madres solteras, personas con discapacidad, adultos mayores, jóvenes y migrantes.
A10: Estrategia 1.2 | B10: Contribuir al desarrollo integral de las niñas, niños y adolescentes.
A11: LINEA DE ACCION 1.2.1 | B11: Brindar albergue en Centros Asistenciales con personal altamente capacitado con perespectiva de niñez y de discapacidad
A12: ACTIVIDAD | B12: GRUPO DE EDAD | C12: UNIDAD DE MEDIDA | D12: TIPO DE POBLACIÓN
F13: ZA | N13: ZC | V13: ZM | AD13: ZH
D14: ABIERTA | E14: CAUTIVA | F14: H | J14: M | N14: H | R14: M | V14: H | Z14: M | AD14: H | AH14: M | AL14: AVANCE | AM14: personas | AO14: Altiplano | AQ14: Centro | AS14: Media | AU14: Huasteca
F15: PD | G15: PO | H15: AFD | I15: PG | J15: PD | K15: PO | L15: AFD | M15: PG | N15: PD | O15: PO | P15: AFD | Q15: PG | R15: PD | S15: PO | T15: AFD | U15: PG | V15: PD | W15: PO | X15: AFD | Y15: PG | Z15: PD | AA15: PO | AB15: AFD | AC15: PG | AD15: PD | AE15: PO | AF15: AFD | AG15: PG | AH15: PD | AI15: PO | AJ15: AFD | AK15: PG | AM15: hombres | AN15: mujeres | AO15: hombres | AP15: mujeres | AQ15: hombres | AR15: mujeres | AS15: hombres | AT15: mujeres | AU15: hombres | AV15: mujeres
A16: POBLACION ALBERGADA | B16: 0 a 11 Años | C16: Servicio | M16: 2 | R16: 1 | U16: 6 | AL16: =SUM(F16:AK16) -> 9 | AM16: =SUM(F16:I16)+SUM(N16:Q16)+SUM(V16:Y16)+SUM(AD16:AG16) -> 0 | AN16: =SUM(J16:M16)+SUM(R16:U16)+SUM(Z16:AC16)+SUM(AH16:AK16) -> 9 | AO16: =SUM(F16:I16) -> 0 | AP16: =SUM(J16:M16) -> 2 | AQ16: =SUM(N16:Q16) -> 0 | AR16: =SUM(R16:U16) -> 7 | AS16: =SUM(V16:Y16) -> 0 | AT16: =SUM(Z16:AC16) -> 0 | AU16: =SUM(AD16:AG16) -> 0 | AV16: =SUM(AH16:AK16) -> 0
C17: Apoyo | AL17: =SUM(F17:AK17) -> 0 | AM17: =SUM(F17:I17)+SUM(N17:Q17)+SUM(V17:Y17)+SUM(AD17:AG17) -> 0 | AN17: =SUM(J17:M17)+SUM(R17:U17)+SUM(Z17:AC17)+SUM(AH17:AK17) -> 0 | AO17: =SUM(F17:I17) -> 0 | AP17: =SUM(J17:M17) -> 0 | AQ17: =SUM(N17:Q17) -> 0 | AR17: =SUM(R17:U17) -> 0 | AS17: =SUM(V17:Y17) -> 0 | AT17: =SUM(Z17:AC17) -> 0 | AU17: =SUM(AD17:AG17) -> 0 | AV17: =SUM(AH17:AK17) -> 0
C18: Persona | E18: X | M18: 1 | R18: 1 | U18: 4 | AL18: =SUM(F18:AK18) -> 6 | AM18: =SUM(F18:I18)+SUM(N18:Q18)+SUM(V18:Y18)+SUM(AD18:AG18) -> 0 | AN18: =SUM(J18:M18)+SUM(R18:U18)+SUM(Z18:AC18)+SUM(AH18:AK18) -> 6 | AO18: =SUM(F18:I18) -> 0 | AP18: =SUM(J18:M18) -> 1 | AQ18: =SUM(N18:Q18) -> 0 | AR18: =SUM(R18:U18) -> 5 | AS18: =SUM(V18:Y18) -> 0 | AT18: =SUM(Z18:AC18) -> 0 | AU18: =SUM(AD18:AG18) -> 0 | AV18: =SUM(AH18:AK18) -> 0
B19: 12 a 17 Años | C19: Servicio | M19: 2 | R19: 4 | U19: 4 | AC19: 2 | AL19: =SUM(F19:AK19) -> 12 | AM19: =SUM(F19:I19)+SUM(N19:Q19)+SUM(V19:Y19)+SUM(AD19:AG19) -> 0 | AN19: =SUM(J19:M19)+SUM(R19:U19)+SUM(Z19:AC19)+SUM(AH19:AK19) -> 12 | AO19: =SUM(F19:I19) -> 0 | AP19: =SUM(J19:M19) -> 2 | AQ19: =SUM(N19:Q19) -> 0 | AR19: =SUM(R19:U19) -> 8 | AS19: =SUM(V19:Y19) -> 0 | AT19: =SUM(Z19:AC19) -> 2 | AU19: =SUM(AD19:AG19) -> 0 | AV19: =SUM(AH19:AK19) -> 0
C20: Apoyo | U20: 0 | AL20: =SUM(F20:AK20) -> 0 | AM20: =SUM(F20:I20)+SUM(N20:Q20)+SUM(V20:Y20)+SUM(AD20:AG20) -> 0 | AN20: =SUM(J20:M20)+SUM(R20:U20)+SUM(Z20:AC20)+SUM(AH20:AK20) -> 0 | AO20: =SUM(F20:I20) -> 0 | AP20: =SUM(J20:M20) -> 0 | AQ20: =SUM(N20:Q20) -> 0 | AR20: =SUM(R20:U20) -> 0 | AS20: =SUM(V20:Y20) -> 0 | AT20: =SUM(Z20:AC20) -> 0 | AU20: =SUM(AD20:AG20) -> 0 | AV20: =SUM(AH20:AK20) -> 0
C21: Persona | E21: X | M21: 1 | R21: 4 | U21: 4 | AC21: 2 | AH21: 1 | AL21: =SUM(F21:AK21) -> 12 | AM21: =SUM(F21:I21)+SUM(N21:Q21)+SUM(V21:Y21)+SUM(AD21:AG21) -> 0 | AN21: =SUM(J21:M21)+SUM(R21:U21)+SUM(Z21:AC21)+SUM(AH21:AK21) -> 12 | AO21: =SUM(F21:I21) -> 0 | AP21: =SUM(J21:M21) -> 1 | AQ21: =SUM(N21:Q21) -> 0 | AR21: =SUM(R21:U21) -> 8 | AS21: =SUM(V21:Y21) -> 0 | AT21: =SUM(Z21:AC21) -> 2 | AU21: =SUM(AD21:AG21) -> 0 | AV21: =SUM(AH21:AK21) -> 1
B22: 18 a 59 años | C22: Servicio | AL22: =SUM(F22:AK22) -> 0 | AM22: =SUM(F22:I22)+SUM(N22:Q22)+SUM(V22:Y22)+SUM(AD22:AG22) -> 0 | AN22: =SUM(J22:M22)+SUM(R22:U22)+SUM(Z22:AC22)+SUM(AH22:AK22) -> 0 | AO22: =SUM(F22:I22) -> 0 | AP22: =SUM(J22:M22) -> 0 | AQ22: =SUM(N22:Q22) -> 0 | AR22: =SUM(R22:U22) -> 0 | AS22: =SUM(V22:Y22) -> 0 | AT22: =SUM(Z22:AC22) -> 0 | AU22: =SUM(AD22:AG22) -> 0 | AV22: =SUM(AH22:AK22) -> 0
C23: Apoyo | AL23: =SUM(F23:AK23) -> 0 | AM23: =SUM(F23:I23)+SUM(N23:Q23)+SUM(V23:Y23)+SUM(AD23:AG23) -> 0 | AN23: =SUM(J23:M23)+SUM(R23:U23)+SUM(Z23:AC23)+SUM(AH23:AK23) -> 0 | AO23: =SUM(F23:I23) -> 0 | AP23: =SUM(J23:M23) -> 0 | AQ23: =SUM(N23:Q23) -> 0 | AR23: =SUM(R23:U23) -> 0 | AS23: =SUM(V23:Y23) -> 0 | AT23: =SUM(Z23:AC23) -> 0 | AU23: =SUM(AD23:AG23) -> 0 | AV23: =SUM(AH23:AK23) -> 0
C24: Persona | E24: X | AL24: =SUM(F24:AK24) -> 0 | AM24: =SUM(F24:I24)+SUM(N24:Q24)+SUM(V24:Y24)+SUM(AD24:AG24) -> 0 | AN24: =SUM(J24:M24)+SUM(R24:U24)+SUM(Z24:AC24)+SUM(AH24:AK24) -> 0 | AO24: =SUM(F24:I24) -> 0 | AP24: =SUM(J24:M24) -> 0 | AQ24: =SUM(N24:Q24) -> 0 | AR24: =SUM(R24:U24) -> 0 | AS24: =SUM(S24:V24) -> 0 | AT24: =SUM(T24:W24) -> 0 | AU24: =SUM(AD24:AG24) -> 0 | AV24: =SUM(AH24:AK24) -> 0
A25: T O T A L | C25: Persona | F25: =F18+F21+F24 -> 0 | G25: =G18+G21+G24 -> 0 | H25: =H18+H21+H24 -> 0 | I25: =I18+I21+I24 -> 0 | J25: =J18+J21+J24 -> 0 | K25: =K18+K21+K24 -> 0 | L25: =L18+L21+L24 -> 0 | M25: =M18+M21+M24 -> 2 | ... AK25: =AK18+AK21+AK24 -> 0 | AL25: =SUM(F25:AK25) -> 18 | AM25: =AM18+AM21 -> 0 | AN25: =AN18+AN21+AN24 -> 18 | AO25: =AO18+AO21 -> 0 | AP25: =AP18+AP21+AP24 -> 2 | AQ25: =AQ18+AQ21+AQ24 -> 0 | AR25: =AR18+AR21+AR24 -> 13 | AS25: =AS18+AS21+AS24 -> 0 | AT25: =AT18+AT21+AT24 -> 2 | AU25: =AU18+AU21+AU24 -> 0 | AV25: =AV18+AV21+AV24 -> 1
C26: Apoyos | F26: =F17+F20+F23 -> 0 | G26: =G17+G20+G23 -> 0 | H26: =H17+H20+H23 -> 0 | I26: =I17+I20+I23 -> 0 | J26: =J17+J20+J23 -> 0 | K26: =K17+K20+K23 -> 0 | L26: =L17+L20+L23 -> 0 | M26: =M17+M20+M23 -> 0 | ... AK26: =AK17+AK20+AK23 -> 0 | AL26: =SUM(F26:AK26) -> 0 | AM26: =AM17+AM20 -> 0 | AN26: =AN17+AN20+AN23 -> 0 | AO26: =AO17+AO20 -> 0 | AP26: =AP17+AP20+AP23 -> 0 | AQ26: =AQ17+AQ20+AQ23 -> 0 | AR26: =AR17+AR20+AR23 -> 0 | AS26: =AS17+AS20+AS23 -> 0 | AT26: =AT17+AT20+AT23 -> 0 | AU26: =AU17+AU20+AU23 -> 0 | AV26: =AV17+AV20+AV23 -> 0
C27: Servicio | F27: =+F16+F19+F22 -> 0 | G27: =+G16+G19+G22 -> 0 | H27: =+H16+H19+H22 -> 0 | I27: =+I16+I19+I22 -> 0 | J27: =+J16+J19+J22 -> 0 | K27: =+K16+K19+K22 -> 0 | L27: =+L16+L19+L22 -> 0 | M27: =+M16+M19+M22 -> 4 | ... AK27: =+AK16+AK19+AK22 -> 0 | AL27: =SUM(F27:AK27) -> 21 | AM27: =AM16+AM19 -> 0 | AN27: =AN16+AN19+AN22 -> 21 | AO27: =AO16+AO19 -> 0 | AP27: =AP16+AP19+AP22 -> 4 | AQ27: =AQ16+AQ19+AQ22 -> 0 | AR27: =AR16+AR19+AR22 -> 15 | AS27: =AS16+AS19+AS22 -> 0 | AT27: =AT16+AT19+AT22 -> 2 | AU27: =AU16+AU19+AU22 -> 0 | AV27: =AV16+AV19+AV22 -> 0
A29: Objetivo 1. | B29: Beneficiar a más de un millón de personas sujetas a la asistencia social con programas de salud, alimentación a niñas y niños, apoyos para mujeres, madres solteras, personas con discapacidad, adultos mayores, jóvenes y migrantes.
A30: Estrategia 1.2 | B30: Contribuir al desarrollo integral de las niñas, niños y adolescentes.
A31: LINEA DE ACCION 1.2.3 | B31: Prevenir los riesgos psicosociales a los que se enfrenta las niñas, niños y adolescentes.
A32: ACTIVIDAD | B32: GRUPO DE EDAD | C32: UNIDAD DE MEDIDA | D32: TIPO DE POBLACIÓN
F33: ZA | N33: ZC | V33: ZM | AD33: ZH
D34: ABIERTA | E34: CAUTIVA | F34: H | J34: M | N34: H | R34: M | V34: H | Z34: M | AD34: H | AH34: M | AL34: AVANCE | AM34: personas | AO34: Altiplano | AQ34: Centro | AS34: Media | AU34: Huasteca
F35: PD | G35: PO | H35: AFD | I35: PG | J35: PD | K35: PO | L35: AFD | M35: PG | N35: PD | O35: PO | P35: AFD | Q35: PG | R35: PD | S35: PO | T35: AFD | U35: PG | V35: PD | W35: PO | X35: AFD | Y35: PG | Z35: PD | AA35: PO | AB35: AFD | AC35: PG | AD35: PD | AE35: PO | AF35: AFD | AG35: PG | AH35: PD | AI35: PO | AJ35: AFD | AK35: PG | AM35: hombres | AN35: mujeres | AO35: hombres | AP35: mujeres | AQ35: hombres | AR35: mujeres | AS35: hombres | AT35: mujeres | AU35: hombres | AV35: mujeres
A36: ATENCIÓN SOCIAL | B36: 0 a 11 Años | C36: Servicio | R36: 3 | U36: 17 | AL36: =SUM(F36:AK36) -> 20 | AM36: =SUM(F36:I36)+SUM(N36:Q36)+SUM(V36:Y36)+SUM(AD36:AG36) -> 0 | AN36: =SUM(J36:M36)+SUM(R36:U36)+SUM(Z36:AC36)+SUM(AH36:AK36) -> 20 | AO36: =SUM(F36:I36) -> 0 | AP36: =SUM(J36:M36) -> 0 | AQ36: =SUM(N36:Q36) -> 0 | AR36: =SUM(R36:U36) -> 20 | AS36: =SUM(V36:Y36) -> 0 | AT36: =SUM(Z36:AC36) -> 0 | AU36: =SUM(AD36:AG36) -> 0 | AV36: =SUM(AH36:AK36) -> 0
B37: 12 a 17 Años | C37: Servicio | R37: 26 | U37: 26 | AC37: 10 | AL37: =SUM(F37:AK37) -> 62 | AM37: =SUM(F37:I37)+SUM(N37:Q37)+SUM(V37:Y37)+SUM(AD37:AG37) -> 0 | AN37: =SUM(J37:M37)+SUM(R37:U37)+SUM(Z37:AC37)+SUM(AH37:AK37) -> 62 | AO37: =SUM(F37:I37) -> 0 | AP37: =SUM(J37:M37) -> 0 | AQ37: =SUM(N37:Q37) -> 0 | AR37: =SUM(R37:U37) -> 52 | AS37: =SUM(V37:Y37) -> 0 | AT37: =SUM(Z37:AC37) -> 10 | AU37: =SUM(AD37:AG37) -> 0 | AV37: =SUM(AH37:AK37) -> 0
B38: 18 a 59 Años | C38: Servicio | AL38: =SUM(F38:AK38) -> 0 | AM38: =SUM(F38:I38)+SUM(N38:Q38)+SUM(V38:Y38)+SUM(AD38:AG38) -> 0 | AN38: =SUM(J38:M38)+SUM(R38:U38)+SUM(Z38:AC38)+SUM(AH38:AK38) -> 0 | AO38: =SUM(F38:I38) -> 0 | AP38: =SUM(J38:M38) -> 0 | AQ38: =SUM(N38:Q38) -> 0 | AR38: =SUM(R38:U38) -> 0 | AS38: =SUM(V38:Y38) -> 0 | AT38: =SUM(Z38:AC38) -> 0 | AU38: =SUM(AD38:AG38) -> 0 | AV38: =SUM(AH38:AK38) -> 0
A39: T O T A L | C39: Servicio | F39: =+F36+F37+F38 -> 0 | G39: =+G36+G37+G38 -> 0 | H39: =+H36+H37+H38 -> 0 | I39: =+I36+I37+I38 -> 0 | J39: =+J36+J37+J38 -> 0 | K39: =+K36+K37+K38 -> 0 | L39: =+L36+L37+L38 -> 0 | M39: =+M36+M37+M38 -> 0 | ... AK39: =+AK36+AK37+AK38 -> 0 | AL39: =SUM(F39:AK39) -> 82 | AM39: =AM36+AM37+AM38 -> 0 | AN39: =AN36+AN37+AN38 -> 82 | AO39: =AO36+AO37+AO38 -> 0 | AP39: =AP36+AP37+AP38 -> 0 | AQ39: =AQ36+AQ37+AQ38 -> 0 | AR39: =AR36+AR37+AR38 -> 72 | AS39: =AS36+AS37+AS38 -> 0 | AT39: =AT36+AT37+AT38 -> 10 | ... AV39: =AV36+AV37+AV38 -> 0
A41: Objetivo 1. | B41: Beneficiar a más de un millón de personas sujetas a la asistencia social con programas de salud, alimentación a niñas y niños, apoyos para mujeres, madres solteras, personas con discapacidad, adultos mayores, jóvenes y migrantes.
A42: Estrategia 1.2 | B42: Contribuir al desarrollo integral de las niñas, niños y adolescentes.
A43: LINEA DE ACCION 1.2.3 | B43: Prevenir los riesgos psicosociales a los que se enfrenta las niñas, niños y adolescentes.
A44: ACTIVIDAD | B44: GRUPO DE EDAD | C44: UNIDAD DE MEDIDA | D44: TIPO DE POBLACIÓN
F45: ZA | N45: ZC | V45: ZM | AD45: ZH
D46: ABIERTA | E46: CAUTIVA | F46: H | J46: M | N46: H | R46: M | V46: H | Z46: M | AD46: H | AH46: M | AL46: AVANCE | AM46: personas | AO46: Altiplano | AQ46: Centro | AS46: Media | AU46: Huasteca
F47: PD | G47: PO | H47: AFD | I47: PG | J47: PD | K47: PO | L47: AFD | M47: PG | N47: PD | O47: PO | P47: AFD | Q47: PG | R47: PD | S47: PO | T47: AFD | U47: PG | V47: PD | W47: PO | X47: AFD | Y47: PG | Z47: PD | AA47: PO | AB47: AFD | AC47: PG | AD47: PD | AE47: PO | AF47: AFD | AG47: PG | AH47: PD | AI47: PO | AJ47: AFD | AK47: PG | AM47: hombres | AN47: mujeres | AO47: hombres | AP47: mujeres | AQ47: hombres | AR47: mujeres | AS47: hombres | AT47: mujeres | AU47: hombres | AV47: mujeres
...
