Workbook
Name CMedios: Medios[Descripción]
Name CRespuestas: Fundamentación!$C$13:$C$24
Name CTramites: Fundamentación!$C$29:$C$31

Sheet Fundamentación
A1: Art | B1: Fracc | C1: Contenido
A2: 34 | B2: XV | C2: Recibir y sistematizar y, en su caso, requerir los informes mensuales que deberán enviarle los sujetos obligados, relativos a la recepción y tramitación de solicitudes de información pública que hayan recibido
A3: 54 | B3: VIII | C3: Llevar un registro de las solicitudes de acceso a la información, respuestas, resultados, costos de reproducción y envío
A4: 54 | B4: XII | C4: Informar por escrito a la CEGAIP, de forma mensual, sobre las solicitudes de información recibidas, el trámite y respuesta correspondiente en cada caso
B10: Catálogo de Tipos de Respuesta
B12: Respuesta | C12: Descripción
B13: 1 | C13: Información reservada.
B14: 2 | C14: Información confidencial.
B15: 3 | C15: Se pone a disposición la información para consulta directa.
B16: 4 | C16: Se requiere al solicitante.
B17: 5 | C17: Se tiene por no presentada la solicitud de información, por no atender requerimiento en plazo.
B18: 6 | C18: Sujeto obligado no competente, se le orienta ante qué sujeto obligado presentar su solicitud de información.
B19: 7 | C19: Información se encuentra disponible en la Plataforma.
B20: 8 | C20: Entrega de información por correo electrónico.
B21: 9 | C21: Entrega de información previo pago correspondiente.
B22: 10 | C22: Información Inexistente
B23: 11 | C23: Ampliación de Plazo
B24: 12 | C24: Otros
B26: Catálogo de Tipos de Trámites
B28: Trámite | C28: Descripción
B29: 1 | C29: Recibida
B30: 2 | C30: En trámite
B31: 3 | C31: Contestada
B34: Catálogo de Medios de Envío de la Respuesta
B36: Medio | C36: Descripción
B37: 1 | C37: PNT
B38: 2 | C38: Correo postal tradicional o por correo certificado con acuse de recibo
B39: 3 | C39: Correo electrónico
B40: 4 | C40: Personal
B41: 5 | C41: Telégrafo
B42: 6 | C42: Verbal

Sheet Formato
A1: Mes que reporta | B1: 9 | C1: <== Escriba en esta celda el número de mes que reporta y el año | F1: Resumen | G1: No. de solicitudes recibidas en el mes | H1: =COUNTIF(Formato!$L$10:$L$44,B1) -> 2 | I1: <== No escriba aquí nada, el formato calcula automáticamnete estos valores
B2: septiembre | G2: No. de solicitudes respondidas en el mes | H2: 0 | I2: <== No escriba aquí nada, el formato calcula automáticamnete estos valores
A3: Año que reporta | B3: 2026 | M3: Notas:
M4: 1 | N4: Solamente se capturan datos en celdas en amarillo.
M5: 2 | N5: Los folios pueden ser recibidos en un mes y contestados en otro. Para su correcta contabilización, si un folio es recibido en un mes y contestado en el siguiente, deberá incluirse en ambos reportes. El resumen tomará en cuenta esto para no cotabilizarlo doble.
A6: Reporte enviado a la CEGAIP, Art 34FXV , Art 54FVIII y XII
D7: Actualizado 15/01/2020
A9: Número de folio. | B9: Nombre del solicitante | C9: Fecha de Recepción | D9: Información Solicitada | E9: Trámite | F9: Respuesta | G9: Fecha de Respuesta | H9: Resultado | I9: Costo de Reproducción | J9: Medio de Notificación | K9: Costo de envio | L9: Mes de Recepción | M9: Mes de Respuesta
A10: 243253726000006 | B10: Sin nombre | C10: 46267 | D10: Se otorga algún monto a los empleados de esa dependencia para el estudio de idiomas. En su caso, ¿cuál es el monto y el esquema de otorgamiento? | E10: Contestada | F10: Sujeto obligado no competente, se le orienta ante qué sujeto obligado presentar su solicitud de información. | G10: 46268 | H10: Terminada | I10: 0 | J10: PNT | K10: 0 | L10: =IF(Formato!$C10<>"",MONTH(C10),"") -> 9 | M10: =IF(Formato!$G10<>"",MONTH(G10),"") -> 9
A11: 243253726000007 | B11: Despedidos | C11: 46293 | D11: Queremos hacer una denuncia anónima, hacia el Instituto Cervantes Apostolica A.C. (Colegio Apostólica). Fuimos despedidas injustamente en el mes de junio, ese proceso legal esta en marcha. Sin embargo, durante varios años en el convivio de diciembre el colegio presenta un video en el cual se mofa del personal en forma hostigante y poniendo al personal en un eje y centro burlas y ridiculizar frente a todos los compañeros, del cual nadie dice nada, por temor a ser despedidos pues su director general humilla y violenta a quienes exigen respeto hacia sus funciones y personas refiriendose con frases como "vayanse a florecer a otro jardin" en tono burlesco y prepotente. Es preocupante esta situación ya que conforme lo que nos refieren nuestros abogados el colegio con este video esta infringiendo el articulo 3o. Bis de la LFT, en el que define el HOSTIGAMIENTO LABORAL como ejercicio de poder en una relación de subordinación en el que se usan burlas, humillaciones y el uso de tonos de mofa sistemáticos como conductas de violencia psicológica. Y conforme a la NOM-035-STP-2018 esta situacion se refiere a violencia laboral, pues es un hostigamiento y maltrato el que se recibe; las burlas constantes, la exposición al ridículo o el uso de mofas hacia el personal constituyen violencia psicológica y malos tratos bajo los criterios de evaluación de esta norma. La ley general de acceso de las mujeres a una vida libre de violencia en el articulo 11 define la violencia laboral como descalificacion anómala del trabajo realizado, las amenazas, intimidacion y humillaciones , exponer mediante mofas o burlas califica de manera directa como una humillación y descalificacion que daña la estabilidad psicológica de la persona, Convenio 190 de la OIT Articulo 1: proteger el derecho al trabajador a un espacio laboral libre de violencia y acoso, defiine esto como conjunto de comportamientos y practicas inaceptables que tengan como objeto causar daño físico, psicológico, sexual o económico. Ante esto solicitamos el apoyo para que se revisen los videos de estos eventos y sean testigos de lo que estamos informando, ojala apoyen al personal que se quedo laborando y no alza la coz por temor a represalias. Exigimos justicia y que se pueda poner orden a esa institución y que su gabinete jurídico se ocupe de llevar unas buenas riendas de la institución y no solo "defender" al director general de sus malas practicas y puedan supervisar ustedes como instituciones de supervision que se apliquen las leyes conforme a lo que se rige en derecho y que el colegio también atienda a su personal con su política de calidad. | E11: Contestada | F11: Sujeto obligado no competente, se le orienta ante qué sujeto obligado presentar su solicitud de información. | G11: 46294 | H11: Terminada | I11: 0 | J11: PNT | K11: 0 | L11: =IF(Formato!$C11<>"",MONTH(C11),"") -> 9 | M11: =IF(Formato!$G11<>"",MONTH(G11),"") -> 9
L12: =IF(Formato!$C12<>"",MONTH(C12),"") | M12: =IF(Formato!$G12<>"",MONTH(G12),"")
L13: =IF(Formato!$C13<>"",MONTH(C13),"") | M13: =IF(Formato!$G13<>"",MONTH(G13),"")
L14: =IF(Formato!$C14<>"",MONTH(C14),"") | M14: =IF(Formato!$G14<>"",MONTH(G14),"")
L15: =IF(Formato!$C15<>"",MONTH(C15),"") | M15: =IF(Formato!$G15<>"",MONTH(G15),"")
L16: =IF(Formato!$C16<>"",MONTH(C16),"") | M16: =IF(Formato!$G16<>"",MONTH(G16),"")
L17: =IF(Formato!$C17<>"",MONTH(C17),"") | M17: =IF(Formato!$G17<>"",MONTH(G17),"")
L18: =IF(Formato!$C18<>"",MONTH(C18),"") | M18: =IF(Formato!$G18<>"",MONTH(G18),"")
L19: =IF(Formato!$C19<>"",MONTH(C19),"") | M19: =IF(Formato!$G19<>"",MONTH(G19),"")
L20: =IF(Formato!$C20<>"",MONTH(C20),"") | M20: =IF(Formato!$G20<>"",MONTH(G20),"")
L21: =IF(Formato!$C21<>"",MONTH(C21),"") | M21: =IF(Formato!$G21<>"",MONTH(G21),"")
L22: =IF(Formato!$C22<>"",MONTH(C22),"") | M22: =IF(Formato!$G22<>"",MONTH(G22),"")
L23: =IF(Formato!$C23<>"",MONTH(C23),"") | M23: =IF(Formato!$G23<>"",MONTH(G23),"")
... L44: =IF(Formato!$C44<>"",MONTH(C44),"") | M44: =IF(Formato!$G44<>"",MONTH(G44),"")
M47: NOTA:
M48: Llene tantos reglones como sea necesario, acorde al número de solicitudes recibidas
