Workbook
Name CMedios: Medios[Descripción]
Name CRespuestas: Fundamentación!$C$13:$C$24
Name CTramites: Fundamentación!$C$29:$C$31

Sheet Fundamentación
A1: Art | B1: Fracc | C1: Contenido
A2: 34 | B2: XV | C2: Recibir y sistematizar y, en su caso, requerir los informes mensuales que deberán enviarle los sujetos obligados, relativos a la recepción y tramitación de solicitudes de información pública que hayan recibido
A3: 54 | B3: VIII | C3: Llevar un registro de las solicitudes de acceso a la información, respuestas, resultados, costos de reproducción y envío
A4: 54 | B4: XII | C4: Informar por escrito a la CEGAIP, de forma mensual, sobre las solicitudes de información recibidas, el trámite y respuesta correspondiente en cada caso
B10: Catálogo de Tipos de Respuesta
B12: Respuesta | C12: Descripción
B13: 1 | C13: Información reservada.
B14: 2 | C14: Información confidencial.
B15: 3 | C15: Se pone a disposición la información para consulta directa.
B16: 4 | C16: Se requiere al solicitante.
B17: 5 | C17: Se tiene por no presentada la solicitud de información, por no atender requerimiento en plazo.
B18: 6 | C18: Sujeto obligado no competente, se le orienta ante qué sujeto obligado presentar su solicitud de información.
B19: 7 | C19: Información se encuentra disponible en la Plataforma.
B20: 8 | C20: Entrega de información por correo electrónico.
B21: 9 | C21: Entrega de información previo pago correspondiente.
B22: 10 | C22: Información Inexistente
B23: 11 | C23: Ampliación de Plazo
B24: 12 | C24: Otros
B26: Catálogo de Tipos de Trámites
B28: Trámite | C28: Descripción
B29: 1 | C29: Recibida
B30: 2 | C30: En trámite
B31: 3 | C31: Contestada
B34: Catálogo de Medios de Envío de la Respuesta
B36: Medio | C36: Descripción
B37: 1 | C37: PNT
B38: 2 | C38: Correo postal tradicional o por correo certificado con acuse de recibo
B39: 3 | C39: Correo electrónico
B40: 4 | C40: Personal
B41: 5 | C41: Telégrafo
B42: 6 | C42: Verbal

Sheet Formato
A1: Mes que reporta | B1: 12 | C1: <== Escriba en esta celda el número de mes que reporta y el año | F1: Resumen | G1: No. de solicitudes recibidas en el mes | H1: 5 | I1: <== No escriba aquí nada, el formato calcula automáticamnete estos valores
B2: diciembre | G2: No. de solicitudes respondidas en el mes | H2: 5 | I2: <== No escriba aquí nada, el formato calcula automáticamnete estos valores
A3: Año que reporta | B3: 2024
A6: Reporte enviado a la CEGAIP
D7: Actualizado 10/01/2025
A9: Número de folio. | B9: Nombre del solicitante | C9: Fecha de Recepción | D9: Trámite | E9: Respuesta | F9: Fecha de Respuesta | G9: Resultado | H9: Costo de Reproducción | I9: Medio de Notificación | J9: Costo de envio | K9: Mes de Recepción | L9: Columna1
A10: 241196124000030 | B10: Gabriela | C10: 45628 | D10: Contestada | E10: Información se encuentra disponible en la Plataforma. | F10: 45642 | G10: Se otorga respuesta a través de memorandum. | H10: 0 | I10: PNT | J10: 0 | K10: 12
A11: 241196124000031 | B11: solicitante | C11: 45629 | D11: Contestada | E11: Información se encuentra disponible en la Plataforma. | F11: 45643 | G11: Se otorga respuesta a través de memorandum. | H11: 0 | I11: PNT | J11: 0 | K11: 12
A12: 241196124000032 | B12: Rolando Morales Flores | C12: 45635 | D12: Contestada | E12: Información se encuentra disponible en la Plataforma. | F12: 45665 | G12: Se otorga respuesta a través de memorandum. | H12: 0 | I12: PNT | J12: 0 | K12: 12
A13: 241196124000033 | B13: Héctor Sebastián Arcos Robledo | C13: 45637 | D13: Contestada | E13: Información se encuentra disponible en la Plataforma. | F13: 45667 | G13: Se otorga respuesta a través de memorandum. | H13: 0 | I13: PNT | J13: 0 | K13: 12
A14: 241196124000034 | B14: Valentin Cruz | C14: 45638 | D14: Contestada | E14: Información se encuentra disponible en la Plataforma. | F14: 45670 | G14: Se otorga respuesta a través de memorandum. | H14: 0 | I14: PNT | J14: 0 | K14: 12
K34: =IF(Formato!$C34<>"",MONTH(C34),"") | L34: =IF(Formato!$F34<>"",MONTH(F34),"")
K35: =IF(Formato!$C35<>"",MONTH(C35),"") | L35: =IF(Formato!$F35<>"",MONTH(F35),"")
K36: =IF(Formato!$C36<>"",MONTH(C36),"") | L36: =IF(Formato!$F36<>"",MONTH(F36),"")
K37: =IF(Formato!$C37<>"",MONTH(C37),"") | L37: =IF(Formato!$F37<>"",MONTH(F37),"")
K38: =IF(Formato!$C38<>"",MONTH(C38),"") | L38: =IF(Formato!$F38<>"",MONTH(F38),"")
K39: =IF(Formato!$C39<>"",MONTH(C39),"") | L39: =IF(Formato!$F39<>"",MONTH(F39),"")
K40: =IF(Formato!$C40<>"",MONTH(C40),"") | L40: =IF(Formato!$F40<>"",MONTH(F40),"")
K41: =IF(Formato!$C41<>"",MONTH(C41),"") | L41: =IF(Formato!$F41<>"",MONTH(F41),"")
K42: =IF(Formato!$C42<>"",MONTH(C42),"") | L42: =IF(Formato!$F42<>"",MONTH(F42),"")
K43: =IF(Formato!$C43<>"",MONTH(C43),"") | L43: =IF(Formato!$F43<>"",MONTH(F43),"")
K44: =IF(Formato!$C44<>"",MONTH(C44),"") | L44: =IF(Formato!$F44<>"",MONTH(F44),"")
K45: =IF(Formato!$C45<>"",MONTH(C45),"") | L45: =IF(Formato!$F45<>"",MONTH(F45),"")
K46: =IF(Formato!$C46<>"",MONTH(C46),"") | L46: =IF(Formato!$F46<>"",MONTH(F46),"")
M47: NOTA:
M48: Llene tantos reglones como sea necesario, acorde al número de solicitudes recibidas
