Workbook

Sheet ENERO
C16: =[1]JUNIO!H14 -> MATERIA | D16: =[1]JUNIO!I14 -> CORRESPONDENCIA INGRESADA | E16: =[1]JUNIO!J14 -> NUEVOS INGRESOS | F16: =[1]JUNIO!K14 -> NUEVOS ATENDIDOS | G16: =[1]JUNIO!L14 -> ATENDIDOS EN TRAMITE
C17: =[1]JUNIO!H15 -> CONTENCIOSOS | D17: 4 | E17: 2 | F17: 2 | G17: 2
C18: =[1]JUNIO!H16 -> AMPARO | D18: 222 | E18: 20 | F18: 20 | G18: 222
C19: =[1]JUNIO!H17 -> DERECHO DE PREFERENCIA | D19: 3 | E19: 3 | F19: 3 | G19: 0
C20: =[1]JUNIO!H18 -> AGRARIO | D20: 1 | E20: 0 | F20: 0 | G20: 1
C21: =[1]JUNIO!H19 -> REGLAMENTO | D21: 1 | E21: 1 | F21: 1 | G21: 1
C22: =[1]JUNIO!H20 -> CONVENIOS | D22: 11 | E22: 6 | F22: 6 | G22: 5
C23: INICIATIVA | D23: 1 | E23: 1 | F23: 1 | G23: 0
C24: =[1]JUNIO!H22 -> LABORAL | D24: 25 | E24: 4 | F24: 4 | G24: 21
C25: =[1]JUNIO!H23 -> PUBLICACION | D25: 122 | E25: 112 | F25: 112 | G25: 10
C26: =[1]JUNIO!H24 -> OPINIONES JURIDICAS | D26: 45 | E26: 8 | F26: 8 | G26: 37
C27: =[1]JUNIO!H25 -> ASESORIAS | D27: 62 | E27: 62 | F27: 62 | G27: 62
C28: =[1]JUNIO!H26 -> TOTAL | D28: 497 | E28: 219 | F28: 219 | G28: 361

Sheet Hoja1
A6: ASUNTOS NUEVOS INGRESADOS Y QUE SE ATENDIERON
A7: =ENERO!C16 -> MATERIA | B7: =ENERO!E16 -> NUEVOS INGRESOS | C7: =ENERO!F16 -> NUEVOS ATENDIDOS
A8: =ENERO!C17 -> CONTENCIOSOS | B8: 0 | C8: 2
A9: =ENERO!C18 -> AMPARO | B9: 31 | C9: 31
A10: =ENERO!C19 -> DERECHO DE PREFERENCIA | B10: 4 | C10: 4
A11: =ENERO!C20 -> AGRARIO | B11: 0 | C11: 0
A12: =ENERO!C21 -> REGLAMENTO | B12: 1 | C12: 1
A13: =ENERO!C22 -> CONVENIOS | B13: 1 | C13: 1
A14: =ENERO!C23 -> INICIATIVA | B14: 0 | C14: 0
A15: =ENERO!C24 -> LABORAL | B15: 5 | C15: 5
A16: =ENERO!C25 -> PUBLICACION | B16: 91 | C16: 91
A17: =ENERO!C26 -> OPINIONES JURIDICAS | B17: 0 | C17: 0
A18: =ENERO!C27 -> ASESORIAS | B18: 65 | C18: 65
A19: =ENERO!C28 -> TOTAL | B19: =ENERO!E28 -> 219 | C19: =ENERO!F28 -> 219
