Workbook

Sheet 1.1 EDO ACT
B1: CONSEJO ESTATAL DE POBLACION
B3: Estado de Actividades
B4: Al 31 de Agosto de 2020
B5: (Cifras expresadas en pesos)
A8: CONCEPTO | C8: 2019 | D8: 2018 | F8: CONCEPTO | H8: =+C8 -> 2019 | I8: =+D8 -> 2018
A10: INGRESOS Y OTROS BENEFICIOS | F10: GASTOS Y OTRAS PÉRDIDAS
A11: Ingresos de la Gestión (Nota 2.1) | C11: =SUM(C12:C19) -> 776.41 | D11: =SUM(D12:D19) -> 0 | F11: Gastos de Funcionamiento (Nota 2.2) | H11: =SUM(H12:H14) -> 631957.65 | I11: =SUM(I12:I14) -> 796644.21
A12: Impuestos | C12: 0 | D12: 0 | F12: Servicios Personales | H12: 467049.42 | I12: 462917.86
A13: Cuotas y Aportaciones de Seguridad Social | C13: 0 | D13: 0 | F13: Materiales y Suministros | H13: 31068.3 | I13: 106846.45
A14: Contribuciones de Mejoras | C14: 0 | D14: 0 | F14: Servicios Generales | H14: 133839.93 | I14: 226879.9
A15: Derechos | C15: 0 | D15: 0
A16: Productos de Tipo Corriente | C16: 776.41 | D16: 0 | F16: Transferencia, Asignaciones, Subsidios y Otras Ayudas | H16: =SUM(H17:H25) -> 0 | I16: =SUM(I17:I25) -> 0
A17: Aprovechamientos de Tipo Corriente | C17: 0 | D17: 0 | F17: Transferencias Internas y Asignaciones al Sector Público | H17: 0 | I17: 0
A18: Ingresos por Venta de Bienes y Servicios | C18: 0 | D18: 0 | F18: Transferencias al Resto del Sector Público | H18: 0 | I18: 0
A19: Ingresos no Comprendidos en las Fracciones de la Ley de Ingresos Causados en Ejercicios Fiscales Anteriores Pendientes de Liquidación o Pago | C19: 0 | D19: 0 | F19: Subsidios y Subvenciones | H19: 0 | I19: 0
F20: Ayudas Sociales | H20: 0 | I20: 0
A21: Participaciones, Aportaciones, Convenios, Incentivos Derivados de la Colaboración Fiscal, Fondos Distintos de Aportaciones, Transferencias, Asignaciones, Subsidios, Subsenciones y Pensiones y Jubilaciones (Nota 2.1) | C21: =SUM(C22:C23) -> 770966.67 | D21: =SUM(D22:D23) -> 1290851 | F21: Pensiones y Jubilaciones | H21: 0 | I21: 0
A22: Participaciones, Aportaciones, Convenios, Incentivos Derivados de la Colaboración Fiscal, Fondos Distintos de Aportaciones | C22: 13000 | D22: 0 | F22: Transferencias a Fideicomisos, Mandatos y Contratos Análogos | H22: 0 | I22: 0
A23: Transferencias, Asignaciones, Subsidios, Subsenciones y Pensiones y Jubilaciones | C23: 757966.67 | D23: 1290851 | F23: Transferencias a la Seguridad Social | H23: 0 | I23: 0
F24: Donativos | H24: 0 | I24: 0
A25: Otros Ingresos y Beneficios | C25: =SUM(C26:C30) -> 1.78 | D25: =SUM(D26:D30) -> 0.72 | F25: Transferencias al Exterior | H25: 0 | I25: 0
A26: Ingresos Financieros | C26: 0 | D26: 0
A27: Incremento por Variación de Inventarios | C27: 0 | D27: 0 | F27: Participaciones y Aportaciones | H27: =SUM(H28:H30) -> 0 | I27: =SUM(I28:I30) -> 390000
A28: Disminución del Exceso de Estimaciones por Pérdida o Deterioro u Obsolescencia | C28: 0 | D28: 0 | F28: Participaciones | H28: 0 | I28: 0
A29: Disminución del Exceso de Provisiones | C29: 0 | D29: 0 | F29: Aportaciones | H29: 0 | I29: 0
A30: Otros Ingresos y Beneficios Varios | C30: 1.78 | D30: 0.72 | F30: Convenios | H30: 0 | I30: 390000
A32: Total de Ingresos y Otros Beneficios | C32: =C11+C21+C25 -> 771744.86 | D32: =D11+D21+D25 -> 1290851.7 | F32: Intereses, Comisiones y Otros Gastos de la Deuda Pública | H32: =SUM(H33:H37) -> 0 | I32: =SUM(I33:I37) -> 0
F33: Intereses de la Deuda Pública | H33: 0 | I33: 0
F34: Comisiones de la Deuda Pública | H34: 0 | I34: 0
F35: Gastos de la Deuda Pública | H35: 0 | I35: 0
F36: Costo por Coberturas | H36: 0 | I36: 0
F37: Apoyos Financieros | H37: 0 | I37: 0
F39: Otros Gastos y Pérdidas Extraordinarias (Nota 2.3) | H39: =SUM(H40:H45) -> 33347.88 | I39: =SUM(I40:I45) -> 45339.34
F40: Estimaciones, Depreciaciones, Deterioros, Obsolescencia y Amortizaciones | H40: 33347.88 | I40: 45326.01
F41: Provisiones | H41: 0 | I41: 0
F42: Disminución de Inventarios | H42: 0 | I42: 0
F43: Aumento por Insuficiencia de Estimaciones por Pérdida o Deterioro y Obsolescencia | H43: 0 | I43: 13.33
F44: Aumento por Insuficiencia de Provisiones | H44: 0 | I44: 0
F45: Otros Gastos | H45: 0 | I45: 0
F47: Inversión Pública | H47: =H48 -> 0 | I47: =I48 -> 0
...

Sheet 1.2 EDO SIT FIN
B1: CONSEJO ESTATAL DE POBLACION
B3: Estado de Situación Financiera
B4: Al 31 de Agosto de 2020
B5: (Cifras expresadas en pesos)
A8: CONCEPTO | C8: AL MES DE | F8: CONCEPTO | H8: AL MES DE
C9: AGO'20 | D9: AGO'19 | H9: =+C9 -> AGO'20 | I9: =+D9 -> AGO'19
A11: ACTIVO | F11: PASIVO
A13: Activo Circulante | F13: Pasivo Circulante
L14: O=neg A=posit | M14: O=posit A=neg
A15: Efectivo y Equivalentes (Nota 1.1) | C15: 157781.3 | D15: 80368.03 | F15: Cuentas por Pagar a Corto Plazo (Nota 1.9) | H15: 19935.88 | I15: 7041.03 | L15: =+C15-D15 -> 77413.27 | M15: =+H15-I15 -> 12894.85
A16: Derechos a Recibir Efectivo o Equivalentes (Nota 1.2) | C16: 0 | D16: 17593.36 | F16: Documentos por Pagar a Corto Plazo | H16: 0 | I16: 0 | L16: =+C16-D16 -> -17593.36 | M16: =+H16-I16 -> 0
A17: Derechos a Recibir Bienes o Servicios (Nota 1.3) | C17: 0 | D17: 0 | F17: Porción a Corto Plazo de la Deuda Pública a Largo Plazo | H17: 0 | I17: 0 | L17: =+C17-D17 -> 0 | M17: =+H17-I17 -> 0
A18: Inventarios | C18: 0 | D18: 0 | F18: Títulos y Valores a Corto Plazo | H18: 0 | I18: 0 | L18: =+C18-D18 -> 0 | M18: =+H18-I18 -> 0
A19: Almacenes (Nota 1.4) | C19: 0 | D19: 0 | F19: Pasivos Diferidos a Corto Plazo | H19: 0 | I19: 0 | L19: =+C19-D19 -> 0 | M19: =+H19-I19 -> 0
A20: Estimación por Pérdida o Deterioro de Activos Circulantes | C20: 0 | D20: 0 | F20: Fondos y Bienes de Terceros en Garantía y/o Administración a Corto Plazo | H20: 0 | I20: 0 | L20: =+C20-D20 -> 0 | M20: =+H20-I20 -> 0
A21: Otros Activos Circulantes | C21: 0 | D21: 0 | F21: Provisiones a Corto Plazo | H21: 0 | I21: 0 | L21: =+C21-D21 -> 0 | M21: =+H21-I21 -> 0
F22: Otros Pasivos a Corto Plazo | H22: 0 | I22: 0 | L22: =+C22-D22 -> 0 | M22: =+H22-I22 -> 0
A23: Total de Activos Circulantes | C23: =SUM(C15:C22) -> 157781.3 | D23: =SUM(D15:D22) -> 97961.39
F24: Total de Pasivos Circulantes | H24: =SUM(H15:H23) -> 19935.88 | I24: =SUM(I15:I23) -> 7041.03
A26: Activo No Circulante | F26: Pasivo No Circulante
A28: Inversiones Financieras a Largo Plazo | C28: 0 | D28: 0 | F28: Cuentas por Pagar a Largo Plazo | H28: 0 | I28: 0 | L28: =+C28-D28 -> 0
A29: Derechos a Recibir Efectivo o Equivalentes a Largo Plazo | C29: 0 | D29: 0 | F29: Documentos por Pagar a Largo Plazo | H29: 0 | I29: 0 | L29: =+C29-D29 -> 0
A30: Bienes Inmuebles, Infraestructura y Construcciones en Proceso (Nota 1.5) | C30: 0 | D30: 0 | F30: Deuda Pública a Largo Plazo | H30: 0 | I30: 0 | L30: =+C30-D30 -> 0
A31: Bienes Muebles (Nota 1.6) | C31: 757984.09 | D31: 739373.96 | F31: Pasivos Diferidos a Largo Plazo | H31: 0 | I31: 0 | L31: =+C31-D31 -> 18610.13
A32: Activos Intangibles (Nota 1.7) | C32: 41832.4 | D32: 36142 | F32: Fondos y Bienes de Terceros en Garantía y/o en Administración a Largo Plazo | H32: 0 | I32: 0 | L32: =+C32-D32 -> 5690.4
A33: Depreciación, Deterioro y Amortización Ac. de Bienes (Nota 1.8) | C33: -692003.78 | D33: -637077.07 | F33: Provisiones a Largo Plazo | H33: 0 | I33: 0 | L33: =+C33-D33 -> -54926.71
A34: Activos Diferidos | C34: 0 | D34: 0 | L34: =+C34-D34 -> 0
A35: Estimación por Pérdida o Deterioro de Activos no Circulantes | C35: 0 | D35: 0 | F35: Total de Pasivos No Circulantes | H35: =SUM(H28:H34) -> 0 | I35: =SUM(I28:I34) -> 0 | L35: =+C35-D35 -> 0
A36: Otros Activos no Circulantes | C36: 0 | D36: 0
F37: Total del Pasivo | H37: =H24+H35 -> 19935.88 | I37: =I24+I35 -> 7041.03
A38: Total de Activos No Circulantes | C38: =SUM(C28:C37) -> 107812.71 | D38: =SUM(D28:D37) -> 138438.89
F39: HACIENDA PÚBLICA/ PATRIMONIO
A40: Total del Activo | C40: =C23+C38 -> 265594.01 | D40: =D23+D38 -> 236400.28
F41: Hacienda Pública/Patrimonio Contribuido | H41: =SUM(H43:H45) -> 0 | I41: =SUM(I43:I45) -> 0
F43: Aportaciones | H43: 0 | I43: 0
F44: Donaciones de Capital | H44: 0 | I44: 0
F45: Actualización de la Hacienda Pública / Patrimonio | H45: 0 | I45: 0
F47: Hacienda Pública/Patrimonio Generado | H47: =SUM(H49:H53) -> 245658.13 | I47: =SUM(I49:I53) -> 229359.25
F49: Resultados del Ejercicio (Ahorro / Desahorro) | H49: 106439.33 | I49: 58868.16 | M49: =+H49-I49 -> 47571.17
F50: Resultados de Ejercicios Anteriores | H50: 390015.26 | I50: 170491.09 | M50: =+H50-I50 -> 219524.17
...

Sheet 1.3 EDO VAR HAC PUB
D2: CONSEJO ESTATAL DE POBLACION
D4: Estado de Variación en la Hacienda Pública
D5: Del 01 de Enero al 31 de Agosto de 2020
D6: (Cifras expresadas en pesos)
C10: CONCEPTO | E10: HACIENDA PUBLICA / PATRIMONIO CONTRIBUIDO | F10: HACIENDA PUBLICA / PATRIMONIO GENERADO DE EJERCICIOS ANTERIORES | G10: HACIENDA PUBLICA / PATRIMONIO GENERADO DEL EJERCICIO | H10: AJUSTES POR CAMBIOS DE VALOR | I10: TOTAL
C13: Rectificaciones de Resultados de Ejercicios Anteriores | F13: 0 | G13: 0 | H13: 0 | I13: =SUM(E13:H13) -> 0
C15: Patrimonio Neto Inicial Ajustado del Ejercicio 2018 | E15: =SUM(E16:E18) -> 0 | H15: =SUM(H16:H18) -> 0 | I15: =SUM(E15:H15) -> 0
C16: Aportaciones | E16: 0 | H16: 0 | I16: =SUM(E16:H16) -> 0
C17: Donaciones de Capital | E17: 0 | H17: 0 | I17: =SUM(E17:H17) -> 0
C18: Actualización de la Hacienda Pública/Patrimonio | E18: 0 | H18: 0 | I18: =SUM(E18:H18) -> 0
C21: Variaciones de la Hacienda Pública/Patrimonio Neto del Ejercicio 2018 | F21: =SUM(F22:F24) -> 170491.09 | G21: =G22 -> 58868.16 | H21: =SUM(H22:H25) -> 0 | I21: =SUM(E21:H21) -> 229359.25
C22: Resultados del Ejercicio (Ahorro/Desahorro) | F22: 0 | G22: =+'1.2 EDO SIT FIN'!I49 -> 58868.16 | H22: 0 | I22: =SUM(E22:H22) -> 58868.16
C23: Resultados de Ejercicios Anteriores | F23: =+'1.2 EDO SIT FIN'!I50 -> 170491.09 | H23: 0 | I23: =SUM(E23:H23) -> 170491.09
C24: Revalúos | F24: 0 | H24: 0 | I24: =SUM(E24:H24) -> 0
C25: Reservas | F25: 0 | H25: 0 | I25: =SUM(E25:H25) -> 0
C27: Hacienda Pública/Patrimonio Neto Final del Ejercicio 2018 | E27: =E15 -> 0 | F27: =F21 -> 170491.09 | G27: =G13+G21 -> 58868.16 | H27: =H13+H15+H21 -> 0 | I27: =SUM(E27:H27) -> 229359.25 | IX27: =+'1.2 EDO SIT FIN'!I60 -> 229359.25
C31: Cambios en la Hacienda Pública/Patrimonio Neto del Ejercicio 2019 | E31: =SUM(E32:E34) -> 0 | H31: =SUM(H32:H34) -> 0 | I31: =SUM(E31:H31) -> 0
C32: Aportaciones | E32: 0 | H32: 0 | I32: =SUM(E32:H32) -> 0
C33: Donaciones de Capital | E33: 0 | H33: 0 | I33: =SUM(E33:H33) -> 0
C34: Actualización de la Hacienda Pública/Patrimonio | E34: 0 | H34: 0 | I34: =SUM(E34:H34) -> 0
C37: Variaciones de la Hacienda Pública/Patrimonio Neto del Ejercicio 2019 | F37: =SUM(F38:F43) -> 219524.17 | G37: =SUM(G38:G43) -> -203225.29 | H37: =SUM(H38:H42) -> 0 | I37: =SUM(E37:H37) -> 16298.88
C38: Resultados del Ejercicio (Ahorro/Desahorro) | F38: 0 | G38: =+'1.1 EDO ACT'!H52 -> 106439.33 | H38: 0 | I38: =SUM(E38:H38) -> 106439.33
C39: Resultados de Ejercicios Anteriores | F39: =+'1.4 EDO CAMBIOS SIT FIN'!J45 -> 219524.17 | G39: =+(-G22) -> -58868.16 | H39: 0 | I39: =SUM(E39:H39) -> 160656.01
C40: Otras variaciones de la Hacienda Pública / Patrimonio Neto | F40: 0 | G40: 0 | I40: =SUM(E40:H40) -> 0
C41: Revalúos | F41: 0 | H41: 0 | I41: =SUM(E41:H41) -> 0
C42: Reservas | F42: 0 | H42: 0 | I42: =SUM(E42:H42) -> 0
C43: Rectificaciones de Resultados de Ejercicios Anteriores | F43: 0 | G43: =-'1.4 EDO CAMBIOS SIT FIN'!K48 -> -250796.46 | I43: =SUM(E43:H43) -> -250796.46
C46: Saldo Neto en la Hacienda Pública / Patrimonio 2019 | E46: =E27+E31 -> 0 | F46: =F13+F27+F37 -> 390015.26 | G46: =G27+G31+G37 -> -144357.13 | H46: =H27+H31+H37 -> 0 | I46: =SUM(E46:H46) -> 245658.13 | IX46: =+'1.2 EDO SIT FIN'!H60 -> 245658.13
IX47: =+IX46-I46 -> 0
C50: Bajo protesta de decir verdad declaramos que los Estados Financieros y sus Notas son razonablemente correctos y responsabilidad del emisor
C61: MTRO. CUAUHTEMOC MODESTO LOPEZ | G61: C.P. MAGDALENA GERALDINA ZAVALA RICO
C62: SECRETARIO TECNICO | G62: RECURSOS HUMANOS Y FINANCIEROS

Sheet 1.4 EDO CAMBIOS SIT FIN
D2: CONSEJO ESTATAL DE POBLACION
D4: Estado de Cambios en la Situación Financiera
D5: Del 01 de Enero al 31 de Agosto de 2020
D6: (Cifras expresadas en pesos)
C9: CONCEPTO | E9: ORIGEN | F9: APLICACIÓN | H9: CONCEPTO | J9: ORIGEN | K9: APLICACIÓN
F11: =+F12-E12 -> 29193.73
C12: ACTIVO | E12: =E14+E24 -> 72520.07 | F12: =F14+F24 -> 101713.8 | H12: PASIVO | J12: =J14+J25 -> 12894.85 | K12: =K14+K25 -> 0
F13: =+E14-F14 -> -59819.91
C14: Activo Circulante | E14: =SUM(E16:E22) -> 17593.36 | F14: =SUM(F16:F22) -> 77413.27 | H14: Pasivo Circulante | J14: =SUM(J16:J23) -> 12894.85 | K14: =SUM(K16:K23) -> 0
C16: Efectivo y Equivalentes | E16: 0 | F16: 77413.27 | H16: Cuentas por Pagar a Corto Plazo | J16: 12894.85 | K16: 0
C17: Derechos a Recibir Efectivo o Equivalentes | E17: 17593.36 | F17: 0 | H17: Documentos por Pagar a Corto Plazo | J17: 0 | K17: 0
C18: Derechos a Recibir Bienes o Servicios | E18: 0 | F18: 0 | H18: Porción a Corto Plazo de la Deuda Pública a Largo Plazo | J18: 0 | K18: 0
C19: Inventarios | E19: 0 | F19: 0 | H19: Títulos y Valores a Corto Plazo | J19: 0 | K19: 0
C20: Almacenes | E20: 0 | F20: 0 | H20: Pasivos Diferidos a Corto Plazo | J20: 0 | K20: 0
C21: Estimación por Pérdida o Deterioro de Activos Circulantes | E21: 0 | F21: 0 | H21: Fondos y Bienes de Terceros en Garantía y/o Administración a Corto Plazo | J21: 0 | K21: 0
C22: Otros Activos Circulantes | E22: 0 | F22: 0 | H22: Provisiones a Corto Plazo | J22: 0 | K22: 0
F23: =+E24-F24 -> 30626.18 | H23: Otros Pasivos a Corto Plazo | J23: 0 | K23: 0
C24: Activo No Circulante | E24: =SUM(E26:E34) -> 54926.71 | F24: =SUM(F26:F34) -> 24300.53
H25: Pasivo No Circulante | J25: =SUM(J27:J32) -> 0 | K25: =SUM(K27:K32) -> 0
C26: Inversiones Financieras a Largo Plazo | E26: 0 | F26: 0
C27: Derechos a Recibir Efectivo o Equivalentes a Largo Plazo | E27: 0 | F27: 0 | H27: Cuentas por Pagar a Largo Plazo | J27: 0 | K27: 0
C28: Bienes Inmuebles, Infraestructura y Construcciones en Proceso | E28: 0 | F28: 0 | H28: Documentos por Pagar a Largo Plazo | J28: 0 | K28: 0
C29: Bienes Muebles | E29: 0 | F29: 18610.13 | H29: Deuda Pública a Largo Plazo | J29: 0 | K29: 0
C30: Activos Intangibles | E30: 0 | F30: 5690.4 | H30: Pasivos Diferidos a Largo Plazo | J30: 0 | K30: 0
C31: Depreciación, Deterioro y Amortización Acumulada de Bienes | E31: 54926.71 | F31: 0 | H31: Fondos y Bienes de Terceros en Garantía y/o en Administración a Largo Plazo | J31: 0 | K31: 0
C32: Activos Diferidos | F32: 0 | H32: Provisiones a Largo Plazo | J32: 0 | K32: 0
C33: Estimación por Pérdida o Deterioro de Activos no Circulantes | E33: 0 | F33: 0 | K33: =+K34-J34 -> -16298.88
C34: Otros Activos no Circulantes | E34: 0 | F34: 0 | H34: HACIENDA PÚBLICA/ PATRIMONIO | J34: =J36+J42+J50 -> 267095.34 | K34: =K36+K42+K50 -> 250796.46
H36: Hacienda Pública/Patrimonio Contribuido | J36: =SUM(J38:J40) -> 0 | K36: =SUM(K38:K40) -> 0
H38: Aportaciones | J38: 0 | K38: 0
H39: Donaciones de Capital | J39: 0 | K39: 0
H40: Actualización de la Hacienda Pública / Patrimonio | J40: 0 | K40: 0
H42: Hacienda Pública/Patrimonio Generado | J42: =SUM(J44:J48) -> 267095.34 | K42: =SUM(K44:K48) -> 250796.46
H44: Resultados del Ejercicio (Ahorro / Desahorro) | J44: 47571.17 | K44: 0
H45: Resultados de Ejercicios Anteriores | J45: 219524.17 | K45: 0
H46: Revalúos | J46: 0 | K46: 0
H47: Reservas | J47: 0 | K47: 0
H48: Rectificaciones de Resultados de Ejercicios Anteriores | J48: 0 | K48: 250796.46
H50: Exceso o Insuficiencia en la Actualización de la Hacienda Pública/Patrimonio | J50: =SUM(J52:J53) -> 0 | K50: =SUM(K52:K53) -> 0
H52: Resultado por Posición Monetaria | J52: 0 | K52: 0
...

Sheet 1.5 EDO FLUJO EFECT
E2: CONSEJO ESTATAL DE POBLACION
E4: Estado de Flujos de Efectivo
E5: Del 01 de enero al 31 de Agosto de 2020
E6: (Cifras expresadas en pesos)
B8: CONCEPTO | G8: 2020 | H8: 2019 | J8: CONCEPTO | O8: =+G8 -> 2020 | P8: =+H8 -> 2019
B10: Flujos de Efectivo de las Actividades de Operación | J10: Flujos de Efectivo de las Actividades de Inversión
C12: Origen | G12: =SUM(G13:G23) -> 775558.83 | H12: =SUM(H13:H23) -> 1290851 | K12: Origen | O12: =SUM(O13:O15) -> 0 | P12: =SUM(P13:P15) -> 0
D13: Impuestos | G13: 0 | H13: 0 | L13: Bienes Inmuebles, Infraestructura y Construcciones en Proceso | O13: 0 | P13: 0
D14: Cuotas y Aportaciones de Seguridad Social | G14: 0 | H14: 0 | L14: Bienes Muebles | O14: 0 | P14: 0
D15: Contribuciones de mejoras | G15: 0 | H15: 0 | L15: Otros Orígenes de Inversión | O15: 0 | P15: 0
D16: Derechos | G16: 0 | H16: 0
D17: Productos de Tipo Corriente | G17: 0 | H17: 0 | K17: Aplicación | O17: =SUM(O18:O20) -> 6191.4 | P17: =SUM(P18:P20) -> 15237.14
D18: Aprovechamientos de Tipo Corriente | G18: 0 | H18: 0 | L18: Bienes Inmuebles, Infraestructura y Construcciones en Proceso | O18: 0 | P18: 0
D19: Ingresos por Venta de Bienes y Servicios | G19: 0 | H19: 0 | L19: Bienes Muebles | O19: 3999 | P19: 13044.74
D20: Ingresos no Comprendidos en las Fracciones de la Ley de Ingresos Causados en Ejercicios Fiscales Anteriores Pendientes de Liquidación o Pago | G20: 0 | H20: 0 | L20: Otras Aplicaciones de Inversión | O20: 2192.4 | P20: 2192.4
D21: Participaciones, Aportaciones, Convenios, Incentivos Derivados de la Colaboración Fiscal, Fondos Distintos de Aportaciones | G21: 13000 | H21: 0
D22: Transferencias, Asignaciones, Subsidios, Subsenciones y Pensiones y Jubilaciones | G22: 757966.67 | H22: 1290851 | K22: Flujos Netos de Efectivo por Actividades de Inversión | O22: =O12-O17 -> -6191.4 | P22: =P12-P17 -> -15237.14
D23: Otros Orígenes de Operación | G23: 4592.16 | H23: 0
C25: Aplicación | G25: =SUM(G26:G41) -> 630731.17 | H25: =SUM(H26:H41) -> 1339917.9 | J25: Flujo de Efectivo de las Actividades de Financiamiento
D26: Servicios Personales | G26: 467049.42 | H26: 462917.86
D27: Materiales y Suministros | G27: 31068.3 | H27: 106846.45 | K27: Origen | O27: =O28+O33+O34+O31+O32 -> 0 | P27: =P28+P33+P34+P31+P32 -> 0
D28: Servicios Generales | G28: 132613.45 | H28: 225621.27 | L28: Endeudamiento Neto | O28: =SUM(O29:O30) -> 0 | P28: =SUM(P29:P30) -> 0
D29: Transferencias Internas y Asignaciones al Sector Público | G29: 0 | H29: 0 | L29: Interno | O29: 0 | P29: 0
D30: Transferencias al resto del Sector Público | G30: 0 | H30: 0 | L30: Externo | O30: 0 | P30: 0
D31: Subsidios y Subvenciones | G31: 0 | H31: 0 | L31: Incremento de Otros Pasivos | O31: 0 | P31: 0
D32: Ayudas Sociales | G32: 0 | H32: 0 | L32: Disminución de Activos Financieros | O32: 0 | P32: 0
D33: Pensiones y Jubilaciones | G33: 0 | H33: 0 | L33: Otros Orígenes de Financiamiento | O33: 0 | P33: 0
D34: Transferencias a Fideicomisos, Mandatos y Contratos Análogos | G34: 0 | H34: 0
D35: Transferencias a la Seguridad Social | G35: 0 | H35: 0
D36: Donativos | G36: 0 | H36: 0 | K36: Aplicación | O36: =O37+O42+O43+O40+O41 -> 0 | P36: =P37+P42+P43+P40+P41 -> 0
D37: Transferencias al Exterior | G37: 0 | H37: 0 | L37: Servicios de la Deuda | O37: =SUM(O38:O39) -> 0 | P37: =SUM(P38:P39) -> 0
D38: Participaciones | G38: 0 | H38: 0 | L38: Interno | O38: 0 | P38: 0
D39: Aportaciones | G39: 0 | H39: 0 | L39: Externo | O39: 0 | P39: 0
D40: Convenios | G40: 0 | H40: 390000 | L40: Incremento de Activos Financieros | O40: 0 | P40: 0
D41: Otras Aplicaciones de Operación | G41: 0 | H41: 154532.27 | L41: Disminución de Otros Pasivos | O41: 0 | P41: 0
L42: Otras Aplicaciones de Financiamiento | O42: 0 | P42: 0
C44: Flujos Netos de Efectivo por Actividades de Operación | G44: =G12-G25 -> 144827.66 | H44: =H12-H25 -> -49066.86
K45: Flujos netos de Efectivo por Actividades de Financiamiento | O45: =O27-O36 -> 0 | P45: =P27-P36 -> 0
O47: 0
J48: Incremento/Disminución Neta en el Efectivo y Equivalentes al Efectivo | O48: =G44+O22+O45 -> 138636.26 | P48: =H44+P22+P45 -> -64304
...

Sheet 1.10 EDO A. ACTIVO
D3: CONSEJO ESTATAL DE POBLACION
D5: Estado Analítico del Activo
D6: Del 01 de Enero al 31 de Agosto de 2020
D7: (Cifras expresadas en pesos)
C10: CONCEPTO | E10: SALDO INICIAL | F10: CARGOS DEL PERIODO | G10: ABONOS DEL PERIODO | H10: SALDO FINAL | I10: VARIACION DEL PERIODO
E11: 1 | F11: 2 | G11: 3 | H11: 4 =(1+2-3) | I11: (4-1)
C14: ACTIVO
C16: Activo Circulante | E16: =SUM(E18:E24) -> 149145.04 | F16: =SUM(F18:F24) -> 1743694.4 | G16: =SUM(G18:G24) -> 1735058.1 | H16: =SUM(H18:H24) -> 157781.3 | I16: =SUM(I18:I24) -> 8636.26
A18: 111 | C18: Efectivo y Equivalentes | E18: 19145.04 | F18: 945898.79 | G18: 807262.53 | H18: =+E18+F18-G18 -> 157781.3 | I18: =+H18-E18 -> 138636.26
A19: 112 | C19: Derechos a Recibir Efectivo o Equivalentes | E19: 130000 | F19: 797795.6 | G19: 927795.6 | H19: =+E19+F19-G19 -> 0 | I19: =+H19-E19 -> -130000
A20: 113 | C20: Derechos a Recibir Bienes o Servicios | E20: 0 | F20: 0 | G20: 0 | H20: =+E20+F20-G20 -> 0 | I20: =+H20-E20 -> 0
C21: Inventarios | E21: 0 | F21: 0 | G21: 0 | H21: =+E21+F21-G21 -> 0 | I21: =+H21-E21 -> 0
C22: Almacenes | E22: 0 | F22: 0 | G22: 0 | H22: =+E22+F22-G22 -> 0 | I22: =+H22-E22 -> 0
C23: Estimación por Pérdida o Deterioro de Activos Circulantes | E23: 0 | F23: 0 | G23: 0 | H23: =+E23+F23-G23 -> 0 | I23: =+H23-E23 -> 0
C24: Otros Activos Circulantes | E24: 0 | F24: 0 | G24: 0 | H24: =+E24+F24-G24 -> 0 | I24: =+H24-E24 -> 0
C26: Activo No Circulante | E26: =SUM(E28:E36) -> 134969.19 | F26: =SUM(F28:F36) -> 6191.4 | G26: =SUM(G28:G36) -> 33347.88 | H26: =SUM(H28:H36) -> 107812.71 | I26: =SUM(I28:I36) -> -27156.48
C28: Inversiones Financieras a Largo Plazo | E28: 0 | F28: 0 | G28: 0 | H28: =+E28+F28-G28 -> 0 | I28: =+H28-E28 -> 0
C29: Derechos a Recibir Efectivo o Equivalentes a Largo Plazo | E29: 0 | F29: 0 | G29: 0 | H29: =+E29+F29-G29 -> 0 | I29: =+H29-E29 -> 0
C30: Bienes Inmuebles, Infraestructura y Construcciones en Proceso | E30: 0 | F30: 0 | G30: 0 | H30: =+E30+F30-G30 -> 0 | I30: =+H30-E30 -> 0
A31: 124 | C31: Bienes Muebles | E31: 753985.09 | F31: 3999 | G31: 0 | H31: =+E31+F31-G31 -> 757984.09 | I31: =+H31-E31 -> 3999
A32: 125 | C32: Activos Intangibles | E32: 39640 | F32: 2192.4 | G32: 0 | H32: =+E32+F32-G32 -> 41832.4 | I32: =+H32-E32 -> 2192.4
C33: Depreciación, Deterioro y Amortización Acumulada de Bienes | E33: -658655.9 | F33: 0 | G33: 33347.88 | H33: =+E33+F33-G33 -> -692003.78 | I33: =+H33-E33 -> -33347.88
A34: 127 | C34: Activos Diferidos | E34: 0 | F34: 0 | G34: 0 | H34: =+E34+F34-G34 -> 0 | I34: =+H34-E34 -> 0
C35: Estimación por Pérdida o Deterioro de Activos no Circulantes | E35: 0 | F35: 0 | G35: 0 | H35: =+E35+F35-G35 -> 0 | I35: =+H35-E35 -> 0
C36: Otros Activos no Circulantes | E36: 0 | F36: 0 | G36: 0 | H36: =+E36+F36-G36 -> 0 | I36: =+H36-E36 -> 0
C38: TOTAL DEL ACTIVO | E38: =E16+E26 -> 284114.23 | F38: =F16+F26 -> 1749885.8 | G38: =G16+G26 -> 1768406 | H38: =H16+H26 -> 265594.01 | I38: =I16+I26 -> -18520.22
C41: Bajo protesta de decir verdad declaramos que los Estados Financieros y sus Notas son razonablemente correctos y responsabilidad del emisor
C46: MTRO. CUAUHTEMOC MODESTO LOPEZ | F46: C.P. MAGDALENA GERALDINA ZAVALA RICO
C47: SECRETARIO TECNICO | F47: RECURSOS HUMANOS Y FINANCIEROS

Sheet 1.11 EDO A. DEUDA
D2: CONSEJO ESTATAL DE POBLACION
D4: Estado Analítico de la Deuda y Otros Pasivos
D5: Del 01 de Enero al 31 de Agosto de 2020
D6: (Cifras expresadas en pesos)
C9: DENOMINACIÓN DE LAS DEUDAS | G9: MONEDA DE CONTRATACIÓN | H9: INSTITUCIÓN O PAÍS ACREEDOR | I9: SALDO INICIAL DEL PERIODO | J9: SALDO FINAL DEL PERIODO
C12: DEUDA PÚBLICA
C13: Corto Plazo
C14: Deuda Interna | I14: =SUM(I15:I17) -> 0 | J14: =SUM(J15:J17) -> 0
D15: Instituciones de Crédito | G15: Pesos | H15: México | I15: 0 | J15: 0
D16: Títulos y Valores | G16: Pesos | H16: México | I16: 0 | J16: 0
D17: Arrendamientos Financieros | G17: Pesos | H17: México | I17: 0 | J17: 0
C19: Deuda Externa | I19: =SUM(I20:I23) -> 0 | J19: =SUM(J20:J23) -> 0
D20: Organismos Financieros Internacionales | G20: Pesos | H20: México | I20: 0 | J20: 0
D21: Deuda Bilateral | G21: Pesos | H21: México | I21: 0 | J21: 0
D22: Títulos y Valores | G22: Pesos | H22: México | I22: 0 | J22: 0
D23: Arrendamientos Financieros | G23: Pesos | H23: México | I23: 0 | J23: 0
C25: Subtotal a Corto Plazo | I25: =I14+I19 -> 0 | J25: =J14+J19 -> 0
C27: Largo Plazo
C28: Deuda Interna | I28: =SUM(I29:I31) -> 0 | J28: =SUM(J29:J31) -> 0
D29: Instituciones de Crédito | G29: Pesos | H29: México | I29: 0 | J29: 0
D30: Títulos y Valores | G30: Pesos | H30: México | I30: 0 | J30: 0
D31: Arrendamientos Financieros | G31: Pesos | H31: México | I31: 0 | J31: 0
C33: Deuda Externa | I33: =SUM(I34:I37) -> 0 | J33: =SUM(J34:J37) -> 0
D34: Organismos Financieros Internacionales | G34: Pesos | H34: México | I34: 0 | J34: 0
D35: Deuda Bilateral | G35: Pesos | H35: México | I35: 0 | J35: 0
D36: Títulos y Valores | G36: Pesos | H36: México | I36: 0 | J36: 0
D37: Arrendamientos Financieros | G37: Pesos | H37: México | I37: 0 | J37: 0
C39: Subtotal a Largo Plazo | I39: =I28+I33 -> 0 | J39: =J28+J33 -> 0
C41: Otros Pasivos | G41: Pesos | H41: México | I41: 13793.4 | J41: =+'1.2 EDO SIT FIN'!H15 -> 19935.88
C43: Total de Deuda y Otros Pasivos | I43: =I41+I39+I25 -> 13793.4 | J43: =J41+J39+J25 -> 19935.88
C46: Bajo protesta de decir verdad declaramos que los Estados Financieros y sus Notas son razonablemente correctos y responsabilidad del emisor
D53: MTRO. CUAUHTEMOC MODESTO LOPEZ | H53: C.P. MAGDALENA GERALDINA ZAVALA RICO
D54: SECRETARIO TECNICO | H54: RECURSOS HUMANOS Y FINANCIEROS
