Workbook
Name Print_Area: Ahualulco!$A$1:$J$166
Name Print_Area: Alaquines!$A$1:$J$166
Name Print_Area: Aquismon!$A$1:$J$166
Name Print_Area: ArmadillodelosInfante!$A$1:$J$166
Name Print_Area: AxtladeTerrazas!$A$1:$J$166
Name Print_Area: Cardenas!$A$1:$J$166
Name Print_Area: Catorce!$A$1:$J$166
Name Print_Area: Cedral!$A$1:$J$166
Name Print_Area: Cerritos!$A$1:$J$166
Name Print_Area: CerrodeSanPedro!$A$1:$J$166
Name Print_Area: Charcas!$A$1:$J$166
Name Print_Area: CiudaddelMaiz!$A$1:$J$166
Name Print_Area: CiudadFernandez!$A$1:$J$166
Name Print_Area: CiudadValles!$A$1:$J$166
Name Print_Area: Coxcatlan!$A$1:$J$166
Name Print_Area: Ebano!$A$1:$J$166
Name Print_Area: ElNaranjo!$A$1:$J$166
Name Print_Area: Guadalcazar!$A$1:$J$166
Name Print_Area: Huehuetlan!$A$1:$J$166
Name Print_Area: Lagunillas!$A$1:$J$166
Name Print_Area: Matehuala!$A$1:$J$166
Name Print_Area: Matlapa!$A$1:$J$166
Name Print_Area: MexquiticdeCarmona!$A$1:$J$166
Name Print_Area: Moctezuma!$A$1:$J$166
Name Print_Area: Rayon!$A$1:$J$166
Name Print_Area: Rioverde!$A$1:$J$166
Name Print_Area: Salinas!$A$1:$J$166
Name Print_Area: SanAntonio!$A$1:$J$166
Name Print_Area: SanCirodeAcosta!$A$1:$J$166
Name Print_Area: SanLuisPotosi!$A$1:$J$166
Name Print_Area: SanMartinChalchicuautla!$A$1:$J$166
Name Print_Area: SanNicolasTolentino!$A$1:$J$166
Name Print_Area: SantaCatarina!$A$1:$J$166
Name Print_Area: SantaMariadelRio!$A$1:$J$166
Name Print_Area: SantoDomingo!$A$1:$J$166
Name Print_Area: SanVicenteTancuayalab!$A$1:$J$166
Name Print_Area: SoledaddeGracianoSanchez!$A$1:$J$166
Name Print_Area: Tamasopo!$A$1:$J$166
Name Print_Area: Tamazunchale!$A$1:$J$166
Name Print_Area: Tampacan!$A$1:$J$166
Name Print_Area: TampamolonCorona!$A$1:$J$166
Name Print_Area: Tamuin!$A$1:$J$166
Name Print_Area: Tancanhuitz!$A$1:$J$166
Name Print_Area: Tanlajas!$A$1:$J$166
Name Print_Area: TanquiandeEscobedo!$A$1:$J$166
Name Print_Area: TierraNueva!$A$1:$J$166
Name Print_Area: Vanegas!$A$1:$J$166
Name Print_Area: Venado!$A$1:$J$166
Name Print_Area: VilladeArista!$A$1:$J$166
Name Print_Area: VilladeArriaga!$A$1:$J$166
Name Print_Area: VilladeGuadalupe!$A$1:$J$166
Name Print_Area: VilladelaPaz!$A$1:$J$166
Name Print_Area: VilladeRamos!$A$1:$J$166
Name Print_Area: VilladeReyes!$A$1:$J$166
Name Print_Area: VillaHidalgo!$A$1:$J$166
Name Print_Area: VillaJuarez!$A$1:$J$166
Name Print_Area: Xilitla!$A$1:$J$166
Name Print_Area: Zaragoza!$A$1:$J$166

Sheet edo_SanLuisPotosi
A2: REPORTE ESTADÍSTICO MENSUAL SOBRE INCIDENCIA DELICTIVA | V2: 2020
A3: FUERO COMÚN (estatal) | V3: 2019
U4: Seleccione tipo de reporte | V4: 2018
A5: Entidad federativa: | E5: San Luis Potosí | U5: Reporte de cierre del mes inmediato anterior | V5: 2017
A6: Dependencia responsable: | E6: FISCALÍA GENERAL DEL ESTADO | U6: Actualización de algún reporte de cierre previo | V6: 2016
A7: Tipo de reporte: | E7: Reporte de cierre del mes inmediato anterior
A8: Fecha de llenado del reporte: | E8: 44114
A9: Fecha de referencia de la información:
E10: 2020 | H10: Indique el mes y el año en que se iniciaron las averiguaciones previas o se abrieron las carpetas de investigación que contienen la información que se incluye en el presente reporte.
E11: Septiembre
A13: Instrucciones de llenado: | R13: Seleccione el mes
A14: Reporte todos los delitos registrados en las Averiguaciones Previas Iniciadas (AP) y Carpetas de Investigación Iniciadas (CI), según el sistema penal vigente en su entidad, durante el mes de referencia. | R14: Enero
A15: En las celdas blancas de las columnas D y M se deben registrar el número de delitos correspondientes de cada Averiguación Previa o Carpeta de Investigación iniciadas, según corresponda. | R15: Febrero
A16: En las celdas blancas de las columnas de la F a la K, correspondientes a las víctimas mujeres y varones, dentro del sistema penal inquisitorio, se deben registrar el número de víctimas que sufrieron el hecho delictivo, según su género y rango de edad. | R16: Marzo
A17: En las celdas blancas de las columnas de la O a la T, correspondientes a las víctimas mujeres y varones, dentro del sistema penal acusatorio, se deben registrar el número de víctimas que sufrieron el hecho delictivo, según su género y rango de edad. | R17: Abril
A18: En las celdas blancas de las columnas L y U, correspondientes al número de unidades robadas, se deben registrar el número de vehiculos que se hayan registrado en la averiguaciíon previa iniciada o carpeta de investigación iniciada, según corresponda. | R18: Mayo
A19: Por favor no deje celdas vacías. Si no se registraron algunos tipos de delitos en su entidad, escriba 0 (cero). Si el tipo de delito no aplica en su entidad, escriba NA (no aplica). | R19: Junio
A20: Previo al llenado del presente formato, se le recomienda consultar el "Manual para la Clasificación y Llenado del Formato de Incidencia Delictiva". | R20: Julio
R21: Agosto
R22: Septiembre
A23: Sistema de Justicia Penal Inquisitorio (SPI) | R23: Octubre
A24: Total de delitos en Averiguaciones Previas Iniciadas: | E24: =(E34) -> 0 | G24: Gran total | R24: Noviembre
A25: Total de víctimas en Averiguaciones Previas Iniciadas: | E25: =(F34) -> 0 | G25: Número total de delitos: | J25: =SUM(E24,E27) -> 3914 | R25: Diciembre
A26: Sistema de Justicia Penal Acusatorio (SPA) | G26: Número total de víctimas: | J26: =SUM(E25,E28) -> 577
A27: Total de delitos en Carpetas de Investigación Iniciadas: | E27: =(P34) -> 3914
A28: Total de víctimas en Carpetas de Investigación Iniciadas: | E28: =(Q34) -> 577
A30: I. Clasificación de delitos | P30: III. Sistema Penal Acusatorio (SPA) | Z30: IV. Total Estatal
A31: Bien jurídico afectado | D31: Suma Delitos Municipales (No llenar) | E31: Número de delitos en Averiguaciones Previas (AP) Iniciadas | F31: Víctimas | N31: Núm. de unidades robadas | O31: Suma Delitos Municipales (No llenar) | P31: Número de delitos en Carpetas de Investigación (CI) Iniciadas | Q31: Víctimas | Y31: Núm. de unidades robadas | Z31: Número de delitos en AP y CI iniciadas | AA31: Víctimas | AI31: Núm. de unidades robadas
B32: Clave | C32: Tipo de delito, comisión, acción y elementos usados | F32: Total de víctimas bajo el SPI | G32: Víctimas mujeres | J32: Víctimas varones | M32: No Identificado | Q32: Total de víctimas bajo el SPA | R32: Víctimas mujeres | U32: Víctimas varones | X32: No identificado | AA32: Total de víctimas | AB32: Víctimas mujeres | AE32: Víctimas varones | AH32: No identificado
G33: Menores de edad (0-17) | H33: Adultos (18 y más) | I33: No especificado | J33: Menores de edad (0-17) | K33: Adultos (18 y más) | L33: No especificado | R33: Menores de edad (0-17) | S33: Adultos (18 y más) | T33: No especificado | U33: Menores de edad (0-17) | V33: Adultos (18 y más) | W33: No especificado | AB33: Menores de edad (0-17) | AC33: Adultos (18 y más) | AD33: No especificado | AE33: Menores de edad (0-17) | AF33: Adultos (18 y más) | AG33: No especificado
A34: Gran total | D34: =SUM(Ahualulco!D31,Alaquines!D31,Aquismon!D31,ArmadillodelosInfante!D31,AxtladeTerrazas!D31,Catorce!D31,Cedral!D31,Cerritos!D31,CerrodeSanPedro!D31,Charcas!D31,CiudadFernandez!D31,CiudadValles!D31,CiudaddelMaiz!D31,Coxcatlan!D31,Cardenas!D31,Ebano!D31,ElNaranjo!D31,Guadalcazar!D31,Huehuetlan!D31,Lagunillas!D31,Matehuala!D31,Matlapa!D31,MexquiticdeCarmona!D31,Moctezuma!D31,Rayon!D31,Rioverde!D31,Salinas!D31,SanAntonio!D31,SanCirodeAcosta!D31,SanLuisPotosi!D31,SanMartinChalchicuautla!D31,SanNicolasTolentino!D31,SanVicenteTancuayalab!D31,SantaCatarina!D31,SantaMariadelRio!D31,SantoDomingo!D31,SoledaddeGracianoSanchez!D31,Tamasopo!D31,Tamazunchale!D31,Tampacan!D31,TampamolonCorona!D31,Tamuin!D31,Tancanhuitz!D31,Tanlajas!D31,TanquiandeEscobedo!D31,TierraNueva!D31,Vanegas!D31,Venado!D31,VillaHidalgo!D31,VillaJuarez!D31,VilladeArista!D31,VilladeArriaga!D31,VilladeGuadalupe!D31,VilladeRamos!D31,VilladeReyes!D31,VilladelaPaz!D31,Xilitla!D31,Zaragoza!D31) -> 0 | E34: =SUM(E35,E67,E77,E85,E149,E154,E158) -> 0 | F34: =SUM(F35,F67,F85,F154) -> 0 | G34: =SUM(G35,G67,G145,G154) -> 0 | H34: =SUM(H35,H67,H145,H154) -> 0 | I34: =SUM(I35,I67,I145,I154) -> 0 | J34: =SUM(J35,J67,J145,J154) -> 0 | K34: =SUM(K35,K67,K145,K154) -> 0 | L34: =SUM(L35,L67,L145,L154) -> 0 | M34: =SUM(M35,M67,M145,M154) -> 0 | N34: =N85 -> 0 | O34: =SUM(Ahualulco!F31,Alaquines!F31,Aquismon!F31,ArmadillodelosInfante!F31,AxtladeTerrazas!F31,Catorce!F31,Cedral!F31,Cerritos!F31,CerrodeSanPedro!F31,Charcas!F31,CiudadFernandez!F31,CiudadValles!F31,CiudaddelMaiz!F31,Coxcatlan!F31,Cardenas!F31,Ebano!F31,ElNaranjo!F31,Guadalcazar!F31,Huehuetlan!F31,Lagunillas!F31,Matehuala!F31,Matlapa!F31,MexquiticdeCarmona!F31,Moctezuma!F31,Rayon!F31,Rioverde!F31,Salinas!F31,SanAntonio!F31,SanCirodeAcosta!F31,SanLuisPotosi!F31,SanMartinChalchicuautla!F31,SanNicolasTolentino!F31,SanVicenteTancuayalab!F31,SantaCatarina!F31,SantaMariadelRio!F31,SantoDomingo!F31,SoledaddeGracianoSanchez!F31,Tamasopo!F31,Tamazunchale!F31,Tampacan!F31,TampamolonCorona!F31,Tamuin!F31,Tancanhuitz!F31,Tanlajas!F31,TanquiandeEscobedo!F31,TierraNueva!F31,Vanegas!F31,Venado!F31,VillaHidalgo!F31,VillaJuarez!F31,VilladeArista!F31,VilladeArriaga!F31,VilladeGuadalupe!F31,VilladeRamos!F31,VilladeReyes!F31,VilladelaPaz!F31,Xilitla!F31,Zaragoza!F31) -> 3914 | P34: =SUM(P35,P67,P77,P85,P149,P154,P158) -> 3914 | Q34: =SUM(Q35,Q67,Q85,Q154) -> 577 | R34: =SUM(R35,R67,R145,R154) -> 13 | S34: =SUM(S35,S67,S145,S154) -> 164 | T34: =SUM(T35,T67,T145,T154) -> 43 | U34: =SUM(U35,U67,U145,U154) -> 15 | V34: =SUM(V35,V67,V145,V154) -> 232 | W34: =SUM(W35,W67,W145,W154) -> 92 | X34: =SUM(X35,X67,X145,X154) -> 18 | Y34: =Y85 -> 284 | Z34: =SUM(E34,P34) -> 3914 | AA34: =SUM(F34,Q34) -> 577 | AB34: =SUM(G34,R34) -> 13 | AC34: =SUM(H34,S34) -> 164 | AD34: =SUM(I34,T34) -> 43 | AE34: =SUM(J34,U34) -> 15 | AF34: =SUM(K34,V34) -> 232 | AG34: =SUM(L34,W34) -> 92 | ... AI34: =SUM(N34,Y34) -> 284
A35: La vida y la Integridad | B35: 1 | C35: Total de delitos contra la vida y la integridad corporal | D35: =SUM(Ahualulco!D32,Alaquines!D32,Aquismon!D32,ArmadillodelosInfante!D32,AxtladeTerrazas!D32,Catorce!D32,Cedral!D32,Cerritos!D32,CerrodeSanPedro!D32,Charcas!D32,CiudadFernandez!D32,CiudadValles!D32,CiudaddelMaiz!D32,Coxcatlan!D32,Cardenas!D32,Ebano!D32,ElNaranjo!D32,Guadalcazar!D32,Huehuetlan!D32,Lagunillas!D32,Matehuala!D32,Matlapa!D32,MexquiticdeCarmona!D32,Moctezuma!D32,Rayon!D32,Rioverde!D32,Salinas!D32,SanAntonio!D32,SanCirodeAcosta!D32,SanLuisPotosi!D32,SanMartinChalchicuautla!D32,SanNicolasTolentino!D32,SanVicenteTancuayalab!D32,SantaCatarina!D32,SantaMariadelRio!D32,SantoDomingo!D32,SoledaddeGracianoSanchez!D32,Tamasopo!D32,Tamazunchale!D32,Tampacan!D32,TampamolonCorona!D32,Tamuin!D32,Tancanhuitz!D32,Tanlajas!D32,TanquiandeEscobedo!D32,TierraNueva!D32,Vanegas!D32,Venado!D32,VillaHidalgo!D32,VillaJuarez!D32,VilladeArista!D32,VilladeArriaga!D32,VilladeGuadalupe!D32,VilladeRamos!D32,VilladeReyes!D32,VilladelaPaz!D32,Xilitla!D32,Zaragoza!D32) -> 0 | E35: =SUM(E36,E48,E60,E65,E66) -> 0 | F35: =SUM(G35:M35) -> 0 | G35: =SUM(G36,G48,G60,G66) -> 0 | H35: =SUM(H36,H48,H60,H66) -> 0 | I35: =SUM(I36,I48,I60,I66) -> 0 | J35: =SUM(J36,J48,J66) -> 0 | K35: =SUM(K36,K48,K66) -> 0 | L35: =SUM(L36,L48,L66) -> 0 | M35: =SUM(M36,M48,M65,M66) -> 0 | O35: =SUM(Ahualulco!F32,Alaquines!F32,Aquismon!F32,ArmadillodelosInfante!F32,AxtladeTerrazas!F32,Catorce!F32,Cedral!F32,Cerritos!F32,CerrodeSanPedro!F32,Charcas!F32,CiudadFernandez!F32,CiudadValles!F32,CiudaddelMaiz!F32,Coxcatlan!F32,Cardenas!F32,Ebano!F32,ElNaranjo!F32,Guadalcazar!F32,Huehuetlan!F32,Lagunillas!F32,Matehuala!F32,Matlapa!F32,MexquiticdeCarmona!F32,Moctezuma!F32,Rayon!F32,Rioverde!F32,Salinas!F32,SanAntonio!F32,SanCirodeAcosta!F32,SanLuisPotosi!F32,SanMartinChalchicuautla!F32,SanNicolasTolentino!F32,SanVicenteTancuayalab!F32,SantaCatarina!F32,SantaMariadelRio!F32,SantoDomingo!F32,SoledaddeGracianoSanchez!F32,Tamasopo!F32,Tamazunchale!F32,Tampacan!F32,TampamolonCorona!F32,Tamuin!F32,Tancanhuitz!F32,Tanlajas!F32,TanquiandeEscobedo!F32,TierraNueva!F32,Vanegas!F32,Venado!F32,VillaHidalgo!F32,VillaJuarez!F32,VilladeArista!F32,VilladeArriaga!F32,VilladeGuadalupe!F32,VilladeRamos!F32,VilladeReyes!F32,VilladelaPaz!F32,Xilitla!F32,Zaragoza!F32) -> 473 | P35: =SUM(P36,P48,P60,P65,P66) -> 473 | Q35: =SUM(R35:X35) -> 493 | R35: =SUM(R36,R48,R60,R66) -> 7 | S35: =SUM(S36,S48,S60,S66) -> 132 | T35: =SUM(T36,T48,T60,T66) -> 32 | U35: =SUM(U36,U48,U66) -> 12 | V35: =SUM(V36,V48,V66) -> 213 | W35: =SUM(W36,W48,W66) -> 85 | X35: =SUM(X36,X48,X65,X66) -> 12 | Z35: =SUM(E35,P35) -> 473 | AA35: =SUM(F35,Q35) -> 493 | AB35: =SUM(G35,R35) -> 7 | AC35: =SUM(H35,S35) -> 132 | AD35: =SUM(I35,T35) -> 32 | AE35: =SUM(J35,U35) -> 12 | AF35: =SUM(K35,V35) -> 213 | AG35: =SUM(L35,W35) -> 85 | AH35: =SUM(M35,X35) -> 12
B36: 1.1 | C36: Homicidio | D36: =SUM(Ahualulco!D33,Alaquines!D33,Aquismon!D33,ArmadillodelosInfante!D33,AxtladeTerrazas!D33,Catorce!D33,Cedral!D33,Cerritos!D33,CerrodeSanPedro!D33,Charcas!D33,CiudadFernandez!D33,CiudadValles!D33,CiudaddelMaiz!D33,Coxcatlan!D33,Cardenas!D33,Ebano!D33,ElNaranjo!D33,Guadalcazar!D33,Huehuetlan!D33,Lagunillas!D33,Matehuala!D33,Matlapa!D33,MexquiticdeCarmona!D33,Moctezuma!D33,Rayon!D33,Rioverde!D33,Salinas!D33,SanAntonio!D33,SanCirodeAcosta!D33,SanLuisPotosi!D33,SanMartinChalchicuautla!D33,SanNicolasTolentino!D33,SanVicenteTancuayalab!D33,SantaCatarina!D33,SantaMariadelRio!D33,SantoDomingo!D33,SoledaddeGracianoSanchez!D33,Tamasopo!D33,Tamazunchale!D33,Tampacan!D33,TampamolonCorona!D33,Tamuin!D33,Tancanhuitz!D33,Tanlajas!D33,TanquiandeEscobedo!D33,TierraNueva!D33,Vanegas!D33,Venado!D33,VillaHidalgo!D33,VillaJuarez!D33,VilladeArista!D33,VilladeArriaga!D33,VilladeGuadalupe!D33,VilladeRamos!D33,VilladeReyes!D33,VilladelaPaz!D33,Xilitla!D33,Zaragoza!D33) -> 0 | E36: =SUM(E37,E42) -> 0 | F36: =SUM(G36:M36) -> 0 | G36: =SUM(G37,G42) -> 0 | H36: =SUM(H37,H42) -> 0 | I36: =SUM(I37,I42) -> 0 | J36: =SUM(J37,J42) -> 0 | K36: =SUM(K37,K42) -> 0 | L36: =SUM(L37,L42) -> 0 | M36: =SUM(M37,M42) -> 0 | O36: =SUM(Ahualulco!F33,Alaquines!F33,Aquismon!F33,ArmadillodelosInfante!F33,AxtladeTerrazas!F33,Catorce!F33,Cedral!F33,Cerritos!F33,CerrodeSanPedro!F33,Charcas!F33,CiudadFernandez!F33,CiudadValles!F33,CiudaddelMaiz!F33,Coxcatlan!F33,Cardenas!F33,Ebano!F33,ElNaranjo!F33,Guadalcazar!F33,Huehuetlan!F33,Lagunillas!F33,Matehuala!F33,Matlapa!F33,MexquiticdeCarmona!F33,Moctezuma!F33,Rayon!F33,Rioverde!F33,Salinas!F33,SanAntonio!F33,SanCirodeAcosta!F33,SanLuisPotosi!F33,SanMartinChalchicuautla!F33,SanNicolasTolentino!F33,SanVicenteTancuayalab!F33,SantaCatarina!F33,SantaMariadelRio!F33,SantoDomingo!F33,SoledaddeGracianoSanchez!F33,Tamasopo!F33,Tamazunchale!F33,Tampacan!F33,TampamolonCorona!F33,Tamuin!F33,Tancanhuitz!F33,Tanlajas!F33,TanquiandeEscobedo!F33,TierraNueva!F33,Vanegas!F33,Venado!F33,VillaHidalgo!F33,VillaJuarez!F33,VilladeArista!F33,VilladeArriaga!F33,VilladeGuadalupe!F33,VilladeRamos!F33,VilladeReyes!F33,VilladelaPaz!F33,Xilitla!F33,Zaragoza!F33) -> 75 | P36: =SUM(P37,P42) -> 75 | Q36: =SUM(R36:X36) -> 84 | R36: =SUM(R37,R42) -> 1 | S36: =SUM(S37,S42) -> 4 | T36: =SUM(T37,T42) -> 4 | U36: =SUM(U37,U42) -> 1 | V36: =SUM(V37,V42) -> 52 | W36: =SUM(W37,W42) -> 18 | X36: =SUM(X37,X42) -> 4 | Z36: =SUM(E36,P36) -> 75 | AA36: =SUM(F36,Q36) -> 84 | AB36: =SUM(G36,R36) -> 1 | AC36: =SUM(H36,S36) -> 4 | AD36: =SUM(I36,T36) -> 4 | AE36: =SUM(J36,U36) -> 1 | AF36: =SUM(K36,V36) -> 52 | AG36: =SUM(L36,W36) -> 18 | AH36: =SUM(M36,X36) -> 4
B37: 1.1.1 | C37: Homicidio doloso | D37: =SUM(Ahualulco!D34,Alaquines!D34,Aquismon!D34,ArmadillodelosInfante!D34,AxtladeTerrazas!D34,Catorce!D34,Cedral!D34,Cerritos!D34,CerrodeSanPedro!D34,Charcas!D34,CiudadFernandez!D34,CiudadValles!D34,CiudaddelMaiz!D34,Coxcatlan!D34,Cardenas!D34,Ebano!D34,ElNaranjo!D34,Guadalcazar!D34,Huehuetlan!D34,Lagunillas!D34,Matehuala!D34,Matlapa!D34,MexquiticdeCarmona!D34,Moctezuma!D34,Rayon!D34,Rioverde!D34,Salinas!D34,SanAntonio!D34,SanCirodeAcosta!D34,SanLuisPotosi!D34,SanMartinChalchicuautla!D34,SanNicolasTolentino!D34,SanVicenteTancuayalab!D34,SantaCatarina!D34,SantaMariadelRio!D34,SantoDomingo!D34,SoledaddeGracianoSanchez!D34,Tamasopo!D34,Tamazunchale!D34,Tampacan!D34,TampamolonCorona!D34,Tamuin!D34,Tancanhuitz!D34,Tanlajas!D34,TanquiandeEscobedo!D34,TierraNueva!D34,Vanegas!D34,Venado!D34,VillaHidalgo!D34,VillaJuarez!D34,VilladeArista!D34,VilladeArriaga!D34,VilladeGuadalupe!D34,VilladeRamos!D34,VilladeReyes!D34,VilladelaPaz!D34,Xilitla!D34,Zaragoza!D34) -> 0 | E37: =SUM(E38:E41) -> 0 | F37: =SUM(G37:M37) -> 0 | G37: =SUM(G38:G41) -> 0 | H37: =SUM(H38:H41) -> 0 | I37: =SUM(I38:I41) -> 0 | J37: =SUM(J38:J41) -> 0 | K37: =SUM(K38:K41) -> 0 | L37: =SUM(L38:L41) -> 0 | M37: =SUM(M38:M41) -> 0 | O37: =SUM(Ahualulco!F34,Alaquines!F34,Aquismon!F34,ArmadillodelosInfante!F34,AxtladeTerrazas!F34,Catorce!F34,Cedral!F34,Cerritos!F34,CerrodeSanPedro!F34,Charcas!F34,CiudadFernandez!F34,CiudadValles!F34,CiudaddelMaiz!F34,Coxcatlan!F34,Cardenas!F34,Ebano!F34,ElNaranjo!F34,Guadalcazar!F34,Huehuetlan!F34,Lagunillas!F34,Matehuala!F34,Matlapa!F34,MexquiticdeCarmona!F34,Moctezuma!F34,Rayon!F34,Rioverde!F34,Salinas!F34,SanAntonio!F34,SanCirodeAcosta!F34,SanLuisPotosi!F34,SanMartinChalchicuautla!F34,SanNicolasTolentino!F34,SanVicenteTancuayalab!F34,SantaCatarina!F34,SantaMariadelRio!F34,SantoDomingo!F34,SoledaddeGracianoSanchez!F34,Tamasopo!F34,Tamazunchale!F34,Tampacan!F34,TampamolonCorona!F34,Tamuin!F34,Tancanhuitz!F34,Tanlajas!F34,TanquiandeEscobedo!F34,TierraNueva!F34,Vanegas!F34,Venado!F34,VillaHidalgo!F34,VillaJuarez!F34,VilladeArista!F34,VilladeArriaga!F34,VilladeGuadalupe!F34,VilladeRamos!F34,VilladeReyes!F34,VilladelaPaz!F34,Xilitla!F34,Zaragoza!F34) -> 52 | P37: =SUM(P38:P41) -> 52 | Q37: =SUM(R37:X37) -> 61 | R37: =SUM(R38:R41) -> 0 | S37: =SUM(S38:S41) -> 3 | T37: =SUM(T38:T41) -> 0 | U37: =SUM(U38:U41) -> 0 | V37: =SUM(V38:V41) -> 51 | W37: =SUM(W38:W41) -> 7 | X37: =SUM(X38:X41) -> 0 | Z37: =SUM(E37,P37) -> 52 | AA37: =SUM(F37,Q37) -> 61 | AB37: =SUM(G37,R37) -> 0 | AC37: =SUM(H37,S37) -> 3 | AD37: =SUM(I37,T37) -> 0 | AE37: =SUM(J37,U37) -> 0 | AF37: =SUM(K37,V37) -> 51 | AG37: =SUM(L37,W37) -> 7 | AH37: =SUM(M37,X37) -> 0
B38: 1.1.1.1 | C38: Con arma de fuego | D38: =SUM(Ahualulco!D35,Alaquines!D35,Aquismon!D35,ArmadillodelosInfante!D35,AxtladeTerrazas!D35,Catorce!D35,Cedral!D35,Cerritos!D35,CerrodeSanPedro!D35,Charcas!D35,CiudadFernandez!D35,CiudadValles!D35,CiudaddelMaiz!D35,Coxcatlan!D35,Cardenas!D35,Ebano!D35,ElNaranjo!D35,Guadalcazar!D35,Huehuetlan!D35,Lagunillas!D35,Matehuala!D35,Matlapa!D35,MexquiticdeCarmona!D35,Moctezuma!D35,Rayon!D35,Rioverde!D35,Salinas!D35,SanAntonio!D35,SanCirodeAcosta!D35,SanLuisPotosi!D35,SanMartinChalchicuautla!D35,SanNicolasTolentino!D35,SanVicenteTancuayalab!D35,SantaCatarina!D35,SantaMariadelRio!D35,SantoDomingo!D35,SoledaddeGracianoSanchez!D35,Tamasopo!D35,Tamazunchale!D35,Tampacan!D35,TampamolonCorona!D35,Tamuin!D35,Tancanhuitz!D35,Tanlajas!D35,TanquiandeEscobedo!D35,TierraNueva!D35,Vanegas!D35,Venado!D35,VillaHidalgo!D35,VillaJuarez!D35,VilladeArista!D35,VilladeArriaga!D35,VilladeGuadalupe!D35,VilladeRamos!D35,VilladeReyes!D35,VilladelaPaz!D35,Xilitla!D35,Zaragoza!D35) -> 0 | E38: 0 | F38: =SUM(G38:M38) -> 0 | G38: 0 | H38: 0 | I38: 0 | J38: 0 | K38: 0 | L38: 0 | M38: 0 | O38: =SUM(Ahualulco!F35,Alaquines!F35,Aquismon!F35,ArmadillodelosInfante!F35,AxtladeTerrazas!F35,Catorce!F35,Cedral!F35,Cerritos!F35,CerrodeSanPedro!F35,Charcas!F35,CiudadFernandez!F35,CiudadValles!F35,CiudaddelMaiz!F35,Coxcatlan!F35,Cardenas!F35,Ebano!F35,ElNaranjo!F35,Guadalcazar!F35,Huehuetlan!F35,Lagunillas!F35,Matehuala!F35,Matlapa!F35,MexquiticdeCarmona!F35,Moctezuma!F35,Rayon!F35,Rioverde!F35,Salinas!F35,SanAntonio!F35,SanCirodeAcosta!F35,SanLuisPotosi!F35,SanMartinChalchicuautla!F35,SanNicolasTolentino!F35,SanVicenteTancuayalab!F35,SantaCatarina!F35,SantaMariadelRio!F35,SantoDomingo!F35,SoledaddeGracianoSanchez!F35,Tamasopo!F35,Tamazunchale!F35,Tampacan!F35,TampamolonCorona!F35,Tamuin!F35,Tancanhuitz!F35,Tanlajas!F35,TanquiandeEscobedo!F35,TierraNueva!F35,Vanegas!F35,Venado!F35,VillaHidalgo!F35,VillaJuarez!F35,VilladeArista!F35,VilladeArriaga!F35,VilladeGuadalupe!F35,VilladeRamos!F35,VilladeReyes!F35,VilladelaPaz!F35,Xilitla!F35,Zaragoza!F35) -> 42 | P38: 42 | Q38: =SUM(R38:X38) -> 50 | R38: 0 | S38: 2 | T38: 0 | U38: 0 | V38: 43 | W38: 5 | X38: 0 | Z38: =SUM(E38,P38) -> 42 | AA38: =SUM(F38,Q38) -> 50 | AB38: =SUM(G38,R38) -> 0 | AC38: =SUM(H38,S38) -> 2 | AD38: =SUM(I38,T38) -> 0 | AE38: =SUM(J38,U38) -> 0 | AF38: =SUM(K38,V38) -> 43 | AG38: =SUM(L38,W38) -> 5 | AH38: =SUM(M38,X38) -> 0
B39: 1.1.1.2 | C39: Con arma blanca | D39: =SUM(Ahualulco!D36,Alaquines!D36,Aquismon!D36,ArmadillodelosInfante!D36,AxtladeTerrazas!D36,Catorce!D36,Cedral!D36,Cerritos!D36,CerrodeSanPedro!D36,Charcas!D36,CiudadFernandez!D36,CiudadValles!D36,CiudaddelMaiz!D36,Coxcatlan!D36,Cardenas!D36,Ebano!D36,ElNaranjo!D36,Guadalcazar!D36,Huehuetlan!D36,Lagunillas!D36,Matehuala!D36,Matlapa!D36,MexquiticdeCarmona!D36,Moctezuma!D36,Rayon!D36,Rioverde!D36,Salinas!D36,SanAntonio!D36,SanCirodeAcosta!D36,SanLuisPotosi!D36,SanMartinChalchicuautla!D36,SanNicolasTolentino!D36,SanVicenteTancuayalab!D36,SantaCatarina!D36,SantaMariadelRio!D36,SantoDomingo!D36,SoledaddeGracianoSanchez!D36,Tamasopo!D36,Tamazunchale!D36,Tampacan!D36,TampamolonCorona!D36,Tamuin!D36,Tancanhuitz!D36,Tanlajas!D36,TanquiandeEscobedo!D36,TierraNueva!D36,Vanegas!D36,Venado!D36,VillaHidalgo!D36,VillaJuarez!D36,VilladeArista!D36,VilladeArriaga!D36,VilladeGuadalupe!D36,VilladeRamos!D36,VilladeReyes!D36,VilladelaPaz!D36,Xilitla!D36,Zaragoza!D36) -> 0 | E39: 0 | F39: =SUM(G39:M39) -> 0 | G39: 0 | H39: 0 | I39: 0 | J39: 0 | K39: 0 | L39: 0 | M39: 0 | O39: =SUM(Ahualulco!F36,Alaquines!F36,Aquismon!F36,ArmadillodelosInfante!F36,AxtladeTerrazas!F36,Catorce!F36,Cedral!F36,Cerritos!F36,CerrodeSanPedro!F36,Charcas!F36,CiudadFernandez!F36,CiudadValles!F36,CiudaddelMaiz!F36,Coxcatlan!F36,Cardenas!F36,Ebano!F36,ElNaranjo!F36,Guadalcazar!F36,Huehuetlan!F36,Lagunillas!F36,Matehuala!F36,Matlapa!F36,MexquiticdeCarmona!F36,Moctezuma!F36,Rayon!F36,Rioverde!F36,Salinas!F36,SanAntonio!F36,SanCirodeAcosta!F36,SanLuisPotosi!F36,SanMartinChalchicuautla!F36,SanNicolasTolentino!F36,SanVicenteTancuayalab!F36,SantaCatarina!F36,SantaMariadelRio!F36,SantoDomingo!F36,SoledaddeGracianoSanchez!F36,Tamasopo!F36,Tamazunchale!F36,Tampacan!F36,TampamolonCorona!F36,Tamuin!F36,Tancanhuitz!F36,Tanlajas!F36,TanquiandeEscobedo!F36,TierraNueva!F36,Vanegas!F36,Venado!F36,VillaHidalgo!F36,VillaJuarez!F36,VilladeArista!F36,VilladeArriaga!F36,VilladeGuadalupe!F36,VilladeRamos!F36,VilladeReyes!F36,VilladelaPaz!F36,Xilitla!F36,Zaragoza!F36) -> 5 | P39: 5 | Q39: =SUM(R39:X39) -> 6 | R39: 0 | S39: 1 | T39: 0 | U39: 0 | V39: 5 | W39: 0 | X39: 0 | Z39: =SUM(E39,P39) -> 5 | AA39: =SUM(F39,Q39) -> 6 | AB39: =SUM(G39,R39) -> 0 | AC39: =SUM(H39,S39) -> 1 | AD39: =SUM(I39,T39) -> 0 | AE39: =SUM(J39,U39) -> 0 | AF39: =SUM(K39,V39) -> 5 | AG39: =SUM(L39,W39) -> 0 | AH39: =SUM(M39,X39) -> 0
B40: 1.1.1.3 | C40: Con otro elemento | D40: =SUM(Ahualulco!D37,Alaquines!D37,Aquismon!D37,ArmadillodelosInfante!D37,AxtladeTerrazas!D37,Catorce!D37,Cedral!D37,Cerritos!D37,CerrodeSanPedro!D37,Charcas!D37,CiudadFernandez!D37,CiudadValles!D37,CiudaddelMaiz!D37,Coxcatlan!D37,Cardenas!D37,Ebano!D37,ElNaranjo!D37,Guadalcazar!D37,Huehuetlan!D37,Lagunillas!D37,Matehuala!D37,Matlapa!D37,MexquiticdeCarmona!D37,Moctezuma!D37,Rayon!D37,Rioverde!D37,Salinas!D37,SanAntonio!D37,SanCirodeAcosta!D37,SanLuisPotosi!D37,SanMartinChalchicuautla!D37,SanNicolasTolentino!D37,SanVicenteTancuayalab!D37,SantaCatarina!D37,SantaMariadelRio!D37,SantoDomingo!D37,SoledaddeGracianoSanchez!D37,Tamasopo!D37,Tamazunchale!D37,Tampacan!D37,TampamolonCorona!D37,Tamuin!D37,Tancanhuitz!D37,Tanlajas!D37,TanquiandeEscobedo!D37,TierraNueva!D37,Vanegas!D37,Venado!D37,VillaHidalgo!D37,VillaJuarez!D37,VilladeArista!D37,VilladeArriaga!D37,VilladeGuadalupe!D37,VilladeRamos!D37,VilladeReyes!D37,VilladelaPaz!D37,Xilitla!D37,Zaragoza!D37) -> 0 | E40: 0 | F40: =SUM(G40:M40) -> 0 | G40: 0 | H40: 0 | I40: 0 | J40: 0 | K40: 0 | L40: 0 | M40: 0 | O40: =SUM(Ahualulco!F37,Alaquines!F37,Aquismon!F37,ArmadillodelosInfante!F37,AxtladeTerrazas!F37,Catorce!F37,Cedral!F37,Cerritos!F37,CerrodeSanPedro!F37,Charcas!F37,CiudadFernandez!F37,CiudadValles!F37,CiudaddelMaiz!F37,Coxcatlan!F37,Cardenas!F37,Ebano!F37,ElNaranjo!F37,Guadalcazar!F37,Huehuetlan!F37,Lagunillas!F37,Matehuala!F37,Matlapa!F37,MexquiticdeCarmona!F37,Moctezuma!F37,Rayon!F37,Rioverde!F37,Salinas!F37,SanAntonio!F37,SanCirodeAcosta!F37,SanLuisPotosi!F37,SanMartinChalchicuautla!F37,SanNicolasTolentino!F37,SanVicenteTancuayalab!F37,SantaCatarina!F37,SantaMariadelRio!F37,SantoDomingo!F37,SoledaddeGracianoSanchez!F37,Tamasopo!F37,Tamazunchale!F37,Tampacan!F37,TampamolonCorona!F37,Tamuin!F37,Tancanhuitz!F37,Tanlajas!F37,TanquiandeEscobedo!F37,TierraNueva!F37,Vanegas!F37,Venado!F37,VillaHidalgo!F37,VillaJuarez!F37,VilladeArista!F37,VilladeArriaga!F37,VilladeGuadalupe!F37,VilladeRamos!F37,VilladeReyes!F37,VilladelaPaz!F37,Xilitla!F37,Zaragoza!F37) -> 5 | P40: 5 | Q40: =SUM(R40:X40) -> 5 | R40: 0 | S40: 0 | T40: 0 | U40: 0 | V40: 3 | W40: 2 | X40: 0 | Z40: =SUM(E40,P40) -> 5 | AA40: =SUM(F40,Q40) -> 5 | AB40: =SUM(G40,R40) -> 0 | AC40: =SUM(H40,S40) -> 0 | AD40: =SUM(I40,T40) -> 0 | AE40: =SUM(J40,U40) -> 0 | AF40: =SUM(K40,V40) -> 3 | AG40: =SUM(L40,W40) -> 2 | AH40: =SUM(M40,X40) -> 0
B41: 1.1.1.4 | C41: No especificado | D41: =SUM(Ahualulco!D38,Alaquines!D38,Aquismon!D38,ArmadillodelosInfante!D38,AxtladeTerrazas!D38,Catorce!D38,Cedral!D38,Cerritos!D38,CerrodeSanPedro!D38,Charcas!D38,CiudadFernandez!D38,CiudadValles!D38,CiudaddelMaiz!D38,Coxcatlan!D38,Cardenas!D38,Ebano!D38,ElNaranjo!D38,Guadalcazar!D38,Huehuetlan!D38,Lagunillas!D38,Matehuala!D38,Matlapa!D38,MexquiticdeCarmona!D38,Moctezuma!D38,Rayon!D38,Rioverde!D38,Salinas!D38,SanAntonio!D38,SanCirodeAcosta!D38,SanLuisPotosi!D38,SanMartinChalchicuautla!D38,SanNicolasTolentino!D38,SanVicenteTancuayalab!D38,SantaCatarina!D38,SantaMariadelRio!D38,SantoDomingo!D38,SoledaddeGracianoSanchez!D38,Tamasopo!D38,Tamazunchale!D38,Tampacan!D38,TampamolonCorona!D38,Tamuin!D38,Tancanhuitz!D38,Tanlajas!D38,TanquiandeEscobedo!D38,TierraNueva!D38,Vanegas!D38,Venado!D38,VillaHidalgo!D38,VillaJuarez!D38,VilladeArista!D38,VilladeArriaga!D38,VilladeGuadalupe!D38,VilladeRamos!D38,VilladeReyes!D38,VilladelaPaz!D38,Xilitla!D38,Zaragoza!D38) -> 0 | E41: 0 | F41: =SUM(G41:M41) -> 0 | G41: 0 | H41: 0 | I41: 0 | J41: 0 | K41: 0 | L41: 0 | M41: 0 | O41: =SUM(Ahualulco!F38,Alaquines!F38,Aquismon!F38,ArmadillodelosInfante!F38,AxtladeTerrazas!F38,Catorce!F38,Cedral!F38,Cerritos!F38,CerrodeSanPedro!F38,Charcas!F38,CiudadFernandez!F38,CiudadValles!F38,CiudaddelMaiz!F38,Coxcatlan!F38,Cardenas!F38,Ebano!F38,ElNaranjo!F38,Guadalcazar!F38,Huehuetlan!F38,Lagunillas!F38,Matehuala!F38,Matlapa!F38,MexquiticdeCarmona!F38,Moctezuma!F38,Rayon!F38,Rioverde!F38,Salinas!F38,SanAntonio!F38,SanCirodeAcosta!F38,SanLuisPotosi!F38,SanMartinChalchicuautla!F38,SanNicolasTolentino!F38,SanVicenteTancuayalab!F38,SantaCatarina!F38,SantaMariadelRio!F38,SantoDomingo!F38,SoledaddeGracianoSanchez!F38,Tamasopo!F38,Tamazunchale!F38,Tampacan!F38,TampamolonCorona!F38,Tamuin!F38,Tancanhuitz!F38,Tanlajas!F38,TanquiandeEscobedo!F38,TierraNueva!F38,Vanegas!F38,Venado!F38,VillaHidalgo!F38,VillaJuarez!F38,VilladeArista!F38,VilladeArriaga!F38,VilladeGuadalupe!F38,VilladeRamos!F38,VilladeReyes!F38,VilladelaPaz!F38,Xilitla!F38,Zaragoza!F38) -> 0 | P41: 0 | Q41: =SUM(R41:X41) -> 0 | R41: 0 | S41: 0 | T41: 0 | U41: 0 | V41: 0 | W41: 0 | X41: 0 | Z41: =SUM(E41,P41) -> 0 | AA41: =SUM(F41,Q41) -> 0 | AB41: =SUM(G41,R41) -> 0 | AC41: =SUM(H41,S41) -> 0 | AD41: =SUM(I41,T41) -> 0 | AE41: =SUM(J41,U41) -> 0 | AF41: =SUM(K41,V41) -> 0 | AG41: =SUM(L41,W41) -> 0 | AH41: =SUM(M41,X41) -> 0
B42: 1.1.2 | C42: Homicidio culposo | D42: =SUM(Ahualulco!D39,Alaquines!D39,Aquismon!D39,ArmadillodelosInfante!D39,AxtladeTerrazas!D39,Catorce!D39,Cedral!D39,Cerritos!D39,CerrodeSanPedro!D39,Charcas!D39,CiudadFernandez!D39,CiudadValles!D39,CiudaddelMaiz!D39,Coxcatlan!D39,Cardenas!D39,Ebano!D39,ElNaranjo!D39,Guadalcazar!D39,Huehuetlan!D39,Lagunillas!D39,Matehuala!D39,Matlapa!D39,MexquiticdeCarmona!D39,Moctezuma!D39,Rayon!D39,Rioverde!D39,Salinas!D39,SanAntonio!D39,SanCirodeAcosta!D39,SanLuisPotosi!D39,SanMartinChalchicuautla!D39,SanNicolasTolentino!D39,SanVicenteTancuayalab!D39,SantaCatarina!D39,SantaMariadelRio!D39,SantoDomingo!D39,SoledaddeGracianoSanchez!D39,Tamasopo!D39,Tamazunchale!D39,Tampacan!D39,TampamolonCorona!D39,Tamuin!D39,Tancanhuitz!D39,Tanlajas!D39,TanquiandeEscobedo!D39,TierraNueva!D39,Vanegas!D39,Venado!D39,VillaHidalgo!D39,VillaJuarez!D39,VilladeArista!D39,VilladeArriaga!D39,VilladeGuadalupe!D39,VilladeRamos!D39,VilladeReyes!D39,VilladelaPaz!D39,Xilitla!D39,Zaragoza!D39) -> 0 | E42: =SUM(E43:E47) -> 0 | F42: =SUM(G42:M42) -> 0 | G42: =SUM(G43:G47) -> 0 | H42: =SUM(H43:H47) -> 0 | I42: =SUM(I43:I47) -> 0 | J42: =SUM(J43:J47) -> 0 | K42: =SUM(K43:K47) -> 0 | L42: =SUM(L43:L47) -> 0 | M42: =SUM(M43:M47) -> 0 | O42: =SUM(Ahualulco!F39,Alaquines!F39,Aquismon!F39,ArmadillodelosInfante!F39,AxtladeTerrazas!F39,Catorce!F39,Cedral!F39,Cerritos!F39,CerrodeSanPedro!F39,Charcas!F39,CiudadFernandez!F39,CiudadValles!F39,CiudaddelMaiz!F39,Coxcatlan!F39,Cardenas!F39,Ebano!F39,ElNaranjo!F39,Guadalcazar!F39,Huehuetlan!F39,Lagunillas!F39,Matehuala!F39,Matlapa!F39,MexquiticdeCarmona!F39,Moctezuma!F39,Rayon!F39,Rioverde!F39,Salinas!F39,SanAntonio!F39,SanCirodeAcosta!F39,SanLuisPotosi!F39,SanMartinChalchicuautla!F39,SanNicolasTolentino!F39,SanVicenteTancuayalab!F39,SantaCatarina!F39,SantaMariadelRio!F39,SantoDomingo!F39,SoledaddeGracianoSanchez!F39,Tamasopo!F39,Tamazunchale!F39,Tampacan!F39,TampamolonCorona!F39,Tamuin!F39,Tancanhuitz!F39,Tanlajas!F39,TanquiandeEscobedo!F39,TierraNueva!F39,Vanegas!F39,Venado!F39,VillaHidalgo!F39,VillaJuarez!F39,VilladeArista!F39,VilladeArriaga!F39,VilladeGuadalupe!F39,VilladeRamos!F39,VilladeReyes!F39,VilladelaPaz!F39,Xilitla!F39,Zaragoza!F39) -> 23 | P42: =SUM(P43:P47) -> 23 | Q42: =SUM(R42:X42) -> 23 | R42: =SUM(R43:R47) -> 1 | S42: =SUM(S43:S47) -> 1 | T42: =SUM(T43:T47) -> 4 | U42: =SUM(U43:U47) -> 1 | V42: =SUM(V43:V47) -> 1 | W42: =SUM(W43:W47) -> 11 | X42: =SUM(X43:X47) -> 4 | Z42: =SUM(E42,P42) -> 23 | AA42: =SUM(F42,Q42) -> 23 | AB42: =SUM(G42,R42) -> 1 | AC42: =SUM(H42,S42) -> 1 | AD42: =SUM(I42,T42) -> 4 | AE42: =SUM(J42,U42) -> 1 | AF42: =SUM(K42,V42) -> 1 | AG42: =SUM(L42,W42) -> 11 | AH42: =SUM(M42,X42) -> 4
B43: 1.1.2.1 | C43: Con arma de fuego | D43: =SUM(Ahualulco!D40,Alaquines!D40,Aquismon!D40,ArmadillodelosInfante!D40,AxtladeTerrazas!D40,Catorce!D40,Cedral!D40,Cerritos!D40,CerrodeSanPedro!D40,Charcas!D40,CiudadFernandez!D40,CiudadValles!D40,CiudaddelMaiz!D40,Coxcatlan!D40,Cardenas!D40,Ebano!D40,ElNaranjo!D40,Guadalcazar!D40,Huehuetlan!D40,Lagunillas!D40,Matehuala!D40,Matlapa!D40,MexquiticdeCarmona!D40,Moctezuma!D40,Rayon!D40,Rioverde!D40,Salinas!D40,SanAntonio!D40,SanCirodeAcosta!D40,SanLuisPotosi!D40,SanMartinChalchicuautla!D40,SanNicolasTolentino!D40,SanVicenteTancuayalab!D40,SantaCatarina!D40,SantaMariadelRio!D40,SantoDomingo!D40,SoledaddeGracianoSanchez!D40,Tamasopo!D40,Tamazunchale!D40,Tampacan!D40,TampamolonCorona!D40,Tamuin!D40,Tancanhuitz!D40,Tanlajas!D40,TanquiandeEscobedo!D40,TierraNueva!D40,Vanegas!D40,Venado!D40,VillaHidalgo!D40,VillaJuarez!D40,VilladeArista!D40,VilladeArriaga!D40,VilladeGuadalupe!D40,VilladeRamos!D40,VilladeReyes!D40,VilladelaPaz!D40,Xilitla!D40,Zaragoza!D40) -> 0 | E43: 0 | F43: =SUM(G43:M43) -> 0 | G43: 0 | H43: 0 | I43: 0 | J43: 0 | K43: 0 | L43: 0 | M43: 0 | O43: =SUM(Ahualulco!F40,Alaquines!F40,Aquismon!F40,ArmadillodelosInfante!F40,AxtladeTerrazas!F40,Catorce!F40,Cedral!F40,Cerritos!F40,CerrodeSanPedro!F40,Charcas!F40,CiudadFernandez!F40,CiudadValles!F40,CiudaddelMaiz!F40,Coxcatlan!F40,Cardenas!F40,Ebano!F40,ElNaranjo!F40,Guadalcazar!F40,Huehuetlan!F40,Lagunillas!F40,Matehuala!F40,Matlapa!F40,MexquiticdeCarmona!F40,Moctezuma!F40,Rayon!F40,Rioverde!F40,Salinas!F40,SanAntonio!F40,SanCirodeAcosta!F40,SanLuisPotosi!F40,SanMartinChalchicuautla!F40,SanNicolasTolentino!F40,SanVicenteTancuayalab!F40,SantaCatarina!F40,SantaMariadelRio!F40,SantoDomingo!F40,SoledaddeGracianoSanchez!F40,Tamasopo!F40,Tamazunchale!F40,Tampacan!F40,TampamolonCorona!F40,Tamuin!F40,Tancanhuitz!F40,Tanlajas!F40,TanquiandeEscobedo!F40,TierraNueva!F40,Vanegas!F40,Venado!F40,VillaHidalgo!F40,VillaJuarez!F40,VilladeArista!F40,VilladeArriaga!F40,VilladeGuadalupe!F40,VilladeRamos!F40,VilladeReyes!F40,VilladelaPaz!F40,Xilitla!F40,Zaragoza!F40) -> 0 | P43: 0 | Q43: =SUM(R43:X43) -> 0 | R43: 0 | S43: 0 | T43: 0 | U43: 0 | V43: 0 | W43: 0 | X43: 0 | Z43: =SUM(E43,P43) -> 0 | AA43: =SUM(F43,Q43) -> 0 | AB43: =SUM(G43,R43) -> 0 | AC43: =SUM(H43,S43) -> 0 | AD43: =SUM(I43,T43) -> 0 | AE43: =SUM(J43,U43) -> 0 | AF43: =SUM(K43,V43) -> 0 | AG43: =SUM(L43,W43) -> 0 | AH43: =SUM(M43,X43) -> 0
B44: 1.1.2.2 | C44: Con arma blanca | D44: =SUM(Ahualulco!D41,Alaquines!D41,Aquismon!D41,ArmadillodelosInfante!D41,AxtladeTerrazas!D41,Catorce!D41,Cedral!D41,Cerritos!D41,CerrodeSanPedro!D41,Charcas!D41,CiudadFernandez!D41,CiudadValles!D41,CiudaddelMaiz!D41,Coxcatlan!D41,Cardenas!D41,Ebano!D41,ElNaranjo!D41,Guadalcazar!D41,Huehuetlan!D41,Lagunillas!D41,Matehuala!D41,Matlapa!D41,MexquiticdeCarmona!D41,Moctezuma!D41,Rayon!D41,Rioverde!D41,Salinas!D41,SanAntonio!D41,SanCirodeAcosta!D41,SanLuisPotosi!D41,SanMartinChalchicuautla!D41,SanNicolasTolentino!D41,SanVicenteTancuayalab!D41,SantaCatarina!D41,SantaMariadelRio!D41,SantoDomingo!D41,SoledaddeGracianoSanchez!D41,Tamasopo!D41,Tamazunchale!D41,Tampacan!D41,TampamolonCorona!D41,Tamuin!D41,Tancanhuitz!D41,Tanlajas!D41,TanquiandeEscobedo!D41,TierraNueva!D41,Vanegas!D41,Venado!D41,VillaHidalgo!D41,VillaJuarez!D41,VilladeArista!D41,VilladeArriaga!D41,VilladeGuadalupe!D41,VilladeRamos!D41,VilladeReyes!D41,VilladelaPaz!D41,Xilitla!D41,Zaragoza!D41) -> 0 | E44: 0 | F44: =SUM(G44:M44) -> 0 | G44: 0 | H44: 0 | I44: 0 | J44: 0 | K44: 0 | L44: 0 | M44: 0 | O44: =SUM(Ahualulco!F41,Alaquines!F41,Aquismon!F41,ArmadillodelosInfante!F41,AxtladeTerrazas!F41,Catorce!F41,Cedral!F41,Cerritos!F41,CerrodeSanPedro!F41,Charcas!F41,CiudadFernandez!F41,CiudadValles!F41,CiudaddelMaiz!F41,Coxcatlan!F41,Cardenas!F41,Ebano!F41,ElNaranjo!F41,Guadalcazar!F41,Huehuetlan!F41,Lagunillas!F41,Matehuala!F41,Matlapa!F41,MexquiticdeCarmona!F41,Moctezuma!F41,Rayon!F41,Rioverde!F41,Salinas!F41,SanAntonio!F41,SanCirodeAcosta!F41,SanLuisPotosi!F41,SanMartinChalchicuautla!F41,SanNicolasTolentino!F41,SanVicenteTancuayalab!F41,SantaCatarina!F41,SantaMariadelRio!F41,SantoDomingo!F41,SoledaddeGracianoSanchez!F41,Tamasopo!F41,Tamazunchale!F41,Tampacan!F41,TampamolonCorona!F41,Tamuin!F41,Tancanhuitz!F41,Tanlajas!F41,TanquiandeEscobedo!F41,TierraNueva!F41,Vanegas!F41,Venado!F41,VillaHidalgo!F41,VillaJuarez!F41,VilladeArista!F41,VilladeArriaga!F41,VilladeGuadalupe!F41,VilladeRamos!F41,VilladeReyes!F41,VilladelaPaz!F41,Xilitla!F41,Zaragoza!F41) -> 0 | P44: 0 | Q44: =SUM(R44:X44) -> 0 | R44: 0 | S44: 0 | T44: 0 | U44: 0 | V44: 0 | W44: 0 | X44: 0 | Z44: =SUM(E44,P44) -> 0 | AA44: =SUM(F44,Q44) -> 0 | AB44: =SUM(G44,R44) -> 0 | AC44: =SUM(H44,S44) -> 0 | AD44: =SUM(I44,T44) -> 0 | AE44: =SUM(J44,U44) -> 0 | AF44: =SUM(K44,V44) -> 0 | AG44: =SUM(L44,W44) -> 0 | AH44: =SUM(M44,X44) -> 0
B45: 1.1.2.3 | C45: En accidente de tránsito | D45: =SUM(Ahualulco!D42,Alaquines!D42,Aquismon!D42,ArmadillodelosInfante!D42,AxtladeTerrazas!D42,Catorce!D42,Cedral!D42,Cerritos!D42,CerrodeSanPedro!D42,Charcas!D42,CiudadFernandez!D42,CiudadValles!D42,CiudaddelMaiz!D42,Coxcatlan!D42,Cardenas!D42,Ebano!D42,ElNaranjo!D42,Guadalcazar!D42,Huehuetlan!D42,Lagunillas!D42,Matehuala!D42,Matlapa!D42,MexquiticdeCarmona!D42,Moctezuma!D42,Rayon!D42,Rioverde!D42,Salinas!D42,SanAntonio!D42,SanCirodeAcosta!D42,SanLuisPotosi!D42,SanMartinChalchicuautla!D42,SanNicolasTolentino!D42,SanVicenteTancuayalab!D42,SantaCatarina!D42,SantaMariadelRio!D42,SantoDomingo!D42,SoledaddeGracianoSanchez!D42,Tamasopo!D42,Tamazunchale!D42,Tampacan!D42,TampamolonCorona!D42,Tamuin!D42,Tancanhuitz!D42,Tanlajas!D42,TanquiandeEscobedo!D42,TierraNueva!D42,Vanegas!D42,Venado!D42,VillaHidalgo!D42,VillaJuarez!D42,VilladeArista!D42,VilladeArriaga!D42,VilladeGuadalupe!D42,VilladeRamos!D42,VilladeReyes!D42,VilladelaPaz!D42,Xilitla!D42,Zaragoza!D42) -> 0 | E45: 0 | F45: =SUM(G45:M45) -> 0 | G45: 0 | H45: 0 | I45: 0 | J45: 0 | K45: 0 | L45: 0 | M45: 0 | O45: =SUM(Ahualulco!F42,Alaquines!F42,Aquismon!F42,ArmadillodelosInfante!F42,AxtladeTerrazas!F42,Catorce!F42,Cedral!F42,Cerritos!F42,CerrodeSanPedro!F42,Charcas!F42,CiudadFernandez!F42,CiudadValles!F42,CiudaddelMaiz!F42,Coxcatlan!F42,Cardenas!F42,Ebano!F42,ElNaranjo!F42,Guadalcazar!F42,Huehuetlan!F42,Lagunillas!F42,Matehuala!F42,Matlapa!F42,MexquiticdeCarmona!F42,Moctezuma!F42,Rayon!F42,Rioverde!F42,Salinas!F42,SanAntonio!F42,SanCirodeAcosta!F42,SanLuisPotosi!F42,SanMartinChalchicuautla!F42,SanNicolasTolentino!F42,SanVicenteTancuayalab!F42,SantaCatarina!F42,SantaMariadelRio!F42,SantoDomingo!F42,SoledaddeGracianoSanchez!F42,Tamasopo!F42,Tamazunchale!F42,Tampacan!F42,TampamolonCorona!F42,Tamuin!F42,Tancanhuitz!F42,Tanlajas!F42,TanquiandeEscobedo!F42,TierraNueva!F42,Vanegas!F42,Venado!F42,VillaHidalgo!F42,VillaJuarez!F42,VilladeArista!F42,VilladeArriaga!F42,VilladeGuadalupe!F42,VilladeRamos!F42,VilladeReyes!F42,VilladelaPaz!F42,Xilitla!F42,Zaragoza!F42) -> 23 | P45: 23 | Q45: =SUM(R45:X45) -> 23 | R45: 1 | S45: 1 | T45: 4 | U45: 1 | V45: 1 | W45: 11 | X45: 4 | Z45: =SUM(E45,P45) -> 23 | AA45: =SUM(F45,Q45) -> 23 | AB45: =SUM(G45,R45) -> 1 | AC45: =SUM(H45,S45) -> 1 | AD45: =SUM(I45,T45) -> 4 | AE45: =SUM(J45,U45) -> 1 | AF45: =SUM(K45,V45) -> 1 | AG45: =SUM(L45,W45) -> 11 | AH45: =SUM(M45,X45) -> 4
B46: 1.1.2.4 | C46: Con otro elemento | D46: =SUM(Ahualulco!D43,Alaquines!D43,Aquismon!D43,ArmadillodelosInfante!D43,AxtladeTerrazas!D43,Catorce!D43,Cedral!D43,Cerritos!D43,CerrodeSanPedro!D43,Charcas!D43,CiudadFernandez!D43,CiudadValles!D43,CiudaddelMaiz!D43,Coxcatlan!D43,Cardenas!D43,Ebano!D43,ElNaranjo!D43,Guadalcazar!D43,Huehuetlan!D43,Lagunillas!D43,Matehuala!D43,Matlapa!D43,MexquiticdeCarmona!D43,Moctezuma!D43,Rayon!D43,Rioverde!D43,Salinas!D43,SanAntonio!D43,SanCirodeAcosta!D43,SanLuisPotosi!D43,SanMartinChalchicuautla!D43,SanNicolasTolentino!D43,SanVicenteTancuayalab!D43,SantaCatarina!D43,SantaMariadelRio!D43,SantoDomingo!D43,SoledaddeGracianoSanchez!D43,Tamasopo!D43,Tamazunchale!D43,Tampacan!D43,TampamolonCorona!D43,Tamuin!D43,Tancanhuitz!D43,Tanlajas!D43,TanquiandeEscobedo!D43,TierraNueva!D43,Vanegas!D43,Venado!D43,VillaHidalgo!D43,VillaJuarez!D43,VilladeArista!D43,VilladeArriaga!D43,VilladeGuadalupe!D43,VilladeRamos!D43,VilladeReyes!D43,VilladelaPaz!D43,Xilitla!D43,Zaragoza!D43) -> 0 | E46: 0 | F46: =SUM(G46:M46) -> 0 | G46: 0 | H46: 0 | I46: 0 | J46: 0 | K46: 0 | L46: 0 | M46: 0 | O46: =SUM(Ahualulco!F43,Alaquines!F43,Aquismon!F43,ArmadillodelosInfante!F43,AxtladeTerrazas!F43,Catorce!F43,Cedral!F43,Cerritos!F43,CerrodeSanPedro!F43,Charcas!F43,CiudadFernandez!F43,CiudadValles!F43,CiudaddelMaiz!F43,Coxcatlan!F43,Cardenas!F43,Ebano!F43,ElNaranjo!F43,Guadalcazar!F43,Huehuetlan!F43,Lagunillas!F43,Matehuala!F43,Matlapa!F43,MexquiticdeCarmona!F43,Moctezuma!F43,Rayon!F43,Rioverde!F43,Salinas!F43,SanAntonio!F43,SanCirodeAcosta!F43,SanLuisPotosi!F43,SanMartinChalchicuautla!F43,SanNicolasTolentino!F43,SanVicenteTancuayalab!F43,SantaCatarina!F43,SantaMariadelRio!F43,SantoDomingo!F43,SoledaddeGracianoSanchez!F43,Tamasopo!F43,Tamazunchale!F43,Tampacan!F43,TampamolonCorona!F43,Tamuin!F43,Tancanhuitz!F43,Tanlajas!F43,TanquiandeEscobedo!F43,TierraNueva!F43,Vanegas!F43,Venado!F43,VillaHidalgo!F43,VillaJuarez!F43,VilladeArista!F43,VilladeArriaga!F43,VilladeGuadalupe!F43,VilladeRamos!F43,VilladeReyes!F43,VilladelaPaz!F43,Xilitla!F43,Zaragoza!F43) -> 0 | P46: 0 | Q46: =SUM(R46:X46) -> 0 | R46: 0 | S46: 0 | T46: 0 | U46: 0 | V46: 0 | W46: 0 | X46: 0 | Z46: =SUM(E46,P46) -> 0 | AA46: =SUM(F46,Q46) -> 0 | AB46: =SUM(G46,R46) -> 0 | AC46: =SUM(H46,S46) -> 0 | AD46: =SUM(I46,T46) -> 0 | AE46: =SUM(J46,U46) -> 0 | AF46: =SUM(K46,V46) -> 0 | AG46: =SUM(L46,W46) -> 0 | AH46: =SUM(M46,X46) -> 0
B47: 1.1.2.5 | C47: No especificado | D47: =SUM(Ahualulco!D44,Alaquines!D44,Aquismon!D44,ArmadillodelosInfante!D44,AxtladeTerrazas!D44,Catorce!D44,Cedral!D44,Cerritos!D44,CerrodeSanPedro!D44,Charcas!D44,CiudadFernandez!D44,CiudadValles!D44,CiudaddelMaiz!D44,Coxcatlan!D44,Cardenas!D44,Ebano!D44,ElNaranjo!D44,Guadalcazar!D44,Huehuetlan!D44,Lagunillas!D44,Matehuala!D44,Matlapa!D44,MexquiticdeCarmona!D44,Moctezuma!D44,Rayon!D44,Rioverde!D44,Salinas!D44,SanAntonio!D44,SanCirodeAcosta!D44,SanLuisPotosi!D44,SanMartinChalchicuautla!D44,SanNicolasTolentino!D44,SanVicenteTancuayalab!D44,SantaCatarina!D44,SantaMariadelRio!D44,SantoDomingo!D44,SoledaddeGracianoSanchez!D44,Tamasopo!D44,Tamazunchale!D44,Tampacan!D44,TampamolonCorona!D44,Tamuin!D44,Tancanhuitz!D44,Tanlajas!D44,TanquiandeEscobedo!D44,TierraNueva!D44,Vanegas!D44,Venado!D44,VillaHidalgo!D44,VillaJuarez!D44,VilladeArista!D44,VilladeArriaga!D44,VilladeGuadalupe!D44,VilladeRamos!D44,VilladeReyes!D44,VilladelaPaz!D44,Xilitla!D44,Zaragoza!D44) -> 0 | E47: 0 | F47: =SUM(G47:M47) -> 0 | G47: 0 | H47: 0 | I47: 0 | J47: 0 | K47: 0 | L47: 0 | M47: 0 | O47: =SUM(Ahualulco!F44,Alaquines!F44,Aquismon!F44,ArmadillodelosInfante!F44,AxtladeTerrazas!F44,Catorce!F44,Cedral!F44,Cerritos!F44,CerrodeSanPedro!F44,Charcas!F44,CiudadFernandez!F44,CiudadValles!F44,CiudaddelMaiz!F44,Coxcatlan!F44,Cardenas!F44,Ebano!F44,ElNaranjo!F44,Guadalcazar!F44,Huehuetlan!F44,Lagunillas!F44,Matehuala!F44,Matlapa!F44,MexquiticdeCarmona!F44,Moctezuma!F44,Rayon!F44,Rioverde!F44,Salinas!F44,SanAntonio!F44,SanCirodeAcosta!F44,SanLuisPotosi!F44,SanMartinChalchicuautla!F44,SanNicolasTolentino!F44,SanVicenteTancuayalab!F44,SantaCatarina!F44,SantaMariadelRio!F44,SantoDomingo!F44,SoledaddeGracianoSanchez!F44,Tamasopo!F44,Tamazunchale!F44,Tampacan!F44,TampamolonCorona!F44,Tamuin!F44,Tancanhuitz!F44,Tanlajas!F44,TanquiandeEscobedo!F44,TierraNueva!F44,Vanegas!F44,Venado!F44,VillaHidalgo!F44,VillaJuarez!F44,VilladeArista!F44,VilladeArriaga!F44,VilladeGuadalupe!F44,VilladeRamos!F44,VilladeReyes!F44,VilladelaPaz!F44,Xilitla!F44,Zaragoza!F44) -> 0 | P47: 0 | Q47: =SUM(R47:X47) -> 0 | R47: 0 | S47: 0 | T47: 0 | U47: 0 | V47: 0 | W47: 0 | X47: 0 | Z47: =SUM(E47,P47) -> 0 | AA47: =SUM(F47,Q47) -> 0 | AB47: =SUM(G47,R47) -> 0 | AC47: =SUM(H47,S47) -> 0 | AD47: =SUM(I47,T47) -> 0 | AE47: =SUM(J47,U47) -> 0 | AF47: =SUM(K47,V47) -> 0 | AG47: =SUM(L47,W47) -> 0 | AH47: =SUM(M47,X47) -> 0
B48: 1.2 | C48: Lesiones | D48: =SUM(Ahualulco!D45,Alaquines!D45,Aquismon!D45,ArmadillodelosInfante!D45,AxtladeTerrazas!D45,Catorce!D45,Cedral!D45,Cerritos!D45,CerrodeSanPedro!D45,Charcas!D45,CiudadFernandez!D45,CiudadValles!D45,CiudaddelMaiz!D45,Coxcatlan!D45,Cardenas!D45,Ebano!D45,ElNaranjo!D45,Guadalcazar!D45,Huehuetlan!D45,Lagunillas!D45,Matehuala!D45,Matlapa!D45,MexquiticdeCarmona!D45,Moctezuma!D45,Rayon!D45,Rioverde!D45,Salinas!D45,SanAntonio!D45,SanCirodeAcosta!D45,SanLuisPotosi!D45,SanMartinChalchicuautla!D45,SanNicolasTolentino!D45,SanVicenteTancuayalab!D45,SantaCatarina!D45,SantaMariadelRio!D45,SantoDomingo!D45,SoledaddeGracianoSanchez!D45,Tamasopo!D45,Tamazunchale!D45,Tampacan!D45,TampamolonCorona!D45,Tamuin!D45,Tancanhuitz!D45,Tanlajas!D45,TanquiandeEscobedo!D45,TierraNueva!D45,Vanegas!D45,Venado!D45,VillaHidalgo!D45,VillaJuarez!D45,VilladeArista!D45,VilladeArriaga!D45,VilladeGuadalupe!D45,VilladeRamos!D45,VilladeReyes!D45,VilladelaPaz!D45,Xilitla!D45,Zaragoza!D45) -> 0 | E48: =SUM(E49,E54) -> 0 | F48: =SUM(G48:M48) -> 0 | G48: =SUM(G49,G54) -> 0 | H48: =SUM(H49,H54) -> 0 | I48: =SUM(I49,I54) -> 0 | J48: =SUM(J49,J54) -> 0 | K48: =SUM(K49,K54) -> 0 | L48: =SUM(L49,L54) -> 0 | M48: =SUM(M49,M54) -> 0 | O48: =SUM(Ahualulco!F45,Alaquines!F45,Aquismon!F45,ArmadillodelosInfante!F45,AxtladeTerrazas!F45,Catorce!F45,Cedral!F45,Cerritos!F45,CerrodeSanPedro!F45,Charcas!F45,CiudadFernandez!F45,CiudadValles!F45,CiudaddelMaiz!F45,Coxcatlan!F45,Cardenas!F45,Ebano!F45,ElNaranjo!F45,Guadalcazar!F45,Huehuetlan!F45,Lagunillas!F45,Matehuala!F45,Matlapa!F45,MexquiticdeCarmona!F45,Moctezuma!F45,Rayon!F45,Rioverde!F45,Salinas!F45,SanAntonio!F45,SanCirodeAcosta!F45,SanLuisPotosi!F45,SanMartinChalchicuautla!F45,SanNicolasTolentino!F45,SanVicenteTancuayalab!F45,SantaCatarina!F45,SantaMariadelRio!F45,SantoDomingo!F45,SoledaddeGracianoSanchez!F45,Tamasopo!F45,Tamazunchale!F45,Tampacan!F45,TampamolonCorona!F45,Tamuin!F45,Tancanhuitz!F45,Tanlajas!F45,TanquiandeEscobedo!F45,TierraNueva!F45,Vanegas!F45,Venado!F45,VillaHidalgo!F45,VillaJuarez!F45,VilladeArista!F45,VilladeArriaga!F45,VilladeGuadalupe!F45,VilladeRamos!F45,VilladeReyes!F45,VilladelaPaz!F45,Xilitla!F45,Zaragoza!F45) -> 378 | P48: =SUM(P49,P54) -> 378 | Q48: =SUM(R48:X48) -> 389 | R48: =SUM(R49,R54) -> 6 | S48: =SUM(S49,S54) -> 122 | T48: =SUM(T49,T54) -> 26 | U48: =SUM(U49,U54) -> 10 | V48: =SUM(V49,V54) -> 153 | W48: =SUM(W49,W54) -> 64 | X48: =SUM(X49,X54) -> 8 | Z48: =SUM(E48,P48) -> 378 | AA48: =SUM(F48,Q48) -> 389 | AB48: =SUM(G48,R48) -> 6 | AC48: =SUM(H48,S48) -> 122 | AD48: =SUM(I48,T48) -> 26 | AE48: =SUM(J48,U48) -> 10 | AF48: =SUM(K48,V48) -> 153 | AG48: =SUM(L48,W48) -> 64 | AH48: =SUM(M48,X48) -> 8
B49: 1.2.1 | C49: Lesiones dolosas | D49: =SUM(Ahualulco!D46,Alaquines!D46,Aquismon!D46,ArmadillodelosInfante!D46,AxtladeTerrazas!D46,Catorce!D46,Cedral!D46,Cerritos!D46,CerrodeSanPedro!D46,Charcas!D46,CiudadFernandez!D46,CiudadValles!D46,CiudaddelMaiz!D46,Coxcatlan!D46,Cardenas!D46,Ebano!D46,ElNaranjo!D46,Guadalcazar!D46,Huehuetlan!D46,Lagunillas!D46,Matehuala!D46,Matlapa!D46,MexquiticdeCarmona!D46,Moctezuma!D46,Rayon!D46,Rioverde!D46,Salinas!D46,SanAntonio!D46,SanCirodeAcosta!D46,SanLuisPotosi!D46,SanMartinChalchicuautla!D46,SanNicolasTolentino!D46,SanVicenteTancuayalab!D46,SantaCatarina!D46,SantaMariadelRio!D46,SantoDomingo!D46,SoledaddeGracianoSanchez!D46,Tamasopo!D46,Tamazunchale!D46,Tampacan!D46,TampamolonCorona!D46,Tamuin!D46,Tancanhuitz!D46,Tanlajas!D46,TanquiandeEscobedo!D46,TierraNueva!D46,Vanegas!D46,Venado!D46,VillaHidalgo!D46,VillaJuarez!D46,VilladeArista!D46,VilladeArriaga!D46,VilladeGuadalupe!D46,VilladeRamos!D46,VilladeReyes!D46,VilladelaPaz!D46,Xilitla!D46,Zaragoza!D46) -> 0 | E49: =SUM(E50:E53) -> 0 | F49: =SUM(G49:M49) -> 0 | G49: =SUM(G50:G53) -> 0 | H49: =SUM(H50:H53) -> 0 | I49: =SUM(I50:I53) -> 0 | J49: =SUM(J50:J53) -> 0 | K49: =SUM(K50:K53) -> 0 | L49: =SUM(L50:L53) -> 0 | M49: =SUM(M50:M53) -> 0 | O49: =SUM(Ahualulco!F46,Alaquines!F46,Aquismon!F46,ArmadillodelosInfante!F46,AxtladeTerrazas!F46,Catorce!F46,Cedral!F46,Cerritos!F46,CerrodeSanPedro!F46,Charcas!F46,CiudadFernandez!F46,CiudadValles!F46,CiudaddelMaiz!F46,Coxcatlan!F46,Cardenas!F46,Ebano!F46,ElNaranjo!F46,Guadalcazar!F46,Huehuetlan!F46,Lagunillas!F46,Matehuala!F46,Matlapa!F46,MexquiticdeCarmona!F46,Moctezuma!F46,Rayon!F46,Rioverde!F46,Salinas!F46,SanAntonio!F46,SanCirodeAcosta!F46,SanLuisPotosi!F46,SanMartinChalchicuautla!F46,SanNicolasTolentino!F46,SanVicenteTancuayalab!F46,SantaCatarina!F46,SantaMariadelRio!F46,SantoDomingo!F46,SoledaddeGracianoSanchez!F46,Tamasopo!F46,Tamazunchale!F46,Tampacan!F46,TampamolonCorona!F46,Tamuin!F46,Tancanhuitz!F46,Tanlajas!F46,TanquiandeEscobedo!F46,TierraNueva!F46,Vanegas!F46,Venado!F46,VillaHidalgo!F46,VillaJuarez!F46,VilladeArista!F46,VilladeArriaga!F46,VilladeGuadalupe!F46,VilladeRamos!F46,VilladeReyes!F46,VilladelaPaz!F46,Xilitla!F46,Zaragoza!F46) -> 323 | P49: =SUM(P50:P53) -> 323 | Q49: =SUM(R49:X49) -> 328 | R49: =SUM(R50:R53) -> 5 | S49: =SUM(S50:S53) -> 110 | T49: =SUM(T50:T53) -> 20 | U49: =SUM(U50:U53) -> 9 | V49: =SUM(V50:V53) -> 127 | W49: =SUM(W50:W53) -> 49 | X49: =SUM(X50:X53) -> 8 | Z49: =SUM(E49,P49) -> 323 | AA49: =SUM(F49,Q49) -> 328 | AB49: =SUM(G49,R49) -> 5 | AC49: =SUM(H49,S49) -> 110 | AD49: =SUM(I49,T49) -> 20 | AE49: =SUM(J49,U49) -> 9 | AF49: =SUM(K49,V49) -> 127 | AG49: =SUM(L49,W49) -> 49 | AH49: =SUM(M49,X49) -> 8
B50: 1.2.1.1 | C50: Con arma de fuego | D50: =SUM(Ahualulco!D47,Alaquines!D47,Aquismon!D47,ArmadillodelosInfante!D47,AxtladeTerrazas!D47,Catorce!D47,Cedral!D47,Cerritos!D47,CerrodeSanPedro!D47,Charcas!D47,CiudadFernandez!D47,CiudadValles!D47,CiudaddelMaiz!D47,Coxcatlan!D47,Cardenas!D47,Ebano!D47,ElNaranjo!D47,Guadalcazar!D47,Huehuetlan!D47,Lagunillas!D47,Matehuala!D47,Matlapa!D47,MexquiticdeCarmona!D47,Moctezuma!D47,Rayon!D47,Rioverde!D47,Salinas!D47,SanAntonio!D47,SanCirodeAcosta!D47,SanLuisPotosi!D47,SanMartinChalchicuautla!D47,SanNicolasTolentino!D47,SanVicenteTancuayalab!D47,SantaCatarina!D47,SantaMariadelRio!D47,SantoDomingo!D47,SoledaddeGracianoSanchez!D47,Tamasopo!D47,Tamazunchale!D47,Tampacan!D47,TampamolonCorona!D47,Tamuin!D47,Tancanhuitz!D47,Tanlajas!D47,TanquiandeEscobedo!D47,TierraNueva!D47,Vanegas!D47,Venado!D47,VillaHidalgo!D47,VillaJuarez!D47,VilladeArista!D47,VilladeArriaga!D47,VilladeGuadalupe!D47,VilladeRamos!D47,VilladeReyes!D47,VilladelaPaz!D47,Xilitla!D47,Zaragoza!D47) -> 0 | E50: 0 | F50: =SUM(G50:M50) -> 0 | G50: 0 | H50: 0 | I50: 0 | J50: 0 | K50: 0 | L50: 0 | M50: 0 | O50: =SUM(Ahualulco!F47,Alaquines!F47,Aquismon!F47,ArmadillodelosInfante!F47,AxtladeTerrazas!F47,Catorce!F47,Cedral!F47,Cerritos!F47,CerrodeSanPedro!F47,Charcas!F47,CiudadFernandez!F47,CiudadValles!F47,CiudaddelMaiz!F47,Coxcatlan!F47,Cardenas!F47,Ebano!F47,ElNaranjo!F47,Guadalcazar!F47,Huehuetlan!F47,Lagunillas!F47,Matehuala!F47,Matlapa!F47,MexquiticdeCarmona!F47,Moctezuma!F47,Rayon!F47,Rioverde!F47,Salinas!F47,SanAntonio!F47,SanCirodeAcosta!F47,SanLuisPotosi!F47,SanMartinChalchicuautla!F47,SanNicolasTolentino!F47,SanVicenteTancuayalab!F47,SantaCatarina!F47,SantaMariadelRio!F47,SantoDomingo!F47,SoledaddeGracianoSanchez!F47,Tamasopo!F47,Tamazunchale!F47,Tampacan!F47,TampamolonCorona!F47,Tamuin!F47,Tancanhuitz!F47,Tanlajas!F47,TanquiandeEscobedo!F47,TierraNueva!F47,Vanegas!F47,Venado!F47,VillaHidalgo!F47,VillaJuarez!F47,VilladeArista!F47,VilladeArriaga!F47,VilladeGuadalupe!F47,VilladeRamos!F47,VilladeReyes!F47,VilladelaPaz!F47,Xilitla!F47,Zaragoza!F47) -> 20 | P50: 20 | Q50: =SUM(R50:X50) -> 21 | R50: 0 | S50: 2 | T50: 0 | U50: 0 | V50: 10 | W50: 9 | X50: 0 | Z50: =SUM(E50,P50) -> 20 | AA50: =SUM(F50,Q50) -> 21 | AB50: =SUM(G50,R50) -> 0 | AC50: =SUM(H50,S50) -> 2 | AD50: =SUM(I50,T50) -> 0 | AE50: =SUM(J50,U50) -> 0 | AF50: =SUM(K50,V50) -> 10 | AG50: =SUM(L50,W50) -> 9 | AH50: =SUM(M50,X50) -> 0
B51: 1.2.1.2 | C51: Con arma blanca | D51: =SUM(Ahualulco!D48,Alaquines!D48,Aquismon!D48,ArmadillodelosInfante!D48,AxtladeTerrazas!D48,Catorce!D48,Cedral!D48,Cerritos!D48,CerrodeSanPedro!D48,Charcas!D48,CiudadFernandez!D48,CiudadValles!D48,CiudaddelMaiz!D48,Coxcatlan!D48,Cardenas!D48,Ebano!D48,ElNaranjo!D48,Guadalcazar!D48,Huehuetlan!D48,Lagunillas!D48,Matehuala!D48,Matlapa!D48,MexquiticdeCarmona!D48,Moctezuma!D48,Rayon!D48,Rioverde!D48,Salinas!D48,SanAntonio!D48,SanCirodeAcosta!D48,SanLuisPotosi!D48,SanMartinChalchicuautla!D48,SanNicolasTolentino!D48,SanVicenteTancuayalab!D48,SantaCatarina!D48,SantaMariadelRio!D48,SantoDomingo!D48,SoledaddeGracianoSanchez!D48,Tamasopo!D48,Tamazunchale!D48,Tampacan!D48,TampamolonCorona!D48,Tamuin!D48,Tancanhuitz!D48,Tanlajas!D48,TanquiandeEscobedo!D48,TierraNueva!D48,Vanegas!D48,Venado!D48,VillaHidalgo!D48,VillaJuarez!D48,VilladeArista!D48,VilladeArriaga!D48,VilladeGuadalupe!D48,VilladeRamos!D48,VilladeReyes!D48,VilladelaPaz!D48,Xilitla!D48,Zaragoza!D48) -> 0 | E51: 0 | F51: =SUM(G51:M51) -> 0 | G51: 0 | H51: 0 | I51: 0 | J51: 0 | K51: 0 | L51: 0 | M51: 0 | O51: =SUM(Ahualulco!F48,Alaquines!F48,Aquismon!F48,ArmadillodelosInfante!F48,AxtladeTerrazas!F48,Catorce!F48,Cedral!F48,Cerritos!F48,CerrodeSanPedro!F48,Charcas!F48,CiudadFernandez!F48,CiudadValles!F48,CiudaddelMaiz!F48,Coxcatlan!F48,Cardenas!F48,Ebano!F48,ElNaranjo!F48,Guadalcazar!F48,Huehuetlan!F48,Lagunillas!F48,Matehuala!F48,Matlapa!F48,MexquiticdeCarmona!F48,Moctezuma!F48,Rayon!F48,Rioverde!F48,Salinas!F48,SanAntonio!F48,SanCirodeAcosta!F48,SanLuisPotosi!F48,SanMartinChalchicuautla!F48,SanNicolasTolentino!F48,SanVicenteTancuayalab!F48,SantaCatarina!F48,SantaMariadelRio!F48,SantoDomingo!F48,SoledaddeGracianoSanchez!F48,Tamasopo!F48,Tamazunchale!F48,Tampacan!F48,TampamolonCorona!F48,Tamuin!F48,Tancanhuitz!F48,Tanlajas!F48,TanquiandeEscobedo!F48,TierraNueva!F48,Vanegas!F48,Venado!F48,VillaHidalgo!F48,VillaJuarez!F48,VilladeArista!F48,VilladeArriaga!F48,VilladeGuadalupe!F48,VilladeRamos!F48,VilladeReyes!F48,VilladelaPaz!F48,Xilitla!F48,Zaragoza!F48) -> 33 | P51: 33 | Q51: =SUM(R51:X51) -> 34 | R51: 1 | S51: 3 | T51: 3 | U51: 2 | V51: 17 | W51: 7 | X51: 1 | Z51: =SUM(E51,P51) -> 33 | AA51: =SUM(F51,Q51) -> 34 | AB51: =SUM(G51,R51) -> 1 | AC51: =SUM(H51,S51) -> 3 | AD51: =SUM(I51,T51) -> 3 | AE51: =SUM(J51,U51) -> 2 | AF51: =SUM(K51,V51) -> 17 | AG51: =SUM(L51,W51) -> 7 | AH51: =SUM(M51,X51) -> 1
B52: 1.2.1.3 | C52: Con otro elemento | D52: =SUM(Ahualulco!D49,Alaquines!D49,Aquismon!D49,ArmadillodelosInfante!D49,AxtladeTerrazas!D49,Catorce!D49,Cedral!D49,Cerritos!D49,CerrodeSanPedro!D49,Charcas!D49,CiudadFernandez!D49,CiudadValles!D49,CiudaddelMaiz!D49,Coxcatlan!D49,Cardenas!D49,Ebano!D49,ElNaranjo!D49,Guadalcazar!D49,Huehuetlan!D49,Lagunillas!D49,Matehuala!D49,Matlapa!D49,MexquiticdeCarmona!D49,Moctezuma!D49,Rayon!D49,Rioverde!D49,Salinas!D49,SanAntonio!D49,SanCirodeAcosta!D49,SanLuisPotosi!D49,SanMartinChalchicuautla!D49,SanNicolasTolentino!D49,SanVicenteTancuayalab!D49,SantaCatarina!D49,SantaMariadelRio!D49,SantoDomingo!D49,SoledaddeGracianoSanchez!D49,Tamasopo!D49,Tamazunchale!D49,Tampacan!D49,TampamolonCorona!D49,Tamuin!D49,Tancanhuitz!D49,Tanlajas!D49,TanquiandeEscobedo!D49,TierraNueva!D49,Vanegas!D49,Venado!D49,VillaHidalgo!D49,VillaJuarez!D49,VilladeArista!D49,VilladeArriaga!D49,VilladeGuadalupe!D49,VilladeRamos!D49,VilladeReyes!D49,VilladelaPaz!D49,Xilitla!D49,Zaragoza!D49) -> 0 | E52: 0 | F52: =SUM(G52:M52) -> 0 | G52: 0 | H52: 0 | I52: 0 | J52: 0 | K52: 0 | L52: 0 | M52: 0 | O52: =SUM(Ahualulco!F49,Alaquines!F49,Aquismon!F49,ArmadillodelosInfante!F49,AxtladeTerrazas!F49,Catorce!F49,Cedral!F49,Cerritos!F49,CerrodeSanPedro!F49,Charcas!F49,CiudadFernandez!F49,CiudadValles!F49,CiudaddelMaiz!F49,Coxcatlan!F49,Cardenas!F49,Ebano!F49,ElNaranjo!F49,Guadalcazar!F49,Huehuetlan!F49,Lagunillas!F49,Matehuala!F49,Matlapa!F49,MexquiticdeCarmona!F49,Moctezuma!F49,Rayon!F49,Rioverde!F49,Salinas!F49,SanAntonio!F49,SanCirodeAcosta!F49,SanLuisPotosi!F49,SanMartinChalchicuautla!F49,SanNicolasTolentino!F49,SanVicenteTancuayalab!F49,SantaCatarina!F49,SantaMariadelRio!F49,SantoDomingo!F49,SoledaddeGracianoSanchez!F49,Tamasopo!F49,Tamazunchale!F49,Tampacan!F49,TampamolonCorona!F49,Tamuin!F49,Tancanhuitz!F49,Tanlajas!F49,TanquiandeEscobedo!F49,TierraNueva!F49,Vanegas!F49,Venado!F49,VillaHidalgo!F49,VillaJuarez!F49,VilladeArista!F49,VilladeArriaga!F49,VilladeGuadalupe!F49,VilladeRamos!F49,VilladeReyes!F49,VilladelaPaz!F49,Xilitla!F49,Zaragoza!F49) -> 270 | P52: 270 | Q52: =SUM(R52:X52) -> 273 | R52: 4 | S52: 105 | T52: 17 | U52: 7 | V52: 100 | W52: 33 | X52: 7 | Z52: =SUM(E52,P52) -> 270 | AA52: =SUM(F52,Q52) -> 273 | AB52: =SUM(G52,R52) -> 4 | AC52: =SUM(H52,S52) -> 105 | AD52: =SUM(I52,T52) -> 17 | AE52: =SUM(J52,U52) -> 7 | AF52: =SUM(K52,V52) -> 100 | AG52: =SUM(L52,W52) -> 33 | AH52: =SUM(M52,X52) -> 7
B53: 1.2.1.4 | C53: No especificado | D53: =SUM(Ahualulco!D50,Alaquines!D50,Aquismon!D50,ArmadillodelosInfante!D50,AxtladeTerrazas!D50,Catorce!D50,Cedral!D50,Cerritos!D50,CerrodeSanPedro!D50,Charcas!D50,CiudadFernandez!D50,CiudadValles!D50,CiudaddelMaiz!D50,Coxcatlan!D50,Cardenas!D50,Ebano!D50,ElNaranjo!D50,Guadalcazar!D50,Huehuetlan!D50,Lagunillas!D50,Matehuala!D50,Matlapa!D50,MexquiticdeCarmona!D50,Moctezuma!D50,Rayon!D50,Rioverde!D50,Salinas!D50,SanAntonio!D50,SanCirodeAcosta!D50,SanLuisPotosi!D50,SanMartinChalchicuautla!D50,SanNicolasTolentino!D50,SanVicenteTancuayalab!D50,SantaCatarina!D50,SantaMariadelRio!D50,SantoDomingo!D50,SoledaddeGracianoSanchez!D50,Tamasopo!D50,Tamazunchale!D50,Tampacan!D50,TampamolonCorona!D50,Tamuin!D50,Tancanhuitz!D50,Tanlajas!D50,TanquiandeEscobedo!D50,TierraNueva!D50,Vanegas!D50,Venado!D50,VillaHidalgo!D50,VillaJuarez!D50,VilladeArista!D50,VilladeArriaga!D50,VilladeGuadalupe!D50,VilladeRamos!D50,VilladeReyes!D50,VilladelaPaz!D50,Xilitla!D50,Zaragoza!D50) -> 0 | E53: 0 | F53: =SUM(G53:M53) -> 0 | G53: 0 | H53: 0 | I53: 0 | J53: 0 | K53: 0 | L53: 0 | M53: 0 | O53: =SUM(Ahualulco!F50,Alaquines!F50,Aquismon!F50,ArmadillodelosInfante!F50,AxtladeTerrazas!F50,Catorce!F50,Cedral!F50,Cerritos!F50,CerrodeSanPedro!F50,Charcas!F50,CiudadFernandez!F50,CiudadValles!F50,CiudaddelMaiz!F50,Coxcatlan!F50,Cardenas!F50,Ebano!F50,ElNaranjo!F50,Guadalcazar!F50,Huehuetlan!F50,Lagunillas!F50,Matehuala!F50,Matlapa!F50,MexquiticdeCarmona!F50,Moctezuma!F50,Rayon!F50,Rioverde!F50,Salinas!F50,SanAntonio!F50,SanCirodeAcosta!F50,SanLuisPotosi!F50,SanMartinChalchicuautla!F50,SanNicolasTolentino!F50,SanVicenteTancuayalab!F50,SantaCatarina!F50,SantaMariadelRio!F50,SantoDomingo!F50,SoledaddeGracianoSanchez!F50,Tamasopo!F50,Tamazunchale!F50,Tampacan!F50,TampamolonCorona!F50,Tamuin!F50,Tancanhuitz!F50,Tanlajas!F50,TanquiandeEscobedo!F50,TierraNueva!F50,Vanegas!F50,Venado!F50,VillaHidalgo!F50,VillaJuarez!F50,VilladeArista!F50,VilladeArriaga!F50,VilladeGuadalupe!F50,VilladeRamos!F50,VilladeReyes!F50,VilladelaPaz!F50,Xilitla!F50,Zaragoza!F50) -> 0 | P53: 0 | Q53: =SUM(R53:X53) -> 0 | R53: 0 | S53: 0 | T53: 0 | U53: 0 | V53: 0 | W53: 0 | X53: 0 | Z53: =SUM(E53,P53) -> 0 | AA53: =SUM(F53,Q53) -> 0 | AB53: =SUM(G53,R53) -> 0 | AC53: =SUM(H53,S53) -> 0 | AD53: =SUM(I53,T53) -> 0 | AE53: =SUM(J53,U53) -> 0 | AF53: =SUM(K53,V53) -> 0 | AG53: =SUM(L53,W53) -> 0 | AH53: =SUM(M53,X53) -> 0
B54: 1.2.2 | C54: Lesiones culposas | D54: =SUM(Ahualulco!D51,Alaquines!D51,Aquismon!D51,ArmadillodelosInfante!D51,AxtladeTerrazas!D51,Catorce!D51,Cedral!D51,Cerritos!D51,CerrodeSanPedro!D51,Charcas!D51,CiudadFernandez!D51,CiudadValles!D51,CiudaddelMaiz!D51,Coxcatlan!D51,Cardenas!D51,Ebano!D51,ElNaranjo!D51,Guadalcazar!D51,Huehuetlan!D51,Lagunillas!D51,Matehuala!D51,Matlapa!D51,MexquiticdeCarmona!D51,Moctezuma!D51,Rayon!D51,Rioverde!D51,Salinas!D51,SanAntonio!D51,SanCirodeAcosta!D51,SanLuisPotosi!D51,SanMartinChalchicuautla!D51,SanNicolasTolentino!D51,SanVicenteTancuayalab!D51,SantaCatarina!D51,SantaMariadelRio!D51,SantoDomingo!D51,SoledaddeGracianoSanchez!D51,Tamasopo!D51,Tamazunchale!D51,Tampacan!D51,TampamolonCorona!D51,Tamuin!D51,Tancanhuitz!D51,Tanlajas!D51,TanquiandeEscobedo!D51,TierraNueva!D51,Vanegas!D51,Venado!D51,VillaHidalgo!D51,VillaJuarez!D51,VilladeArista!D51,VilladeArriaga!D51,VilladeGuadalupe!D51,VilladeRamos!D51,VilladeReyes!D51,VilladelaPaz!D51,Xilitla!D51,Zaragoza!D51) -> 0 | E54: =SUM(E55:E59) -> 0 | F54: =SUM(G54:M54) -> 0 | G54: =SUM(G55:G59) -> 0 | H54: =SUM(H55:H59) -> 0 | I54: =SUM(I55:I59) -> 0 | J54: =SUM(J55:J59) -> 0 | K54: =SUM(K55:K59) -> 0 | L54: =SUM(L55:L59) -> 0 | M54: =SUM(M55:M59) -> 0 | O54: =SUM(Ahualulco!F51,Alaquines!F51,Aquismon!F51,ArmadillodelosInfante!F51,AxtladeTerrazas!F51,Catorce!F51,Cedral!F51,Cerritos!F51,CerrodeSanPedro!F51,Charcas!F51,CiudadFernandez!F51,CiudadValles!F51,CiudaddelMaiz!F51,Coxcatlan!F51,Cardenas!F51,Ebano!F51,ElNaranjo!F51,Guadalcazar!F51,Huehuetlan!F51,Lagunillas!F51,Matehuala!F51,Matlapa!F51,MexquiticdeCarmona!F51,Moctezuma!F51,Rayon!F51,Rioverde!F51,Salinas!F51,SanAntonio!F51,SanCirodeAcosta!F51,SanLuisPotosi!F51,SanMartinChalchicuautla!F51,SanNicolasTolentino!F51,SanVicenteTancuayalab!F51,SantaCatarina!F51,SantaMariadelRio!F51,SantoDomingo!F51,SoledaddeGracianoSanchez!F51,Tamasopo!F51,Tamazunchale!F51,Tampacan!F51,TampamolonCorona!F51,Tamuin!F51,Tancanhuitz!F51,Tanlajas!F51,TanquiandeEscobedo!F51,TierraNueva!F51,Vanegas!F51,Venado!F51,VillaHidalgo!F51,VillaJuarez!F51,VilladeArista!F51,VilladeArriaga!F51,VilladeGuadalupe!F51,VilladeRamos!F51,VilladeReyes!F51,VilladelaPaz!F51,Xilitla!F51,Zaragoza!F51) -> 55 | P54: =SUM(P55:P59) -> 55 | Q54: =SUM(R54:X54) -> 61 | R54: =SUM(R55:R59) -> 1 | S54: =SUM(S55:S59) -> 12 | T54: =SUM(T55:T59) -> 6 | U54: =SUM(U55:U59) -> 1 | V54: =SUM(V55:V59) -> 26 | W54: =SUM(W55:W59) -> 15 | X54: =SUM(X55:X59) -> 0 | Z54: =SUM(E54,P54) -> 55 | AA54: =SUM(F54,Q54) -> 61 | AB54: =SUM(G54,R54) -> 1 | AC54: =SUM(H54,S54) -> 12 | AD54: =SUM(I54,T54) -> 6 | AE54: =SUM(J54,U54) -> 1 | AF54: =SUM(K54,V54) -> 26 | AG54: =SUM(L54,W54) -> 15 | AH54: =SUM(M54,X54) -> 0
B55: 1.2.2.1 | C55: Con arma de fuego | D55: =SUM(Ahualulco!D52,Alaquines!D52,Aquismon!D52,ArmadillodelosInfante!D52,AxtladeTerrazas!D52,Catorce!D52,Cedral!D52,Cerritos!D52,CerrodeSanPedro!D52,Charcas!D52,CiudadFernandez!D52,CiudadValles!D52,CiudaddelMaiz!D52,Coxcatlan!D52,Cardenas!D52,Ebano!D52,ElNaranjo!D52,Guadalcazar!D52,Huehuetlan!D52,Lagunillas!D52,Matehuala!D52,Matlapa!D52,MexquiticdeCarmona!D52,Moctezuma!D52,Rayon!D52,Rioverde!D52,Salinas!D52,SanAntonio!D52,SanCirodeAcosta!D52,SanLuisPotosi!D52,SanMartinChalchicuautla!D52,SanNicolasTolentino!D52,SanVicenteTancuayalab!D52,SantaCatarina!D52,SantaMariadelRio!D52,SantoDomingo!D52,SoledaddeGracianoSanchez!D52,Tamasopo!D52,Tamazunchale!D52,Tampacan!D52,TampamolonCorona!D52,Tamuin!D52,Tancanhuitz!D52,Tanlajas!D52,TanquiandeEscobedo!D52,TierraNueva!D52,Vanegas!D52,Venado!D52,VillaHidalgo!D52,VillaJuarez!D52,VilladeArista!D52,VilladeArriaga!D52,VilladeGuadalupe!D52,VilladeRamos!D52,VilladeReyes!D52,VilladelaPaz!D52,Xilitla!D52,Zaragoza!D52) -> 0 | E55: 0 | F55: =SUM(G55:M55) -> 0 | G55: 0 | H55: 0 | I55: 0 | J55: 0 | K55: 0 | L55: 0 | M55: 0 | O55: =SUM(Ahualulco!F52,Alaquines!F52,Aquismon!F52,ArmadillodelosInfante!F52,AxtladeTerrazas!F52,Catorce!F52,Cedral!F52,Cerritos!F52,CerrodeSanPedro!F52,Charcas!F52,CiudadFernandez!F52,CiudadValles!F52,CiudaddelMaiz!F52,Coxcatlan!F52,Cardenas!F52,Ebano!F52,ElNaranjo!F52,Guadalcazar!F52,Huehuetlan!F52,Lagunillas!F52,Matehuala!F52,Matlapa!F52,MexquiticdeCarmona!F52,Moctezuma!F52,Rayon!F52,Rioverde!F52,Salinas!F52,SanAntonio!F52,SanCirodeAcosta!F52,SanLuisPotosi!F52,SanMartinChalchicuautla!F52,SanNicolasTolentino!F52,SanVicenteTancuayalab!F52,SantaCatarina!F52,SantaMariadelRio!F52,SantoDomingo!F52,SoledaddeGracianoSanchez!F52,Tamasopo!F52,Tamazunchale!F52,Tampacan!F52,TampamolonCorona!F52,Tamuin!F52,Tancanhuitz!F52,Tanlajas!F52,TanquiandeEscobedo!F52,TierraNueva!F52,Vanegas!F52,Venado!F52,VillaHidalgo!F52,VillaJuarez!F52,VilladeArista!F52,VilladeArriaga!F52,VilladeGuadalupe!F52,VilladeRamos!F52,VilladeReyes!F52,VilladelaPaz!F52,Xilitla!F52,Zaragoza!F52) -> 0 | P55: 0 | Q55: =SUM(R55:X55) -> 0 | R55: 0 | S55: 0 | T55: 0 | U55: 0 | V55: 0 | W55: 0 | X55: 0 | Z55: =SUM(E55,P55) -> 0 | AA55: =SUM(F55,Q55) -> 0 | AB55: =SUM(G55,R55) -> 0 | AC55: =SUM(H55,S55) -> 0 | AD55: =SUM(I55,T55) -> 0 | AE55: =SUM(J55,U55) -> 0 | AF55: =SUM(K55,V55) -> 0 | AG55: =SUM(L55,W55) -> 0 | AH55: =SUM(M55,X55) -> 0
B56: 1.2.2.2 | C56: Con arma blanca | D56: =SUM(Ahualulco!D53,Alaquines!D53,Aquismon!D53,ArmadillodelosInfante!D53,AxtladeTerrazas!D53,Catorce!D53,Cedral!D53,Cerritos!D53,CerrodeSanPedro!D53,Charcas!D53,CiudadFernandez!D53,CiudadValles!D53,CiudaddelMaiz!D53,Coxcatlan!D53,Cardenas!D53,Ebano!D53,ElNaranjo!D53,Guadalcazar!D53,Huehuetlan!D53,Lagunillas!D53,Matehuala!D53,Matlapa!D53,MexquiticdeCarmona!D53,Moctezuma!D53,Rayon!D53,Rioverde!D53,Salinas!D53,SanAntonio!D53,SanCirodeAcosta!D53,SanLuisPotosi!D53,SanMartinChalchicuautla!D53,SanNicolasTolentino!D53,SanVicenteTancuayalab!D53,SantaCatarina!D53,SantaMariadelRio!D53,SantoDomingo!D53,SoledaddeGracianoSanchez!D53,Tamasopo!D53,Tamazunchale!D53,Tampacan!D53,TampamolonCorona!D53,Tamuin!D53,Tancanhuitz!D53,Tanlajas!D53,TanquiandeEscobedo!D53,TierraNueva!D53,Vanegas!D53,Venado!D53,VillaHidalgo!D53,VillaJuarez!D53,VilladeArista!D53,VilladeArriaga!D53,VilladeGuadalupe!D53,VilladeRamos!D53,VilladeReyes!D53,VilladelaPaz!D53,Xilitla!D53,Zaragoza!D53) -> 0 | E56: 0 | F56: =SUM(G56:M56) -> 0 | G56: 0 | H56: 0 | I56: 0 | J56: 0 | K56: 0 | L56: 0 | M56: 0 | O56: =SUM(Ahualulco!F53,Alaquines!F53,Aquismon!F53,ArmadillodelosInfante!F53,AxtladeTerrazas!F53,Catorce!F53,Cedral!F53,Cerritos!F53,CerrodeSanPedro!F53,Charcas!F53,CiudadFernandez!F53,CiudadValles!F53,CiudaddelMaiz!F53,Coxcatlan!F53,Cardenas!F53,Ebano!F53,ElNaranjo!F53,Guadalcazar!F53,Huehuetlan!F53,Lagunillas!F53,Matehuala!F53,Matlapa!F53,MexquiticdeCarmona!F53,Moctezuma!F53,Rayon!F53,Rioverde!F53,Salinas!F53,SanAntonio!F53,SanCirodeAcosta!F53,SanLuisPotosi!F53,SanMartinChalchicuautla!F53,SanNicolasTolentino!F53,SanVicenteTancuayalab!F53,SantaCatarina!F53,SantaMariadelRio!F53,SantoDomingo!F53,SoledaddeGracianoSanchez!F53,Tamasopo!F53,Tamazunchale!F53,Tampacan!F53,TampamolonCorona!F53,Tamuin!F53,Tancanhuitz!F53,Tanlajas!F53,TanquiandeEscobedo!F53,TierraNueva!F53,Vanegas!F53,Venado!F53,VillaHidalgo!F53,VillaJuarez!F53,VilladeArista!F53,VilladeArriaga!F53,VilladeGuadalupe!F53,VilladeRamos!F53,VilladeReyes!F53,VilladelaPaz!F53,Xilitla!F53,Zaragoza!F53) -> 0 | P56: 0 | Q56: =SUM(R56:X56) -> 0 | R56: 0 | S56: 0 | T56: 0 | U56: 0 | V56: 0 | W56: 0 | X56: 0 | Z56: =SUM(E56,P56) -> 0 | AA56: =SUM(F56,Q56) -> 0 | AB56: =SUM(G56,R56) -> 0 | AC56: =SUM(H56,S56) -> 0 | AD56: =SUM(I56,T56) -> 0 | AE56: =SUM(J56,U56) -> 0 | AF56: =SUM(K56,V56) -> 0 | AG56: =SUM(L56,W56) -> 0 | AH56: =SUM(M56,X56) -> 0
B57: 1.2.2.3 | C57: En accidente de tránsito | D57: =SUM(Ahualulco!D54,Alaquines!D54,Aquismon!D54,ArmadillodelosInfante!D54,AxtladeTerrazas!D54,Catorce!D54,Cedral!D54,Cerritos!D54,CerrodeSanPedro!D54,Charcas!D54,CiudadFernandez!D54,CiudadValles!D54,CiudaddelMaiz!D54,Coxcatlan!D54,Cardenas!D54,Ebano!D54,ElNaranjo!D54,Guadalcazar!D54,Huehuetlan!D54,Lagunillas!D54,Matehuala!D54,Matlapa!D54,MexquiticdeCarmona!D54,Moctezuma!D54,Rayon!D54,Rioverde!D54,Salinas!D54,SanAntonio!D54,SanCirodeAcosta!D54,SanLuisPotosi!D54,SanMartinChalchicuautla!D54,SanNicolasTolentino!D54,SanVicenteTancuayalab!D54,SantaCatarina!D54,SantaMariadelRio!D54,SantoDomingo!D54,SoledaddeGracianoSanchez!D54,Tamasopo!D54,Tamazunchale!D54,Tampacan!D54,TampamolonCorona!D54,Tamuin!D54,Tancanhuitz!D54,Tanlajas!D54,TanquiandeEscobedo!D54,TierraNueva!D54,Vanegas!D54,Venado!D54,VillaHidalgo!D54,VillaJuarez!D54,VilladeArista!D54,VilladeArriaga!D54,VilladeGuadalupe!D54,VilladeRamos!D54,VilladeReyes!D54,VilladelaPaz!D54,Xilitla!D54,Zaragoza!D54) -> 0 | E57: 0 | F57: =SUM(G57:M57) -> 0 | G57: 0 | H57: 0 | I57: 0 | J57: 0 | K57: 0 | L57: 0 | M57: 0 | O57: =SUM(Ahualulco!F54,Alaquines!F54,Aquismon!F54,ArmadillodelosInfante!F54,AxtladeTerrazas!F54,Catorce!F54,Cedral!F54,Cerritos!F54,CerrodeSanPedro!F54,Charcas!F54,CiudadFernandez!F54,CiudadValles!F54,CiudaddelMaiz!F54,Coxcatlan!F54,Cardenas!F54,Ebano!F54,ElNaranjo!F54,Guadalcazar!F54,Huehuetlan!F54,Lagunillas!F54,Matehuala!F54,Matlapa!F54,MexquiticdeCarmona!F54,Moctezuma!F54,Rayon!F54,Rioverde!F54,Salinas!F54,SanAntonio!F54,SanCirodeAcosta!F54,SanLuisPotosi!F54,SanMartinChalchicuautla!F54,SanNicolasTolentino!F54,SanVicenteTancuayalab!F54,SantaCatarina!F54,SantaMariadelRio!F54,SantoDomingo!F54,SoledaddeGracianoSanchez!F54,Tamasopo!F54,Tamazunchale!F54,Tampacan!F54,TampamolonCorona!F54,Tamuin!F54,Tancanhuitz!F54,Tanlajas!F54,TanquiandeEscobedo!F54,TierraNueva!F54,Vanegas!F54,Venado!F54,VillaHidalgo!F54,VillaJuarez!F54,VilladeArista!F54,VilladeArriaga!F54,VilladeGuadalupe!F54,VilladeRamos!F54,VilladeReyes!F54,VilladelaPaz!F54,Xilitla!F54,Zaragoza!F54) -> 55 | P57: 55 | Q57: =SUM(R57:X57) -> 61 | R57: 1 | S57: 12 | T57: 6 | U57: 1 | V57: 26 | W57: 15 | X57: 0 | Z57: =SUM(E57,P57) -> 55 | AA57: =SUM(F57,Q57) -> 61 | AB57: =SUM(G57,R57) -> 1 | AC57: =SUM(H57,S57) -> 12 | AD57: =SUM(I57,T57) -> 6 | AE57: =SUM(J57,U57) -> 1 | AF57: =SUM(K57,V57) -> 26 | AG57: =SUM(L57,W57) -> 15 | AH57: =SUM(M57,X57) -> 0
B58: 1.2.2.4 | C58: Con otro elemento | D58: =SUM(Ahualulco!D55,Alaquines!D55,Aquismon!D55,ArmadillodelosInfante!D55,AxtladeTerrazas!D55,Catorce!D55,Cedral!D55,Cerritos!D55,CerrodeSanPedro!D55,Charcas!D55,CiudadFernandez!D55,CiudadValles!D55,CiudaddelMaiz!D55,Coxcatlan!D55,Cardenas!D55,Ebano!D55,ElNaranjo!D55,Guadalcazar!D55,Huehuetlan!D55,Lagunillas!D55,Matehuala!D55,Matlapa!D55,MexquiticdeCarmona!D55,Moctezuma!D55,Rayon!D55,Rioverde!D55,Salinas!D55,SanAntonio!D55,SanCirodeAcosta!D55,SanLuisPotosi!D55,SanMartinChalchicuautla!D55,SanNicolasTolentino!D55,SanVicenteTancuayalab!D55,SantaCatarina!D55,SantaMariadelRio!D55,SantoDomingo!D55,SoledaddeGracianoSanchez!D55,Tamasopo!D55,Tamazunchale!D55,Tampacan!D55,TampamolonCorona!D55,Tamuin!D55,Tancanhuitz!D55,Tanlajas!D55,TanquiandeEscobedo!D55,TierraNueva!D55,Vanegas!D55,Venado!D55,VillaHidalgo!D55,VillaJuarez!D55,VilladeArista!D55,VilladeArriaga!D55,VilladeGuadalupe!D55,VilladeRamos!D55,VilladeReyes!D55,VilladelaPaz!D55,Xilitla!D55,Zaragoza!D55) -> 0 | E58: 0 | F58: =SUM(G58:M58) -> 0 | G58: 0 | H58: 0 | I58: 0 | J58: 0 | K58: 0 | L58: 0 | M58: 0 | O58: =SUM(Ahualulco!F55,Alaquines!F55,Aquismon!F55,ArmadillodelosInfante!F55,AxtladeTerrazas!F55,Catorce!F55,Cedral!F55,Cerritos!F55,CerrodeSanPedro!F55,Charcas!F55,CiudadFernandez!F55,CiudadValles!F55,CiudaddelMaiz!F55,Coxcatlan!F55,Cardenas!F55,Ebano!F55,ElNaranjo!F55,Guadalcazar!F55,Huehuetlan!F55,Lagunillas!F55,Matehuala!F55,Matlapa!F55,MexquiticdeCarmona!F55,Moctezuma!F55,Rayon!F55,Rioverde!F55,Salinas!F55,SanAntonio!F55,SanCirodeAcosta!F55,SanLuisPotosi!F55,SanMartinChalchicuautla!F55,SanNicolasTolentino!F55,SanVicenteTancuayalab!F55,SantaCatarina!F55,SantaMariadelRio!F55,SantoDomingo!F55,SoledaddeGracianoSanchez!F55,Tamasopo!F55,Tamazunchale!F55,Tampacan!F55,TampamolonCorona!F55,Tamuin!F55,Tancanhuitz!F55,Tanlajas!F55,TanquiandeEscobedo!F55,TierraNueva!F55,Vanegas!F55,Venado!F55,VillaHidalgo!F55,VillaJuarez!F55,VilladeArista!F55,VilladeArriaga!F55,VilladeGuadalupe!F55,VilladeRamos!F55,VilladeReyes!F55,VilladelaPaz!F55,Xilitla!F55,Zaragoza!F55) -> 0 | P58: 0 | Q58: =SUM(R58:X58) -> 0 | R58: 0 | S58: 0 | T58: 0 | U58: 0 | V58: 0 | W58: 0 | X58: 0 | Z58: =SUM(E58,P58) -> 0 | AA58: =SUM(F58,Q58) -> 0 | AB58: =SUM(G58,R58) -> 0 | AC58: =SUM(H58,S58) -> 0 | AD58: =SUM(I58,T58) -> 0 | AE58: =SUM(J58,U58) -> 0 | AF58: =SUM(K58,V58) -> 0 | AG58: =SUM(L58,W58) -> 0 | AH58: =SUM(M58,X58) -> 0
B59: 1.2.2.5 | C59: No especificado | D59: =SUM(Ahualulco!D56,Alaquines!D56,Aquismon!D56,ArmadillodelosInfante!D56,AxtladeTerrazas!D56,Catorce!D56,Cedral!D56,Cerritos!D56,CerrodeSanPedro!D56,Charcas!D56,CiudadFernandez!D56,CiudadValles!D56,CiudaddelMaiz!D56,Coxcatlan!D56,Cardenas!D56,Ebano!D56,ElNaranjo!D56,Guadalcazar!D56,Huehuetlan!D56,Lagunillas!D56,Matehuala!D56,Matlapa!D56,MexquiticdeCarmona!D56,Moctezuma!D56,Rayon!D56,Rioverde!D56,Salinas!D56,SanAntonio!D56,SanCirodeAcosta!D56,SanLuisPotosi!D56,SanMartinChalchicuautla!D56,SanNicolasTolentino!D56,SanVicenteTancuayalab!D56,SantaCatarina!D56,SantaMariadelRio!D56,SantoDomingo!D56,SoledaddeGracianoSanchez!D56,Tamasopo!D56,Tamazunchale!D56,Tampacan!D56,TampamolonCorona!D56,Tamuin!D56,Tancanhuitz!D56,Tanlajas!D56,TanquiandeEscobedo!D56,TierraNueva!D56,Vanegas!D56,Venado!D56,VillaHidalgo!D56,VillaJuarez!D56,VilladeArista!D56,VilladeArriaga!D56,VilladeGuadalupe!D56,VilladeRamos!D56,VilladeReyes!D56,VilladelaPaz!D56,Xilitla!D56,Zaragoza!D56) -> 0 | E59: 0 | F59: =SUM(G59:M59) -> 0 | G59: 0 | H59: 0 | I59: 0 | J59: 0 | K59: 0 | L59: 0 | M59: 0 | O59: =SUM(Ahualulco!F56,Alaquines!F56,Aquismon!F56,ArmadillodelosInfante!F56,AxtladeTerrazas!F56,Catorce!F56,Cedral!F56,Cerritos!F56,CerrodeSanPedro!F56,Charcas!F56,CiudadFernandez!F56,CiudadValles!F56,CiudaddelMaiz!F56,Coxcatlan!F56,Cardenas!F56,Ebano!F56,ElNaranjo!F56,Guadalcazar!F56,Huehuetlan!F56,Lagunillas!F56,Matehuala!F56,Matlapa!F56,MexquiticdeCarmona!F56,Moctezuma!F56,Rayon!F56,Rioverde!F56,Salinas!F56,SanAntonio!F56,SanCirodeAcosta!F56,SanLuisPotosi!F56,SanMartinChalchicuautla!F56,SanNicolasTolentino!F56,SanVicenteTancuayalab!F56,SantaCatarina!F56,SantaMariadelRio!F56,SantoDomingo!F56,SoledaddeGracianoSanchez!F56,Tamasopo!F56,Tamazunchale!F56,Tampacan!F56,TampamolonCorona!F56,Tamuin!F56,Tancanhuitz!F56,Tanlajas!F56,TanquiandeEscobedo!F56,TierraNueva!F56,Vanegas!F56,Venado!F56,VillaHidalgo!F56,VillaJuarez!F56,VilladeArista!F56,VilladeArriaga!F56,VilladeGuadalupe!F56,VilladeRamos!F56,VilladeReyes!F56,VilladelaPaz!F56,Xilitla!F56,Zaragoza!F56) -> 0 | P59: 0 | Q59: =SUM(R59:X59) -> 0 | R59: 0 | S59: 0 | T59: 0 | U59: 0 | V59: 0 | W59: 0 | X59: 0 | Z59: =SUM(E59,P59) -> 0 | AA59: =SUM(F59,Q59) -> 0 | AB59: =SUM(G59,R59) -> 0 | AC59: =SUM(H59,S59) -> 0 | AD59: =SUM(I59,T59) -> 0 | AE59: =SUM(J59,U59) -> 0 | AF59: =SUM(K59,V59) -> 0 | AG59: =SUM(L59,W59) -> 0 | AH59: =SUM(M59,X59) -> 0
B60: 1.3 | C60: Feminicidio | D60: =SUM(Ahualulco!D57,Alaquines!D57,Aquismon!D57,ArmadillodelosInfante!D57,AxtladeTerrazas!D57,Catorce!D57,Cedral!D57,Cerritos!D57,CerrodeSanPedro!D57,Charcas!D57,CiudadFernandez!D57,CiudadValles!D57,CiudaddelMaiz!D57,Coxcatlan!D57,Cardenas!D57,Ebano!D57,ElNaranjo!D57,Guadalcazar!D57,Huehuetlan!D57,Lagunillas!D57,Matehuala!D57,Matlapa!D57,MexquiticdeCarmona!D57,Moctezuma!D57,Rayon!D57,Rioverde!D57,Salinas!D57,SanAntonio!D57,SanCirodeAcosta!D57,SanLuisPotosi!D57,SanMartinChalchicuautla!D57,SanNicolasTolentino!D57,SanVicenteTancuayalab!D57,SantaCatarina!D57,SantaMariadelRio!D57,SantoDomingo!D57,SoledaddeGracianoSanchez!D57,Tamasopo!D57,Tamazunchale!D57,Tampacan!D57,TampamolonCorona!D57,Tamuin!D57,Tancanhuitz!D57,Tanlajas!D57,TanquiandeEscobedo!D57,TierraNueva!D57,Vanegas!D57,Venado!D57,VillaHidalgo!D57,VillaJuarez!D57,VilladeArista!D57,VilladeArriaga!D57,VilladeGuadalupe!D57,VilladeRamos!D57,VilladeReyes!D57,VilladelaPaz!D57,Xilitla!D57,Zaragoza!D57) -> 0 | E60: =SUM(E61:E64) -> 0 | F60: =SUM(G60:I60) -> 0 | G60: =SUM(G61:G64) -> 0 | H60: =SUM(H61:H64) -> 0 | I60: =SUM(I61:I64) -> 0 | O60: =SUM(Ahualulco!F57,Alaquines!F57,Aquismon!F57,ArmadillodelosInfante!F57,AxtladeTerrazas!F57,Catorce!F57,Cedral!F57,Cerritos!F57,CerrodeSanPedro!F57,Charcas!F57,CiudadFernandez!F57,CiudadValles!F57,CiudaddelMaiz!F57,Coxcatlan!F57,Cardenas!F57,Ebano!F57,ElNaranjo!F57,Guadalcazar!F57,Huehuetlan!F57,Lagunillas!F57,Matehuala!F57,Matlapa!F57,MexquiticdeCarmona!F57,Moctezuma!F57,Rayon!F57,Rioverde!F57,Salinas!F57,SanAntonio!F57,SanCirodeAcosta!F57,SanLuisPotosi!F57,SanMartinChalchicuautla!F57,SanNicolasTolentino!F57,SanVicenteTancuayalab!F57,SantaCatarina!F57,SantaMariadelRio!F57,SantoDomingo!F57,SoledaddeGracianoSanchez!F57,Tamasopo!F57,Tamazunchale!F57,Tampacan!F57,TampamolonCorona!F57,Tamuin!F57,Tancanhuitz!F57,Tanlajas!F57,TanquiandeEscobedo!F57,TierraNueva!F57,Vanegas!F57,Venado!F57,VillaHidalgo!F57,VillaJuarez!F57,VilladeArista!F57,VilladeArriaga!F57,VilladeGuadalupe!F57,VilladeRamos!F57,VilladeReyes!F57,VilladelaPaz!F57,Xilitla!F57,Zaragoza!F57) -> 2 | P60: =SUM(P61:P64) -> 2 | Q60: =SUM(R60:T60) -> 2 | R60: =SUM(R61:R64) -> 0 | S60: =SUM(S61:S64) -> 2 | T60: =SUM(T61:T64) -> 0 | Z60: =SUM(E60,P60) -> 2 | AA60: =SUM(F60,Q60) -> 2 | AB60: =SUM(G60,R60) -> 0 | AC60: =SUM(H60,S60) -> 2 | AD60: =SUM(I60,T60) -> 0
B61: 1.3.1 | C61: Con arma de fuego | D61: =SUM(Ahualulco!D58,Alaquines!D58,Aquismon!D58,ArmadillodelosInfante!D58,AxtladeTerrazas!D58,Catorce!D58,Cedral!D58,Cerritos!D58,CerrodeSanPedro!D58,Charcas!D58,CiudadFernandez!D58,CiudadValles!D58,CiudaddelMaiz!D58,Coxcatlan!D58,Cardenas!D58,Ebano!D58,ElNaranjo!D58,Guadalcazar!D58,Huehuetlan!D58,Lagunillas!D58,Matehuala!D58,Matlapa!D58,MexquiticdeCarmona!D58,Moctezuma!D58,Rayon!D58,Rioverde!D58,Salinas!D58,SanAntonio!D58,SanCirodeAcosta!D58,SanLuisPotosi!D58,SanMartinChalchicuautla!D58,SanNicolasTolentino!D58,SanVicenteTancuayalab!D58,SantaCatarina!D58,SantaMariadelRio!D58,SantoDomingo!D58,SoledaddeGracianoSanchez!D58,Tamasopo!D58,Tamazunchale!D58,Tampacan!D58,TampamolonCorona!D58,Tamuin!D58,Tancanhuitz!D58,Tanlajas!D58,TanquiandeEscobedo!D58,TierraNueva!D58,Vanegas!D58,Venado!D58,VillaHidalgo!D58,VillaJuarez!D58,VilladeArista!D58,VilladeArriaga!D58,VilladeGuadalupe!D58,VilladeRamos!D58,VilladeReyes!D58,VilladelaPaz!D58,Xilitla!D58,Zaragoza!D58) -> 0 | E61: 0 | F61: =SUM(G61:I61) -> 0 | G61: 0 | H61: 0 | I61: 0 | O61: =SUM(Ahualulco!F58,Alaquines!F58,Aquismon!F58,ArmadillodelosInfante!F58,AxtladeTerrazas!F58,Catorce!F58,Cedral!F58,Cerritos!F58,CerrodeSanPedro!F58,Charcas!F58,CiudadFernandez!F58,CiudadValles!F58,CiudaddelMaiz!F58,Coxcatlan!F58,Cardenas!F58,Ebano!F58,ElNaranjo!F58,Guadalcazar!F58,Huehuetlan!F58,Lagunillas!F58,Matehuala!F58,Matlapa!F58,MexquiticdeCarmona!F58,Moctezuma!F58,Rayon!F58,Rioverde!F58,Salinas!F58,SanAntonio!F58,SanCirodeAcosta!F58,SanLuisPotosi!F58,SanMartinChalchicuautla!F58,SanNicolasTolentino!F58,SanVicenteTancuayalab!F58,SantaCatarina!F58,SantaMariadelRio!F58,SantoDomingo!F58,SoledaddeGracianoSanchez!F58,Tamasopo!F58,Tamazunchale!F58,Tampacan!F58,TampamolonCorona!F58,Tamuin!F58,Tancanhuitz!F58,Tanlajas!F58,TanquiandeEscobedo!F58,TierraNueva!F58,Vanegas!F58,Venado!F58,VillaHidalgo!F58,VillaJuarez!F58,VilladeArista!F58,VilladeArriaga!F58,VilladeGuadalupe!F58,VilladeRamos!F58,VilladeReyes!F58,VilladelaPaz!F58,Xilitla!F58,Zaragoza!F58) -> 1 | P61: 1 | Q61: =SUM(R61:T61) -> 1 | R61: 0 | S61: 1 | T61: 0 | Z61: =SUM(E61,P61) -> 1 | AA61: =SUM(F61,Q61) -> 1 | AB61: =SUM(G61,R61) -> 0 | AC61: =SUM(H61,S61) -> 1 | AD61: =SUM(I61,T61) -> 0
B62: 1.3.2 | C62: Con arma blanca | D62: =SUM(Ahualulco!D59,Alaquines!D59,Aquismon!D59,ArmadillodelosInfante!D59,AxtladeTerrazas!D59,Catorce!D59,Cedral!D59,Cerritos!D59,CerrodeSanPedro!D59,Charcas!D59,CiudadFernandez!D59,CiudadValles!D59,CiudaddelMaiz!D59,Coxcatlan!D59,Cardenas!D59,Ebano!D59,ElNaranjo!D59,Guadalcazar!D59,Huehuetlan!D59,Lagunillas!D59,Matehuala!D59,Matlapa!D59,MexquiticdeCarmona!D59,Moctezuma!D59,Rayon!D59,Rioverde!D59,Salinas!D59,SanAntonio!D59,SanCirodeAcosta!D59,SanLuisPotosi!D59,SanMartinChalchicuautla!D59,SanNicolasTolentino!D59,SanVicenteTancuayalab!D59,SantaCatarina!D59,SantaMariadelRio!D59,SantoDomingo!D59,SoledaddeGracianoSanchez!D59,Tamasopo!D59,Tamazunchale!D59,Tampacan!D59,TampamolonCorona!D59,Tamuin!D59,Tancanhuitz!D59,Tanlajas!D59,TanquiandeEscobedo!D59,TierraNueva!D59,Vanegas!D59,Venado!D59,VillaHidalgo!D59,VillaJuarez!D59,VilladeArista!D59,VilladeArriaga!D59,VilladeGuadalupe!D59,VilladeRamos!D59,VilladeReyes!D59,VilladelaPaz!D59,Xilitla!D59,Zaragoza!D59) -> 0 | E62: 0 | F62: =SUM(G62:I62) -> 0 | G62: 0 | H62: 0 | I62: 0 | O62: =SUM(Ahualulco!F59,Alaquines!F59,Aquismon!F59,ArmadillodelosInfante!F59,AxtladeTerrazas!F59,Catorce!F59,Cedral!F59,Cerritos!F59,CerrodeSanPedro!F59,Charcas!F59,CiudadFernandez!F59,CiudadValles!F59,CiudaddelMaiz!F59,Coxcatlan!F59,Cardenas!F59,Ebano!F59,ElNaranjo!F59,Guadalcazar!F59,Huehuetlan!F59,Lagunillas!F59,Matehuala!F59,Matlapa!F59,MexquiticdeCarmona!F59,Moctezuma!F59,Rayon!F59,Rioverde!F59,Salinas!F59,SanAntonio!F59,SanCirodeAcosta!F59,SanLuisPotosi!F59,SanMartinChalchicuautla!F59,SanNicolasTolentino!F59,SanVicenteTancuayalab!F59,SantaCatarina!F59,SantaMariadelRio!F59,SantoDomingo!F59,SoledaddeGracianoSanchez!F59,Tamasopo!F59,Tamazunchale!F59,Tampacan!F59,TampamolonCorona!F59,Tamuin!F59,Tancanhuitz!F59,Tanlajas!F59,TanquiandeEscobedo!F59,TierraNueva!F59,Vanegas!F59,Venado!F59,VillaHidalgo!F59,VillaJuarez!F59,VilladeArista!F59,VilladeArriaga!F59,VilladeGuadalupe!F59,VilladeRamos!F59,VilladeReyes!F59,VilladelaPaz!F59,Xilitla!F59,Zaragoza!F59) -> 1 | P62: 1 | Q62: =SUM(R62:T62) -> 1 | R62: 0 | S62: 1 | T62: 0 | Z62: =SUM(E62,P62) -> 1 | AA62: =SUM(F62,Q62) -> 1 | AB62: =SUM(G62,R62) -> 0 | AC62: =SUM(H62,S62) -> 1 | AD62: =SUM(I62,T62) -> 0
B63: 1.3.3 | C63: Con otro elemento | D63: =SUM(Ahualulco!D60,Alaquines!D60,Aquismon!D60,ArmadillodelosInfante!D60,AxtladeTerrazas!D60,Catorce!D60,Cedral!D60,Cerritos!D60,CerrodeSanPedro!D60,Charcas!D60,CiudadFernandez!D60,CiudadValles!D60,CiudaddelMaiz!D60,Coxcatlan!D60,Cardenas!D60,Ebano!D60,ElNaranjo!D60,Guadalcazar!D60,Huehuetlan!D60,Lagunillas!D60,Matehuala!D60,Matlapa!D60,MexquiticdeCarmona!D60,Moctezuma!D60,Rayon!D60,Rioverde!D60,Salinas!D60,SanAntonio!D60,SanCirodeAcosta!D60,SanLuisPotosi!D60,SanMartinChalchicuautla!D60,SanNicolasTolentino!D60,SanVicenteTancuayalab!D60,SantaCatarina!D60,SantaMariadelRio!D60,SantoDomingo!D60,SoledaddeGracianoSanchez!D60,Tamasopo!D60,Tamazunchale!D60,Tampacan!D60,TampamolonCorona!D60,Tamuin!D60,Tancanhuitz!D60,Tanlajas!D60,TanquiandeEscobedo!D60,TierraNueva!D60,Vanegas!D60,Venado!D60,VillaHidalgo!D60,VillaJuarez!D60,VilladeArista!D60,VilladeArriaga!D60,VilladeGuadalupe!D60,VilladeRamos!D60,VilladeReyes!D60,VilladelaPaz!D60,Xilitla!D60,Zaragoza!D60) -> 0 | E63: 0 | F63: =SUM(G63:I63) -> 0 | G63: 0 | H63: 0 | I63: 0 | O63: =SUM(Ahualulco!F60,Alaquines!F60,Aquismon!F60,ArmadillodelosInfante!F60,AxtladeTerrazas!F60,Catorce!F60,Cedral!F60,Cerritos!F60,CerrodeSanPedro!F60,Charcas!F60,CiudadFernandez!F60,CiudadValles!F60,CiudaddelMaiz!F60,Coxcatlan!F60,Cardenas!F60,Ebano!F60,ElNaranjo!F60,Guadalcazar!F60,Huehuetlan!F60,Lagunillas!F60,Matehuala!F60,Matlapa!F60,MexquiticdeCarmona!F60,Moctezuma!F60,Rayon!F60,Rioverde!F60,Salinas!F60,SanAntonio!F60,SanCirodeAcosta!F60,SanLuisPotosi!F60,SanMartinChalchicuautla!F60,SanNicolasTolentino!F60,SanVicenteTancuayalab!F60,SantaCatarina!F60,SantaMariadelRio!F60,SantoDomingo!F60,SoledaddeGracianoSanchez!F60,Tamasopo!F60,Tamazunchale!F60,Tampacan!F60,TampamolonCorona!F60,Tamuin!F60,Tancanhuitz!F60,Tanlajas!F60,TanquiandeEscobedo!F60,TierraNueva!F60,Vanegas!F60,Venado!F60,VillaHidalgo!F60,VillaJuarez!F60,VilladeArista!F60,VilladeArriaga!F60,VilladeGuadalupe!F60,VilladeRamos!F60,VilladeReyes!F60,VilladelaPaz!F60,Xilitla!F60,Zaragoza!F60) -> 0 | P63: 0 | Q63: =SUM(R63:T63) -> 0 | R63: 0 | S63: 0 | T63: 0 | Z63: =SUM(E63,P63) -> 0 | AA63: =SUM(F63,Q63) -> 0 | AB63: =SUM(G63,R63) -> 0 | AC63: =SUM(H63,S63) -> 0 | AD63: =SUM(I63,T63) -> 0
B64: 1.3.4 | C64: No especificado | D64: =SUM(Ahualulco!D61,Alaquines!D61,Aquismon!D61,ArmadillodelosInfante!D61,AxtladeTerrazas!D61,Catorce!D61,Cedral!D61,Cerritos!D61,CerrodeSanPedro!D61,Charcas!D61,CiudadFernandez!D61,CiudadValles!D61,CiudaddelMaiz!D61,Coxcatlan!D61,Cardenas!D61,Ebano!D61,ElNaranjo!D61,Guadalcazar!D61,Huehuetlan!D61,Lagunillas!D61,Matehuala!D61,Matlapa!D61,MexquiticdeCarmona!D61,Moctezuma!D61,Rayon!D61,Rioverde!D61,Salinas!D61,SanAntonio!D61,SanCirodeAcosta!D61,SanLuisPotosi!D61,SanMartinChalchicuautla!D61,SanNicolasTolentino!D61,SanVicenteTancuayalab!D61,SantaCatarina!D61,SantaMariadelRio!D61,SantoDomingo!D61,SoledaddeGracianoSanchez!D61,Tamasopo!D61,Tamazunchale!D61,Tampacan!D61,TampamolonCorona!D61,Tamuin!D61,Tancanhuitz!D61,Tanlajas!D61,TanquiandeEscobedo!D61,TierraNueva!D61,Vanegas!D61,Venado!D61,VillaHidalgo!D61,VillaJuarez!D61,VilladeArista!D61,VilladeArriaga!D61,VilladeGuadalupe!D61,VilladeRamos!D61,VilladeReyes!D61,VilladelaPaz!D61,Xilitla!D61,Zaragoza!D61) -> 0 | E64: 0 | F64: =SUM(G64:I64) -> 0 | G64: 0 | H64: 0 | I64: 0 | O64: =SUM(Ahualulco!F61,Alaquines!F61,Aquismon!F61,ArmadillodelosInfante!F61,AxtladeTerrazas!F61,Catorce!F61,Cedral!F61,Cerritos!F61,CerrodeSanPedro!F61,Charcas!F61,CiudadFernandez!F61,CiudadValles!F61,CiudaddelMaiz!F61,Coxcatlan!F61,Cardenas!F61,Ebano!F61,ElNaranjo!F61,Guadalcazar!F61,Huehuetlan!F61,Lagunillas!F61,Matehuala!F61,Matlapa!F61,MexquiticdeCarmona!F61,Moctezuma!F61,Rayon!F61,Rioverde!F61,Salinas!F61,SanAntonio!F61,SanCirodeAcosta!F61,SanLuisPotosi!F61,SanMartinChalchicuautla!F61,SanNicolasTolentino!F61,SanVicenteTancuayalab!F61,SantaCatarina!F61,SantaMariadelRio!F61,SantoDomingo!F61,SoledaddeGracianoSanchez!F61,Tamasopo!F61,Tamazunchale!F61,Tampacan!F61,TampamolonCorona!F61,Tamuin!F61,Tancanhuitz!F61,Tanlajas!F61,TanquiandeEscobedo!F61,TierraNueva!F61,Vanegas!F61,Venado!F61,VillaHidalgo!F61,VillaJuarez!F61,VilladeArista!F61,VilladeArriaga!F61,VilladeGuadalupe!F61,VilladeRamos!F61,VilladeReyes!F61,VilladelaPaz!F61,Xilitla!F61,Zaragoza!F61) -> 0 | P64: 0 | Q64: =SUM(R64:T64) -> 0 | R64: 0 | S64: 0 | T64: 0 | Z64: =SUM(E64,P64) -> 0 | AA64: =SUM(F64,Q64) -> 0 | AB64: =SUM(G64,R64) -> 0 | AC64: =SUM(H64,S64) -> 0 | AD64: =SUM(I64,T64) -> 0
B65: 1.4 | C65: Aborto | D65: =SUM(Ahualulco!D62,Alaquines!D62,Aquismon!D62,ArmadillodelosInfante!D62,AxtladeTerrazas!D62,Catorce!D62,Cedral!D62,Cerritos!D62,CerrodeSanPedro!D62,Charcas!D62,CiudadFernandez!D62,CiudadValles!D62,CiudaddelMaiz!D62,Coxcatlan!D62,Cardenas!D62,Ebano!D62,ElNaranjo!D62,Guadalcazar!D62,Huehuetlan!D62,Lagunillas!D62,Matehuala!D62,Matlapa!D62,MexquiticdeCarmona!D62,Moctezuma!D62,Rayon!D62,Rioverde!D62,Salinas!D62,SanAntonio!D62,SanCirodeAcosta!D62,SanLuisPotosi!D62,SanMartinChalchicuautla!D62,SanNicolasTolentino!D62,SanVicenteTancuayalab!D62,SantaCatarina!D62,SantaMariadelRio!D62,SantoDomingo!D62,SoledaddeGracianoSanchez!D62,Tamasopo!D62,Tamazunchale!D62,Tampacan!D62,TampamolonCorona!D62,Tamuin!D62,Tancanhuitz!D62,Tanlajas!D62,TanquiandeEscobedo!D62,TierraNueva!D62,Vanegas!D62,Venado!D62,VillaHidalgo!D62,VillaJuarez!D62,VilladeArista!D62,VilladeArriaga!D62,VilladeGuadalupe!D62,VilladeRamos!D62,VilladeReyes!D62,VilladelaPaz!D62,Xilitla!D62,Zaragoza!D62) -> 0 | E65: 0 | F65: =M65 -> 0 | O65: =SUM(Ahualulco!F62,Alaquines!F62,Aquismon!F62,ArmadillodelosInfante!F62,AxtladeTerrazas!F62,Catorce!F62,Cedral!F62,Cerritos!F62,CerrodeSanPedro!F62,Charcas!F62,CiudadFernandez!F62,CiudadValles!F62,CiudaddelMaiz!F62,Coxcatlan!F62,Cardenas!F62,Ebano!F62,ElNaranjo!F62,Guadalcazar!F62,Huehuetlan!F62,Lagunillas!F62,Matehuala!F62,Matlapa!F62,MexquiticdeCarmona!F62,Moctezuma!F62,Rayon!F62,Rioverde!F62,Salinas!F62,SanAntonio!F62,SanCirodeAcosta!F62,SanLuisPotosi!F62,SanMartinChalchicuautla!F62,SanNicolasTolentino!F62,SanVicenteTancuayalab!F62,SantaCatarina!F62,SantaMariadelRio!F62,SantoDomingo!F62,SoledaddeGracianoSanchez!F62,Tamasopo!F62,Tamazunchale!F62,Tampacan!F62,TampamolonCorona!F62,Tamuin!F62,Tancanhuitz!F62,Tanlajas!F62,TanquiandeEscobedo!F62,TierraNueva!F62,Vanegas!F62,Venado!F62,VillaHidalgo!F62,VillaJuarez!F62,VilladeArista!F62,VilladeArriaga!F62,VilladeGuadalupe!F62,VilladeRamos!F62,VilladeReyes!F62,VilladelaPaz!F62,Xilitla!F62,Zaragoza!F62) -> 0 | P65: 0 | Q65: =X65 -> 0 | X65: 0 | Z65: =SUM(E65,P65) -> 0 | AA65: =SUM(F65,Q65) -> 0 | AH65: =SUM(M65,X65) -> 0
B66: 1.5 | C66: Otros delitos que atentan contra la vida y la integridad corporal | D66: =SUM(Ahualulco!D63,Alaquines!D63,Aquismon!D63,ArmadillodelosInfante!D63,AxtladeTerrazas!D63,Catorce!D63,Cedral!D63,Cerritos!D63,CerrodeSanPedro!D63,Charcas!D63,CiudadFernandez!D63,CiudadValles!D63,CiudaddelMaiz!D63,Coxcatlan!D63,Cardenas!D63,Ebano!D63,ElNaranjo!D63,Guadalcazar!D63,Huehuetlan!D63,Lagunillas!D63,Matehuala!D63,Matlapa!D63,MexquiticdeCarmona!D63,Moctezuma!D63,Rayon!D63,Rioverde!D63,Salinas!D63,SanAntonio!D63,SanCirodeAcosta!D63,SanLuisPotosi!D63,SanMartinChalchicuautla!D63,SanNicolasTolentino!D63,SanVicenteTancuayalab!D63,SantaCatarina!D63,SantaMariadelRio!D63,SantoDomingo!D63,SoledaddeGracianoSanchez!D63,Tamasopo!D63,Tamazunchale!D63,Tampacan!D63,TampamolonCorona!D63,Tamuin!D63,Tancanhuitz!D63,Tanlajas!D63,TanquiandeEscobedo!D63,TierraNueva!D63,Vanegas!D63,Venado!D63,VillaHidalgo!D63,VillaJuarez!D63,VilladeArista!D63,VilladeArriaga!D63,VilladeGuadalupe!D63,VilladeRamos!D63,VilladeReyes!D63,VilladelaPaz!D63,Xilitla!D63,Zaragoza!D63) -> 0 | E66: 0 | F66: =SUM(G66:M66) -> 0 | G66: 0 | H66: 0 | I66: 0 | J66: 0 | K66: 0 | L66: 0 | M66: 0 | O66: =SUM(Ahualulco!F63,Alaquines!F63,Aquismon!F63,ArmadillodelosInfante!F63,AxtladeTerrazas!F63,Catorce!F63,Cedral!F63,Cerritos!F63,CerrodeSanPedro!F63,Charcas!F63,CiudadFernandez!F63,CiudadValles!F63,CiudaddelMaiz!F63,Coxcatlan!F63,Cardenas!F63,Ebano!F63,ElNaranjo!F63,Guadalcazar!F63,Huehuetlan!F63,Lagunillas!F63,Matehuala!F63,Matlapa!F63,MexquiticdeCarmona!F63,Moctezuma!F63,Rayon!F63,Rioverde!F63,Salinas!F63,SanAntonio!F63,SanCirodeAcosta!F63,SanLuisPotosi!F63,SanMartinChalchicuautla!F63,SanNicolasTolentino!F63,SanVicenteTancuayalab!F63,SantaCatarina!F63,SantaMariadelRio!F63,SantoDomingo!F63,SoledaddeGracianoSanchez!F63,Tamasopo!F63,Tamazunchale!F63,Tampacan!F63,TampamolonCorona!F63,Tamuin!F63,Tancanhuitz!F63,Tanlajas!F63,TanquiandeEscobedo!F63,TierraNueva!F63,Vanegas!F63,Venado!F63,VillaHidalgo!F63,VillaJuarez!F63,VilladeArista!F63,VilladeArriaga!F63,VilladeGuadalupe!F63,VilladeRamos!F63,VilladeReyes!F63,VilladelaPaz!F63,Xilitla!F63,Zaragoza!F63) -> 18 | P66: 18 | Q66: =SUM(R66:X66) -> 18 | R66: 0 | S66: 4 | T66: 2 | U66: 1 | V66: 8 | W66: 3 | X66: 0 | Z66: =SUM(E66,P66) -> 18 | AA66: =SUM(F66,Q66) -> 18 | AB66: =SUM(G66,R66) -> 0 | AC66: =SUM(H66,S66) -> 4 | AD66: =SUM(I66,T66) -> 2 | AE66: =SUM(J66,U66) -> 1 | AF66: =SUM(K66,V66) -> 8 | AG66: =SUM(L66,W66) -> 3 | AH66: =SUM(M66,X66) -> 0
A67: La libertad personal | B67: 2 | C67: Total de delitos contra la libertad personal | D67: =SUM(Ahualulco!D64,Alaquines!D64,Aquismon!D64,ArmadillodelosInfante!D64,AxtladeTerrazas!D64,Catorce!D64,Cedral!D64,Cerritos!D64,CerrodeSanPedro!D64,Charcas!D64,CiudadFernandez!D64,CiudadValles!D64,CiudaddelMaiz!D64,Coxcatlan!D64,Cardenas!D64,Ebano!D64,ElNaranjo!D64,Guadalcazar!D64,Huehuetlan!D64,Lagunillas!D64,Matehuala!D64,Matlapa!D64,MexquiticdeCarmona!D64,Moctezuma!D64,Rayon!D64,Rioverde!D64,Salinas!D64,SanAntonio!D64,SanCirodeAcosta!D64,SanLuisPotosi!D64,SanMartinChalchicuautla!D64,SanNicolasTolentino!D64,SanVicenteTancuayalab!D64,SantaCatarina!D64,SantaMariadelRio!D64,SantoDomingo!D64,SoledaddeGracianoSanchez!D64,Tamasopo!D64,Tamazunchale!D64,Tampacan!D64,TampamolonCorona!D64,Tamuin!D64,Tancanhuitz!D64,Tanlajas!D64,TanquiandeEscobedo!D64,TierraNueva!D64,Vanegas!D64,Venado!D64,VillaHidalgo!D64,VillaJuarez!D64,VilladeArista!D64,VilladeArriaga!D64,VilladeGuadalupe!D64,VilladeRamos!D64,VilladeReyes!D64,VilladelaPaz!D64,Xilitla!D64,Zaragoza!D64) -> 0 | E67: =SUM(E68,E74,E75,E76) -> 0 | F67: =SUM(G67:M67) -> 0 | G67: =SUM(G68,G74,G75,G76) -> 0 | H67: =SUM(H68,H74,H75,H76) -> 0 | I67: =SUM(I68,I74,I75,I76) -> 0 | J67: =SUM(J68,J74,J75,J76) -> 0 | K67: =SUM(K68,K74,K75,K76) -> 0 | L67: =SUM(L68,L74,L75,L76) -> 0 | M67: =SUM(M68,M74,M75,M76) -> 0 | O67: =SUM(Ahualulco!F64,Alaquines!F64,Aquismon!F64,ArmadillodelosInfante!F64,AxtladeTerrazas!F64,Catorce!F64,Cedral!F64,Cerritos!F64,CerrodeSanPedro!F64,Charcas!F64,CiudadFernandez!F64,CiudadValles!F64,CiudaddelMaiz!F64,Coxcatlan!F64,Cardenas!F64,Ebano!F64,ElNaranjo!F64,Guadalcazar!F64,Huehuetlan!F64,Lagunillas!F64,Matehuala!F64,Matlapa!F64,MexquiticdeCarmona!F64,Moctezuma!F64,Rayon!F64,Rioverde!F64,Salinas!F64,SanAntonio!F64,SanCirodeAcosta!F64,SanLuisPotosi!F64,SanMartinChalchicuautla!F64,SanNicolasTolentino!F64,SanVicenteTancuayalab!F64,SantaCatarina!F64,SantaMariadelRio!F64,SantoDomingo!F64,SoledaddeGracianoSanchez!F64,Tamasopo!F64,Tamazunchale!F64,Tampacan!F64,TampamolonCorona!F64,Tamuin!F64,Tancanhuitz!F64,Tanlajas!F64,TanquiandeEscobedo!F64,TierraNueva!F64,Vanegas!F64,Venado!F64,VillaHidalgo!F64,VillaJuarez!F64,VilladeArista!F64,VilladeArriaga!F64,VilladeGuadalupe!F64,VilladeRamos!F64,VilladeReyes!F64,VilladelaPaz!F64,Xilitla!F64,Zaragoza!F64) -> 64 | P67: =SUM(P68,P74,P75,P76) -> 64 | Q67: =SUM(R67:X67) -> 66 | R67: =SUM(R68,R74,R75,R76) -> 6 | S67: =SUM(S68,S74,S75,S76) -> 26 | T67: =SUM(T68,T74,T75,T76) -> 9 | U67: =SUM(U68,U74,U75,U76) -> 3 | V67: =SUM(V68,V74,V75,V76) -> 15 | W67: =SUM(W68,W74,W75,W76) -> 7 | X67: =SUM(X68,X74,X75,X76) -> 0 | Z67: =SUM(E67,P67) -> 64 | AA67: =SUM(F67,Q67) -> 66 | AB67: =SUM(G67,R67) -> 6 | AC67: =SUM(H67,S67) -> 26 | AD67: =SUM(I67,T67) -> 9 | AE67: =SUM(J67,U67) -> 3 | AF67: =SUM(K67,V67) -> 15 | AG67: =SUM(L67,W67) -> 7 | AH67: =SUM(M67,X67) -> 0
B68: 2.1 | C68: Secuestro | D68: =SUM(Ahualulco!D65,Alaquines!D65,Aquismon!D65,ArmadillodelosInfante!D65,AxtladeTerrazas!D65,Catorce!D65,Cedral!D65,Cerritos!D65,CerrodeSanPedro!D65,Charcas!D65,CiudadFernandez!D65,CiudadValles!D65,CiudaddelMaiz!D65,Coxcatlan!D65,Cardenas!D65,Ebano!D65,ElNaranjo!D65,Guadalcazar!D65,Huehuetlan!D65,Lagunillas!D65,Matehuala!D65,Matlapa!D65,MexquiticdeCarmona!D65,Moctezuma!D65,Rayon!D65,Rioverde!D65,Salinas!D65,SanAntonio!D65,SanCirodeAcosta!D65,SanLuisPotosi!D65,SanMartinChalchicuautla!D65,SanNicolasTolentino!D65,SanVicenteTancuayalab!D65,SantaCatarina!D65,SantaMariadelRio!D65,SantoDomingo!D65,SoledaddeGracianoSanchez!D65,Tamasopo!D65,Tamazunchale!D65,Tampacan!D65,TampamolonCorona!D65,Tamuin!D65,Tancanhuitz!D65,Tanlajas!D65,TanquiandeEscobedo!D65,TierraNueva!D65,Vanegas!D65,Venado!D65,VillaHidalgo!D65,VillaJuarez!D65,VilladeArista!D65,VilladeArriaga!D65,VilladeGuadalupe!D65,VilladeRamos!D65,VilladeReyes!D65,VilladelaPaz!D65,Xilitla!D65,Zaragoza!D65) -> 0 | E68: =SUM(E69:E73) -> 0 | F68: =SUM(G68:M68) -> 0 | G68: =SUM(G69:G73) -> 0 | H68: =SUM(H69:H73) -> 0 | I68: =SUM(I69:I73) -> 0 | J68: =SUM(J69:J73) -> 0 | K68: =SUM(K69:K73) -> 0 | L68: =SUM(L69:L73) -> 0 | M68: =SUM(M69:M73) -> 0 | O68: =SUM(Ahualulco!F65,Alaquines!F65,Aquismon!F65,ArmadillodelosInfante!F65,AxtladeTerrazas!F65,Catorce!F65,Cedral!F65,Cerritos!F65,CerrodeSanPedro!F65,Charcas!F65,CiudadFernandez!F65,CiudadValles!F65,CiudaddelMaiz!F65,Coxcatlan!F65,Cardenas!F65,Ebano!F65,ElNaranjo!F65,Guadalcazar!F65,Huehuetlan!F65,Lagunillas!F65,Matehuala!F65,Matlapa!F65,MexquiticdeCarmona!F65,Moctezuma!F65,Rayon!F65,Rioverde!F65,Salinas!F65,SanAntonio!F65,SanCirodeAcosta!F65,SanLuisPotosi!F65,SanMartinChalchicuautla!F65,SanNicolasTolentino!F65,SanVicenteTancuayalab!F65,SantaCatarina!F65,SantaMariadelRio!F65,SantoDomingo!F65,SoledaddeGracianoSanchez!F65,Tamasopo!F65,Tamazunchale!F65,Tampacan!F65,TampamolonCorona!F65,Tamuin!F65,Tancanhuitz!F65,Tanlajas!F65,TanquiandeEscobedo!F65,TierraNueva!F65,Vanegas!F65,Venado!F65,VillaHidalgo!F65,VillaJuarez!F65,VilladeArista!F65,VilladeArriaga!F65,VilladeGuadalupe!F65,VilladeRamos!F65,VilladeReyes!F65,VilladelaPaz!F65,Xilitla!F65,Zaragoza!F65) -> 2 | P68: =SUM(P69:P73) -> 2 | Q68: =SUM(R68:X68) -> 2 | R68: =SUM(R69:R73) -> 0 | S68: =SUM(S69:S73) -> 0 | T68: =SUM(T69:T73) -> 0 | U68: =SUM(U69:U73) -> 0 | V68: =SUM(V69:V73) -> 2 | W68: =SUM(W69:W73) -> 0 | X68: =SUM(X69:X73) -> 0 | Z68: =SUM(E68,P68) -> 2 | AA68: =SUM(F68,Q68) -> 2 | AB68: =SUM(G68,R68) -> 0 | AC68: =SUM(H68,S68) -> 0 | AD68: =SUM(I68,T68) -> 0 | AE68: =SUM(J68,U68) -> 0 | AF68: =SUM(K68,V68) -> 2 | AG68: =SUM(L68,W68) -> 0 | AH68: =SUM(M68,X68) -> 0
B69: 2.1.1 | C69: Secuestro extorsivo | D69: =SUM(Ahualulco!D66,Alaquines!D66,Aquismon!D66,ArmadillodelosInfante!D66,AxtladeTerrazas!D66,Catorce!D66,Cedral!D66,Cerritos!D66,CerrodeSanPedro!D66,Charcas!D66,CiudadFernandez!D66,CiudadValles!D66,CiudaddelMaiz!D66,Coxcatlan!D66,Cardenas!D66,Ebano!D66,ElNaranjo!D66,Guadalcazar!D66,Huehuetlan!D66,Lagunillas!D66,Matehuala!D66,Matlapa!D66,MexquiticdeCarmona!D66,Moctezuma!D66,Rayon!D66,Rioverde!D66,Salinas!D66,SanAntonio!D66,SanCirodeAcosta!D66,SanLuisPotosi!D66,SanMartinChalchicuautla!D66,SanNicolasTolentino!D66,SanVicenteTancuayalab!D66,SantaCatarina!D66,SantaMariadelRio!D66,SantoDomingo!D66,SoledaddeGracianoSanchez!D66,Tamasopo!D66,Tamazunchale!D66,Tampacan!D66,TampamolonCorona!D66,Tamuin!D66,Tancanhuitz!D66,Tanlajas!D66,TanquiandeEscobedo!D66,TierraNueva!D66,Vanegas!D66,Venado!D66,VillaHidalgo!D66,VillaJuarez!D66,VilladeArista!D66,VilladeArriaga!D66,VilladeGuadalupe!D66,VilladeRamos!D66,VilladeReyes!D66,VilladelaPaz!D66,Xilitla!D66,Zaragoza!D66) -> 0 | E69: 0 | F69: =SUM(G69:M69) -> 0 | G69: 0 | H69: 0 | I69: 0 | J69: 0 | K69: 0 | L69: 0 | M69: 0 | O69: =SUM(Ahualulco!F66,Alaquines!F66,Aquismon!F66,ArmadillodelosInfante!F66,AxtladeTerrazas!F66,Catorce!F66,Cedral!F66,Cerritos!F66,CerrodeSanPedro!F66,Charcas!F66,CiudadFernandez!F66,CiudadValles!F66,CiudaddelMaiz!F66,Coxcatlan!F66,Cardenas!F66,Ebano!F66,ElNaranjo!F66,Guadalcazar!F66,Huehuetlan!F66,Lagunillas!F66,Matehuala!F66,Matlapa!F66,MexquiticdeCarmona!F66,Moctezuma!F66,Rayon!F66,Rioverde!F66,Salinas!F66,SanAntonio!F66,SanCirodeAcosta!F66,SanLuisPotosi!F66,SanMartinChalchicuautla!F66,SanNicolasTolentino!F66,SanVicenteTancuayalab!F66,SantaCatarina!F66,SantaMariadelRio!F66,SantoDomingo!F66,SoledaddeGracianoSanchez!F66,Tamasopo!F66,Tamazunchale!F66,Tampacan!F66,TampamolonCorona!F66,Tamuin!F66,Tancanhuitz!F66,Tanlajas!F66,TanquiandeEscobedo!F66,TierraNueva!F66,Vanegas!F66,Venado!F66,VillaHidalgo!F66,VillaJuarez!F66,VilladeArista!F66,VilladeArriaga!F66,VilladeGuadalupe!F66,VilladeRamos!F66,VilladeReyes!F66,VilladelaPaz!F66,Xilitla!F66,Zaragoza!F66) -> 2 | P69: 2 | Q69: =SUM(R69:X69) -> 2 | R69: 0 | S69: 0 | T69: 0 | U69: 0 | V69: 2 | W69: 0 | X69: 0 | Z69: =SUM(E69,P69) -> 2 | AA69: =SUM(F69,Q69) -> 2 | AB69: =SUM(G69,R69) -> 0 | AC69: =SUM(H69,S69) -> 0 | AD69: =SUM(I69,T69) -> 0 | AE69: =SUM(J69,U69) -> 0 | AF69: =SUM(K69,V69) -> 2 | AG69: =SUM(L69,W69) -> 0 | AH69: =SUM(M69,X69) -> 0
B70: 2.1.2 | C70: Secuestro con calidad de rehén | D70: =SUM(Ahualulco!D67,Alaquines!D67,Aquismon!D67,ArmadillodelosInfante!D67,AxtladeTerrazas!D67,Catorce!D67,Cedral!D67,Cerritos!D67,CerrodeSanPedro!D67,Charcas!D67,CiudadFernandez!D67,CiudadValles!D67,CiudaddelMaiz!D67,Coxcatlan!D67,Cardenas!D67,Ebano!D67,ElNaranjo!D67,Guadalcazar!D67,Huehuetlan!D67,Lagunillas!D67,Matehuala!D67,Matlapa!D67,MexquiticdeCarmona!D67,Moctezuma!D67,Rayon!D67,Rioverde!D67,Salinas!D67,SanAntonio!D67,SanCirodeAcosta!D67,SanLuisPotosi!D67,SanMartinChalchicuautla!D67,SanNicolasTolentino!D67,SanVicenteTancuayalab!D67,SantaCatarina!D67,SantaMariadelRio!D67,SantoDomingo!D67,SoledaddeGracianoSanchez!D67,Tamasopo!D67,Tamazunchale!D67,Tampacan!D67,TampamolonCorona!D67,Tamuin!D67,Tancanhuitz!D67,Tanlajas!D67,TanquiandeEscobedo!D67,TierraNueva!D67,Vanegas!D67,Venado!D67,VillaHidalgo!D67,VillaJuarez!D67,VilladeArista!D67,VilladeArriaga!D67,VilladeGuadalupe!D67,VilladeRamos!D67,VilladeReyes!D67,VilladelaPaz!D67,Xilitla!D67,Zaragoza!D67) -> 0 | E70: 0 | F70: =SUM(G70:M70) -> 0 | G70: 0 | H70: 0 | I70: 0 | J70: 0 | K70: 0 | L70: 0 | M70: 0 | O70: =SUM(Ahualulco!F67,Alaquines!F67,Aquismon!F67,ArmadillodelosInfante!F67,AxtladeTerrazas!F67,Catorce!F67,Cedral!F67,Cerritos!F67,CerrodeSanPedro!F67,Charcas!F67,CiudadFernandez!F67,CiudadValles!F67,CiudaddelMaiz!F67,Coxcatlan!F67,Cardenas!F67,Ebano!F67,ElNaranjo!F67,Guadalcazar!F67,Huehuetlan!F67,Lagunillas!F67,Matehuala!F67,Matlapa!F67,MexquiticdeCarmona!F67,Moctezuma!F67,Rayon!F67,Rioverde!F67,Salinas!F67,SanAntonio!F67,SanCirodeAcosta!F67,SanLuisPotosi!F67,SanMartinChalchicuautla!F67,SanNicolasTolentino!F67,SanVicenteTancuayalab!F67,SantaCatarina!F67,SantaMariadelRio!F67,SantoDomingo!F67,SoledaddeGracianoSanchez!F67,Tamasopo!F67,Tamazunchale!F67,Tampacan!F67,TampamolonCorona!F67,Tamuin!F67,Tancanhuitz!F67,Tanlajas!F67,TanquiandeEscobedo!F67,TierraNueva!F67,Vanegas!F67,Venado!F67,VillaHidalgo!F67,VillaJuarez!F67,VilladeArista!F67,VilladeArriaga!F67,VilladeGuadalupe!F67,VilladeRamos!F67,VilladeReyes!F67,VilladelaPaz!F67,Xilitla!F67,Zaragoza!F67) -> 0 | P70: 0 | Q70: =SUM(R70:X70) -> 0 | R70: 0 | S70: 0 | T70: 0 | U70: 0 | V70: 0 | W70: 0 | X70: 0 | Z70: =SUM(E70,P70) -> 0 | AA70: =SUM(F70,Q70) -> 0 | AB70: =SUM(G70,R70) -> 0 | AC70: =SUM(H70,S70) -> 0 | AD70: =SUM(I70,T70) -> 0 | AE70: =SUM(J70,U70) -> 0 | AF70: =SUM(K70,V70) -> 0 | AG70: =SUM(L70,W70) -> 0 | AH70: =SUM(M70,X70) -> 0
B71: 2.1.3 | C71: Secuestro para causar daño | D71: =SUM(Ahualulco!D68,Alaquines!D68,Aquismon!D68,ArmadillodelosInfante!D68,AxtladeTerrazas!D68,Catorce!D68,Cedral!D68,Cerritos!D68,CerrodeSanPedro!D68,Charcas!D68,CiudadFernandez!D68,CiudadValles!D68,CiudaddelMaiz!D68,Coxcatlan!D68,Cardenas!D68,Ebano!D68,ElNaranjo!D68,Guadalcazar!D68,Huehuetlan!D68,Lagunillas!D68,Matehuala!D68,Matlapa!D68,MexquiticdeCarmona!D68,Moctezuma!D68,Rayon!D68,Rioverde!D68,Salinas!D68,SanAntonio!D68,SanCirodeAcosta!D68,SanLuisPotosi!D68,SanMartinChalchicuautla!D68,SanNicolasTolentino!D68,SanVicenteTancuayalab!D68,SantaCatarina!D68,SantaMariadelRio!D68,SantoDomingo!D68,SoledaddeGracianoSanchez!D68,Tamasopo!D68,Tamazunchale!D68,Tampacan!D68,TampamolonCorona!D68,Tamuin!D68,Tancanhuitz!D68,Tanlajas!D68,TanquiandeEscobedo!D68,TierraNueva!D68,Vanegas!D68,Venado!D68,VillaHidalgo!D68,VillaJuarez!D68,VilladeArista!D68,VilladeArriaga!D68,VilladeGuadalupe!D68,VilladeRamos!D68,VilladeReyes!D68,VilladelaPaz!D68,Xilitla!D68,Zaragoza!D68) -> 0 | E71: 0 | F71: =SUM(G71:M71) -> 0 | G71: 0 | H71: 0 | I71: 0 | J71: 0 | K71: 0 | L71: 0 | M71: 0 | O71: =SUM(Ahualulco!F68,Alaquines!F68,Aquismon!F68,ArmadillodelosInfante!F68,AxtladeTerrazas!F68,Catorce!F68,Cedral!F68,Cerritos!F68,CerrodeSanPedro!F68,Charcas!F68,CiudadFernandez!F68,CiudadValles!F68,CiudaddelMaiz!F68,Coxcatlan!F68,Cardenas!F68,Ebano!F68,ElNaranjo!F68,Guadalcazar!F68,Huehuetlan!F68,Lagunillas!F68,Matehuala!F68,Matlapa!F68,MexquiticdeCarmona!F68,Moctezuma!F68,Rayon!F68,Rioverde!F68,Salinas!F68,SanAntonio!F68,SanCirodeAcosta!F68,SanLuisPotosi!F68,SanMartinChalchicuautla!F68,SanNicolasTolentino!F68,SanVicenteTancuayalab!F68,SantaCatarina!F68,SantaMariadelRio!F68,SantoDomingo!F68,SoledaddeGracianoSanchez!F68,Tamasopo!F68,Tamazunchale!F68,Tampacan!F68,TampamolonCorona!F68,Tamuin!F68,Tancanhuitz!F68,Tanlajas!F68,TanquiandeEscobedo!F68,TierraNueva!F68,Vanegas!F68,Venado!F68,VillaHidalgo!F68,VillaJuarez!F68,VilladeArista!F68,VilladeArriaga!F68,VilladeGuadalupe!F68,VilladeRamos!F68,VilladeReyes!F68,VilladelaPaz!F68,Xilitla!F68,Zaragoza!F68) -> 0 | P71: 0 | Q71: =SUM(R71:X71) -> 0 | R71: 0 | S71: 0 | T71: 0 | U71: 0 | V71: 0 | W71: 0 | X71: 0 | Z71: =SUM(E71,P71) -> 0 | AA71: =SUM(F71,Q71) -> 0 | AB71: =SUM(G71,R71) -> 0 | AC71: =SUM(H71,S71) -> 0 | AD71: =SUM(I71,T71) -> 0 | AE71: =SUM(J71,U71) -> 0 | AF71: =SUM(K71,V71) -> 0 | AG71: =SUM(L71,W71) -> 0 | AH71: =SUM(M71,X71) -> 0
B72: 2.1.4 | C72: Secuestro exprés | D72: =SUM(Ahualulco!D69,Alaquines!D69,Aquismon!D69,ArmadillodelosInfante!D69,AxtladeTerrazas!D69,Catorce!D69,Cedral!D69,Cerritos!D69,CerrodeSanPedro!D69,Charcas!D69,CiudadFernandez!D69,CiudadValles!D69,CiudaddelMaiz!D69,Coxcatlan!D69,Cardenas!D69,Ebano!D69,ElNaranjo!D69,Guadalcazar!D69,Huehuetlan!D69,Lagunillas!D69,Matehuala!D69,Matlapa!D69,MexquiticdeCarmona!D69,Moctezuma!D69,Rayon!D69,Rioverde!D69,Salinas!D69,SanAntonio!D69,SanCirodeAcosta!D69,SanLuisPotosi!D69,SanMartinChalchicuautla!D69,SanNicolasTolentino!D69,SanVicenteTancuayalab!D69,SantaCatarina!D69,SantaMariadelRio!D69,SantoDomingo!D69,SoledaddeGracianoSanchez!D69,Tamasopo!D69,Tamazunchale!D69,Tampacan!D69,TampamolonCorona!D69,Tamuin!D69,Tancanhuitz!D69,Tanlajas!D69,TanquiandeEscobedo!D69,TierraNueva!D69,Vanegas!D69,Venado!D69,VillaHidalgo!D69,VillaJuarez!D69,VilladeArista!D69,VilladeArriaga!D69,VilladeGuadalupe!D69,VilladeRamos!D69,VilladeReyes!D69,VilladelaPaz!D69,Xilitla!D69,Zaragoza!D69) -> 0 | E72: 0 | F72: =SUM(G72:M72) -> 0 | G72: 0 | H72: 0 | I72: 0 | J72: 0 | K72: 0 | L72: 0 | M72: 0 | O72: =SUM(Ahualulco!F69,Alaquines!F69,Aquismon!F69,ArmadillodelosInfante!F69,AxtladeTerrazas!F69,Catorce!F69,Cedral!F69,Cerritos!F69,CerrodeSanPedro!F69,Charcas!F69,CiudadFernandez!F69,CiudadValles!F69,CiudaddelMaiz!F69,Coxcatlan!F69,Cardenas!F69,Ebano!F69,ElNaranjo!F69,Guadalcazar!F69,Huehuetlan!F69,Lagunillas!F69,Matehuala!F69,Matlapa!F69,MexquiticdeCarmona!F69,Moctezuma!F69,Rayon!F69,Rioverde!F69,Salinas!F69,SanAntonio!F69,SanCirodeAcosta!F69,SanLuisPotosi!F69,SanMartinChalchicuautla!F69,SanNicolasTolentino!F69,SanVicenteTancuayalab!F69,SantaCatarina!F69,SantaMariadelRio!F69,SantoDomingo!F69,SoledaddeGracianoSanchez!F69,Tamasopo!F69,Tamazunchale!F69,Tampacan!F69,TampamolonCorona!F69,Tamuin!F69,Tancanhuitz!F69,Tanlajas!F69,TanquiandeEscobedo!F69,TierraNueva!F69,Vanegas!F69,Venado!F69,VillaHidalgo!F69,VillaJuarez!F69,VilladeArista!F69,VilladeArriaga!F69,VilladeGuadalupe!F69,VilladeRamos!F69,VilladeReyes!F69,VilladelaPaz!F69,Xilitla!F69,Zaragoza!F69) -> 0 | P72: 0 | Q72: =SUM(R72:X72) -> 0 | R72: 0 | S72: 0 | T72: 0 | U72: 0 | V72: 0 | W72: 0 | X72: 0 | Z72: =SUM(E72,P72) -> 0 | AA72: =SUM(F72,Q72) -> 0 | AB72: =SUM(G72,R72) -> 0 | AC72: =SUM(H72,S72) -> 0 | AD72: =SUM(I72,T72) -> 0 | AE72: =SUM(J72,U72) -> 0 | AF72: =SUM(K72,V72) -> 0 | AG72: =SUM(L72,W72) -> 0 | AH72: =SUM(M72,X72) -> 0
B73: 2.1.5 | C73: Otro tipo de secuestros | D73: =SUM(Ahualulco!D70,Alaquines!D70,Aquismon!D70,ArmadillodelosInfante!D70,AxtladeTerrazas!D70,Catorce!D70,Cedral!D70,Cerritos!D70,CerrodeSanPedro!D70,Charcas!D70,CiudadFernandez!D70,CiudadValles!D70,CiudaddelMaiz!D70,Coxcatlan!D70,Cardenas!D70,Ebano!D70,ElNaranjo!D70,Guadalcazar!D70,Huehuetlan!D70,Lagunillas!D70,Matehuala!D70,Matlapa!D70,MexquiticdeCarmona!D70,Moctezuma!D70,Rayon!D70,Rioverde!D70,Salinas!D70,SanAntonio!D70,SanCirodeAcosta!D70,SanLuisPotosi!D70,SanMartinChalchicuautla!D70,SanNicolasTolentino!D70,SanVicenteTancuayalab!D70,SantaCatarina!D70,SantaMariadelRio!D70,SantoDomingo!D70,SoledaddeGracianoSanchez!D70,Tamasopo!D70,Tamazunchale!D70,Tampacan!D70,TampamolonCorona!D70,Tamuin!D70,Tancanhuitz!D70,Tanlajas!D70,TanquiandeEscobedo!D70,TierraNueva!D70,Vanegas!D70,Venado!D70,VillaHidalgo!D70,VillaJuarez!D70,VilladeArista!D70,VilladeArriaga!D70,VilladeGuadalupe!D70,VilladeRamos!D70,VilladeReyes!D70,VilladelaPaz!D70,Xilitla!D70,Zaragoza!D70) -> 0 | E73: 0 | F73: =SUM(G73:M73) -> 0 | G73: 0 | H73: 0 | I73: 0 | J73: 0 | K73: 0 | L73: 0 | M73: 0 | O73: =SUM(Ahualulco!F70,Alaquines!F70,Aquismon!F70,ArmadillodelosInfante!F70,AxtladeTerrazas!F70,Catorce!F70,Cedral!F70,Cerritos!F70,CerrodeSanPedro!F70,Charcas!F70,CiudadFernandez!F70,CiudadValles!F70,CiudaddelMaiz!F70,Coxcatlan!F70,Cardenas!F70,Ebano!F70,ElNaranjo!F70,Guadalcazar!F70,Huehuetlan!F70,Lagunillas!F70,Matehuala!F70,Matlapa!F70,MexquiticdeCarmona!F70,Moctezuma!F70,Rayon!F70,Rioverde!F70,Salinas!F70,SanAntonio!F70,SanCirodeAcosta!F70,SanLuisPotosi!F70,SanMartinChalchicuautla!F70,SanNicolasTolentino!F70,SanVicenteTancuayalab!F70,SantaCatarina!F70,SantaMariadelRio!F70,SantoDomingo!F70,SoledaddeGracianoSanchez!F70,Tamasopo!F70,Tamazunchale!F70,Tampacan!F70,TampamolonCorona!F70,Tamuin!F70,Tancanhuitz!F70,Tanlajas!F70,TanquiandeEscobedo!F70,TierraNueva!F70,Vanegas!F70,Venado!F70,VillaHidalgo!F70,VillaJuarez!F70,VilladeArista!F70,VilladeArriaga!F70,VilladeGuadalupe!F70,VilladeRamos!F70,VilladeReyes!F70,VilladelaPaz!F70,Xilitla!F70,Zaragoza!F70) -> 0 | P73: 0 | Q73: =SUM(R73:X73) -> 0 | R73: 0 | S73: 0 | T73: 0 | U73: 0 | V73: 0 | W73: 0 | X73: 0 | Z73: =SUM(E73,P73) -> 0 | AA73: =SUM(F73,Q73) -> 0 | AB73: =SUM(G73,R73) -> 0 | AC73: =SUM(H73,S73) -> 0 | AD73: =SUM(I73,T73) -> 0 | AE73: =SUM(J73,U73) -> 0 | AF73: =SUM(K73,V73) -> 0 | AG73: =SUM(L73,W73) -> 0 | AH73: =SUM(M73,X73) -> 0
B74: 2.2 | C74: Tráfico de menores | D74: =SUM(Ahualulco!D71,Alaquines!D71,Aquismon!D71,ArmadillodelosInfante!D71,AxtladeTerrazas!D71,Catorce!D71,Cedral!D71,Cerritos!D71,CerrodeSanPedro!D71,Charcas!D71,CiudadFernandez!D71,CiudadValles!D71,CiudaddelMaiz!D71,Coxcatlan!D71,Cardenas!D71,Ebano!D71,ElNaranjo!D71,Guadalcazar!D71,Huehuetlan!D71,Lagunillas!D71,Matehuala!D71,Matlapa!D71,MexquiticdeCarmona!D71,Moctezuma!D71,Rayon!D71,Rioverde!D71,Salinas!D71,SanAntonio!D71,SanCirodeAcosta!D71,SanLuisPotosi!D71,SanMartinChalchicuautla!D71,SanNicolasTolentino!D71,SanVicenteTancuayalab!D71,SantaCatarina!D71,SantaMariadelRio!D71,SantoDomingo!D71,SoledaddeGracianoSanchez!D71,Tamasopo!D71,Tamazunchale!D71,Tampacan!D71,TampamolonCorona!D71,Tamuin!D71,Tancanhuitz!D71,Tanlajas!D71,TanquiandeEscobedo!D71,TierraNueva!D71,Vanegas!D71,Venado!D71,VillaHidalgo!D71,VillaJuarez!D71,VilladeArista!D71,VilladeArriaga!D71,VilladeGuadalupe!D71,VilladeRamos!D71,VilladeReyes!D71,VilladelaPaz!D71,Xilitla!D71,Zaragoza!D71) -> 0 | E74: 0 | F74: =SUM(G74:M74) -> 0 | G74: 0 | H74: 0 | I74: 0 | J74: 0 | K74: 0 | L74: 0 | M74: 0 | O74: =SUM(Ahualulco!F71,Alaquines!F71,Aquismon!F71,ArmadillodelosInfante!F71,AxtladeTerrazas!F71,Catorce!F71,Cedral!F71,Cerritos!F71,CerrodeSanPedro!F71,Charcas!F71,CiudadFernandez!F71,CiudadValles!F71,CiudaddelMaiz!F71,Coxcatlan!F71,Cardenas!F71,Ebano!F71,ElNaranjo!F71,Guadalcazar!F71,Huehuetlan!F71,Lagunillas!F71,Matehuala!F71,Matlapa!F71,MexquiticdeCarmona!F71,Moctezuma!F71,Rayon!F71,Rioverde!F71,Salinas!F71,SanAntonio!F71,SanCirodeAcosta!F71,SanLuisPotosi!F71,SanMartinChalchicuautla!F71,SanNicolasTolentino!F71,SanVicenteTancuayalab!F71,SantaCatarina!F71,SantaMariadelRio!F71,SantoDomingo!F71,SoledaddeGracianoSanchez!F71,Tamasopo!F71,Tamazunchale!F71,Tampacan!F71,TampamolonCorona!F71,Tamuin!F71,Tancanhuitz!F71,Tanlajas!F71,TanquiandeEscobedo!F71,TierraNueva!F71,Vanegas!F71,Venado!F71,VillaHidalgo!F71,VillaJuarez!F71,VilladeArista!F71,VilladeArriaga!F71,VilladeGuadalupe!F71,VilladeRamos!F71,VilladeReyes!F71,VilladelaPaz!F71,Xilitla!F71,Zaragoza!F71) -> 0 | P74: 0 | Q74: =SUM(R74:X74) -> 0 | R74: 0 | S74: 0 | T74: 0 | U74: 0 | V74: 0 | W74: 0 | X74: 0 | Z74: =SUM(E74,P74) -> 0 | AA74: =SUM(F74,Q74) -> 0 | AB74: =SUM(G74,R74) -> 0 | AC74: =SUM(H74,S74) -> 0 | AD74: =SUM(I74,T74) -> 0 | AE74: =SUM(J74,U74) -> 0 | AF74: =SUM(K74,V74) -> 0 | AG74: =SUM(L74,W74) -> 0 | AH74: =SUM(M74,X74) -> 0
B75: 2.3 | C75: Rapto | D75: =SUM(Ahualulco!D72,Alaquines!D72,Aquismon!D72,ArmadillodelosInfante!D72,AxtladeTerrazas!D72,Catorce!D72,Cedral!D72,Cerritos!D72,CerrodeSanPedro!D72,Charcas!D72,CiudadFernandez!D72,CiudadValles!D72,CiudaddelMaiz!D72,Coxcatlan!D72,Cardenas!D72,Ebano!D72,ElNaranjo!D72,Guadalcazar!D72,Huehuetlan!D72,Lagunillas!D72,Matehuala!D72,Matlapa!D72,MexquiticdeCarmona!D72,Moctezuma!D72,Rayon!D72,Rioverde!D72,Salinas!D72,SanAntonio!D72,SanCirodeAcosta!D72,SanLuisPotosi!D72,SanMartinChalchicuautla!D72,SanNicolasTolentino!D72,SanVicenteTancuayalab!D72,SantaCatarina!D72,SantaMariadelRio!D72,SantoDomingo!D72,SoledaddeGracianoSanchez!D72,Tamasopo!D72,Tamazunchale!D72,Tampacan!D72,TampamolonCorona!D72,Tamuin!D72,Tancanhuitz!D72,Tanlajas!D72,TanquiandeEscobedo!D72,TierraNueva!D72,Vanegas!D72,Venado!D72,VillaHidalgo!D72,VillaJuarez!D72,VilladeArista!D72,VilladeArriaga!D72,VilladeGuadalupe!D72,VilladeRamos!D72,VilladeReyes!D72,VilladelaPaz!D72,Xilitla!D72,Zaragoza!D72) -> 0 | E75: 0 | F75: =SUM(G75:M75) -> 0 | G75: 0 | H75: 0 | I75: 0 | J75: 0 | K75: 0 | L75: 0 | M75: 0 | O75: =SUM(Ahualulco!F72,Alaquines!F72,Aquismon!F72,ArmadillodelosInfante!F72,AxtladeTerrazas!F72,Catorce!F72,Cedral!F72,Cerritos!F72,CerrodeSanPedro!F72,Charcas!F72,CiudadFernandez!F72,CiudadValles!F72,CiudaddelMaiz!F72,Coxcatlan!F72,Cardenas!F72,Ebano!F72,ElNaranjo!F72,Guadalcazar!F72,Huehuetlan!F72,Lagunillas!F72,Matehuala!F72,Matlapa!F72,MexquiticdeCarmona!F72,Moctezuma!F72,Rayon!F72,Rioverde!F72,Salinas!F72,SanAntonio!F72,SanCirodeAcosta!F72,SanLuisPotosi!F72,SanMartinChalchicuautla!F72,SanNicolasTolentino!F72,SanVicenteTancuayalab!F72,SantaCatarina!F72,SantaMariadelRio!F72,SantoDomingo!F72,SoledaddeGracianoSanchez!F72,Tamasopo!F72,Tamazunchale!F72,Tampacan!F72,TampamolonCorona!F72,Tamuin!F72,Tancanhuitz!F72,Tanlajas!F72,TanquiandeEscobedo!F72,TierraNueva!F72,Vanegas!F72,Venado!F72,VillaHidalgo!F72,VillaJuarez!F72,VilladeArista!F72,VilladeArriaga!F72,VilladeGuadalupe!F72,VilladeRamos!F72,VilladeReyes!F72,VilladelaPaz!F72,Xilitla!F72,Zaragoza!F72) -> 0 | P75: 0 | Q75: =SUM(R75:X75) -> 0 | R75: 0 | S75: 0 | T75: 0 | U75: 0 | V75: 0 | W75: 0 | X75: 0 | Z75: =SUM(E75,P75) -> 0 | AA75: =SUM(F75,Q75) -> 0 | AB75: =SUM(G75,R75) -> 0 | AC75: =SUM(H75,S75) -> 0 | AD75: =SUM(I75,T75) -> 0 | AE75: =SUM(J75,U75) -> 0 | AF75: =SUM(K75,V75) -> 0 | AG75: =SUM(L75,W75) -> 0 | AH75: =SUM(M75,X75) -> 0
B76: 2.4 | C76: Otros delitos que atentan contra la libertad personal | D76: =SUM(Ahualulco!D73,Alaquines!D73,Aquismon!D73,ArmadillodelosInfante!D73,AxtladeTerrazas!D73,Catorce!D73,Cedral!D73,Cerritos!D73,CerrodeSanPedro!D73,Charcas!D73,CiudadFernandez!D73,CiudadValles!D73,CiudaddelMaiz!D73,Coxcatlan!D73,Cardenas!D73,Ebano!D73,ElNaranjo!D73,Guadalcazar!D73,Huehuetlan!D73,Lagunillas!D73,Matehuala!D73,Matlapa!D73,MexquiticdeCarmona!D73,Moctezuma!D73,Rayon!D73,Rioverde!D73,Salinas!D73,SanAntonio!D73,SanCirodeAcosta!D73,SanLuisPotosi!D73,SanMartinChalchicuautla!D73,SanNicolasTolentino!D73,SanVicenteTancuayalab!D73,SantaCatarina!D73,SantaMariadelRio!D73,SantoDomingo!D73,SoledaddeGracianoSanchez!D73,Tamasopo!D73,Tamazunchale!D73,Tampacan!D73,TampamolonCorona!D73,Tamuin!D73,Tancanhuitz!D73,Tanlajas!D73,TanquiandeEscobedo!D73,TierraNueva!D73,Vanegas!D73,Venado!D73,VillaHidalgo!D73,VillaJuarez!D73,VilladeArista!D73,VilladeArriaga!D73,VilladeGuadalupe!D73,VilladeRamos!D73,VilladeReyes!D73,VilladelaPaz!D73,Xilitla!D73,Zaragoza!D73) -> 0 | E76: 0 | F76: =SUM(G76:M76) -> 0 | G76: 0 | H76: 0 | I76: 0 | J76: 0 | K76: 0 | L76: 0 | M76: 0 | O76: =SUM(Ahualulco!F73,Alaquines!F73,Aquismon!F73,ArmadillodelosInfante!F73,AxtladeTerrazas!F73,Catorce!F73,Cedral!F73,Cerritos!F73,CerrodeSanPedro!F73,Charcas!F73,CiudadFernandez!F73,CiudadValles!F73,CiudaddelMaiz!F73,Coxcatlan!F73,Cardenas!F73,Ebano!F73,ElNaranjo!F73,Guadalcazar!F73,Huehuetlan!F73,Lagunillas!F73,Matehuala!F73,Matlapa!F73,MexquiticdeCarmona!F73,Moctezuma!F73,Rayon!F73,Rioverde!F73,Salinas!F73,SanAntonio!F73,SanCirodeAcosta!F73,SanLuisPotosi!F73,SanMartinChalchicuautla!F73,SanNicolasTolentino!F73,SanVicenteTancuayalab!F73,SantaCatarina!F73,SantaMariadelRio!F73,SantoDomingo!F73,SoledaddeGracianoSanchez!F73,Tamasopo!F73,Tamazunchale!F73,Tampacan!F73,TampamolonCorona!F73,Tamuin!F73,Tancanhuitz!F73,Tanlajas!F73,TanquiandeEscobedo!F73,TierraNueva!F73,Vanegas!F73,Venado!F73,VillaHidalgo!F73,VillaJuarez!F73,VilladeArista!F73,VilladeArriaga!F73,VilladeGuadalupe!F73,VilladeRamos!F73,VilladeReyes!F73,VilladelaPaz!F73,Xilitla!F73,Zaragoza!F73) -> 62 | P76: 62 | Q76: =SUM(R76:X76) -> 64 | R76: 6 | S76: 26 | T76: 9 | U76: 3 | V76: 13 | W76: 7 | X76: 0 | Z76: =SUM(E76,P76) -> 62 | AA76: =SUM(F76,Q76) -> 64 | AB76: =SUM(G76,R76) -> 6 | AC76: =SUM(H76,S76) -> 26 | AD76: =SUM(I76,T76) -> 9 | AE76: =SUM(J76,U76) -> 3 | AF76: =SUM(K76,V76) -> 13 | AG76: =SUM(L76,W76) -> 7 | AH76: =SUM(M76,X76) -> 0
A77: La libertad y la seguridad sexual | B77: 3 | C77: Total de delitos contra la libertad y la seguridad sexual | D77: =SUM(Ahualulco!D74,Alaquines!D74,Aquismon!D74,ArmadillodelosInfante!D74,AxtladeTerrazas!D74,Catorce!D74,Cedral!D74,Cerritos!D74,CerrodeSanPedro!D74,Charcas!D74,CiudadFernandez!D74,CiudadValles!D74,CiudaddelMaiz!D74,Coxcatlan!D74,Cardenas!D74,Ebano!D74,ElNaranjo!D74,Guadalcazar!D74,Huehuetlan!D74,Lagunillas!D74,Matehuala!D74,Matlapa!D74,MexquiticdeCarmona!D74,Moctezuma!D74,Rayon!D74,Rioverde!D74,Salinas!D74,SanAntonio!D74,SanCirodeAcosta!D74,SanLuisPotosi!D74,SanMartinChalchicuautla!D74,SanNicolasTolentino!D74,SanVicenteTancuayalab!D74,SantaCatarina!D74,SantaMariadelRio!D74,SantoDomingo!D74,SoledaddeGracianoSanchez!D74,Tamasopo!D74,Tamazunchale!D74,Tampacan!D74,TampamolonCorona!D74,Tamuin!D74,Tancanhuitz!D74,Tanlajas!D74,TanquiandeEscobedo!D74,TierraNueva!D74,Vanegas!D74,Venado!D74,VillaHidalgo!D74,VillaJuarez!D74,VilladeArista!D74,VilladeArriaga!D74,VilladeGuadalupe!D74,VilladeRamos!D74,VilladeReyes!D74,VilladelaPaz!D74,Xilitla!D74,Zaragoza!D74) -> 0 | E77: =SUM(E78:E84) -> 0 | O77: =SUM(Ahualulco!F74,Alaquines!F74,Aquismon!F74,ArmadillodelosInfante!F74,AxtladeTerrazas!F74,Catorce!F74,Cedral!F74,Cerritos!F74,CerrodeSanPedro!F74,Charcas!F74,CiudadFernandez!F74,CiudadValles!F74,CiudaddelMaiz!F74,Coxcatlan!F74,Cardenas!F74,Ebano!F74,ElNaranjo!F74,Guadalcazar!F74,Huehuetlan!F74,Lagunillas!F74,Matehuala!F74,Matlapa!F74,MexquiticdeCarmona!F74,Moctezuma!F74,Rayon!F74,Rioverde!F74,Salinas!F74,SanAntonio!F74,SanCirodeAcosta!F74,SanLuisPotosi!F74,SanMartinChalchicuautla!F74,SanNicolasTolentino!F74,SanVicenteTancuayalab!F74,SantaCatarina!F74,SantaMariadelRio!F74,SantoDomingo!F74,SoledaddeGracianoSanchez!F74,Tamasopo!F74,Tamazunchale!F74,Tampacan!F74,TampamolonCorona!F74,Tamuin!F74,Tancanhuitz!F74,Tanlajas!F74,TanquiandeEscobedo!F74,TierraNueva!F74,Vanegas!F74,Venado!F74,VillaHidalgo!F74,VillaJuarez!F74,VilladeArista!F74,VilladeArriaga!F74,VilladeGuadalupe!F74,VilladeRamos!F74,VilladeReyes!F74,VilladelaPaz!F74,Xilitla!F74,Zaragoza!F74) -> 122 | P77: =SUM(P78:P84) -> 122 | Z77: =SUM(E77,P77) -> 122
B78: 3.1 | C78: Abuso sexual | D78: =SUM(Ahualulco!D75,Alaquines!D75,Aquismon!D75,ArmadillodelosInfante!D75,AxtladeTerrazas!D75,Catorce!D75,Cedral!D75,Cerritos!D75,CerrodeSanPedro!D75,Charcas!D75,CiudadFernandez!D75,CiudadValles!D75,CiudaddelMaiz!D75,Coxcatlan!D75,Cardenas!D75,Ebano!D75,ElNaranjo!D75,Guadalcazar!D75,Huehuetlan!D75,Lagunillas!D75,Matehuala!D75,Matlapa!D75,MexquiticdeCarmona!D75,Moctezuma!D75,Rayon!D75,Rioverde!D75,Salinas!D75,SanAntonio!D75,SanCirodeAcosta!D75,SanLuisPotosi!D75,SanMartinChalchicuautla!D75,SanNicolasTolentino!D75,SanVicenteTancuayalab!D75,SantaCatarina!D75,SantaMariadelRio!D75,SantoDomingo!D75,SoledaddeGracianoSanchez!D75,Tamasopo!D75,Tamazunchale!D75,Tampacan!D75,TampamolonCorona!D75,Tamuin!D75,Tancanhuitz!D75,Tanlajas!D75,TanquiandeEscobedo!D75,TierraNueva!D75,Vanegas!D75,Venado!D75,VillaHidalgo!D75,VillaJuarez!D75,VilladeArista!D75,VilladeArriaga!D75,VilladeGuadalupe!D75,VilladeRamos!D75,VilladeReyes!D75,VilladelaPaz!D75,Xilitla!D75,Zaragoza!D75) -> 0 | E78: 0 | O78: =SUM(Ahualulco!F75,Alaquines!F75,Aquismon!F75,ArmadillodelosInfante!F75,AxtladeTerrazas!F75,Catorce!F75,Cedral!F75,Cerritos!F75,CerrodeSanPedro!F75,Charcas!F75,CiudadFernandez!F75,CiudadValles!F75,CiudaddelMaiz!F75,Coxcatlan!F75,Cardenas!F75,Ebano!F75,ElNaranjo!F75,Guadalcazar!F75,Huehuetlan!F75,Lagunillas!F75,Matehuala!F75,Matlapa!F75,MexquiticdeCarmona!F75,Moctezuma!F75,Rayon!F75,Rioverde!F75,Salinas!F75,SanAntonio!F75,SanCirodeAcosta!F75,SanLuisPotosi!F75,SanMartinChalchicuautla!F75,SanNicolasTolentino!F75,SanVicenteTancuayalab!F75,SantaCatarina!F75,SantaMariadelRio!F75,SantoDomingo!F75,SoledaddeGracianoSanchez!F75,Tamasopo!F75,Tamazunchale!F75,Tampacan!F75,TampamolonCorona!F75,Tamuin!F75,Tancanhuitz!F75,Tanlajas!F75,TanquiandeEscobedo!F75,TierraNueva!F75,Vanegas!F75,Venado!F75,VillaHidalgo!F75,VillaJuarez!F75,VilladeArista!F75,VilladeArriaga!F75,VilladeGuadalupe!F75,VilladeRamos!F75,VilladeReyes!F75,VilladelaPaz!F75,Xilitla!F75,Zaragoza!F75) -> 45 | P78: 45 | Z78: =SUM(E78,P78) -> 45
B79: 3.2 | C79: Acoso sexual | D79: =SUM(Ahualulco!D76,Alaquines!D76,Aquismon!D76,ArmadillodelosInfante!D76,AxtladeTerrazas!D76,Catorce!D76,Cedral!D76,Cerritos!D76,CerrodeSanPedro!D76,Charcas!D76,CiudadFernandez!D76,CiudadValles!D76,CiudaddelMaiz!D76,Coxcatlan!D76,Cardenas!D76,Ebano!D76,ElNaranjo!D76,Guadalcazar!D76,Huehuetlan!D76,Lagunillas!D76,Matehuala!D76,Matlapa!D76,MexquiticdeCarmona!D76,Moctezuma!D76,Rayon!D76,Rioverde!D76,Salinas!D76,SanAntonio!D76,SanCirodeAcosta!D76,SanLuisPotosi!D76,SanMartinChalchicuautla!D76,SanNicolasTolentino!D76,SanVicenteTancuayalab!D76,SantaCatarina!D76,SantaMariadelRio!D76,SantoDomingo!D76,SoledaddeGracianoSanchez!D76,Tamasopo!D76,Tamazunchale!D76,Tampacan!D76,TampamolonCorona!D76,Tamuin!D76,Tancanhuitz!D76,Tanlajas!D76,TanquiandeEscobedo!D76,TierraNueva!D76,Vanegas!D76,Venado!D76,VillaHidalgo!D76,VillaJuarez!D76,VilladeArista!D76,VilladeArriaga!D76,VilladeGuadalupe!D76,VilladeRamos!D76,VilladeReyes!D76,VilladelaPaz!D76,Xilitla!D76,Zaragoza!D76) -> 0 | E79: 0 | O79: =SUM(Ahualulco!F76,Alaquines!F76,Aquismon!F76,ArmadillodelosInfante!F76,AxtladeTerrazas!F76,Catorce!F76,Cedral!F76,Cerritos!F76,CerrodeSanPedro!F76,Charcas!F76,CiudadFernandez!F76,CiudadValles!F76,CiudaddelMaiz!F76,Coxcatlan!F76,Cardenas!F76,Ebano!F76,ElNaranjo!F76,Guadalcazar!F76,Huehuetlan!F76,Lagunillas!F76,Matehuala!F76,Matlapa!F76,MexquiticdeCarmona!F76,Moctezuma!F76,Rayon!F76,Rioverde!F76,Salinas!F76,SanAntonio!F76,SanCirodeAcosta!F76,SanLuisPotosi!F76,SanMartinChalchicuautla!F76,SanNicolasTolentino!F76,SanVicenteTancuayalab!F76,SantaCatarina!F76,SantaMariadelRio!F76,SantoDomingo!F76,SoledaddeGracianoSanchez!F76,Tamasopo!F76,Tamazunchale!F76,Tampacan!F76,TampamolonCorona!F76,Tamuin!F76,Tancanhuitz!F76,Tanlajas!F76,TanquiandeEscobedo!F76,TierraNueva!F76,Vanegas!F76,Venado!F76,VillaHidalgo!F76,VillaJuarez!F76,VilladeArista!F76,VilladeArriaga!F76,VilladeGuadalupe!F76,VilladeRamos!F76,VilladeReyes!F76,VilladelaPaz!F76,Xilitla!F76,Zaragoza!F76) -> 18 | P79: 18 | Z79: =SUM(E79,P79) -> 18
B80: 3.3 | C80: Hostigamiento sexual | D80: =SUM(Ahualulco!D77,Alaquines!D77,Aquismon!D77,ArmadillodelosInfante!D77,AxtladeTerrazas!D77,Catorce!D77,Cedral!D77,Cerritos!D77,CerrodeSanPedro!D77,Charcas!D77,CiudadFernandez!D77,CiudadValles!D77,CiudaddelMaiz!D77,Coxcatlan!D77,Cardenas!D77,Ebano!D77,ElNaranjo!D77,Guadalcazar!D77,Huehuetlan!D77,Lagunillas!D77,Matehuala!D77,Matlapa!D77,MexquiticdeCarmona!D77,Moctezuma!D77,Rayon!D77,Rioverde!D77,Salinas!D77,SanAntonio!D77,SanCirodeAcosta!D77,SanLuisPotosi!D77,SanMartinChalchicuautla!D77,SanNicolasTolentino!D77,SanVicenteTancuayalab!D77,SantaCatarina!D77,SantaMariadelRio!D77,SantoDomingo!D77,SoledaddeGracianoSanchez!D77,Tamasopo!D77,Tamazunchale!D77,Tampacan!D77,TampamolonCorona!D77,Tamuin!D77,Tancanhuitz!D77,Tanlajas!D77,TanquiandeEscobedo!D77,TierraNueva!D77,Vanegas!D77,Venado!D77,VillaHidalgo!D77,VillaJuarez!D77,VilladeArista!D77,VilladeArriaga!D77,VilladeGuadalupe!D77,VilladeRamos!D77,VilladeReyes!D77,VilladelaPaz!D77,Xilitla!D77,Zaragoza!D77) -> 0 | E80: 0 | O80: =SUM(Ahualulco!F77,Alaquines!F77,Aquismon!F77,ArmadillodelosInfante!F77,AxtladeTerrazas!F77,Catorce!F77,Cedral!F77,Cerritos!F77,CerrodeSanPedro!F77,Charcas!F77,CiudadFernandez!F77,CiudadValles!F77,CiudaddelMaiz!F77,Coxcatlan!F77,Cardenas!F77,Ebano!F77,ElNaranjo!F77,Guadalcazar!F77,Huehuetlan!F77,Lagunillas!F77,Matehuala!F77,Matlapa!F77,MexquiticdeCarmona!F77,Moctezuma!F77,Rayon!F77,Rioverde!F77,Salinas!F77,SanAntonio!F77,SanCirodeAcosta!F77,SanLuisPotosi!F77,SanMartinChalchicuautla!F77,SanNicolasTolentino!F77,SanVicenteTancuayalab!F77,SantaCatarina!F77,SantaMariadelRio!F77,SantoDomingo!F77,SoledaddeGracianoSanchez!F77,Tamasopo!F77,Tamazunchale!F77,Tampacan!F77,TampamolonCorona!F77,Tamuin!F77,Tancanhuitz!F77,Tanlajas!F77,TanquiandeEscobedo!F77,TierraNueva!F77,Vanegas!F77,Venado!F77,VillaHidalgo!F77,VillaJuarez!F77,VilladeArista!F77,VilladeArriaga!F77,VilladeGuadalupe!F77,VilladeRamos!F77,VilladeReyes!F77,VilladelaPaz!F77,Xilitla!F77,Zaragoza!F77) -> 6 | P80: 6 | Z80: =SUM(E80,P80) -> 6
B81: 3.4 | C81: Violación simple | D81: =SUM(Ahualulco!D78,Alaquines!D78,Aquismon!D78,ArmadillodelosInfante!D78,AxtladeTerrazas!D78,Catorce!D78,Cedral!D78,Cerritos!D78,CerrodeSanPedro!D78,Charcas!D78,CiudadFernandez!D78,CiudadValles!D78,CiudaddelMaiz!D78,Coxcatlan!D78,Cardenas!D78,Ebano!D78,ElNaranjo!D78,Guadalcazar!D78,Huehuetlan!D78,Lagunillas!D78,Matehuala!D78,Matlapa!D78,MexquiticdeCarmona!D78,Moctezuma!D78,Rayon!D78,Rioverde!D78,Salinas!D78,SanAntonio!D78,SanCirodeAcosta!D78,SanLuisPotosi!D78,SanMartinChalchicuautla!D78,SanNicolasTolentino!D78,SanVicenteTancuayalab!D78,SantaCatarina!D78,SantaMariadelRio!D78,SantoDomingo!D78,SoledaddeGracianoSanchez!D78,Tamasopo!D78,Tamazunchale!D78,Tampacan!D78,TampamolonCorona!D78,Tamuin!D78,Tancanhuitz!D78,Tanlajas!D78,TanquiandeEscobedo!D78,TierraNueva!D78,Vanegas!D78,Venado!D78,VillaHidalgo!D78,VillaJuarez!D78,VilladeArista!D78,VilladeArriaga!D78,VilladeGuadalupe!D78,VilladeRamos!D78,VilladeReyes!D78,VilladelaPaz!D78,Xilitla!D78,Zaragoza!D78) -> 0 | E81: 0 | O81: =SUM(Ahualulco!F78,Alaquines!F78,Aquismon!F78,ArmadillodelosInfante!F78,AxtladeTerrazas!F78,Catorce!F78,Cedral!F78,Cerritos!F78,CerrodeSanPedro!F78,Charcas!F78,CiudadFernandez!F78,CiudadValles!F78,CiudaddelMaiz!F78,Coxcatlan!F78,Cardenas!F78,Ebano!F78,ElNaranjo!F78,Guadalcazar!F78,Huehuetlan!F78,Lagunillas!F78,Matehuala!F78,Matlapa!F78,MexquiticdeCarmona!F78,Moctezuma!F78,Rayon!F78,Rioverde!F78,Salinas!F78,SanAntonio!F78,SanCirodeAcosta!F78,SanLuisPotosi!F78,SanMartinChalchicuautla!F78,SanNicolasTolentino!F78,SanVicenteTancuayalab!F78,SantaCatarina!F78,SantaMariadelRio!F78,SantoDomingo!F78,SoledaddeGracianoSanchez!F78,Tamasopo!F78,Tamazunchale!F78,Tampacan!F78,TampamolonCorona!F78,Tamuin!F78,Tancanhuitz!F78,Tanlajas!F78,TanquiandeEscobedo!F78,TierraNueva!F78,Vanegas!F78,Venado!F78,VillaHidalgo!F78,VillaJuarez!F78,VilladeArista!F78,VilladeArriaga!F78,VilladeGuadalupe!F78,VilladeRamos!F78,VilladeReyes!F78,VilladelaPaz!F78,Xilitla!F78,Zaragoza!F78) -> 39 | P81: 39 | Z81: =SUM(E81,P81) -> 39
B82: 3.5 | C82: Violación equiparada | D82: =SUM(Ahualulco!D79,Alaquines!D79,Aquismon!D79,ArmadillodelosInfante!D79,AxtladeTerrazas!D79,Catorce!D79,Cedral!D79,Cerritos!D79,CerrodeSanPedro!D79,Charcas!D79,CiudadFernandez!D79,CiudadValles!D79,CiudaddelMaiz!D79,Coxcatlan!D79,Cardenas!D79,Ebano!D79,ElNaranjo!D79,Guadalcazar!D79,Huehuetlan!D79,Lagunillas!D79,Matehuala!D79,Matlapa!D79,MexquiticdeCarmona!D79,Moctezuma!D79,Rayon!D79,Rioverde!D79,Salinas!D79,SanAntonio!D79,SanCirodeAcosta!D79,SanLuisPotosi!D79,SanMartinChalchicuautla!D79,SanNicolasTolentino!D79,SanVicenteTancuayalab!D79,SantaCatarina!D79,SantaMariadelRio!D79,SantoDomingo!D79,SoledaddeGracianoSanchez!D79,Tamasopo!D79,Tamazunchale!D79,Tampacan!D79,TampamolonCorona!D79,Tamuin!D79,Tancanhuitz!D79,Tanlajas!D79,TanquiandeEscobedo!D79,TierraNueva!D79,Vanegas!D79,Venado!D79,VillaHidalgo!D79,VillaJuarez!D79,VilladeArista!D79,VilladeArriaga!D79,VilladeGuadalupe!D79,VilladeRamos!D79,VilladeReyes!D79,VilladelaPaz!D79,Xilitla!D79,Zaragoza!D79) -> 0 | E82: 0 | O82: =SUM(Ahualulco!F79,Alaquines!F79,Aquismon!F79,ArmadillodelosInfante!F79,AxtladeTerrazas!F79,Catorce!F79,Cedral!F79,Cerritos!F79,CerrodeSanPedro!F79,Charcas!F79,CiudadFernandez!F79,CiudadValles!F79,CiudaddelMaiz!F79,Coxcatlan!F79,Cardenas!F79,Ebano!F79,ElNaranjo!F79,Guadalcazar!F79,Huehuetlan!F79,Lagunillas!F79,Matehuala!F79,Matlapa!F79,MexquiticdeCarmona!F79,Moctezuma!F79,Rayon!F79,Rioverde!F79,Salinas!F79,SanAntonio!F79,SanCirodeAcosta!F79,SanLuisPotosi!F79,SanMartinChalchicuautla!F79,SanNicolasTolentino!F79,SanVicenteTancuayalab!F79,SantaCatarina!F79,SantaMariadelRio!F79,SantoDomingo!F79,SoledaddeGracianoSanchez!F79,Tamasopo!F79,Tamazunchale!F79,Tampacan!F79,TampamolonCorona!F79,Tamuin!F79,Tancanhuitz!F79,Tanlajas!F79,TanquiandeEscobedo!F79,TierraNueva!F79,Vanegas!F79,Venado!F79,VillaHidalgo!F79,VillaJuarez!F79,VilladeArista!F79,VilladeArriaga!F79,VilladeGuadalupe!F79,VilladeRamos!F79,VilladeReyes!F79,VilladelaPaz!F79,Xilitla!F79,Zaragoza!F79) -> 0 | P82: 0 | Z82: =SUM(E82,P82) -> 0
B83: 3.6 | C83: Incesto | D83: =SUM(Ahualulco!D80,Alaquines!D80,Aquismon!D80,ArmadillodelosInfante!D80,AxtladeTerrazas!D80,Catorce!D80,Cedral!D80,Cerritos!D80,CerrodeSanPedro!D80,Charcas!D80,CiudadFernandez!D80,CiudadValles!D80,CiudaddelMaiz!D80,Coxcatlan!D80,Cardenas!D80,Ebano!D80,ElNaranjo!D80,Guadalcazar!D80,Huehuetlan!D80,Lagunillas!D80,Matehuala!D80,Matlapa!D80,MexquiticdeCarmona!D80,Moctezuma!D80,Rayon!D80,Rioverde!D80,Salinas!D80,SanAntonio!D80,SanCirodeAcosta!D80,SanLuisPotosi!D80,SanMartinChalchicuautla!D80,SanNicolasTolentino!D80,SanVicenteTancuayalab!D80,SantaCatarina!D80,SantaMariadelRio!D80,SantoDomingo!D80,SoledaddeGracianoSanchez!D80,Tamasopo!D80,Tamazunchale!D80,Tampacan!D80,TampamolonCorona!D80,Tamuin!D80,Tancanhuitz!D80,Tanlajas!D80,TanquiandeEscobedo!D80,TierraNueva!D80,Vanegas!D80,Venado!D80,VillaHidalgo!D80,VillaJuarez!D80,VilladeArista!D80,VilladeArriaga!D80,VilladeGuadalupe!D80,VilladeRamos!D80,VilladeReyes!D80,VilladelaPaz!D80,Xilitla!D80,Zaragoza!D80) -> 0 | E83: 0 | O83: =SUM(Ahualulco!F80,Alaquines!F80,Aquismon!F80,ArmadillodelosInfante!F80,AxtladeTerrazas!F80,Catorce!F80,Cedral!F80,Cerritos!F80,CerrodeSanPedro!F80,Charcas!F80,CiudadFernandez!F80,CiudadValles!F80,CiudaddelMaiz!F80,Coxcatlan!F80,Cardenas!F80,Ebano!F80,ElNaranjo!F80,Guadalcazar!F80,Huehuetlan!F80,Lagunillas!F80,Matehuala!F80,Matlapa!F80,MexquiticdeCarmona!F80,Moctezuma!F80,Rayon!F80,Rioverde!F80,Salinas!F80,SanAntonio!F80,SanCirodeAcosta!F80,SanLuisPotosi!F80,SanMartinChalchicuautla!F80,SanNicolasTolentino!F80,SanVicenteTancuayalab!F80,SantaCatarina!F80,SantaMariadelRio!F80,SantoDomingo!F80,SoledaddeGracianoSanchez!F80,Tamasopo!F80,Tamazunchale!F80,Tampacan!F80,TampamolonCorona!F80,Tamuin!F80,Tancanhuitz!F80,Tanlajas!F80,TanquiandeEscobedo!F80,TierraNueva!F80,Vanegas!F80,Venado!F80,VillaHidalgo!F80,VillaJuarez!F80,VilladeArista!F80,VilladeArriaga!F80,VilladeGuadalupe!F80,VilladeRamos!F80,VilladeReyes!F80,VilladelaPaz!F80,Xilitla!F80,Zaragoza!F80) -> 0 | P83: 0 | Z83: =SUM(E83,P83) -> 0
B84: 3.7 | C84: Otros delitos que atentan contra la libertad y la seguridad sexual | D84: =SUM(Ahualulco!D81,Alaquines!D81,Aquismon!D81,ArmadillodelosInfante!D81,AxtladeTerrazas!D81,Catorce!D81,Cedral!D81,Cerritos!D81,CerrodeSanPedro!D81,Charcas!D81,CiudadFernandez!D81,CiudadValles!D81,CiudaddelMaiz!D81,Coxcatlan!D81,Cardenas!D81,Ebano!D81,ElNaranjo!D81,Guadalcazar!D81,Huehuetlan!D81,Lagunillas!D81,Matehuala!D81,Matlapa!D81,MexquiticdeCarmona!D81,Moctezuma!D81,Rayon!D81,Rioverde!D81,Salinas!D81,SanAntonio!D81,SanCirodeAcosta!D81,SanLuisPotosi!D81,SanMartinChalchicuautla!D81,SanNicolasTolentino!D81,SanVicenteTancuayalab!D81,SantaCatarina!D81,SantaMariadelRio!D81,SantoDomingo!D81,SoledaddeGracianoSanchez!D81,Tamasopo!D81,Tamazunchale!D81,Tampacan!D81,TampamolonCorona!D81,Tamuin!D81,Tancanhuitz!D81,Tanlajas!D81,TanquiandeEscobedo!D81,TierraNueva!D81,Vanegas!D81,Venado!D81,VillaHidalgo!D81,VillaJuarez!D81,VilladeArista!D81,VilladeArriaga!D81,VilladeGuadalupe!D81,VilladeRamos!D81,VilladeReyes!D81,VilladelaPaz!D81,Xilitla!D81,Zaragoza!D81) -> 0 | E84: 0 | O84: =SUM(Ahualulco!F81,Alaquines!F81,Aquismon!F81,ArmadillodelosInfante!F81,AxtladeTerrazas!F81,Catorce!F81,Cedral!F81,Cerritos!F81,CerrodeSanPedro!F81,Charcas!F81,CiudadFernandez!F81,CiudadValles!F81,CiudaddelMaiz!F81,Coxcatlan!F81,Cardenas!F81,Ebano!F81,ElNaranjo!F81,Guadalcazar!F81,Huehuetlan!F81,Lagunillas!F81,Matehuala!F81,Matlapa!F81,MexquiticdeCarmona!F81,Moctezuma!F81,Rayon!F81,Rioverde!F81,Salinas!F81,SanAntonio!F81,SanCirodeAcosta!F81,SanLuisPotosi!F81,SanMartinChalchicuautla!F81,SanNicolasTolentino!F81,SanVicenteTancuayalab!F81,SantaCatarina!F81,SantaMariadelRio!F81,SantoDomingo!F81,SoledaddeGracianoSanchez!F81,Tamasopo!F81,Tamazunchale!F81,Tampacan!F81,TampamolonCorona!F81,Tamuin!F81,Tancanhuitz!F81,Tanlajas!F81,TanquiandeEscobedo!F81,TierraNueva!F81,Vanegas!F81,Venado!F81,VillaHidalgo!F81,VillaJuarez!F81,VilladeArista!F81,VilladeArriaga!F81,VilladeGuadalupe!F81,VilladeRamos!F81,VilladeReyes!F81,VilladelaPaz!F81,Xilitla!F81,Zaragoza!F81) -> 14 | P84: 14 | Z84: =SUM(E84,P84) -> 14
A85: El patrimonio | B85: 4 | C85: Total de delitos contra el patrimonio | D85: =SUM(Ahualulco!D82,Alaquines!D82,Aquismon!D82,ArmadillodelosInfante!D82,AxtladeTerrazas!D82,Catorce!D82,Cedral!D82,Cerritos!D82,CerrodeSanPedro!D82,Charcas!D82,CiudadFernandez!D82,CiudadValles!D82,CiudaddelMaiz!D82,Coxcatlan!D82,Cardenas!D82,Ebano!D82,ElNaranjo!D82,Guadalcazar!D82,Huehuetlan!D82,Lagunillas!D82,Matehuala!D82,Matlapa!D82,MexquiticdeCarmona!D82,Moctezuma!D82,Rayon!D82,Rioverde!D82,Salinas!D82,SanAntonio!D82,SanCirodeAcosta!D82,SanLuisPotosi!D82,SanMartinChalchicuautla!D82,SanNicolasTolentino!D82,SanVicenteTancuayalab!D82,SantaCatarina!D82,SantaMariadelRio!D82,SantoDomingo!D82,SoledaddeGracianoSanchez!D82,Tamasopo!D82,Tamazunchale!D82,Tampacan!D82,TampamolonCorona!D82,Tamuin!D82,Tancanhuitz!D82,Tanlajas!D82,TanquiandeEscobedo!D82,TierraNueva!D82,Vanegas!D82,Venado!D82,VillaHidalgo!D82,VillaJuarez!D82,VilladeArista!D82,VilladeArriaga!D82,VilladeGuadalupe!D82,VilladeRamos!D82,VilladeReyes!D82,VilladelaPaz!D82,Xilitla!D82,Zaragoza!D82) -> 0 | E85: =SUM(E87,E90,E100,E103,E106,E109,E112,E115,E118,E121,E124,E127,E130,E140,E143,E144,E145,E146,E147,E148) -> 0 | F85: =+F145 -> 0 | G85: =+G145 -> 0 | H85: =+H145 -> 0 | I85: =+I145 -> 0 | J85: =+J145 -> 0 | K85: =+K145 -> 0 | L85: =+L145 -> 0 | M85: =+M145 -> 0 | N85: =SUM(N90,N103,N134) -> 0 | O85: =SUM(Ahualulco!F82,Alaquines!F82,Aquismon!F82,ArmadillodelosInfante!F82,AxtladeTerrazas!F82,Catorce!F82,Cedral!F82,Cerritos!F82,CerrodeSanPedro!F82,Charcas!F82,CiudadFernandez!F82,CiudadValles!F82,CiudaddelMaiz!F82,Coxcatlan!F82,Cardenas!F82,Ebano!F82,ElNaranjo!F82,Guadalcazar!F82,Huehuetlan!F82,Lagunillas!F82,Matehuala!F82,Matlapa!F82,MexquiticdeCarmona!F82,Moctezuma!F82,Rayon!F82,Rioverde!F82,Salinas!F82,SanAntonio!F82,SanCirodeAcosta!F82,SanLuisPotosi!F82,SanMartinChalchicuautla!F82,SanNicolasTolentino!F82,SanVicenteTancuayalab!F82,SantaCatarina!F82,SantaMariadelRio!F82,SantoDomingo!F82,SoledaddeGracianoSanchez!F82,Tamasopo!F82,Tamazunchale!F82,Tampacan!F82,TampamolonCorona!F82,Tamuin!F82,Tancanhuitz!F82,Tanlajas!F82,TanquiandeEscobedo!F82,TierraNueva!F82,Vanegas!F82,Venado!F82,VillaHidalgo!F82,VillaJuarez!F82,VilladeArista!F82,VilladeArriaga!F82,VilladeGuadalupe!F82,VilladeRamos!F82,VilladeReyes!F82,VilladelaPaz!F82,Xilitla!F82,Zaragoza!F82) -> 1862 | P85: =SUM(P87,P90,P100,P103,P106,P109,P112,P115,P118,P121,P124,P127,P130,P140,P143,P144,P145,P146,P147,P148) -> 1862 | Q85: =+Q145 -> 12 | R85: =+R145 -> 0 | S85: =+S145 -> 6 | T85: =+T145 -> 1 | U85: =+U145 -> 0 | V85: =+V145 -> 4 | W85: =+W145 -> 0 | X85: =+X145 -> 1 | Y85: =SUM(Y90,Y103,Y134) -> 284 | Z85: =SUM(E85,P85) -> 1862 | AA85: =SUM(F85,Q85) -> 12 | AB85: =SUM(G85,R85) -> 0 | AC85: =SUM(H85,S85) -> 6 | AD85: =SUM(I85,T85) -> 1 | AE85: =SUM(J85,U85) -> 0 | AF85: =SUM(K85,V85) -> 4 | AG85: =SUM(L85,W85) -> 0 | ... AI85: =SUM(N85,Y85) -> 284
B86: 4.1 | C86: Robo total | D86: =SUM(Ahualulco!D83,Alaquines!D83,Aquismon!D83,ArmadillodelosInfante!D83,AxtladeTerrazas!D83,Catorce!D83,Cedral!D83,Cerritos!D83,CerrodeSanPedro!D83,Charcas!D83,CiudadFernandez!D83,CiudadValles!D83,CiudaddelMaiz!D83,Coxcatlan!D83,Cardenas!D83,Ebano!D83,ElNaranjo!D83,Guadalcazar!D83,Huehuetlan!D83,Lagunillas!D83,Matehuala!D83,Matlapa!D83,MexquiticdeCarmona!D83,Moctezuma!D83,Rayon!D83,Rioverde!D83,Salinas!D83,SanAntonio!D83,SanCirodeAcosta!D83,SanLuisPotosi!D83,SanMartinChalchicuautla!D83,SanNicolasTolentino!D83,SanVicenteTancuayalab!D83,SantaCatarina!D83,SantaMariadelRio!D83,SantoDomingo!D83,SoledaddeGracianoSanchez!D83,Tamasopo!D83,Tamazunchale!D83,Tampacan!D83,TampamolonCorona!D83,Tamuin!D83,Tancanhuitz!D83,Tanlajas!D83,TanquiandeEscobedo!D83,TierraNueva!D83,Vanegas!D83,Venado!D83,VillaHidalgo!D83,VillaJuarez!D83,VilladeArista!D83,VilladeArriaga!D83,VilladeGuadalupe!D83,VilladeRamos!D83,VilladeReyes!D83,VilladelaPaz!D83,Xilitla!D83,Zaragoza!D83) -> 0 | E86: =SUM(E87,E90,E100,E103,E106,E109,E112,E115,E118,E121,E124,E127,E130,E140) -> 0 | N86: =N85 -> 0 | O86: =SUM(Ahualulco!F83,Alaquines!F83,Aquismon!F83,ArmadillodelosInfante!F83,AxtladeTerrazas!F83,Catorce!F83,Cedral!F83,Cerritos!F83,CerrodeSanPedro!F83,Charcas!F83,CiudadFernandez!F83,CiudadValles!F83,CiudaddelMaiz!F83,Coxcatlan!F83,Cardenas!F83,Ebano!F83,ElNaranjo!F83,Guadalcazar!F83,Huehuetlan!F83,Lagunillas!F83,Matehuala!F83,Matlapa!F83,MexquiticdeCarmona!F83,Moctezuma!F83,Rayon!F83,Rioverde!F83,Salinas!F83,SanAntonio!F83,SanCirodeAcosta!F83,SanLuisPotosi!F83,SanMartinChalchicuautla!F83,SanNicolasTolentino!F83,SanVicenteTancuayalab!F83,SantaCatarina!F83,SantaMariadelRio!F83,SantoDomingo!F83,SoledaddeGracianoSanchez!F83,Tamasopo!F83,Tamazunchale!F83,Tampacan!F83,TampamolonCorona!F83,Tamuin!F83,Tancanhuitz!F83,Tanlajas!F83,TanquiandeEscobedo!F83,TierraNueva!F83,Vanegas!F83,Venado!F83,VillaHidalgo!F83,VillaJuarez!F83,VilladeArista!F83,VilladeArriaga!F83,VilladeGuadalupe!F83,VilladeRamos!F83,VilladeReyes!F83,VilladelaPaz!F83,Xilitla!F83,Zaragoza!F83) -> 1062 | P86: =SUM(P87,P90,P100,P103,P106,P109,P112,P115,P118,P121,P124,P127,P130,P140) -> 1062 | Y86: =Y85 -> 284 | Z86: =SUM(E86,P86) -> 1062 | AI86: =AI85 -> 284
B87: 4.1.1 | C87: Robo a casa habitación | D87: =SUM(Ahualulco!D84,Alaquines!D84,Aquismon!D84,ArmadillodelosInfante!D84,AxtladeTerrazas!D84,Catorce!D84,Cedral!D84,Cerritos!D84,CerrodeSanPedro!D84,Charcas!D84,CiudadFernandez!D84,CiudadValles!D84,CiudaddelMaiz!D84,Coxcatlan!D84,Cardenas!D84,Ebano!D84,ElNaranjo!D84,Guadalcazar!D84,Huehuetlan!D84,Lagunillas!D84,Matehuala!D84,Matlapa!D84,MexquiticdeCarmona!D84,Moctezuma!D84,Rayon!D84,Rioverde!D84,Salinas!D84,SanAntonio!D84,SanCirodeAcosta!D84,SanLuisPotosi!D84,SanMartinChalchicuautla!D84,SanNicolasTolentino!D84,SanVicenteTancuayalab!D84,SantaCatarina!D84,SantaMariadelRio!D84,SantoDomingo!D84,SoledaddeGracianoSanchez!D84,Tamasopo!D84,Tamazunchale!D84,Tampacan!D84,TampamolonCorona!D84,Tamuin!D84,Tancanhuitz!D84,Tanlajas!D84,TanquiandeEscobedo!D84,TierraNueva!D84,Vanegas!D84,Venado!D84,VillaHidalgo!D84,VillaJuarez!D84,VilladeArista!D84,VilladeArriaga!D84,VilladeGuadalupe!D84,VilladeRamos!D84,VilladeReyes!D84,VilladelaPaz!D84,Xilitla!D84,Zaragoza!D84) -> 0 | E87: =SUM(E88:E89) -> 0 | O87: =SUM(Ahualulco!F84,Alaquines!F84,Aquismon!F84,ArmadillodelosInfante!F84,AxtladeTerrazas!F84,Catorce!F84,Cedral!F84,Cerritos!F84,CerrodeSanPedro!F84,Charcas!F84,CiudadFernandez!F84,CiudadValles!F84,CiudaddelMaiz!F84,Coxcatlan!F84,Cardenas!F84,Ebano!F84,ElNaranjo!F84,Guadalcazar!F84,Huehuetlan!F84,Lagunillas!F84,Matehuala!F84,Matlapa!F84,MexquiticdeCarmona!F84,Moctezuma!F84,Rayon!F84,Rioverde!F84,Salinas!F84,SanAntonio!F84,SanCirodeAcosta!F84,SanLuisPotosi!F84,SanMartinChalchicuautla!F84,SanNicolasTolentino!F84,SanVicenteTancuayalab!F84,SantaCatarina!F84,SantaMariadelRio!F84,SantoDomingo!F84,SoledaddeGracianoSanchez!F84,Tamasopo!F84,Tamazunchale!F84,Tampacan!F84,TampamolonCorona!F84,Tamuin!F84,Tancanhuitz!F84,Tanlajas!F84,TanquiandeEscobedo!F84,TierraNueva!F84,Vanegas!F84,Venado!F84,VillaHidalgo!F84,VillaJuarez!F84,VilladeArista!F84,VilladeArriaga!F84,VilladeGuadalupe!F84,VilladeRamos!F84,VilladeReyes!F84,VilladelaPaz!F84,Xilitla!F84,Zaragoza!F84) -> 79 | P87: =SUM(P88:P89) -> 79 | Z87: =SUM(E87,P87) -> 79
B88: 4.1.1.1 | C88: Con violencia | D88: =SUM(Ahualulco!D85,Alaquines!D85,Aquismon!D85,ArmadillodelosInfante!D85,AxtladeTerrazas!D85,Catorce!D85,Cedral!D85,Cerritos!D85,CerrodeSanPedro!D85,Charcas!D85,CiudadFernandez!D85,CiudadValles!D85,CiudaddelMaiz!D85,Coxcatlan!D85,Cardenas!D85,Ebano!D85,ElNaranjo!D85,Guadalcazar!D85,Huehuetlan!D85,Lagunillas!D85,Matehuala!D85,Matlapa!D85,MexquiticdeCarmona!D85,Moctezuma!D85,Rayon!D85,Rioverde!D85,Salinas!D85,SanAntonio!D85,SanCirodeAcosta!D85,SanLuisPotosi!D85,SanMartinChalchicuautla!D85,SanNicolasTolentino!D85,SanVicenteTancuayalab!D85,SantaCatarina!D85,SantaMariadelRio!D85,SantoDomingo!D85,SoledaddeGracianoSanchez!D85,Tamasopo!D85,Tamazunchale!D85,Tampacan!D85,TampamolonCorona!D85,Tamuin!D85,Tancanhuitz!D85,Tanlajas!D85,TanquiandeEscobedo!D85,TierraNueva!D85,Vanegas!D85,Venado!D85,VillaHidalgo!D85,VillaJuarez!D85,VilladeArista!D85,VilladeArriaga!D85,VilladeGuadalupe!D85,VilladeRamos!D85,VilladeReyes!D85,VilladelaPaz!D85,Xilitla!D85,Zaragoza!D85) -> 0 | E88: 0 | O88: =SUM(Ahualulco!F85,Alaquines!F85,Aquismon!F85,ArmadillodelosInfante!F85,AxtladeTerrazas!F85,Catorce!F85,Cedral!F85,Cerritos!F85,CerrodeSanPedro!F85,Charcas!F85,CiudadFernandez!F85,CiudadValles!F85,CiudaddelMaiz!F85,Coxcatlan!F85,Cardenas!F85,Ebano!F85,ElNaranjo!F85,Guadalcazar!F85,Huehuetlan!F85,Lagunillas!F85,Matehuala!F85,Matlapa!F85,MexquiticdeCarmona!F85,Moctezuma!F85,Rayon!F85,Rioverde!F85,Salinas!F85,SanAntonio!F85,SanCirodeAcosta!F85,SanLuisPotosi!F85,SanMartinChalchicuautla!F85,SanNicolasTolentino!F85,SanVicenteTancuayalab!F85,SantaCatarina!F85,SantaMariadelRio!F85,SantoDomingo!F85,SoledaddeGracianoSanchez!F85,Tamasopo!F85,Tamazunchale!F85,Tampacan!F85,TampamolonCorona!F85,Tamuin!F85,Tancanhuitz!F85,Tanlajas!F85,TanquiandeEscobedo!F85,TierraNueva!F85,Vanegas!F85,Venado!F85,VillaHidalgo!F85,VillaJuarez!F85,VilladeArista!F85,VilladeArriaga!F85,VilladeGuadalupe!F85,VilladeRamos!F85,VilladeReyes!F85,VilladelaPaz!F85,Xilitla!F85,Zaragoza!F85) -> 4 | P88: 4 | Z88: =SUM(E88,P88) -> 4
B89: 4.1.1.2 | C89: Sin violencia | D89: =SUM(Ahualulco!D86,Alaquines!D86,Aquismon!D86,ArmadillodelosInfante!D86,AxtladeTerrazas!D86,Catorce!D86,Cedral!D86,Cerritos!D86,CerrodeSanPedro!D86,Charcas!D86,CiudadFernandez!D86,CiudadValles!D86,CiudaddelMaiz!D86,Coxcatlan!D86,Cardenas!D86,Ebano!D86,ElNaranjo!D86,Guadalcazar!D86,Huehuetlan!D86,Lagunillas!D86,Matehuala!D86,Matlapa!D86,MexquiticdeCarmona!D86,Moctezuma!D86,Rayon!D86,Rioverde!D86,Salinas!D86,SanAntonio!D86,SanCirodeAcosta!D86,SanLuisPotosi!D86,SanMartinChalchicuautla!D86,SanNicolasTolentino!D86,SanVicenteTancuayalab!D86,SantaCatarina!D86,SantaMariadelRio!D86,SantoDomingo!D86,SoledaddeGracianoSanchez!D86,Tamasopo!D86,Tamazunchale!D86,Tampacan!D86,TampamolonCorona!D86,Tamuin!D86,Tancanhuitz!D86,Tanlajas!D86,TanquiandeEscobedo!D86,TierraNueva!D86,Vanegas!D86,Venado!D86,VillaHidalgo!D86,VillaJuarez!D86,VilladeArista!D86,VilladeArriaga!D86,VilladeGuadalupe!D86,VilladeRamos!D86,VilladeReyes!D86,VilladelaPaz!D86,Xilitla!D86,Zaragoza!D86) -> 0 | E89: 0 | O89: =SUM(Ahualulco!F86,Alaquines!F86,Aquismon!F86,ArmadillodelosInfante!F86,AxtladeTerrazas!F86,Catorce!F86,Cedral!F86,Cerritos!F86,CerrodeSanPedro!F86,Charcas!F86,CiudadFernandez!F86,CiudadValles!F86,CiudaddelMaiz!F86,Coxcatlan!F86,Cardenas!F86,Ebano!F86,ElNaranjo!F86,Guadalcazar!F86,Huehuetlan!F86,Lagunillas!F86,Matehuala!F86,Matlapa!F86,MexquiticdeCarmona!F86,Moctezuma!F86,Rayon!F86,Rioverde!F86,Salinas!F86,SanAntonio!F86,SanCirodeAcosta!F86,SanLuisPotosi!F86,SanMartinChalchicuautla!F86,SanNicolasTolentino!F86,SanVicenteTancuayalab!F86,SantaCatarina!F86,SantaMariadelRio!F86,SantoDomingo!F86,SoledaddeGracianoSanchez!F86,Tamasopo!F86,Tamazunchale!F86,Tampacan!F86,TampamolonCorona!F86,Tamuin!F86,Tancanhuitz!F86,Tanlajas!F86,TanquiandeEscobedo!F86,TierraNueva!F86,Vanegas!F86,Venado!F86,VillaHidalgo!F86,VillaJuarez!F86,VilladeArista!F86,VilladeArriaga!F86,VilladeGuadalupe!F86,VilladeRamos!F86,VilladeReyes!F86,VilladelaPaz!F86,Xilitla!F86,Zaragoza!F86) -> 75 | P89: 75 | Z89: =SUM(E89,P89) -> 75
B90: 4.1.2 | C90: Robo de vehículo automotor | D90: =SUM(Ahualulco!D87,Alaquines!D87,Aquismon!D87,ArmadillodelosInfante!D87,AxtladeTerrazas!D87,Catorce!D87,Cedral!D87,Cerritos!D87,CerrodeSanPedro!D87,Charcas!D87,CiudadFernandez!D87,CiudadValles!D87,CiudaddelMaiz!D87,Coxcatlan!D87,Cardenas!D87,Ebano!D87,ElNaranjo!D87,Guadalcazar!D87,Huehuetlan!D87,Lagunillas!D87,Matehuala!D87,Matlapa!D87,MexquiticdeCarmona!D87,Moctezuma!D87,Rayon!D87,Rioverde!D87,Salinas!D87,SanAntonio!D87,SanCirodeAcosta!D87,SanLuisPotosi!D87,SanMartinChalchicuautla!D87,SanNicolasTolentino!D87,SanVicenteTancuayalab!D87,SantaCatarina!D87,SantaMariadelRio!D87,SantoDomingo!D87,SoledaddeGracianoSanchez!D87,Tamasopo!D87,Tamazunchale!D87,Tampacan!D87,TampamolonCorona!D87,Tamuin!D87,Tancanhuitz!D87,Tanlajas!D87,TanquiandeEscobedo!D87,TierraNueva!D87,Vanegas!D87,Venado!D87,VillaHidalgo!D87,VillaJuarez!D87,VilladeArista!D87,VilladeArriaga!D87,VilladeGuadalupe!D87,VilladeRamos!D87,VilladeReyes!D87,VilladelaPaz!D87,Xilitla!D87,Zaragoza!D87) -> 0 | E90: =SUM(E91,E94,E97) -> 0 | N90: =SUM(N91,N94,N97) -> 0 | O90: =SUM(Ahualulco!F87,Alaquines!F87,Aquismon!F87,ArmadillodelosInfante!F87,AxtladeTerrazas!F87,Catorce!F87,Cedral!F87,Cerritos!F87,CerrodeSanPedro!F87,Charcas!F87,CiudadFernandez!F87,CiudadValles!F87,CiudaddelMaiz!F87,Coxcatlan!F87,Cardenas!F87,Ebano!F87,ElNaranjo!F87,Guadalcazar!F87,Huehuetlan!F87,Lagunillas!F87,Matehuala!F87,Matlapa!F87,MexquiticdeCarmona!F87,Moctezuma!F87,Rayon!F87,Rioverde!F87,Salinas!F87,SanAntonio!F87,SanCirodeAcosta!F87,SanLuisPotosi!F87,SanMartinChalchicuautla!F87,SanNicolasTolentino!F87,SanVicenteTancuayalab!F87,SantaCatarina!F87,SantaMariadelRio!F87,SantoDomingo!F87,SoledaddeGracianoSanchez!F87,Tamasopo!F87,Tamazunchale!F87,Tampacan!F87,TampamolonCorona!F87,Tamuin!F87,Tancanhuitz!F87,Tanlajas!F87,TanquiandeEscobedo!F87,TierraNueva!F87,Vanegas!F87,Venado!F87,VillaHidalgo!F87,VillaJuarez!F87,VilladeArista!F87,VilladeArriaga!F87,VilladeGuadalupe!F87,VilladeRamos!F87,VilladeReyes!F87,VilladelaPaz!F87,Xilitla!F87,Zaragoza!F87) -> 248 | P90: =SUM(P91,P94,P97) -> 248 | Y90: =SUM(Y91,Y94,Y97) -> 248 | Z90: =SUM(E90,P90) -> 248 | AI90: =SUM(N90,Y90) -> 248
B91: 4.1.2.1 | C91: Robo de coche de 4 ruedas | D91: =SUM(Ahualulco!D88,Alaquines!D88,Aquismon!D88,ArmadillodelosInfante!D88,AxtladeTerrazas!D88,Catorce!D88,Cedral!D88,Cerritos!D88,CerrodeSanPedro!D88,Charcas!D88,CiudadFernandez!D88,CiudadValles!D88,CiudaddelMaiz!D88,Coxcatlan!D88,Cardenas!D88,Ebano!D88,ElNaranjo!D88,Guadalcazar!D88,Huehuetlan!D88,Lagunillas!D88,Matehuala!D88,Matlapa!D88,MexquiticdeCarmona!D88,Moctezuma!D88,Rayon!D88,Rioverde!D88,Salinas!D88,SanAntonio!D88,SanCirodeAcosta!D88,SanLuisPotosi!D88,SanMartinChalchicuautla!D88,SanNicolasTolentino!D88,SanVicenteTancuayalab!D88,SantaCatarina!D88,SantaMariadelRio!D88,SantoDomingo!D88,SoledaddeGracianoSanchez!D88,Tamasopo!D88,Tamazunchale!D88,Tampacan!D88,TampamolonCorona!D88,Tamuin!D88,Tancanhuitz!D88,Tanlajas!D88,TanquiandeEscobedo!D88,TierraNueva!D88,Vanegas!D88,Venado!D88,VillaHidalgo!D88,VillaJuarez!D88,VilladeArista!D88,VilladeArriaga!D88,VilladeGuadalupe!D88,VilladeRamos!D88,VilladeReyes!D88,VilladelaPaz!D88,Xilitla!D88,Zaragoza!D88) -> 0 | E91: =SUM(E92,E93) -> 0 | N91: =SUM(N92,N93) -> 0 | O91: =SUM(Ahualulco!F88,Alaquines!F88,Aquismon!F88,ArmadillodelosInfante!F88,AxtladeTerrazas!F88,Catorce!F88,Cedral!F88,Cerritos!F88,CerrodeSanPedro!F88,Charcas!F88,CiudadFernandez!F88,CiudadValles!F88,CiudaddelMaiz!F88,Coxcatlan!F88,Cardenas!F88,Ebano!F88,ElNaranjo!F88,Guadalcazar!F88,Huehuetlan!F88,Lagunillas!F88,Matehuala!F88,Matlapa!F88,MexquiticdeCarmona!F88,Moctezuma!F88,Rayon!F88,Rioverde!F88,Salinas!F88,SanAntonio!F88,SanCirodeAcosta!F88,SanLuisPotosi!F88,SanMartinChalchicuautla!F88,SanNicolasTolentino!F88,SanVicenteTancuayalab!F88,SantaCatarina!F88,SantaMariadelRio!F88,SantoDomingo!F88,SoledaddeGracianoSanchez!F88,Tamasopo!F88,Tamazunchale!F88,Tampacan!F88,TampamolonCorona!F88,Tamuin!F88,Tancanhuitz!F88,Tanlajas!F88,TanquiandeEscobedo!F88,TierraNueva!F88,Vanegas!F88,Venado!F88,VillaHidalgo!F88,VillaJuarez!F88,VilladeArista!F88,VilladeArriaga!F88,VilladeGuadalupe!F88,VilladeRamos!F88,VilladeReyes!F88,VilladelaPaz!F88,Xilitla!F88,Zaragoza!F88) -> 139 | P91: =SUM(P92,P93) -> 139 | Y91: =SUM(Y92,Y93) -> 139 | Z91: =SUM(E91,P91) -> 139 | AI91: =SUM(N91,Y91) -> 139
B92: 4.1.2.1.1 | C92: Con violencia | D92: =SUM(Ahualulco!D89,Alaquines!D89,Aquismon!D89,ArmadillodelosInfante!D89,AxtladeTerrazas!D89,Catorce!D89,Cedral!D89,Cerritos!D89,CerrodeSanPedro!D89,Charcas!D89,CiudadFernandez!D89,CiudadValles!D89,CiudaddelMaiz!D89,Coxcatlan!D89,Cardenas!D89,Ebano!D89,ElNaranjo!D89,Guadalcazar!D89,Huehuetlan!D89,Lagunillas!D89,Matehuala!D89,Matlapa!D89,MexquiticdeCarmona!D89,Moctezuma!D89,Rayon!D89,Rioverde!D89,Salinas!D89,SanAntonio!D89,SanCirodeAcosta!D89,SanLuisPotosi!D89,SanMartinChalchicuautla!D89,SanNicolasTolentino!D89,SanVicenteTancuayalab!D89,SantaCatarina!D89,SantaMariadelRio!D89,SantoDomingo!D89,SoledaddeGracianoSanchez!D89,Tamasopo!D89,Tamazunchale!D89,Tampacan!D89,TampamolonCorona!D89,Tamuin!D89,Tancanhuitz!D89,Tanlajas!D89,TanquiandeEscobedo!D89,TierraNueva!D89,Vanegas!D89,Venado!D89,VillaHidalgo!D89,VillaJuarez!D89,VilladeArista!D89,VilladeArriaga!D89,VilladeGuadalupe!D89,VilladeRamos!D89,VilladeReyes!D89,VilladelaPaz!D89,Xilitla!D89,Zaragoza!D89) -> 0 | E92: 0 | N92: 0 | O92: =SUM(Ahualulco!F89,Alaquines!F89,Aquismon!F89,ArmadillodelosInfante!F89,AxtladeTerrazas!F89,Catorce!F89,Cedral!F89,Cerritos!F89,CerrodeSanPedro!F89,Charcas!F89,CiudadFernandez!F89,CiudadValles!F89,CiudaddelMaiz!F89,Coxcatlan!F89,Cardenas!F89,Ebano!F89,ElNaranjo!F89,Guadalcazar!F89,Huehuetlan!F89,Lagunillas!F89,Matehuala!F89,Matlapa!F89,MexquiticdeCarmona!F89,Moctezuma!F89,Rayon!F89,Rioverde!F89,Salinas!F89,SanAntonio!F89,SanCirodeAcosta!F89,SanLuisPotosi!F89,SanMartinChalchicuautla!F89,SanNicolasTolentino!F89,SanVicenteTancuayalab!F89,SantaCatarina!F89,SantaMariadelRio!F89,SantoDomingo!F89,SoledaddeGracianoSanchez!F89,Tamasopo!F89,Tamazunchale!F89,Tampacan!F89,TampamolonCorona!F89,Tamuin!F89,Tancanhuitz!F89,Tanlajas!F89,TanquiandeEscobedo!F89,TierraNueva!F89,Vanegas!F89,Venado!F89,VillaHidalgo!F89,VillaJuarez!F89,VilladeArista!F89,VilladeArriaga!F89,VilladeGuadalupe!F89,VilladeRamos!F89,VilladeReyes!F89,VilladelaPaz!F89,Xilitla!F89,Zaragoza!F89) -> 36 | P92: 36 | Y92: 36 | Z92: =SUM(E92,P92) -> 36 | AI92: =SUM(N92,Y92) -> 36
B93: 4.1.2.1.2 | C93: Sin violencia | D93: =SUM(Ahualulco!D90,Alaquines!D90,Aquismon!D90,ArmadillodelosInfante!D90,AxtladeTerrazas!D90,Catorce!D90,Cedral!D90,Cerritos!D90,CerrodeSanPedro!D90,Charcas!D90,CiudadFernandez!D90,CiudadValles!D90,CiudaddelMaiz!D90,Coxcatlan!D90,Cardenas!D90,Ebano!D90,ElNaranjo!D90,Guadalcazar!D90,Huehuetlan!D90,Lagunillas!D90,Matehuala!D90,Matlapa!D90,MexquiticdeCarmona!D90,Moctezuma!D90,Rayon!D90,Rioverde!D90,Salinas!D90,SanAntonio!D90,SanCirodeAcosta!D90,SanLuisPotosi!D90,SanMartinChalchicuautla!D90,SanNicolasTolentino!D90,SanVicenteTancuayalab!D90,SantaCatarina!D90,SantaMariadelRio!D90,SantoDomingo!D90,SoledaddeGracianoSanchez!D90,Tamasopo!D90,Tamazunchale!D90,Tampacan!D90,TampamolonCorona!D90,Tamuin!D90,Tancanhuitz!D90,Tanlajas!D90,TanquiandeEscobedo!D90,TierraNueva!D90,Vanegas!D90,Venado!D90,VillaHidalgo!D90,VillaJuarez!D90,VilladeArista!D90,VilladeArriaga!D90,VilladeGuadalupe!D90,VilladeRamos!D90,VilladeReyes!D90,VilladelaPaz!D90,Xilitla!D90,Zaragoza!D90) -> 0 | E93: 0 | N93: 0 | O93: =SUM(Ahualulco!F90,Alaquines!F90,Aquismon!F90,ArmadillodelosInfante!F90,AxtladeTerrazas!F90,Catorce!F90,Cedral!F90,Cerritos!F90,CerrodeSanPedro!F90,Charcas!F90,CiudadFernandez!F90,CiudadValles!F90,CiudaddelMaiz!F90,Coxcatlan!F90,Cardenas!F90,Ebano!F90,ElNaranjo!F90,Guadalcazar!F90,Huehuetlan!F90,Lagunillas!F90,Matehuala!F90,Matlapa!F90,MexquiticdeCarmona!F90,Moctezuma!F90,Rayon!F90,Rioverde!F90,Salinas!F90,SanAntonio!F90,SanCirodeAcosta!F90,SanLuisPotosi!F90,SanMartinChalchicuautla!F90,SanNicolasTolentino!F90,SanVicenteTancuayalab!F90,SantaCatarina!F90,SantaMariadelRio!F90,SantoDomingo!F90,SoledaddeGracianoSanchez!F90,Tamasopo!F90,Tamazunchale!F90,Tampacan!F90,TampamolonCorona!F90,Tamuin!F90,Tancanhuitz!F90,Tanlajas!F90,TanquiandeEscobedo!F90,TierraNueva!F90,Vanegas!F90,Venado!F90,VillaHidalgo!F90,VillaJuarez!F90,VilladeArista!F90,VilladeArriaga!F90,VilladeGuadalupe!F90,VilladeRamos!F90,VilladeReyes!F90,VilladelaPaz!F90,Xilitla!F90,Zaragoza!F90) -> 103 | P93: 103 | Y93: 103 | Z93: =SUM(E93,P93) -> 103 | AI93: =SUM(N93,Y93) -> 103
B94: 4.1.2.2 | C94: Robo de motocicleta | D94: =SUM(Ahualulco!D91,Alaquines!D91,Aquismon!D91,ArmadillodelosInfante!D91,AxtladeTerrazas!D91,Catorce!D91,Cedral!D91,Cerritos!D91,CerrodeSanPedro!D91,Charcas!D91,CiudadFernandez!D91,CiudadValles!D91,CiudaddelMaiz!D91,Coxcatlan!D91,Cardenas!D91,Ebano!D91,ElNaranjo!D91,Guadalcazar!D91,Huehuetlan!D91,Lagunillas!D91,Matehuala!D91,Matlapa!D91,MexquiticdeCarmona!D91,Moctezuma!D91,Rayon!D91,Rioverde!D91,Salinas!D91,SanAntonio!D91,SanCirodeAcosta!D91,SanLuisPotosi!D91,SanMartinChalchicuautla!D91,SanNicolasTolentino!D91,SanVicenteTancuayalab!D91,SantaCatarina!D91,SantaMariadelRio!D91,SantoDomingo!D91,SoledaddeGracianoSanchez!D91,Tamasopo!D91,Tamazunchale!D91,Tampacan!D91,TampamolonCorona!D91,Tamuin!D91,Tancanhuitz!D91,Tanlajas!D91,TanquiandeEscobedo!D91,TierraNueva!D91,Vanegas!D91,Venado!D91,VillaHidalgo!D91,VillaJuarez!D91,VilladeArista!D91,VilladeArriaga!D91,VilladeGuadalupe!D91,VilladeRamos!D91,VilladeReyes!D91,VilladelaPaz!D91,Xilitla!D91,Zaragoza!D91) -> 0 | E94: =SUM(E95,E96) -> 0 | N94: =SUM(N95,N96) -> 0 | O94: =SUM(Ahualulco!F91,Alaquines!F91,Aquismon!F91,ArmadillodelosInfante!F91,AxtladeTerrazas!F91,Catorce!F91,Cedral!F91,Cerritos!F91,CerrodeSanPedro!F91,Charcas!F91,CiudadFernandez!F91,CiudadValles!F91,CiudaddelMaiz!F91,Coxcatlan!F91,Cardenas!F91,Ebano!F91,ElNaranjo!F91,Guadalcazar!F91,Huehuetlan!F91,Lagunillas!F91,Matehuala!F91,Matlapa!F91,MexquiticdeCarmona!F91,Moctezuma!F91,Rayon!F91,Rioverde!F91,Salinas!F91,SanAntonio!F91,SanCirodeAcosta!F91,SanLuisPotosi!F91,SanMartinChalchicuautla!F91,SanNicolasTolentino!F91,SanVicenteTancuayalab!F91,SantaCatarina!F91,SantaMariadelRio!F91,SantoDomingo!F91,SoledaddeGracianoSanchez!F91,Tamasopo!F91,Tamazunchale!F91,Tampacan!F91,TampamolonCorona!F91,Tamuin!F91,Tancanhuitz!F91,Tanlajas!F91,TanquiandeEscobedo!F91,TierraNueva!F91,Vanegas!F91,Venado!F91,VillaHidalgo!F91,VillaJuarez!F91,VilladeArista!F91,VilladeArriaga!F91,VilladeGuadalupe!F91,VilladeRamos!F91,VilladeReyes!F91,VilladelaPaz!F91,Xilitla!F91,Zaragoza!F91) -> 109 | P94: =SUM(P95,P96) -> 109 | Y94: =SUM(Y95,Y96) -> 109 | Z94: =SUM(E94,P94) -> 109 | AI94: =SUM(N94,Y94) -> 109
B95: 4.1.2.2.1 | C95: Con violencia | D95: =SUM(Ahualulco!D92,Alaquines!D92,Aquismon!D92,ArmadillodelosInfante!D92,AxtladeTerrazas!D92,Catorce!D92,Cedral!D92,Cerritos!D92,CerrodeSanPedro!D92,Charcas!D92,CiudadFernandez!D92,CiudadValles!D92,CiudaddelMaiz!D92,Coxcatlan!D92,Cardenas!D92,Ebano!D92,ElNaranjo!D92,Guadalcazar!D92,Huehuetlan!D92,Lagunillas!D92,Matehuala!D92,Matlapa!D92,MexquiticdeCarmona!D92,Moctezuma!D92,Rayon!D92,Rioverde!D92,Salinas!D92,SanAntonio!D92,SanCirodeAcosta!D92,SanLuisPotosi!D92,SanMartinChalchicuautla!D92,SanNicolasTolentino!D92,SanVicenteTancuayalab!D92,SantaCatarina!D92,SantaMariadelRio!D92,SantoDomingo!D92,SoledaddeGracianoSanchez!D92,Tamasopo!D92,Tamazunchale!D92,Tampacan!D92,TampamolonCorona!D92,Tamuin!D92,Tancanhuitz!D92,Tanlajas!D92,TanquiandeEscobedo!D92,TierraNueva!D92,Vanegas!D92,Venado!D92,VillaHidalgo!D92,VillaJuarez!D92,VilladeArista!D92,VilladeArriaga!D92,VilladeGuadalupe!D92,VilladeRamos!D92,VilladeReyes!D92,VilladelaPaz!D92,Xilitla!D92,Zaragoza!D92) -> 0 | E95: 0 | N95: 0 | O95: =SUM(Ahualulco!F92,Alaquines!F92,Aquismon!F92,ArmadillodelosInfante!F92,AxtladeTerrazas!F92,Catorce!F92,Cedral!F92,Cerritos!F92,CerrodeSanPedro!F92,Charcas!F92,CiudadFernandez!F92,CiudadValles!F92,CiudaddelMaiz!F92,Coxcatlan!F92,Cardenas!F92,Ebano!F92,ElNaranjo!F92,Guadalcazar!F92,Huehuetlan!F92,Lagunillas!F92,Matehuala!F92,Matlapa!F92,MexquiticdeCarmona!F92,Moctezuma!F92,Rayon!F92,Rioverde!F92,Salinas!F92,SanAntonio!F92,SanCirodeAcosta!F92,SanLuisPotosi!F92,SanMartinChalchicuautla!F92,SanNicolasTolentino!F92,SanVicenteTancuayalab!F92,SantaCatarina!F92,SantaMariadelRio!F92,SantoDomingo!F92,SoledaddeGracianoSanchez!F92,Tamasopo!F92,Tamazunchale!F92,Tampacan!F92,TampamolonCorona!F92,Tamuin!F92,Tancanhuitz!F92,Tanlajas!F92,TanquiandeEscobedo!F92,TierraNueva!F92,Vanegas!F92,Venado!F92,VillaHidalgo!F92,VillaJuarez!F92,VilladeArista!F92,VilladeArriaga!F92,VilladeGuadalupe!F92,VilladeRamos!F92,VilladeReyes!F92,VilladelaPaz!F92,Xilitla!F92,Zaragoza!F92) -> 19 | P95: 19 | Y95: 19 | Z95: =SUM(E95,P95) -> 19 | AI95: =SUM(N95,Y95) -> 19
B96: 4.1.2.2.2 | C96: Sin violencia | D96: =SUM(Ahualulco!D93,Alaquines!D93,Aquismon!D93,ArmadillodelosInfante!D93,AxtladeTerrazas!D93,Catorce!D93,Cedral!D93,Cerritos!D93,CerrodeSanPedro!D93,Charcas!D93,CiudadFernandez!D93,CiudadValles!D93,CiudaddelMaiz!D93,Coxcatlan!D93,Cardenas!D93,Ebano!D93,ElNaranjo!D93,Guadalcazar!D93,Huehuetlan!D93,Lagunillas!D93,Matehuala!D93,Matlapa!D93,MexquiticdeCarmona!D93,Moctezuma!D93,Rayon!D93,Rioverde!D93,Salinas!D93,SanAntonio!D93,SanCirodeAcosta!D93,SanLuisPotosi!D93,SanMartinChalchicuautla!D93,SanNicolasTolentino!D93,SanVicenteTancuayalab!D93,SantaCatarina!D93,SantaMariadelRio!D93,SantoDomingo!D93,SoledaddeGracianoSanchez!D93,Tamasopo!D93,Tamazunchale!D93,Tampacan!D93,TampamolonCorona!D93,Tamuin!D93,Tancanhuitz!D93,Tanlajas!D93,TanquiandeEscobedo!D93,TierraNueva!D93,Vanegas!D93,Venado!D93,VillaHidalgo!D93,VillaJuarez!D93,VilladeArista!D93,VilladeArriaga!D93,VilladeGuadalupe!D93,VilladeRamos!D93,VilladeReyes!D93,VilladelaPaz!D93,Xilitla!D93,Zaragoza!D93) -> 0 | E96: 0 | N96: 0 | O96: =SUM(Ahualulco!F93,Alaquines!F93,Aquismon!F93,ArmadillodelosInfante!F93,AxtladeTerrazas!F93,Catorce!F93,Cedral!F93,Cerritos!F93,CerrodeSanPedro!F93,Charcas!F93,CiudadFernandez!F93,CiudadValles!F93,CiudaddelMaiz!F93,Coxcatlan!F93,Cardenas!F93,Ebano!F93,ElNaranjo!F93,Guadalcazar!F93,Huehuetlan!F93,Lagunillas!F93,Matehuala!F93,Matlapa!F93,MexquiticdeCarmona!F93,Moctezuma!F93,Rayon!F93,Rioverde!F93,Salinas!F93,SanAntonio!F93,SanCirodeAcosta!F93,SanLuisPotosi!F93,SanMartinChalchicuautla!F93,SanNicolasTolentino!F93,SanVicenteTancuayalab!F93,SantaCatarina!F93,SantaMariadelRio!F93,SantoDomingo!F93,SoledaddeGracianoSanchez!F93,Tamasopo!F93,Tamazunchale!F93,Tampacan!F93,TampamolonCorona!F93,Tamuin!F93,Tancanhuitz!F93,Tanlajas!F93,TanquiandeEscobedo!F93,TierraNueva!F93,Vanegas!F93,Venado!F93,VillaHidalgo!F93,VillaJuarez!F93,VilladeArista!F93,VilladeArriaga!F93,VilladeGuadalupe!F93,VilladeRamos!F93,VilladeReyes!F93,VilladelaPaz!F93,Xilitla!F93,Zaragoza!F93) -> 90 | P96: 90 | Y96: 90 | Z96: =SUM(E96,P96) -> 90 | AI96: =SUM(N96,Y96) -> 90
B97: 4.1.2.3 | C97: Robo de embarcaciones pequeñas y grandes | D97: =SUM(Ahualulco!D94,Alaquines!D94,Aquismon!D94,ArmadillodelosInfante!D94,AxtladeTerrazas!D94,Catorce!D94,Cedral!D94,Cerritos!D94,CerrodeSanPedro!D94,Charcas!D94,CiudadFernandez!D94,CiudadValles!D94,CiudaddelMaiz!D94,Coxcatlan!D94,Cardenas!D94,Ebano!D94,ElNaranjo!D94,Guadalcazar!D94,Huehuetlan!D94,Lagunillas!D94,Matehuala!D94,Matlapa!D94,MexquiticdeCarmona!D94,Moctezuma!D94,Rayon!D94,Rioverde!D94,Salinas!D94,SanAntonio!D94,SanCirodeAcosta!D94,SanLuisPotosi!D94,SanMartinChalchicuautla!D94,SanNicolasTolentino!D94,SanVicenteTancuayalab!D94,SantaCatarina!D94,SantaMariadelRio!D94,SantoDomingo!D94,SoledaddeGracianoSanchez!D94,Tamasopo!D94,Tamazunchale!D94,Tampacan!D94,TampamolonCorona!D94,Tamuin!D94,Tancanhuitz!D94,Tanlajas!D94,TanquiandeEscobedo!D94,TierraNueva!D94,Vanegas!D94,Venado!D94,VillaHidalgo!D94,VillaJuarez!D94,VilladeArista!D94,VilladeArriaga!D94,VilladeGuadalupe!D94,VilladeRamos!D94,VilladeReyes!D94,VilladelaPaz!D94,Xilitla!D94,Zaragoza!D94) -> 0 | E97: =SUM(E98,E99) -> 0 | N97: =SUM(N98,N99) -> 0 | O97: =SUM(Ahualulco!F94,Alaquines!F94,Aquismon!F94,ArmadillodelosInfante!F94,AxtladeTerrazas!F94,Catorce!F94,Cedral!F94,Cerritos!F94,CerrodeSanPedro!F94,Charcas!F94,CiudadFernandez!F94,CiudadValles!F94,CiudaddelMaiz!F94,Coxcatlan!F94,Cardenas!F94,Ebano!F94,ElNaranjo!F94,Guadalcazar!F94,Huehuetlan!F94,Lagunillas!F94,Matehuala!F94,Matlapa!F94,MexquiticdeCarmona!F94,Moctezuma!F94,Rayon!F94,Rioverde!F94,Salinas!F94,SanAntonio!F94,SanCirodeAcosta!F94,SanLuisPotosi!F94,SanMartinChalchicuautla!F94,SanNicolasTolentino!F94,SanVicenteTancuayalab!F94,SantaCatarina!F94,SantaMariadelRio!F94,SantoDomingo!F94,SoledaddeGracianoSanchez!F94,Tamasopo!F94,Tamazunchale!F94,Tampacan!F94,TampamolonCorona!F94,Tamuin!F94,Tancanhuitz!F94,Tanlajas!F94,TanquiandeEscobedo!F94,TierraNueva!F94,Vanegas!F94,Venado!F94,VillaHidalgo!F94,VillaJuarez!F94,VilladeArista!F94,VilladeArriaga!F94,VilladeGuadalupe!F94,VilladeRamos!F94,VilladeReyes!F94,VilladelaPaz!F94,Xilitla!F94,Zaragoza!F94) -> 0 | P97: =SUM(P98,P99) -> 0 | Y97: =SUM(Y98,Y99) -> 0 | Z97: =SUM(E97,P97) -> 0 | AI97: =SUM(N97,Y97) -> 0
B98: 4.1.2.3.1 | C98: Con violencia | D98: =SUM(Ahualulco!D95,Alaquines!D95,Aquismon!D95,ArmadillodelosInfante!D95,AxtladeTerrazas!D95,Catorce!D95,Cedral!D95,Cerritos!D95,CerrodeSanPedro!D95,Charcas!D95,CiudadFernandez!D95,CiudadValles!D95,CiudaddelMaiz!D95,Coxcatlan!D95,Cardenas!D95,Ebano!D95,ElNaranjo!D95,Guadalcazar!D95,Huehuetlan!D95,Lagunillas!D95,Matehuala!D95,Matlapa!D95,MexquiticdeCarmona!D95,Moctezuma!D95,Rayon!D95,Rioverde!D95,Salinas!D95,SanAntonio!D95,SanCirodeAcosta!D95,SanLuisPotosi!D95,SanMartinChalchicuautla!D95,SanNicolasTolentino!D95,SanVicenteTancuayalab!D95,SantaCatarina!D95,SantaMariadelRio!D95,SantoDomingo!D95,SoledaddeGracianoSanchez!D95,Tamasopo!D95,Tamazunchale!D95,Tampacan!D95,TampamolonCorona!D95,Tamuin!D95,Tancanhuitz!D95,Tanlajas!D95,TanquiandeEscobedo!D95,TierraNueva!D95,Vanegas!D95,Venado!D95,VillaHidalgo!D95,VillaJuarez!D95,VilladeArista!D95,VilladeArriaga!D95,VilladeGuadalupe!D95,VilladeRamos!D95,VilladeReyes!D95,VilladelaPaz!D95,Xilitla!D95,Zaragoza!D95) -> 0 | E98: 0 | N98: 0 | O98: =SUM(Ahualulco!F95,Alaquines!F95,Aquismon!F95,ArmadillodelosInfante!F95,AxtladeTerrazas!F95,Catorce!F95,Cedral!F95,Cerritos!F95,CerrodeSanPedro!F95,Charcas!F95,CiudadFernandez!F95,CiudadValles!F95,CiudaddelMaiz!F95,Coxcatlan!F95,Cardenas!F95,Ebano!F95,ElNaranjo!F95,Guadalcazar!F95,Huehuetlan!F95,Lagunillas!F95,Matehuala!F95,Matlapa!F95,MexquiticdeCarmona!F95,Moctezuma!F95,Rayon!F95,Rioverde!F95,Salinas!F95,SanAntonio!F95,SanCirodeAcosta!F95,SanLuisPotosi!F95,SanMartinChalchicuautla!F95,SanNicolasTolentino!F95,SanVicenteTancuayalab!F95,SantaCatarina!F95,SantaMariadelRio!F95,SantoDomingo!F95,SoledaddeGracianoSanchez!F95,Tamasopo!F95,Tamazunchale!F95,Tampacan!F95,TampamolonCorona!F95,Tamuin!F95,Tancanhuitz!F95,Tanlajas!F95,TanquiandeEscobedo!F95,TierraNueva!F95,Vanegas!F95,Venado!F95,VillaHidalgo!F95,VillaJuarez!F95,VilladeArista!F95,VilladeArriaga!F95,VilladeGuadalupe!F95,VilladeRamos!F95,VilladeReyes!F95,VilladelaPaz!F95,Xilitla!F95,Zaragoza!F95) -> 0 | P98: 0 | Y98: 0 | Z98: =SUM(E98,P98) -> 0 | AI98: =SUM(N98,Y98) -> 0
B99: 4.1.2.3.2 | C99: Sin violencia | D99: =SUM(Ahualulco!D96,Alaquines!D96,Aquismon!D96,ArmadillodelosInfante!D96,AxtladeTerrazas!D96,Catorce!D96,Cedral!D96,Cerritos!D96,CerrodeSanPedro!D96,Charcas!D96,CiudadFernandez!D96,CiudadValles!D96,CiudaddelMaiz!D96,Coxcatlan!D96,Cardenas!D96,Ebano!D96,ElNaranjo!D96,Guadalcazar!D96,Huehuetlan!D96,Lagunillas!D96,Matehuala!D96,Matlapa!D96,MexquiticdeCarmona!D96,Moctezuma!D96,Rayon!D96,Rioverde!D96,Salinas!D96,SanAntonio!D96,SanCirodeAcosta!D96,SanLuisPotosi!D96,SanMartinChalchicuautla!D96,SanNicolasTolentino!D96,SanVicenteTancuayalab!D96,SantaCatarina!D96,SantaMariadelRio!D96,SantoDomingo!D96,SoledaddeGracianoSanchez!D96,Tamasopo!D96,Tamazunchale!D96,Tampacan!D96,TampamolonCorona!D96,Tamuin!D96,Tancanhuitz!D96,Tanlajas!D96,TanquiandeEscobedo!D96,TierraNueva!D96,Vanegas!D96,Venado!D96,VillaHidalgo!D96,VillaJuarez!D96,VilladeArista!D96,VilladeArriaga!D96,VilladeGuadalupe!D96,VilladeRamos!D96,VilladeReyes!D96,VilladelaPaz!D96,Xilitla!D96,Zaragoza!D96) -> 0 | E99: 0 | N99: 0 | O99: =SUM(Ahualulco!F96,Alaquines!F96,Aquismon!F96,ArmadillodelosInfante!F96,AxtladeTerrazas!F96,Catorce!F96,Cedral!F96,Cerritos!F96,CerrodeSanPedro!F96,Charcas!F96,CiudadFernandez!F96,CiudadValles!F96,CiudaddelMaiz!F96,Coxcatlan!F96,Cardenas!F96,Ebano!F96,ElNaranjo!F96,Guadalcazar!F96,Huehuetlan!F96,Lagunillas!F96,Matehuala!F96,Matlapa!F96,MexquiticdeCarmona!F96,Moctezuma!F96,Rayon!F96,Rioverde!F96,Salinas!F96,SanAntonio!F96,SanCirodeAcosta!F96,SanLuisPotosi!F96,SanMartinChalchicuautla!F96,SanNicolasTolentino!F96,SanVicenteTancuayalab!F96,SantaCatarina!F96,SantaMariadelRio!F96,SantoDomingo!F96,SoledaddeGracianoSanchez!F96,Tamasopo!F96,Tamazunchale!F96,Tampacan!F96,TampamolonCorona!F96,Tamuin!F96,Tancanhuitz!F96,Tanlajas!F96,TanquiandeEscobedo!F96,TierraNueva!F96,Vanegas!F96,Venado!F96,VillaHidalgo!F96,VillaJuarez!F96,VilladeArista!F96,VilladeArriaga!F96,VilladeGuadalupe!F96,VilladeRamos!F96,VilladeReyes!F96,VilladelaPaz!F96,Xilitla!F96,Zaragoza!F96) -> 0 | P99: 0 | Y99: 0 | Z99: =SUM(E99,P99) -> 0 | AI99: =SUM(N99,Y99) -> 0
B100: 4.1.3 | C100: Robo de autopartes | D100: =SUM(Ahualulco!D97,Alaquines!D97,Aquismon!D97,ArmadillodelosInfante!D97,AxtladeTerrazas!D97,Catorce!D97,Cedral!D97,Cerritos!D97,CerrodeSanPedro!D97,Charcas!D97,CiudadFernandez!D97,CiudadValles!D97,CiudaddelMaiz!D97,Coxcatlan!D97,Cardenas!D97,Ebano!D97,ElNaranjo!D97,Guadalcazar!D97,Huehuetlan!D97,Lagunillas!D97,Matehuala!D97,Matlapa!D97,MexquiticdeCarmona!D97,Moctezuma!D97,Rayon!D97,Rioverde!D97,Salinas!D97,SanAntonio!D97,SanCirodeAcosta!D97,SanLuisPotosi!D97,SanMartinChalchicuautla!D97,SanNicolasTolentino!D97,SanVicenteTancuayalab!D97,SantaCatarina!D97,SantaMariadelRio!D97,SantoDomingo!D97,SoledaddeGracianoSanchez!D97,Tamasopo!D97,Tamazunchale!D97,Tampacan!D97,TampamolonCorona!D97,Tamuin!D97,Tancanhuitz!D97,Tanlajas!D97,TanquiandeEscobedo!D97,TierraNueva!D97,Vanegas!D97,Venado!D97,VillaHidalgo!D97,VillaJuarez!D97,VilladeArista!D97,VilladeArriaga!D97,VilladeGuadalupe!D97,VilladeRamos!D97,VilladeReyes!D97,VilladelaPaz!D97,Xilitla!D97,Zaragoza!D97) -> 0 | E100: =SUM(E101:E102) -> 0 | O100: =SUM(Ahualulco!F97,Alaquines!F97,Aquismon!F97,ArmadillodelosInfante!F97,AxtladeTerrazas!F97,Catorce!F97,Cedral!F97,Cerritos!F97,CerrodeSanPedro!F97,Charcas!F97,CiudadFernandez!F97,CiudadValles!F97,CiudaddelMaiz!F97,Coxcatlan!F97,Cardenas!F97,Ebano!F97,ElNaranjo!F97,Guadalcazar!F97,Huehuetlan!F97,Lagunillas!F97,Matehuala!F97,Matlapa!F97,MexquiticdeCarmona!F97,Moctezuma!F97,Rayon!F97,Rioverde!F97,Salinas!F97,SanAntonio!F97,SanCirodeAcosta!F97,SanLuisPotosi!F97,SanMartinChalchicuautla!F97,SanNicolasTolentino!F97,SanVicenteTancuayalab!F97,SantaCatarina!F97,SantaMariadelRio!F97,SantoDomingo!F97,SoledaddeGracianoSanchez!F97,Tamasopo!F97,Tamazunchale!F97,Tampacan!F97,TampamolonCorona!F97,Tamuin!F97,Tancanhuitz!F97,Tanlajas!F97,TanquiandeEscobedo!F97,TierraNueva!F97,Vanegas!F97,Venado!F97,VillaHidalgo!F97,VillaJuarez!F97,VilladeArista!F97,VilladeArriaga!F97,VilladeGuadalupe!F97,VilladeRamos!F97,VilladeReyes!F97,VilladelaPaz!F97,Xilitla!F97,Zaragoza!F97) -> 74 | P100: =SUM(P101:P102) -> 74 | Z100: =SUM(E100,P100) -> 74
B101: 4.1.3.1 | C101: Con violencia | D101: =SUM(Ahualulco!D98,Alaquines!D98,Aquismon!D98,ArmadillodelosInfante!D98,AxtladeTerrazas!D98,Catorce!D98,Cedral!D98,Cerritos!D98,CerrodeSanPedro!D98,Charcas!D98,CiudadFernandez!D98,CiudadValles!D98,CiudaddelMaiz!D98,Coxcatlan!D98,Cardenas!D98,Ebano!D98,ElNaranjo!D98,Guadalcazar!D98,Huehuetlan!D98,Lagunillas!D98,Matehuala!D98,Matlapa!D98,MexquiticdeCarmona!D98,Moctezuma!D98,Rayon!D98,Rioverde!D98,Salinas!D98,SanAntonio!D98,SanCirodeAcosta!D98,SanLuisPotosi!D98,SanMartinChalchicuautla!D98,SanNicolasTolentino!D98,SanVicenteTancuayalab!D98,SantaCatarina!D98,SantaMariadelRio!D98,SantoDomingo!D98,SoledaddeGracianoSanchez!D98,Tamasopo!D98,Tamazunchale!D98,Tampacan!D98,TampamolonCorona!D98,Tamuin!D98,Tancanhuitz!D98,Tanlajas!D98,TanquiandeEscobedo!D98,TierraNueva!D98,Vanegas!D98,Venado!D98,VillaHidalgo!D98,VillaJuarez!D98,VilladeArista!D98,VilladeArriaga!D98,VilladeGuadalupe!D98,VilladeRamos!D98,VilladeReyes!D98,VilladelaPaz!D98,Xilitla!D98,Zaragoza!D98) -> 0 | E101: 0 | O101: =SUM(Ahualulco!F98,Alaquines!F98,Aquismon!F98,ArmadillodelosInfante!F98,AxtladeTerrazas!F98,Catorce!F98,Cedral!F98,Cerritos!F98,CerrodeSanPedro!F98,Charcas!F98,CiudadFernandez!F98,CiudadValles!F98,CiudaddelMaiz!F98,Coxcatlan!F98,Cardenas!F98,Ebano!F98,ElNaranjo!F98,Guadalcazar!F98,Huehuetlan!F98,Lagunillas!F98,Matehuala!F98,Matlapa!F98,MexquiticdeCarmona!F98,Moctezuma!F98,Rayon!F98,Rioverde!F98,Salinas!F98,SanAntonio!F98,SanCirodeAcosta!F98,SanLuisPotosi!F98,SanMartinChalchicuautla!F98,SanNicolasTolentino!F98,SanVicenteTancuayalab!F98,SantaCatarina!F98,SantaMariadelRio!F98,SantoDomingo!F98,SoledaddeGracianoSanchez!F98,Tamasopo!F98,Tamazunchale!F98,Tampacan!F98,TampamolonCorona!F98,Tamuin!F98,Tancanhuitz!F98,Tanlajas!F98,TanquiandeEscobedo!F98,TierraNueva!F98,Vanegas!F98,Venado!F98,VillaHidalgo!F98,VillaJuarez!F98,VilladeArista!F98,VilladeArriaga!F98,VilladeGuadalupe!F98,VilladeRamos!F98,VilladeReyes!F98,VilladelaPaz!F98,Xilitla!F98,Zaragoza!F98) -> 6 | P101: 6 | Z101: =SUM(E101,P101) -> 6
B102: 4.1.3.2 | C102: Sin violencia | D102: =SUM(Ahualulco!D99,Alaquines!D99,Aquismon!D99,ArmadillodelosInfante!D99,AxtladeTerrazas!D99,Catorce!D99,Cedral!D99,Cerritos!D99,CerrodeSanPedro!D99,Charcas!D99,CiudadFernandez!D99,CiudadValles!D99,CiudaddelMaiz!D99,Coxcatlan!D99,Cardenas!D99,Ebano!D99,ElNaranjo!D99,Guadalcazar!D99,Huehuetlan!D99,Lagunillas!D99,Matehuala!D99,Matlapa!D99,MexquiticdeCarmona!D99,Moctezuma!D99,Rayon!D99,Rioverde!D99,Salinas!D99,SanAntonio!D99,SanCirodeAcosta!D99,SanLuisPotosi!D99,SanMartinChalchicuautla!D99,SanNicolasTolentino!D99,SanVicenteTancuayalab!D99,SantaCatarina!D99,SantaMariadelRio!D99,SantoDomingo!D99,SoledaddeGracianoSanchez!D99,Tamasopo!D99,Tamazunchale!D99,Tampacan!D99,TampamolonCorona!D99,Tamuin!D99,Tancanhuitz!D99,Tanlajas!D99,TanquiandeEscobedo!D99,TierraNueva!D99,Vanegas!D99,Venado!D99,VillaHidalgo!D99,VillaJuarez!D99,VilladeArista!D99,VilladeArriaga!D99,VilladeGuadalupe!D99,VilladeRamos!D99,VilladeReyes!D99,VilladelaPaz!D99,Xilitla!D99,Zaragoza!D99) -> 0 | E102: 0 | O102: =SUM(Ahualulco!F99,Alaquines!F99,Aquismon!F99,ArmadillodelosInfante!F99,AxtladeTerrazas!F99,Catorce!F99,Cedral!F99,Cerritos!F99,CerrodeSanPedro!F99,Charcas!F99,CiudadFernandez!F99,CiudadValles!F99,CiudaddelMaiz!F99,Coxcatlan!F99,Cardenas!F99,Ebano!F99,ElNaranjo!F99,Guadalcazar!F99,Huehuetlan!F99,Lagunillas!F99,Matehuala!F99,Matlapa!F99,MexquiticdeCarmona!F99,Moctezuma!F99,Rayon!F99,Rioverde!F99,Salinas!F99,SanAntonio!F99,SanCirodeAcosta!F99,SanLuisPotosi!F99,SanMartinChalchicuautla!F99,SanNicolasTolentino!F99,SanVicenteTancuayalab!F99,SantaCatarina!F99,SantaMariadelRio!F99,SantoDomingo!F99,SoledaddeGracianoSanchez!F99,Tamasopo!F99,Tamazunchale!F99,Tampacan!F99,TampamolonCorona!F99,Tamuin!F99,Tancanhuitz!F99,Tanlajas!F99,TanquiandeEscobedo!F99,TierraNueva!F99,Vanegas!F99,Venado!F99,VillaHidalgo!F99,VillaJuarez!F99,VilladeArista!F99,VilladeArriaga!F99,VilladeGuadalupe!F99,VilladeRamos!F99,VilladeReyes!F99,VilladelaPaz!F99,Xilitla!F99,Zaragoza!F99) -> 68 | P102: 68 | Z102: =SUM(E102,P102) -> 68
B103: 4.1.4 | C103: Robo a transportista | D103: =SUM(Ahualulco!D100,Alaquines!D100,Aquismon!D100,ArmadillodelosInfante!D100,AxtladeTerrazas!D100,Catorce!D100,Cedral!D100,Cerritos!D100,CerrodeSanPedro!D100,Charcas!D100,CiudadFernandez!D100,CiudadValles!D100,CiudaddelMaiz!D100,Coxcatlan!D100,Cardenas!D100,Ebano!D100,ElNaranjo!D100,Guadalcazar!D100,Huehuetlan!D100,Lagunillas!D100,Matehuala!D100,Matlapa!D100,MexquiticdeCarmona!D100,Moctezuma!D100,Rayon!D100,Rioverde!D100,Salinas!D100,SanAntonio!D100,SanCirodeAcosta!D100,SanLuisPotosi!D100,SanMartinChalchicuautla!D100,SanNicolasTolentino!D100,SanVicenteTancuayalab!D100,SantaCatarina!D100,SantaMariadelRio!D100,SantoDomingo!D100,SoledaddeGracianoSanchez!D100,Tamasopo!D100,Tamazunchale!D100,Tampacan!D100,TampamolonCorona!D100,Tamuin!D100,Tancanhuitz!D100,Tanlajas!D100,TanquiandeEscobedo!D100,TierraNueva!D100,Vanegas!D100,Venado!D100,VillaHidalgo!D100,VillaJuarez!D100,VilladeArista!D100,VilladeArriaga!D100,VilladeGuadalupe!D100,VilladeRamos!D100,VilladeReyes!D100,VilladelaPaz!D100,Xilitla!D100,Zaragoza!D100) -> 0 | E103: =SUM(E104:E105) -> 0 | N103: =SUM(N104,N105) -> 0 | O103: =SUM(Ahualulco!F100,Alaquines!F100,Aquismon!F100,ArmadillodelosInfante!F100,AxtladeTerrazas!F100,Catorce!F100,Cedral!F100,Cerritos!F100,CerrodeSanPedro!F100,Charcas!F100,CiudadFernandez!F100,CiudadValles!F100,CiudaddelMaiz!F100,Coxcatlan!F100,Cardenas!F100,Ebano!F100,ElNaranjo!F100,Guadalcazar!F100,Huehuetlan!F100,Lagunillas!F100,Matehuala!F100,Matlapa!F100,MexquiticdeCarmona!F100,Moctezuma!F100,Rayon!F100,Rioverde!F100,Salinas!F100,SanAntonio!F100,SanCirodeAcosta!F100,SanLuisPotosi!F100,SanMartinChalchicuautla!F100,SanNicolasTolentino!F100,SanVicenteTancuayalab!F100,SantaCatarina!F100,SantaMariadelRio!F100,SantoDomingo!F100,SoledaddeGracianoSanchez!F100,Tamasopo!F100,Tamazunchale!F100,Tampacan!F100,TampamolonCorona!F100,Tamuin!F100,Tancanhuitz!F100,Tanlajas!F100,TanquiandeEscobedo!F100,TierraNueva!F100,Vanegas!F100,Venado!F100,VillaHidalgo!F100,VillaJuarez!F100,VilladeArista!F100,VilladeArriaga!F100,VilladeGuadalupe!F100,VilladeRamos!F100,VilladeReyes!F100,VilladelaPaz!F100,Xilitla!F100,Zaragoza!F100) -> 36 | P103: =SUM(P104:P105) -> 36 | Y103: =SUM(Y104,Y105) -> 36 | Z103: =SUM(E103,P103) -> 36 | AI103: =SUM(N103,Y103) -> 36
...

Sheet Ahualulco
A2: REPORTE ESTADÍSTICO MENSUAL SOBRE INCIDENCIA DELICTIVA
A3: FUERO COMÚN (municipal)
A5: Entidad federativa: | D5: San Luis Potosí
A6: Municipio | D6: Ahualulco
A7: Dependencia responsable: | D7: =edo_SanLuisPotosi!E6 -> FISCALÍA GENERAL DEL ESTADO
A8: Tipo de reporte: | D8: =edo_SanLuisPotosi!E7 -> Reporte de cierre del mes inmediato anterior
A9: Fecha de llenado del reporte: | D9: =edo_SanLuisPotosi!E8 -> 44114
A10: Fecha de referencia de la información:
D11: =edo_SanLuisPotosi!E10 -> 2020 | E11: Indique el mes y el año en que se iniciaron las averiguaciones previas o se abrieron las carpetas de investigación que contienen la información que se incluye en el presente reporte.
D12: =edo_SanLuisPotosi!E11 -> Septiembre
A14: Instrucciones de llenado:
A15: Reporte todos los delitos registrados en las averiguaciones previas iniciadas (AP's) y carpetas de investigación iniciadas (CI) durante el mes de referencia.
A16: Proporcione la información según el sistema penal vigente en su entidad.
A17: En las celdas blancas de las columnas D y F se deben registrar el número de delitos correspondientes de cada Averiguación Previa y/o Carpeta de Investigación iniciadas.
A18: En las celdas blancas de las columnas E y G, correspondientes al número de unidades robadas, se deben registrar el número de vehiculos que se hayan registrado en la AP iniciada y/o CI iniciada, según el sistema de justicia que opere en su entidad.
A19: Por favor no deje celdas vacías. Si no se registraron algunos tipos de delitos en el municipio, escriba 0 (cero). Si el tipo de delito no aplica en su entidad, escriba NA (no aplica).
A20: Previo al llenado del presente formato, se le recomienda consultar el "Manual para la Clasificación y Llenado del Formato de Incidencia Delictiva".
A23: Sistema de Justicia Penal Inquisitorio
A24: Total de delitos en Averiguaciones Previas Iniciadas: | D24: =D31 -> 0 | F24: Gran total
A25: Sistema de Justicia Penal Acusatorio | F25: Número total de delitos | H25: =SUM(D24,D26) -> 20
A26: Total de delitos en Carpetas de Investigación Iniciadas: | D26: =F31 -> 20
A28: I. Clasificación de delitos | D28: II. Sistema penal inquisitorio (SPI) | F28: III. Sistema penal acusatorio (SPA) | H28: IV. Total en el municipio
A29: Bien jurídico afectado | B29: Clave | C29: Tipo de delito, comisión, acción y elementos usados | D29: Número de delitos en Averiguaciones previas iniciadas | E29: Núm. de unidades robadas | F29: Número de delitos en Carpetas de investigación iniciadas | G29: Núm. de unidades robadas | H29: Número de delitos en AP´s y CI iniciadas | I29: Núm. de unidades robadas
A31: Gran total | D31: =SUM(D32,D64,D74,D82,D146,D151,D155) -> 0 | E31: =E82 -> 0 | F31: =SUM(F32,F64,F74,F82,F146,F151,F155) -> 20 | G31: =G82 -> 0 | H31: =SUM(D31,F31) -> 20 | I31: =SUM(E31,G31) -> 0
A32: La vida y la Integridad | B32: 1 | C32: Total de delitos contra la vida y la integridad corporal | D32: =SUM(D33,D45,D57,D62,D63) -> 0 | F32: =SUM(F33,F45,F57,F62,F63) -> 2 | H32: =SUM(D32,F32) -> 2
B33: 1.1 | C33: Homicidio | D33: =SUM(D34,D39) -> 0 | F33: =SUM(F34,F39) -> 0 | H33: =SUM(D33,F33) -> 0
B34: 1.1.1 | C34: Homicidio doloso | D34: =SUM(D35:D38) -> 0 | F34: =SUM(F35:F38) -> 0 | H34: =SUM(D34,F34) -> 0
B35: 1.1.1.1 | C35: Con arma de fuego | D35: 0 | F35: 0 | H35: =SUM(D35,F35) -> 0
B36: 1.1.1.2 | C36: Con arma blanca | D36: 0 | F36: 0 | H36: =SUM(D36,F36) -> 0
B37: 1.1.1.3 | C37: Con otro elemento | D37: 0 | F37: 0 | H37: =SUM(D37,F37) -> 0
B38: 1.1.1.4 | C38: No especificado | D38: 0 | F38: 0 | H38: =SUM(D38,F38) -> 0
B39: 1.1.2 | C39: Homicidio culposo | D39: =SUM(D40:D44) -> 0 | F39: =SUM(F40:F44) -> 0 | H39: =SUM(D39,F39) -> 0
B40: 1.1.2.1 | C40: Con arma de fuego | D40: 0 | F40: 0 | H40: =SUM(D40,F40) -> 0
B41: 1.1.2.2 | C41: Con arma blanca | D41: 0 | F41: 0 | H41: =SUM(D41,F41) -> 0
B42: 1.1.2.3 | C42: En accidente de tránsito | D42: 0 | F42: 0 | H42: =SUM(D42,F42) -> 0
B43: 1.1.2.4 | C43: Con otro elemento | D43: 0 | F43: 0 | H43: =SUM(D43,F43) -> 0
B44: 1.1.2.5 | C44: No especificado | D44: 0 | F44: 0 | H44: =SUM(D44,F44) -> 0
B45: 1.2 | C45: Lesiones | D45: =SUM(D46,D51) -> 0 | F45: =SUM(F46,F51) -> 2 | H45: =SUM(D45,F45) -> 2
B46: 1.2.1 | C46: Lesiones dolosas | D46: =SUM(D47:D50) -> 0 | F46: =SUM(F47:F50) -> 1 | H46: =SUM(D46,F46) -> 1
B47: 1.2.1.1 | C47: Con arma de fuego | D47: 0 | F47: 0 | H47: =SUM(D47,F47) -> 0
B48: 1.2.1.2 | C48: Con arma blanca | D48: 0 | F48: 0 | H48: =SUM(D48,F48) -> 0
B49: 1.2.1.3 | C49: Con otro elemento | D49: 0 | F49: 1 | H49: =SUM(D49,F49) -> 1
B50: 1.2.1.4 | C50: No especificado | D50: 0 | F50: 0 | H50: =SUM(D50,F50) -> 0
B51: 1.2.2 | C51: Lesiones culposas | D51: =SUM(D52:D56) -> 0 | F51: =SUM(F52:F56) -> 1 | H51: =SUM(D51,F51) -> 1
B52: 1.2.2.1 | C52: Con arma de fuego | D52: 0 | F52: 0 | H52: =SUM(D52,F52) -> 0
B53: 1.2.2.2 | C53: Con arma blanca | D53: 0 | F53: 0 | H53: =SUM(D53,F53) -> 0
B54: 1.2.2.3 | C54: En accidente de tránsito | D54: 0 | F54: 1 | H54: =SUM(D54,F54) -> 1
B55: 1.2.2.4 | C55: Con otro elemento | D55: 0 | F55: 0 | H55: =SUM(D55,F55) -> 0
B56: 1.2.2.5 | C56: No especificado | D56: 0 | F56: 0 | H56: =SUM(D56,F56) -> 0
B57: 1.3 | C57: Feminicidio | D57: =SUM(D58:D61) -> 0 | F57: =SUM(F58:F61) -> 0 | H57: =SUM(D57,F57) -> 0
B58: 1.3.1 | C58: Con arma de fuego | D58: 0 | F58: 0 | H58: =SUM(D58,F58) -> 0
B59: 1.3.2 | C59: Con arma blanca | D59: 0 | F59: 0 | H59: =SUM(D59,F59) -> 0
B60: 1.3.3 | C60: Con otro elemento | D60: 0 | F60: 0 | H60: =SUM(D60,F60) -> 0
B61: 1.3.4 | C61: No especificado | D61: 0 | F61: 0 | H61: =SUM(D61,F61) -> 0
B62: 1.4 | C62: Aborto | D62: 0 | F62: 0 | H62: =SUM(D62,F62) -> 0
B63: 1.5 | C63: Otros delitos que atentan contra la vida y la integridad corporal | D63: 0 | F63: 0 | H63: =SUM(D63,F63) -> 0
A64: La libertad personal | B64: 2 | C64: Total de delitos contra la libertad personal | D64: =SUM(D65,D71,D72,D73) -> 0 | F64: =SUM(F65,F71,F72,F73) -> 2 | H64: =SUM(D64,F64) -> 2
B65: 2.1 | C65: Secuestro | D65: =SUM(D66:D70) -> 0 | F65: =SUM(F66:F70) -> 0 | H65: =SUM(D65,F65) -> 0
B66: 2.1.1 | C66: Secuestro extorsivo | D66: 0 | F66: 0 | H66: =SUM(D66,F66) -> 0
B67: 2.1.2 | C67: Secuestro con calidad de rehén | D67: 0 | F67: 0 | H67: =SUM(D67,F67) -> 0
B68: 2.1.3 | C68: Secuestro para causar daño | D68: 0 | F68: 0 | H68: =SUM(D68,F68) -> 0
B69: 2.1.4 | C69: Secuestro exprés | D69: 0 | F69: 0 | H69: =SUM(D69,F69) -> 0
B70: 2.1.5 | C70: Otro tipo de secuestros | D70: 0 | F70: 0 | H70: =SUM(D70,F70) -> 0
B71: 2.2 | C71: Tráfico de menores | D71: 0 | F71: 0 | H71: =SUM(D71,F71) -> 0
B72: 2.3 | C72: Rapto | D72: 0 | F72: 0 | H72: =SUM(D72,F72) -> 0
B73: 2.4 | C73: Otros delitos que atentan contra la libertad personal | D73: 0 | F73: 2 | H73: =SUM(D73,F73) -> 2
A74: La libertad y la seguridad sexual | B74: 3 | C74: Total de delitos contra la libertad y la seguridad sexual | D74: =SUM(D75:D81) -> 0 | F74: =SUM(F75:F81) -> 1 | H74: =SUM(D74,F74) -> 1
B75: 3.1 | C75: Abuso sexual | D75: 0 | F75: 0 | H75: =SUM(D75,F75) -> 0
B76: 3.2 | C76: Acoso sexual | D76: 0 | F76: 0 | H76: =SUM(D76,F76) -> 0
B77: 3.3 | C77: Hostigamiento sexual | D77: 0 | F77: 0 | H77: =SUM(D77,F77) -> 0
B78: 3.4 | C78: Violación simple | D78: 0 | F78: 1 | H78: =SUM(D78,F78) -> 1
B79: 3.5 | C79: Violación equiparada | D79: 0 | F79: 0 | H79: =SUM(D79,F79) -> 0
B80: 3.6 | C80: Incesto | D80: 0 | F80: 0 | H80: =SUM(D80,F80) -> 0
B81: 3.7 | C81: Otros delitos que atentan contra la libertad y la seguridad sexual | D81: 0 | F81: 0 | H81: =SUM(D81,F81) -> 0
A82: El patrimonio | B82: 4 | C82: Total de delitos contra el patrimonio | D82: =SUM(D84,D87,D97,D100,D103,D106,D109,D112,D115,D118,D121,D124,D127,D137,D140,D141,D142,D143,D144,D145) -> 0 | E82: =SUM(E87,E100,E131) -> 0 | F82: =SUM(F84,F87,F97,F100,F103,F106,F109,F112,F115,F118,F121,F124,F127,F137,F140,F141,F142,F143,F144,F145) -> 10 | G82: =SUM(G87,G100,G131) -> 0 | H82: =SUM(D82,F82) -> 10 | I82: =SUM(E82,G82) -> 0
B83: 4.1 | C83: Robo total | D83: =SUM(D84,D87,D97,D100,D103,D106,D109,D112,D115,D118,D121,D124,D127,D137) -> 0 | E83: =E82 -> 0 | F83: =SUM(F84,F87,F97,F100,F103,F106,F109,F112,F115,F118,F121,F124,F127,F137) -> 3 | G83: =G82 -> 0 | H83: =SUM(D83,F83) -> 3 | I83: =SUM(E83,G83) -> 0
B84: 4.1.1 | C84: Robo a casa habitación | D84: =SUM(D85:D86) -> 0 | F84: =SUM(F85:F86) -> 0 | H84: =SUM(D84,F84) -> 0
B85: 4.1.1.1 | C85: Con violencia | D85: 0 | F85: 0 | H85: =SUM(D85,F85) -> 0
B86: 4.1.1.2 | C86: Sin violencia | D86: 0 | F86: 0 | H86: =SUM(D86,F86) -> 0
B87: 4.1.2 | C87: Robo de vehículo automotor | D87: =SUM(D88,D91,D94) -> 0 | E87: =SUM(E88,E91,E94) -> 0 | F87: =SUM(F88,F91,F94) -> 0 | G87: =SUM(G88,G91,G94) -> 0 | H87: =SUM(D87,F87) -> 0 | I87: =SUM(E87,G87) -> 0
B88: 4.1.2.1 | C88: Robo de coche de 4 ruedas | D88: =SUM(D89:D90) -> 0 | E88: =SUM(E89,E90) -> 0 | F88: =SUM(F89:F90) -> 0 | G88: =SUM(G89,G90) -> 0 | H88: =SUM(D88,F88) -> 0 | I88: =SUM(E88,G88) -> 0
B89: 4.1.2.1.1 | C89: Con violencia | D89: 0 | E89: 0 | F89: 0 | G89: 0 | H89: =SUM(D89,F89) -> 0 | I89: =SUM(E89,G89) -> 0
B90: 4.1.2.1.2 | C90: Sin violencia | D90: 0 | E90: 0 | F90: 0 | G90: 0 | H90: =SUM(D90,F90) -> 0 | I90: =SUM(E90,G90) -> 0
B91: 4.1.2.2 | C91: Robo de motocicleta | D91: =SUM(D92,D93) -> 0 | E91: =SUM(E92,E93) -> 0 | F91: =SUM(F92,F93) -> 0 | G91: =SUM(G92,G93) -> 0 | H91: =SUM(D91,F91) -> 0 | I91: =SUM(E91,G91) -> 0
B92: 4.1.2.2.1 | C92: Con violencia | D92: 0 | E92: 0 | F92: 0 | G92: 0 | H92: =SUM(D92,F92) -> 0 | I92: =SUM(E92,G92) -> 0
B93: 4.1.2.2.2 | C93: Sin violencia | D93: 0 | E93: 0 | F93: 0 | G93: 0 | H93: =SUM(D93,F93) -> 0 | I93: =SUM(E93,G93) -> 0
B94: 4.1.2.3 | C94: Robo de embarcaciones pequeñas y grandes | D94: =SUM(D95,D96) -> 0 | E94: =SUM(E95,E96) -> 0 | F94: =SUM(F95,F96) -> 0 | G94: =SUM(G95,G96) -> 0 | H94: =SUM(D94,F94) -> 0 | I94: =SUM(E94,G94) -> 0
B95: 4.1.2.3.1 | C95: Con violencia | D95: 0 | E95: 0 | F95: 0 | G95: 0 | H95: =SUM(D95,F95) -> 0 | I95: =SUM(E95,G95) -> 0
B96: 4.1.2.3.2 | C96: Sin violencia | D96: 0 | E96: 0 | F96: 0 | G96: 0 | H96: =SUM(D96,F96) -> 0 | I96: =SUM(E96,G96) -> 0
B97: 4.1.3 | C97: Robo de autopartes | D97: =SUM(D98:D99) -> 0 | F97: =SUM(F98:F99) -> 0 | H97: =SUM(D97,F97) -> 0
B98: 4.1.3.1 | C98: Con violencia | D98: 0 | F98: 0 | H98: =SUM(D98,F98) -> 0
B99: 4.1.3.2 | C99: Sin violencia | D99: 0 | F99: 0 | H99: =SUM(D99,F99) -> 0
B100: 4.1.4 | C100: Robo a transportista | D100: =SUM(D101:D102) -> 0 | E100: =SUM(E101:E102) -> 0 | F100: =SUM(F101:F102) -> 0 | G100: =SUM(G101:G102) -> 0 | H100: =SUM(D100,F100) -> 0 | I100: =SUM(E100,G100) -> 0
B101: 4.1.4.1 | C101: Con violencia | D101: 0 | E101: 0 | F101: 0 | G101: 0 | H101: =SUM(D101,F101) -> 0 | I101: =SUM(E101,G101) -> 0
B102: 4.1.4.2 | C102: Sin violencia | D102: 0 | E102: 0 | F102: 0 | G102: 0 | H102: =SUM(D102,F102) -> 0 | I102: =SUM(E102,G102) -> 0
B103: 4.1.5 | C103: Robo a transeúnte en vía pública | D103: =SUM(D104:D105) -> 0 | F103: =SUM(F104:F105) -> 0 | H103: =SUM(D103,F103) -> 0
B104: 4.1.5.1 | C104: Con violencia | D104: 0 | F104: 0 | H104: =SUM(D104,F104) -> 0
B105: 4.1.5.2 | C105: Sin violencia | D105: 0 | F105: 0 | H105: =SUM(D105,F105) -> 0
B106: 4.1.6 | C106: Robo a transeúnte en espacio abierto al público | D106: =SUM(D107:D108) -> 0 | F106: =SUM(F107:F108) -> 0 | H106: =SUM(D106,F106) -> 0
B107: 4.1.6.1 | C107: Con violencia | D107: 0 | F107: 0 | H107: =SUM(D107,F107) -> 0
...

Sheet Alaquines
A2: REPORTE ESTADÍSTICO MENSUAL SOBRE INCIDENCIA DELICTIVA
A3: FUERO COMÚN (municipal)
A5: Entidad federativa: | D5: San Luis Potosí
A6: Municipio | D6: Alaquines
A7: Dependencia responsable: | D7: =edo_SanLuisPotosi!E6 -> FISCALÍA GENERAL DEL ESTADO
A8: Tipo de reporte: | D8: =edo_SanLuisPotosi!E7 -> Reporte de cierre del mes inmediato anterior
A9: Fecha de llenado del reporte: | D9: =edo_SanLuisPotosi!E8 -> 44114
A10: Fecha de referencia de la información:
D11: =edo_SanLuisPotosi!E10 -> 2020 | E11: Indique el mes y el año en que se iniciaron las averiguaciones previas o se abrieron las carpetas de investigación que contienen la información que se incluye en el presente reporte.
D12: =edo_SanLuisPotosi!E11 -> Septiembre
A14: Instrucciones de llenado:
A15: Reporte todos los delitos registrados en las averiguaciones previas iniciadas (AP's) y carpetas de investigación iniciadas (CI) durante el mes de referencia.
A16: Proporcione la información según el sistema penal vigente en su entidad.
A17: En las celdas blancas de las columnas D y F se deben registrar el número de delitos correspondientes de cada Averiguación Previa y/o Carpeta de Investigación iniciadas.
A18: En las celdas blancas de las columnas E y G, correspondientes al número de unidades robadas, se deben registrar el número de vehiculos que se hayan registrado en la AP iniciada y/o CI iniciada, según el sistema de justicia que opere en su entidad.
A19: Por favor no deje celdas vacías. Si no se registraron algunos tipos de delitos en el municipio, escriba 0 (cero). Si el tipo de delito no aplica en su entidad, escriba NA (no aplica).
A20: Previo al llenado del presente formato, se le recomienda consultar el "Manual para la Clasificación y Llenado del Formato de Incidencia Delictiva".
A23: Sistema de Justicia Penal Inquisitorio
A24: Total de delitos en Averiguaciones Previas Iniciadas: | D24: =D31 -> 0 | F24: Gran total
A25: Sistema de Justicia Penal Acusatorio | F25: Número total de delitos | H25: =SUM(D24,D26) -> 6
A26: Total de delitos en Carpetas de Investigación Iniciadas: | D26: =F31 -> 6
A28: I. Clasificación de delitos | D28: II. Sistema penal inquisitorio (SPI) | F28: III. Sistema penal acusatorio (SPA) | H28: IV. Total en el municipio
A29: Bien jurídico afectado | B29: Clave | C29: Tipo de delito, comisión, acción y elementos usados | D29: Número de delitos en Averiguaciones previas iniciadas | E29: Núm. de unidades robadas | F29: Número de delitos en Carpetas de investigación iniciadas | G29: Núm. de unidades robadas | H29: Número de delitos en AP´s y CI iniciadas | I29: Núm. de unidades robadas
A31: Gran total | D31: =SUM(D32,D64,D74,D82,D146,D151,D155) -> 0 | E31: =E82 -> 0 | F31: =SUM(F32,F64,F74,F82,F146,F151,F155) -> 6 | G31: =G82 -> 0 | H31: =SUM(D31,F31) -> 6 | I31: =SUM(E31,G31) -> 0
A32: La vida y la Integridad | B32: 1 | C32: Total de delitos contra la vida y la integridad corporal | D32: =SUM(D33,D45,D57,D62,D63) -> 0 | F32: =SUM(F33,F45,F57,F62,F63) -> 0 | H32: =SUM(D32,F32) -> 0
B33: 1.1 | C33: Homicidio | D33: =SUM(D34,D39) -> 0 | F33: =SUM(F34,F39) -> 0 | H33: =SUM(D33,F33) -> 0
B34: 1.1.1 | C34: Homicidio doloso | D34: =SUM(D35:D38) -> 0 | F34: =SUM(F35:F38) -> 0 | H34: =SUM(D34,F34) -> 0
B35: 1.1.1.1 | C35: Con arma de fuego | D35: 0 | F35: 0 | H35: =SUM(D35,F35) -> 0
B36: 1.1.1.2 | C36: Con arma blanca | D36: 0 | F36: 0 | H36: =SUM(D36,F36) -> 0
B37: 1.1.1.3 | C37: Con otro elemento | D37: 0 | F37: 0 | H37: =SUM(D37,F37) -> 0
B38: 1.1.1.4 | C38: No especificado | D38: 0 | F38: 0 | H38: =SUM(D38,F38) -> 0
B39: 1.1.2 | C39: Homicidio culposo | D39: =SUM(D40:D44) -> 0 | F39: =SUM(F40:F44) -> 0 | H39: =SUM(D39,F39) -> 0
B40: 1.1.2.1 | C40: Con arma de fuego | D40: 0 | F40: 0 | H40: =SUM(D40,F40) -> 0
B41: 1.1.2.2 | C41: Con arma blanca | D41: 0 | F41: 0 | H41: =SUM(D41,F41) -> 0
B42: 1.1.2.3 | C42: En accidente de tránsito | D42: 0 | F42: 0 | H42: =SUM(D42,F42) -> 0
B43: 1.1.2.4 | C43: Con otro elemento | D43: 0 | F43: 0 | H43: =SUM(D43,F43) -> 0
B44: 1.1.2.5 | C44: No especificado | D44: 0 | F44: 0 | H44: =SUM(D44,F44) -> 0
B45: 1.2 | C45: Lesiones | D45: =SUM(D46,D51) -> 0 | F45: =SUM(F46,F51) -> 0 | H45: =SUM(D45,F45) -> 0
B46: 1.2.1 | C46: Lesiones dolosas | D46: =SUM(D47:D50) -> 0 | F46: =SUM(F47:F50) -> 0 | H46: =SUM(D46,F46) -> 0
B47: 1.2.1.1 | C47: Con arma de fuego | D47: 0 | F47: 0 | H47: =SUM(D47,F47) -> 0
B48: 1.2.1.2 | C48: Con arma blanca | D48: 0 | F48: 0 | H48: =SUM(D48,F48) -> 0
B49: 1.2.1.3 | C49: Con otro elemento | D49: 0 | F49: 0 | H49: =SUM(D49,F49) -> 0
B50: 1.2.1.4 | C50: No especificado | D50: 0 | F50: 0 | H50: =SUM(D50,F50) -> 0
B51: 1.2.2 | C51: Lesiones culposas | D51: =SUM(D52:D56) -> 0 | F51: =SUM(F52:F56) -> 0 | H51: =SUM(D51,F51) -> 0
B52: 1.2.2.1 | C52: Con arma de fuego | D52: 0 | F52: 0 | H52: =SUM(D52,F52) -> 0
B53: 1.2.2.2 | C53: Con arma blanca | D53: 0 | F53: 0 | H53: =SUM(D53,F53) -> 0
B54: 1.2.2.3 | C54: En accidente de tránsito | D54: 0 | F54: 0 | H54: =SUM(D54,F54) -> 0
B55: 1.2.2.4 | C55: Con otro elemento | D55: 0 | F55: 0 | H55: =SUM(D55,F55) -> 0
B56: 1.2.2.5 | C56: No especificado | D56: 0 | F56: 0 | H56: =SUM(D56,F56) -> 0
B57: 1.3 | C57: Feminicidio | D57: =SUM(D58:D61) -> 0 | F57: =SUM(F58:F61) -> 0 | H57: =SUM(D57,F57) -> 0
B58: 1.3.1 | C58: Con arma de fuego | D58: 0 | F58: 0 | H58: =SUM(D58,F58) -> 0
B59: 1.3.2 | C59: Con arma blanca | D59: 0 | F59: 0 | H59: =SUM(D59,F59) -> 0
B60: 1.3.3 | C60: Con otro elemento | D60: 0 | F60: 0 | H60: =SUM(D60,F60) -> 0
B61: 1.3.4 | C61: No especificado | D61: 0 | F61: 0 | H61: =SUM(D61,F61) -> 0
B62: 1.4 | C62: Aborto | D62: 0 | F62: 0 | H62: =SUM(D62,F62) -> 0
B63: 1.5 | C63: Otros delitos que atentan contra la vida y la integridad corporal | D63: 0 | F63: 0 | H63: =SUM(D63,F63) -> 0
A64: La libertad personal | B64: 2 | C64: Total de delitos contra la libertad personal | D64: =SUM(D65,D71,D72,D73) -> 0 | F64: =SUM(F65,F71,F72,F73) -> 2 | H64: =SUM(D64,F64) -> 2
B65: 2.1 | C65: Secuestro | D65: =SUM(D66:D70) -> 0 | F65: =SUM(F66:F70) -> 0 | H65: =SUM(D65,F65) -> 0
B66: 2.1.1 | C66: Secuestro extorsivo | D66: 0 | F66: 0 | H66: =SUM(D66,F66) -> 0
B67: 2.1.2 | C67: Secuestro con calidad de rehén | D67: 0 | F67: 0 | H67: =SUM(D67,F67) -> 0
B68: 2.1.3 | C68: Secuestro para causar daño | D68: 0 | F68: 0 | H68: =SUM(D68,F68) -> 0
B69: 2.1.4 | C69: Secuestro exprés | D69: 0 | F69: 0 | H69: =SUM(D69,F69) -> 0
B70: 2.1.5 | C70: Otro tipo de secuestros | D70: 0 | F70: 0 | H70: =SUM(D70,F70) -> 0
B71: 2.2 | C71: Tráfico de menores | D71: 0 | F71: 0 | H71: =SUM(D71,F71) -> 0
B72: 2.3 | C72: Rapto | D72: 0 | F72: 0 | H72: =SUM(D72,F72) -> 0
B73: 2.4 | C73: Otros delitos que atentan contra la libertad personal | D73: 0 | F73: 2 | H73: =SUM(D73,F73) -> 2
A74: La libertad y la seguridad sexual | B74: 3 | C74: Total de delitos contra la libertad y la seguridad sexual | D74: =SUM(D75:D81) -> 0 | F74: =SUM(F75:F81) -> 1 | H74: =SUM(D74,F74) -> 1
B75: 3.1 | C75: Abuso sexual | D75: 0 | F75: 0 | H75: =SUM(D75,F75) -> 0
B76: 3.2 | C76: Acoso sexual | D76: 0 | F76: 1 | H76: =SUM(D76,F76) -> 1
B77: 3.3 | C77: Hostigamiento sexual | D77: 0 | F77: 0 | H77: =SUM(D77,F77) -> 0
B78: 3.4 | C78: Violación simple | D78: 0 | F78: 0 | H78: =SUM(D78,F78) -> 0
B79: 3.5 | C79: Violación equiparada | D79: 0 | F79: 0 | H79: =SUM(D79,F79) -> 0
B80: 3.6 | C80: Incesto | D80: 0 | F80: 0 | H80: =SUM(D80,F80) -> 0
B81: 3.7 | C81: Otros delitos que atentan contra la libertad y la seguridad sexual | D81: 0 | F81: 0 | H81: =SUM(D81,F81) -> 0
A82: El patrimonio | B82: 4 | C82: Total de delitos contra el patrimonio | D82: =SUM(D84,D87,D97,D100,D103,D106,D109,D112,D115,D118,D121,D124,D127,D137,D140,D141,D142,D143,D144,D145) -> 0 | E82: =SUM(E87,E100,E131) -> 0 | F82: =SUM(F84,F87,F97,F100,F103,F106,F109,F112,F115,F118,F121,F124,F127,F137,F140,F141,F142,F143,F144,F145) -> 2 | G82: =SUM(G87,G100,G131) -> 0 | H82: =SUM(D82,F82) -> 2 | I82: =SUM(E82,G82) -> 0
B83: 4.1 | C83: Robo total | D83: =SUM(D84,D87,D97,D100,D103,D106,D109,D112,D115,D118,D121,D124,D127,D137) -> 0 | E83: =E82 -> 0 | F83: =SUM(F84,F87,F97,F100,F103,F106,F109,F112,F115,F118,F121,F124,F127,F137) -> 0 | G83: =G82 -> 0 | H83: =SUM(D83,F83) -> 0 | I83: =SUM(E83,G83) -> 0
B84: 4.1.1 | C84: Robo a casa habitación | D84: =SUM(D85:D86) -> 0 | F84: =SUM(F85:F86) -> 0 | H84: =SUM(D84,F84) -> 0
B85: 4.1.1.1 | C85: Con violencia | D85: 0 | F85: 0 | H85: =SUM(D85,F85) -> 0
B86: 4.1.1.2 | C86: Sin violencia | D86: 0 | F86: 0 | H86: =SUM(D86,F86) -> 0
B87: 4.1.2 | C87: Robo de vehículo automotor | D87: =SUM(D88,D91,D94) -> 0 | E87: =SUM(E88,E91,E94) -> 0 | F87: =SUM(F88,F91,F94) -> 0 | G87: =SUM(G88,G91,G94) -> 0 | H87: =SUM(D87,F87) -> 0 | I87: =SUM(E87,G87) -> 0
B88: 4.1.2.1 | C88: Robo de coche de 4 ruedas | D88: =SUM(D89:D90) -> 0 | E88: =SUM(E89,E90) -> 0 | F88: =SUM(F89:F90) -> 0 | G88: =SUM(G89,G90) -> 0 | H88: =SUM(D88,F88) -> 0 | I88: =SUM(E88,G88) -> 0
B89: 4.1.2.1.1 | C89: Con violencia | D89: 0 | E89: 0 | F89: 0 | G89: 0 | H89: =SUM(D89,F89) -> 0 | I89: =SUM(E89,G89) -> 0
B90: 4.1.2.1.2 | C90: Sin violencia | D90: 0 | E90: 0 | F90: 0 | G90: 0 | H90: =SUM(D90,F90) -> 0 | I90: =SUM(E90,G90) -> 0
B91: 4.1.2.2 | C91: Robo de motocicleta | D91: =SUM(D92,D93) -> 0 | E91: =SUM(E92,E93) -> 0 | F91: =SUM(F92,F93) -> 0 | G91: =SUM(G92,G93) -> 0 | H91: =SUM(D91,F91) -> 0 | I91: =SUM(E91,G91) -> 0
B92: 4.1.2.2.1 | C92: Con violencia | D92: 0 | E92: 0 | F92: 0 | G92: 0 | H92: =SUM(D92,F92) -> 0 | I92: =SUM(E92,G92) -> 0
B93: 4.1.2.2.2 | C93: Sin violencia | D93: 0 | E93: 0 | F93: 0 | G93: 0 | H93: =SUM(D93,F93) -> 0 | I93: =SUM(E93,G93) -> 0
B94: 4.1.2.3 | C94: Robo de embarcaciones pequeñas y grandes | D94: =SUM(D95,D96) -> 0 | E94: =SUM(E95,E96) -> 0 | F94: =SUM(F95,F96) -> 0 | G94: =SUM(G95,G96) -> 0 | H94: =SUM(D94,F94) -> 0 | I94: =SUM(E94,G94) -> 0
B95: 4.1.2.3.1 | C95: Con violencia | D95: 0 | E95: 0 | F95: 0 | G95: 0 | H95: =SUM(D95,F95) -> 0 | I95: =SUM(E95,G95) -> 0
B96: 4.1.2.3.2 | C96: Sin violencia | D96: 0 | E96: 0 | F96: 0 | G96: 0 | H96: =SUM(D96,F96) -> 0 | I96: =SUM(E96,G96) -> 0
B97: 4.1.3 | C97: Robo de autopartes | D97: =SUM(D98:D99) -> 0 | F97: =SUM(F98:F99) -> 0 | H97: =SUM(D97,F97) -> 0
B98: 4.1.3.1 | C98: Con violencia | D98: 0 | F98: 0 | H98: =SUM(D98,F98) -> 0
B99: 4.1.3.2 | C99: Sin violencia | D99: 0 | F99: 0 | H99: =SUM(D99,F99) -> 0
B100: 4.1.4 | C100: Robo a transportista | D100: =SUM(D101:D102) -> 0 | E100: =SUM(E101:E102) -> 0 | F100: =SUM(F101:F102) -> 0 | G100: =SUM(G101:G102) -> 0 | H100: =SUM(D100,F100) -> 0 | I100: =SUM(E100,G100) -> 0
B101: 4.1.4.1 | C101: Con violencia | D101: 0 | E101: 0 | F101: 0 | G101: 0 | H101: =SUM(D101,F101) -> 0 | I101: =SUM(E101,G101) -> 0
B102: 4.1.4.2 | C102: Sin violencia | D102: 0 | E102: 0 | F102: 0 | G102: 0 | H102: =SUM(D102,F102) -> 0 | I102: =SUM(E102,G102) -> 0
B103: 4.1.5 | C103: Robo a transeúnte en vía pública | D103: =SUM(D104:D105) -> 0 | F103: =SUM(F104:F105) -> 0 | H103: =SUM(D103,F103) -> 0
B104: 4.1.5.1 | C104: Con violencia | D104: 0 | F104: 0 | H104: =SUM(D104,F104) -> 0
B105: 4.1.5.2 | C105: Sin violencia | D105: 0 | F105: 0 | H105: =SUM(D105,F105) -> 0
B106: 4.1.6 | C106: Robo a transeúnte en espacio abierto al público | D106: =SUM(D107:D108) -> 0 | F106: =SUM(F107:F108) -> 0 | H106: =SUM(D106,F106) -> 0
B107: 4.1.6.1 | C107: Con violencia | D107: 0 | F107: 0 | H107: =SUM(D107,F107) -> 0
...

Sheet Aquismon
A2: REPORTE ESTADÍSTICO MENSUAL SOBRE INCIDENCIA DELICTIVA
A3: FUERO COMÚN (municipal)
A5: Entidad federativa: | D5: San Luis Potosí
A6: Municipio | D6: Aquismón
A7: Dependencia responsable: | D7: =edo_SanLuisPotosi!E6 -> FISCALÍA GENERAL DEL ESTADO
A8: Tipo de reporte: | D8: =edo_SanLuisPotosi!E7 -> Reporte de cierre del mes inmediato anterior
A9: Fecha de llenado del reporte: | D9: =edo_SanLuisPotosi!E8 -> 44114
A10: Fecha de referencia de la información:
D11: =edo_SanLuisPotosi!E10 -> 2020 | E11: Indique el mes y el año en que se iniciaron las averiguaciones previas o se abrieron las carpetas de investigación que contienen la información que se incluye en el presente reporte.
D12: =edo_SanLuisPotosi!E11 -> Septiembre
A14: Instrucciones de llenado:
A15: Reporte todos los delitos registrados en las averiguaciones previas iniciadas (AP's) y carpetas de investigación iniciadas (CI) durante el mes de referencia.
A16: Proporcione la información según el sistema penal vigente en su entidad.
A17: En las celdas blancas de las columnas D y F se deben registrar el número de delitos correspondientes de cada Averiguación Previa y/o Carpeta de Investigación iniciadas.
A18: En las celdas blancas de las columnas E y G, correspondientes al número de unidades robadas, se deben registrar el número de vehiculos que se hayan registrado en la AP iniciada y/o CI iniciada, según el sistema de justicia que opere en su entidad.
A19: Por favor no deje celdas vacías. Si no se registraron algunos tipos de delitos en el municipio, escriba 0 (cero). Si el tipo de delito no aplica en su entidad, escriba NA (no aplica).
A20: Previo al llenado del presente formato, se le recomienda consultar el "Manual para la Clasificación y Llenado del Formato de Incidencia Delictiva".
A23: Sistema de Justicia Penal Inquisitorio
A24: Total de delitos en Averiguaciones Previas Iniciadas: | D24: =D31 -> 0 | F24: Gran total
A25: Sistema de Justicia Penal Acusatorio | F25: Número total de delitos | H25: =SUM(D24,D26) -> 36
A26: Total de delitos en Carpetas de Investigación Iniciadas: | D26: =F31 -> 36
A28: I. Clasificación de delitos | D28: II. Sistema penal inquisitorio (SPI) | F28: III. Sistema penal acusatorio (SPA) | H28: IV. Total en el municipio
A29: Bien jurídico afectado | B29: Clave | C29: Tipo de delito, comisión, acción y elementos usados | D29: Número de delitos en Averiguaciones previas iniciadas | E29: Núm. de unidades robadas | F29: Número de delitos en Carpetas de investigación iniciadas | G29: Núm. de unidades robadas | H29: Número de delitos en AP´s y CI iniciadas | I29: Núm. de unidades robadas
A31: Gran total | D31: =SUM(D32,D64,D74,D82,D146,D151,D155) -> 0 | E31: =E82 -> 0 | F31: =SUM(F32,F64,F74,F82,F146,F151,F155) -> 36 | G31: =G82 -> 0 | H31: =SUM(D31,F31) -> 36 | I31: =SUM(E31,G31) -> 0
A32: La vida y la Integridad | B32: 1 | C32: Total de delitos contra la vida y la integridad corporal | D32: =SUM(D33,D45,D57,D62,D63) -> 0 | F32: =SUM(F33,F45,F57,F62,F63) -> 8 | H32: =SUM(D32,F32) -> 8
B33: 1.1 | C33: Homicidio | D33: =SUM(D34,D39) -> 0 | F33: =SUM(F34,F39) -> 0 | H33: =SUM(D33,F33) -> 0
B34: 1.1.1 | C34: Homicidio doloso | D34: =SUM(D35:D38) -> 0 | F34: =SUM(F35:F38) -> 0 | H34: =SUM(D34,F34) -> 0
B35: 1.1.1.1 | C35: Con arma de fuego | D35: 0 | F35: 0 | H35: =SUM(D35,F35) -> 0
B36: 1.1.1.2 | C36: Con arma blanca | D36: 0 | F36: 0 | H36: =SUM(D36,F36) -> 0
B37: 1.1.1.3 | C37: Con otro elemento | D37: 0 | F37: 0 | H37: =SUM(D37,F37) -> 0
B38: 1.1.1.4 | C38: No especificado | D38: 0 | F38: 0 | H38: =SUM(D38,F38) -> 0
B39: 1.1.2 | C39: Homicidio culposo | D39: =SUM(D40:D44) -> 0 | F39: =SUM(F40:F44) -> 0 | H39: =SUM(D39,F39) -> 0
B40: 1.1.2.1 | C40: Con arma de fuego | D40: 0 | F40: 0 | H40: =SUM(D40,F40) -> 0
B41: 1.1.2.2 | C41: Con arma blanca | D41: 0 | F41: 0 | H41: =SUM(D41,F41) -> 0
B42: 1.1.2.3 | C42: En accidente de tránsito | D42: 0 | F42: 0 | H42: =SUM(D42,F42) -> 0
B43: 1.1.2.4 | C43: Con otro elemento | D43: 0 | F43: 0 | H43: =SUM(D43,F43) -> 0
B44: 1.1.2.5 | C44: No especificado | D44: 0 | F44: 0 | H44: =SUM(D44,F44) -> 0
B45: 1.2 | C45: Lesiones | D45: =SUM(D46,D51) -> 0 | F45: =SUM(F46,F51) -> 8 | H45: =SUM(D45,F45) -> 8
B46: 1.2.1 | C46: Lesiones dolosas | D46: =SUM(D47:D50) -> 0 | F46: =SUM(F47:F50) -> 7 | H46: =SUM(D46,F46) -> 7
B47: 1.2.1.1 | C47: Con arma de fuego | D47: 0 | F47: 0 | H47: =SUM(D47,F47) -> 0
B48: 1.2.1.2 | C48: Con arma blanca | D48: 0 | F48: 0 | H48: =SUM(D48,F48) -> 0
B49: 1.2.1.3 | C49: Con otro elemento | D49: 0 | F49: 7 | H49: =SUM(D49,F49) -> 7
B50: 1.2.1.4 | C50: No especificado | D50: 0 | F50: 0 | H50: =SUM(D50,F50) -> 0
B51: 1.2.2 | C51: Lesiones culposas | D51: =SUM(D52:D56) -> 0 | F51: =SUM(F52:F56) -> 1 | H51: =SUM(D51,F51) -> 1
B52: 1.2.2.1 | C52: Con arma de fuego | D52: 0 | F52: 0 | H52: =SUM(D52,F52) -> 0
B53: 1.2.2.2 | C53: Con arma blanca | D53: 0 | F53: 0 | H53: =SUM(D53,F53) -> 0
B54: 1.2.2.3 | C54: En accidente de tránsito | D54: 0 | F54: 1 | H54: =SUM(D54,F54) -> 1
B55: 1.2.2.4 | C55: Con otro elemento | D55: 0 | F55: 0 | H55: =SUM(D55,F55) -> 0
B56: 1.2.2.5 | C56: No especificado | D56: 0 | F56: 0 | H56: =SUM(D56,F56) -> 0
B57: 1.3 | C57: Feminicidio | D57: =SUM(D58:D61) -> 0 | F57: =SUM(F58:F61) -> 0 | H57: =SUM(D57,F57) -> 0
B58: 1.3.1 | C58: Con arma de fuego | D58: 0 | F58: 0 | H58: =SUM(D58,F58) -> 0
B59: 1.3.2 | C59: Con arma blanca | D59: 0 | F59: 0 | H59: =SUM(D59,F59) -> 0
B60: 1.3.3 | C60: Con otro elemento | D60: 0 | F60: 0 | H60: =SUM(D60,F60) -> 0
B61: 1.3.4 | C61: No especificado | D61: 0 | F61: 0 | H61: =SUM(D61,F61) -> 0
B62: 1.4 | C62: Aborto | D62: 0 | F62: 0 | H62: =SUM(D62,F62) -> 0
B63: 1.5 | C63: Otros delitos que atentan contra la vida y la integridad corporal | D63: 0 | F63: 0 | H63: =SUM(D63,F63) -> 0
A64: La libertad personal | B64: 2 | C64: Total de delitos contra la libertad personal | D64: =SUM(D65,D71,D72,D73) -> 0 | F64: =SUM(F65,F71,F72,F73) -> 2 | H64: =SUM(D64,F64) -> 2
B65: 2.1 | C65: Secuestro | D65: =SUM(D66:D70) -> 0 | F65: =SUM(F66:F70) -> 0 | H65: =SUM(D65,F65) -> 0
B66: 2.1.1 | C66: Secuestro extorsivo | D66: 0 | F66: 0 | H66: =SUM(D66,F66) -> 0
B67: 2.1.2 | C67: Secuestro con calidad de rehén | D67: 0 | F67: 0 | H67: =SUM(D67,F67) -> 0
B68: 2.1.3 | C68: Secuestro para causar daño | D68: 0 | F68: 0 | H68: =SUM(D68,F68) -> 0
B69: 2.1.4 | C69: Secuestro exprés | D69: 0 | F69: 0 | H69: =SUM(D69,F69) -> 0
B70: 2.1.5 | C70: Otro tipo de secuestros | D70: 0 | F70: 0 | H70: =SUM(D70,F70) -> 0
B71: 2.2 | C71: Tráfico de menores | D71: 0 | F71: 0 | H71: =SUM(D71,F71) -> 0
B72: 2.3 | C72: Rapto | D72: 0 | F72: 0 | H72: =SUM(D72,F72) -> 0
