Workbook
Name Print_Area: Ahualulco!$A$1:$J$166
Name Print_Area: Alaquines!$A$1:$J$166
Name Print_Area: Aquismon!$A$1:$J$166
Name Print_Area: ArmadillodelosInfante!$A$1:$J$166
Name Print_Area: AxtladeTerrazas!$A$1:$J$166
Name Print_Area: Cardenas!$A$1:$J$166
Name Print_Area: Catorce!$A$1:$J$166
Name Print_Area: Cedral!$A$1:$J$166
Name Print_Area: Cerritos!$A$1:$J$166
Name Print_Area: CerrodeSanPedro!$A$1:$J$166
Name Print_Area: Charcas!$A$1:$J$166
Name Print_Area: CiudaddelMaiz!$A$1:$J$166
Name Print_Area: CiudadFernandez!$A$1:$J$166
Name Print_Area: CiudadValles!$A$1:$J$166
Name Print_Area: Coxcatlan!$A$1:$J$166
Name Print_Area: Ebano!$A$1:$J$166
Name Print_Area: ElNaranjo!$A$1:$J$166
Name Print_Area: Guadalcazar!$A$1:$J$166
Name Print_Area: Huehuetlan!$A$1:$J$166
Name Print_Area: Lagunillas!$A$1:$J$166
Name Print_Area: Matehuala!$A$1:$J$166
Name Print_Area: Matlapa!$A$1:$J$166
Name Print_Area: MexquiticdeCarmona!$A$1:$J$166
Name Print_Area: Moctezuma!$A$1:$J$166
Name Print_Area: Rayon!$A$1:$J$166
Name Print_Area: Rioverde!$A$1:$J$166
Name Print_Area: Salinas!$A$1:$J$166
Name Print_Area: SanAntonio!$A$1:$J$166
Name Print_Area: SanCirodeAcosta!$A$1:$J$166
Name Print_Area: SanLuisPotosi!$A$1:$J$166
Name Print_Area: SanMartinChalchicuautla!$A$1:$J$166
Name Print_Area: SanNicolasTolentino!$A$1:$J$166
Name Print_Area: SantaCatarina!$A$1:$J$166
Name Print_Area: SantaMariadelRio!$A$1:$J$166
Name Print_Area: SantoDomingo!$A$1:$J$166
Name Print_Area: SanVicenteTancuayalab!$A$1:$J$166
Name Print_Area: SoledaddeGracianoSanchez!$A$1:$J$166
Name Print_Area: Tamasopo!$A$1:$J$166
Name Print_Area: Tamazunchale!$A$1:$J$166
Name Print_Area: Tampacan!$A$1:$J$166
Name Print_Area: TampamolonCorona!$A$1:$J$166
Name Print_Area: Tamuin!$A$1:$J$166
Name Print_Area: Tancanhuitz!$A$1:$J$166
Name Print_Area: Tanlajas!$A$1:$J$166
Name Print_Area: TanquiandeEscobedo!$A$1:$J$166
Name Print_Area: TierraNueva!$A$1:$J$166
Name Print_Area: Vanegas!$A$1:$J$166
Name Print_Area: Venado!$A$1:$J$166
Name Print_Area: VilladeArista!$A$1:$J$166
Name Print_Area: VilladeArriaga!$A$1:$J$166
Name Print_Area: VilladeGuadalupe!$A$1:$J$166
Name Print_Area: VilladelaPaz!$A$1:$J$166
Name Print_Area: VilladeRamos!$A$1:$J$166
Name Print_Area: VilladeReyes!$A$1:$J$166
Name Print_Area: VillaHidalgo!$A$1:$J$166
Name Print_Area: VillaJuarez!$A$1:$J$166
Name Print_Area: Xilitla!$A$1:$J$166
Name Print_Area: Zaragoza!$A$1:$J$166

Sheet edo_SanLuisPotosi
A2: REPORTE ESTADÍSTICO MENSUAL SOBRE INCIDENCIA DELICTIVA | V2: 2020
A3: FUERO COMÚN (estatal) | V3: 2019
U4: Seleccione tipo de reporte | V4: 2018
A5: Entidad federativa: | E5: San Luis Potosí | U5: Reporte de cierre del mes inmediato anterior | V5: 2017
A6: Dependencia responsable: | E6: FISCALÍA GENERAL DEL ESTADO | U6: Actualización de algún reporte de cierre previo | V6: 2016
A7: Tipo de reporte: | E7: Reporte de cierre del mes inmediato anterior
A8: Fecha de llenado del reporte: | E8: 44114
A9: Fecha de referencia de la información:
E10: 2020 | H10: Indique el mes y el año en que se iniciaron las averiguaciones previas o se abrieron las carpetas de investigación que contienen la información que se incluye en el presente reporte.
E11: Septiembre
A13: Instrucciones de llenado: | R13: Seleccione el mes
A14: Reporte todos los delitos registrados en las Averiguaciones Previas Iniciadas (AP) y Carpetas de Investigación Iniciadas (CI), según el sistema penal vigente en su entidad, durante el mes de referencia. | R14: Enero
A15: En las celdas blancas de las columnas D y M se deben registrar el número de delitos correspondientes de cada Averiguación Previa o Carpeta de Investigación iniciadas, según corresponda. | R15: Febrero
A16: En las celdas blancas de las columnas de la F a la K, correspondientes a las víctimas mujeres y varones, dentro del sistema penal inquisitorio, se deben registrar el número de víctimas que sufrieron el hecho delictivo, según su género y rango de edad. | R16: Marzo
A17: En las celdas blancas de las columnas de la O a la T, correspondientes a las víctimas mujeres y varones, dentro del sistema penal acusatorio, se deben registrar el número de víctimas que sufrieron el hecho delictivo, según su género y rango de edad. | R17: Abril
A18: En las celdas blancas de las columnas L y U, correspondientes al número de unidades robadas, se deben registrar el número de vehiculos que se hayan registrado en la averiguaciíon previa iniciada o carpeta de investigación iniciada, según corresponda. | R18: Mayo
A19: Por favor no deje celdas vacías. Si no se registraron algunos tipos de delitos en su entidad, escriba 0 (cero). Si el tipo de delito no aplica en su entidad, escriba NA (no aplica). | R19: Junio
A20: Previo al llenado del presente formato, se le recomienda consultar el "Manual para la Clasificación y Llenado del Formato de Incidencia Delictiva". | R20: Julio
R21: Agosto
R22: Septiembre
A23: Sistema de Justicia Penal Inquisitorio (SPI) | R23: Octubre
A24: Total de delitos en Averiguaciones Previas Iniciadas: | E24: =(E34) -> 0 | G24: Gran total | R24: Noviembre
A25: Total de víctimas en Averiguaciones Previas Iniciadas: | E25: =(F34) -> 0 | G25: Número total de delitos: | J25: =SUM(E24,E27) -> 3914 | R25: Diciembre
A26: Sistema de Justicia Penal Acusatorio (SPA) | G26: Número total de víctimas: | J26: =SUM(E25,E28) -> 577
A27: Total de delitos en Carpetas de Investigación Iniciadas: | E27: =(P34) -> 3914
A28: Total de víctimas en Carpetas de Investigación Iniciadas: | E28: =(Q34) -> 577
A30: I. Clasificación de delitos | P30: III. Sistema Penal Acusatorio (SPA) | Z30: IV. Total Estatal
A31: Bien jurídico afectado | D31: Suma Delitos Municipales (No llenar) | E31: Número de delitos en Averiguaciones Previas (AP) Iniciadas | F31: Víctimas | N31: Núm. de unidades robadas | O31: Suma Delitos Municipales (No llenar) | P31: Número de delitos en Carpetas de Investigación (CI) Iniciadas | Q31: Víctimas | Y31: Núm. de unidades robadas | Z31: Número de delitos en AP y CI iniciadas | AA31: Víctimas | AI31: Núm. de unidades robadas
B32: Clave | C32: Tipo de delito, comisión, acción y elementos usados | F32: Total de víctimas bajo el SPI | G32: Víctimas mujeres | J32: Víctimas varones | M32: No Identificado | Q32: Total de víctimas bajo el SPA | R32: Víctimas mujeres | U32: Víctimas varones | X32: No identificado | AA32: Total de víctimas | AB32: Víctimas mujeres | AE32: Víctimas varones | AH32: No identificado
G33: Menores de edad (0-17) | H33: Adultos (18 y más) | I33: No especificado | J33: Menores de edad (0-17) | K33: Adultos (18 y más) | L33: No especificado | R33: Menores de edad (0-17) | S33: Adultos (18 y más) | T33: No especificado | U33: Menores de edad (0-17) | V33: Adultos (18 y más) | W33: No especificado | AB33: Menores de edad (0-17) | AC33: Adultos (18 y más) | AD33: No especificado | AE33: Menores de edad (0-17) | AF33: Adultos (18 y más) | AG33: No especificado
A34: Gran total | D34: =SUM(Ahualulco!D31,Alaquines!D31,Aquismon!D31,ArmadillodelosInfante!D31,AxtladeTerrazas!D31,Catorce!D31,Cedral!D31,Cerritos!D31,CerrodeSanPedro!D31,Charcas!D31,CiudadFernandez!D31,CiudadValles!D31,CiudaddelMaiz!D31,Coxcatlan!D31,Cardenas!D31,Ebano!D31,ElNaranjo!D31,Guadalcazar!D31,Huehuetlan!D31,Lagunillas!D31,Matehuala!D31,Matlapa!D31,MexquiticdeCarmona!D31,Moctezuma!D31,Rayon!D31,Rioverde!D31,Salinas!D31,SanAntonio!D31,SanCirodeAcosta!D31,SanLuisPotosi!D31,SanMartinChalchicuautla!D31,SanNicolasTolentino!D31,SanVicenteTancuayalab!D31,SantaCatarina!D31,SantaMariadelRio!D31,SantoDomingo!D31,SoledaddeGracianoSanchez!D31,Tamasopo!D31,Tamazunchale!D31,Tampacan!D31,TampamolonCorona!D31,Tamuin!D31,Tancanhuitz!D31,Tanlajas!D31,TanquiandeEscobedo!D31,TierraNueva!D31,Vanegas!D31,Venado!D31,VillaHidalgo!D31,VillaJuarez!D31,VilladeArista!D31,VilladeArriaga!D31,VilladeGuadalupe!D31,VilladeRamos!D31,VilladeReyes!D31,VilladelaPaz!D31,Xilitla!D31,Zaragoza!D31) -> 0 | E34: =SUM(E35,E67,E77,E85,E149,E154,E158) -> 0 | F34: =SUM(F35,F67,F85,F154) -> 0 | G34: =SUM(G35,G67,G145,G154) -> 0 | H34: =SUM(H35,H67,H145,H154) -> 0 | I34: =SUM(I35,I67,I145,I154) -> 0 | J34: =SUM(J35,J67,J145,J154) -> 0 | K34: =SUM(K35,K67,K145,K154) -> 0 | L34: =SUM(L35,L67,L145,L154) -> 0 | M34: =SUM(M35,M67,M145,M154) -> 0 | N34: =N85 -> 0 | O34: =SUM(Ahualulco!F31,Alaquines!F31,Aquismon!F31,ArmadillodelosInfante!F31,AxtladeTerrazas!F31,Catorce!F31,Cedral!F31,Cerritos!F31,CerrodeSanPedro!F31,Charcas!F31,CiudadFernandez!F31,CiudadValles!F31,CiudaddelMaiz!F31,Coxcatlan!F31,Cardenas!F31,Ebano!F31,ElNaranjo!F31,Guadalcazar!F31,Huehuetlan!F31,Lagunillas!F31,Matehuala!F31,Matlapa!F31,MexquiticdeCarmona!F31,Moctezuma!F31,Rayon!F31,Rioverde!F31,Salinas!F31,SanAntonio!F31,SanCirodeAcosta!F31,SanLuisPotosi!F31,SanMartinChalchicuautla!F31,SanNicolasTolentino!F31,SanVicenteTancuayalab!F31,SantaCatarina!F31,SantaMariadelRio!F31,SantoDomingo!F31,SoledaddeGracianoSanchez!F31,Tamasopo!F31,Tamazunchale!F31,Tampacan!F31,TampamolonCorona!F31,Tamuin!F31,Tancanhuitz!F31,Tanlajas!F31,TanquiandeEscobedo!F31,TierraNueva!F31,Vanegas!F31,Venado!F31,VillaHidalgo!F31,VillaJuarez!F31,VilladeArista!F31,VilladeArriaga!F31,VilladeGuadalupe!F31,VilladeRamos!F31,VilladeReyes!F31,VilladelaPaz!F31,Xilitla!F31,Zaragoza!F31) -> 3914 | P34: =SUM(P35,P67,P77,P85,P149,P154,P158) -> 3914 | Q34: =SUM(Q35,Q67,Q85,Q154) -> 577 | R34: =SUM(R35,R67,R145,R154) -> 13 | S34: =SUM(S35,S67,S145,S154) -> 164 | T34: =SUM(T35,T67,T145,T154) -> 43 | U34: =SUM(U35,U67,U145,U154) -> 15 | V34: =SUM(V35,V67,V145,V154) -> 232 | W34: =SUM(W35,W67,W145,W154) -> 92 | X34: =SUM(X35,X67,X145,X154) -> 18 | Y34: =Y85 -> 284 | Z34: =SUM(E34,P34) -> 3914 | AA34: =SUM(F34,Q34) -> 577 | AB34: =SUM(G34,R34) -> 13 | AC34: =SUM(H34,S34) -> 164 | AD34: =SUM(I34,T34) -> 43 | AE34: =SUM(J34,U34) -> 15 | AF34: =SUM(K34,V34) -> 232 | AG34: =SUM(L34,W34) -> 92 | ... AI34: =SUM(N34,Y34) -> 284
A35: La vida y la Integridad | B35: 1 | C35: Total de delitos contra la vida y la integridad corporal | D35: =SUM(Ahualulco!D32,Alaquines!D32,Aquismon!D32,ArmadillodelosInfante!D32,AxtladeTerrazas!D32,Catorce!D32,Cedral!D32,Cerritos!D32,CerrodeSanPedro!D32,Charcas!D32,CiudadFernandez!D32,CiudadValles!D32,CiudaddelMaiz!D32,Coxcatlan!D32,Cardenas!D32,Ebano!D32,ElNaranjo!D32,Guadalcazar!D32,Huehuetlan!D32,Lagunillas!D32,Matehuala!D32,Matlapa!D32,MexquiticdeCarmona!D32,Moctezuma!D32,Rayon!D32,Rioverde!D32,Salinas!D32,SanAntonio!D32,SanCirodeAcosta!D32,SanLuisPotosi!D32,SanMartinChalchicuautla!D32,SanNicolasTolentino!D32,SanVicenteTancuayalab!D32,SantaCatarina!D32,SantaMariadelRio!D32,SantoDomingo!D32,SoledaddeGracianoSanchez!D32,Tamasopo!D32,Tamazunchale!D32,Tampacan!D32,TampamolonCorona!D32,Tamuin!D32,Tancanhuitz!D32,Tanlajas!D32,TanquiandeEscobedo!D32,TierraNueva!D32,Vanegas!D32,Venado!D32,VillaHidalgo!D32,VillaJuarez!D32,VilladeArista!D32,VilladeArriaga!D32,VilladeGuadalupe!D32,VilladeRamos!D32,VilladeReyes!D32,VilladelaPaz!D32,Xilitla!D32,Zaragoza!D32) -> 0 | E35: =SUM(E36,E48,E60,E65,E66) -> 0 | F35: =SUM(G35:M35) -> 0 | G35: =SUM(G36,G48,G60,G66) -> 0 | H35: =SUM(H36,H48,H60,H66) -> 0 | I35: =SUM(I36,I48,I60,I66) -> 0 | J35: =SUM(J36,J48,J66) -> 0 | K35: =SUM(K36,K48,K66) -> 0 | L35: =SUM(L36,L48,L66) -> 0 | M35: =SUM(M36,M48,M65,M66) -> 0 | O35: =SUM(Ahualulco!F32,Alaquines!F32,Aquismon!F32,ArmadillodelosInfante!F32,AxtladeTerrazas!F32,Catorce!F32,Cedral!F32,Cerritos!F32,CerrodeSanPedro!F32,Charcas!F32,CiudadFernandez!F32,CiudadValles!F32,CiudaddelMaiz!F32,Coxcatlan!F32,Cardenas!F32,Ebano!F32,ElNaranjo!F32,Guadalcazar!F32,Huehuetlan!F32,Lagunillas!F32,Matehuala!F32,Matlapa!F32,MexquiticdeCarmona!F32,Moctezuma!F32,Rayon!F32,Rioverde!F32,Salinas!F32,SanAntonio!F32,SanCirodeAcosta!F32,SanLuisPotosi!F32,SanMartinChalchicuautla!F32,SanNicolasTolentino!F32,SanVicenteTancuayalab!F32,SantaCatarina!F32,SantaMariadelRio!F32,SantoDomingo!F32,SoledaddeGracianoSanchez!F32,Tamasopo!F32,Tamazunchale!F32,Tampacan!F32,TampamolonCorona!F32,Tamuin!F32,Tancanhuitz!F32,Tanlajas!F32,TanquiandeEscobedo!F32,TierraNueva!F32,Vanegas!F32,Venado!F32,VillaHidalgo!F32,VillaJuarez!F32,VilladeArista!F32,VilladeArriaga!F32,VilladeGuadalupe!F32,VilladeRamos!F32,VilladeReyes!F32,VilladelaPaz!F32,Xilitla!F32,Zaragoza!F32) -> 473 | P35: =SUM(P36,P48,P60,P65,P66) -> 473 | Q35: =SUM(R35:X35) -> 493 | R35: =SUM(R36,R48,R60,R66) -> 7 | S35: =SUM(S36,S48,S60,S66) -> 132 | T35: =SUM(T36,T48,T60,T66) -> 32 | U35: =SUM(U36,U48,U66) -> 12 | V35: =SUM(V36,V48,V66) -> 213 | W35: =SUM(W36,W48,W66) -> 85 | X35: =SUM(X36,X48,X65,X66) -> 12 | Z35: =SUM(E35,P35) -> 473 | AA35: =SUM(F35,Q35) -> 493 | AB35: =SUM(G35,R35) -> 7 | AC35: =SUM(H35,S35) -> 132 | AD35: =SUM(I35,T35) -> 32 | AE35: =SUM(J35,U35) -> 12 | AF35: =SUM(K35,V35) -> 213 | AG35: =SUM(L35,W35) -> 85 | AH35: =SUM(M35,X35) -> 12
B36: 1.1 | C36: Homicidio | D36: =SUM(Ahualulco!D33,Alaquines!D33,Aquismon!D33,ArmadillodelosInfante!D33,AxtladeTerrazas!D33,Catorce!D33,Cedral!D33,Cerritos!D33,CerrodeSanPedro!D33,Charcas!D33,CiudadFernandez!D33,CiudadValles!D33,CiudaddelMaiz!D33,Coxcatlan!D33,Cardenas!D33,Ebano!D33,ElNaranjo!D33,Guadalcazar!D33,Huehuetlan!D33,Lagunillas!D33,Matehuala!D33,Matlapa!D33,MexquiticdeCarmona!D33,Moctezuma!D33,Rayon!D33,Rioverde!D33,Salinas!D33,SanAntonio!D33,SanCirodeAcosta!D33,SanLuisPotosi!D33,SanMartinChalchicuautla!D33,SanNicolasTolentino!D33,SanVicenteTancuayalab!D33,SantaCatarina!D33,SantaMariadelRio!D33,SantoDomingo!D33,SoledaddeGracianoSanchez!D33,Tamasopo!D33,Tamazunchale!D33,Tampacan!D33,TampamolonCorona!D33,Tamuin!D33,Tancanhuitz!D33,Tanlajas!D33,TanquiandeEscobedo!D33,TierraNueva!D33,Vanegas!D33,Venado!D33,VillaHidalgo!D33,VillaJuarez!D33,VilladeArista!D33,VilladeArriaga!D33,VilladeGuadalupe!D33,VilladeRamos!D33,VilladeReyes!D33,VilladelaPaz!D33,Xilitla!D33,Zaragoza!D33) -> 0 | E36: =SUM(E37,E42) -> 0 | F36: =SUM(G36:M36) -> 0 | G36: =SUM(G37,G42) -> 0 | H36: =SUM(H37,H42) -> 0 | I36: =SUM(I37,I42) -> 0 | J36: =SUM(J37,J42) -> 0 | K36: =SUM(K37,K42) -> 0 | L36: =SUM(L37,L42) -> 0 | M36: =SUM(M37,M42) -> 0 | O36: =SUM(Ahualulco!F33,Alaquines!F33,Aquismon!F33,ArmadillodelosInfante!F33,AxtladeTerrazas!F33,Catorce!F33,Cedral!F33,Cerritos!F33,CerrodeSanPedro!F33,Charcas!F33,CiudadFernandez!F33,CiudadValles!F33,CiudaddelMaiz!F33,Coxcatlan!F33,Cardenas!F33,Ebano!F33,ElNaranjo!F33,Guadalcazar!F33,Huehuetlan!F33,Lagunillas!F33,Matehuala!F33,Matlapa!F33,MexquiticdeCarmona!F33,Moctezuma!F33,Rayon!F33,Rioverde!F33,Salinas!F33,SanAntonio!F33,SanCirodeAcosta!F33,SanLuisPotosi!F33,SanMartinChalchicuautla!F33,SanNicolasTolentino!F33,SanVicenteTancuayalab!F33,SantaCatarina!F33,SantaMariadelRio!F33,SantoDomingo!F33,SoledaddeGracianoSanchez!F33,Tamasopo!F33,Tamazunchale!F33,Tampacan!F33,TampamolonCorona!F33,Tamuin!F33,Tancanhuitz!F33,Tanlajas!F33,TanquiandeEscobedo!F33,TierraNueva!F33,Vanegas!F33,Venado!F33,VillaHidalgo!F33,VillaJuarez!F33,VilladeArista!F33,VilladeArriaga!F33,VilladeGuadalupe!F33,VilladeRamos!F33,VilladeReyes!F33,VilladelaPaz!F33,Xilitla!F33,Zaragoza!F33) -> 75 | P36: =SUM(P37,P42) -> 75 | Q36: =SUM(R36:X36) -> 84 | R36: =SUM(R37,R42) -> 1 | S36: =SUM(S37,S42) -> 4 | T36: =SUM(T37,T42) -> 4 | U36: =SUM(U37,U42) -> 1 | V36: =SUM(V37,V42) -> 52 | W36: =SUM(W37,W42) -> 18 | X36: =SUM(X37,X42) -> 4 | Z36: =SUM(E36,P36) -> 75 | AA36: =SUM(F36,Q36) -> 84 | AB36: =SUM(G36,R36) -> 1 | AC36: =SUM(H36,S36) -> 4 | AD36: =SUM(I36,T36) -> 4 | AE36: =SUM(J36,U36) -> 1 | AF36: =SUM(K36,V36) -> 52 | AG36: =SUM(L36,W36) -> 18 | AH36: =SUM(M36,X36) -> 4
B37: 1.1.1 | C37: Homicidio doloso | D37: =SUM(Ahualulco!D34,Alaquines!D34,Aquismon!D34,ArmadillodelosInfante!D34,AxtladeTerrazas!D34,Catorce!D34,Cedral!D34,Cerritos!D34,CerrodeSanPedro!D34,Charcas!D34,CiudadFernandez!D34,CiudadValles!D34,CiudaddelMaiz!D34,Coxcatlan!D34,Cardenas!D34,Ebano!D34,ElNaranjo!D34,Guadalcazar!D34,Huehuetlan!D34,Lagunillas!D34,Matehuala!D34,Matlapa!D34,MexquiticdeCarmona!D34,Moctezuma!D34,Rayon!D34,Rioverde!D34,Salinas!D34,SanAntonio!D34,SanCirodeAcosta!D34,SanLuisPotosi!D34,SanMartinChalchicuautla!D34,SanNicolasTolentino!D34,SanVicenteTancuayalab!D34,SantaCatarina!D34,SantaMariadelRio!D34,SantoDomingo!D34,SoledaddeGracianoSanchez!D34,Tamasopo!D34,Tamazunchale!D34,Tampacan!D34,TampamolonCorona!D34,Tamuin!D34,Tancanhuitz!D34,Tanlajas!D34,TanquiandeEscobedo!D34,TierraNueva!D34,Vanegas!D34,Venado!D34,VillaHidalgo!D34,VillaJuarez!D34,VilladeArista!D34,VilladeArriaga!D34,VilladeGuadalupe!D34,VilladeRamos!D34,VilladeReyes!D34,VilladelaPaz!D34,Xilitla!D34,Zaragoza!D34) -> 0 | E37: =SUM(E38:E41) -> 0 | F37: =SUM(G37:M37) -> 0 | G37: =SUM(G38:G41) -> 0 | H37: =SUM(H38:H41) -> 0 | I37: =SUM(I38:I41) -> 0 | J37: =SUM(J38:J41) -> 0 | K37: =SUM(K38:K41) -> 0 | L37: =SUM(L38:L41) -> 0 | M37: =SUM(M38:M41) -> 0 | O37: =SUM(Ahualulco!F34,Alaquines!F34,Aquismon!F34,ArmadillodelosInfante!F34,AxtladeTerrazas!F34,Catorce!F34,Cedral!F34,Cerritos!F34,CerrodeSanPedro!F34,Charcas!F34,CiudadFernandez!F34,CiudadValles!F34,CiudaddelMaiz!F34,Coxcatlan!F34,Cardenas!F34,Ebano!F34,ElNaranjo!F34,Guadalcazar!F34,Huehuetlan!F34,Lagunillas!F34,Matehuala!F34,Matlapa!F34,MexquiticdeCarmona!F34,Moctezuma!F34,Rayon!F34,Rioverde!F34,Salinas!F34,SanAntonio!F34,SanCirodeAcosta!F34,SanLuisPotosi!F34,SanMartinChalchicuautla!F34,SanNicolasTolentino!F34,SanVicenteTancuayalab!F34,SantaCatarina!F34,SantaMariadelRio!F34,SantoDomingo!F34,SoledaddeGracianoSanchez!F34,Tamasopo!F34,Tamazunchale!F34,Tampacan!F34,TampamolonCorona!F34,Tamuin!F34,Tancanhuitz!F34,Tanlajas!F34,TanquiandeEscobedo!F34,TierraNueva!F34,Vanegas!F34,Venado!F34,VillaHidalgo!F34,VillaJuarez!F34,VilladeArista!F34,VilladeArriaga!F34,VilladeGuadalupe!F34,VilladeRamos!F34,VilladeReyes!F34,VilladelaPaz!F34,Xilitla!F34,Zaragoza!F34) -> 52 | P37: =SUM(P38:P41) -> 52 | Q37: =SUM(R37:X37) -> 61 | R37: =SUM(R38:R41) -> 0 | S37: =SUM(S38:S41) -> 3 | T37: =SUM(T38:T41) -> 0 | U37: =SUM(U38:U41) -> 0 | V37: =SUM(V38:V41) -> 51 | W37: =SUM(W38:W41) -> 7 | X37: =SUM(X38:X41) -> 0 | Z37: =SUM(E37,P37) -> 52 | AA37: =SUM(F37,Q37) -> 61 | AB37: =SUM(G37,R37) -> 0 | AC37: =SUM(H37,S37) -> 3 | AD37: =SUM(I37,T37) -> 0 | AE37: =SUM(J37,U37) -> 0 | AF37: =SUM(K37,V37) -> 51 | AG37: =SUM(L37,W37) -> 7 | AH37: =SUM(M37,X37) -> 0
B38: 1.1.1.1 | C38: Con arma de fuego | D38: =SUM(Ahualulco!D35,Alaquines!D35,Aquismon!D35,ArmadillodelosInfante!D35,AxtladeTerrazas!D35,Catorce!D35,Cedral!D35,Cerritos!D35,CerrodeSanPedro!D35,Charcas!D35,CiudadFernandez!D35,CiudadValles!D35,CiudaddelMaiz!D35,Coxcatlan!D35,Cardenas!D35,Ebano!D35,ElNaranjo!D35,Guadalcazar!D35,Huehuetlan!D35,Lagunillas!D35,Matehuala!D35,Matlapa!D35,MexquiticdeCarmona!D35,Moctezuma!D35,Rayon!D35,Rioverde!D35,Salinas!D35,SanAntonio!D35,SanCirodeAcosta!D35,SanLuisPotosi!D35,SanMartinChalchicuautla!D35,SanNicolasTolentino!D35,SanVicenteTancuayalab!D35,SantaCatarina!D35,SantaMariadelRio!D35,SantoDomingo!D35,SoledaddeGracianoSanchez!D35,Tamasopo!D35,Tamazunchale!D35,Tampacan!D35,TampamolonCorona!D35,Tamuin!D35,Tancanhuitz!D35,Tanlajas!D35,TanquiandeEscobedo!D35,TierraNueva!D35,Vanegas!D35,Venado!D35,VillaHidalgo!D35,VillaJuarez!D35,VilladeArista!D35,VilladeArriaga!D35,VilladeGuadalupe!D35,VilladeRamos!D35,VilladeReyes!D35,VilladelaPaz!D35,Xilitla!D35,Zaragoza!D35) -> 0 | E38: 0 | F38: =SUM(G38:M38) -> 0 | G38: 0 | H38: 0 | I38: 0 | J38: 0 | K38: 0 | L38: 0 | M38: 0 | O38: =SUM(Ahualulco!F35,Alaquines!F35,Aquismon!F35,ArmadillodelosInfante!F35,AxtladeTerrazas!F35,Catorce!F35,Cedral!F35,Cerritos!F35,CerrodeSanPedro!F35,Charcas!F35,CiudadFernandez!F35,CiudadValles!F35,CiudaddelMaiz!F35,Coxcatlan!F35,Cardenas!F35,Ebano!F35,ElNaranjo!F35,Guadalcazar!F35,Huehuetlan!F35,Lagunillas!F35,Matehuala!F35,Matlapa!F35,MexquiticdeCarmona!F35,Moctezuma!F35,Rayon!F35,Rioverde!F35,Salinas!F35,SanAntonio!F35,SanCirodeAcosta!F35,SanLuisPotosi!F35,SanMartinChalchicuautla!F35,SanNicolasTolentino!F35,SanVicenteTancuayalab!F35,SantaCatarina!F35,SantaMariadelRio!F35,SantoDomingo!F35,SoledaddeGracianoSanchez!F35,Tamasopo!F35,Tamazunchale!F35,Tampacan!F35,TampamolonCorona!F35,Tamuin!F35,Tancanhuitz!F35,Tanlajas!F35,TanquiandeEscobedo!F35,TierraNueva!F35,Vanegas!F35,Venado!F35,VillaHidalgo!F35,VillaJuarez!F35,VilladeArista!F35,VilladeArriaga!F35,VilladeGuadalupe!F35,VilladeRamos!F35,VilladeReyes!F35,VilladelaPaz!F35,Xilitla!F35,Zaragoza!F35) -> 42 | P38: 42 | Q38: =SUM(R38:X38) -> 50 | R38: 0 | S38: 2 | T38: 0 | U38: 0 | V38: 43 | W38: 5 | X38: 0 | Z38: =SUM(E38,P38) -> 42 | AA38: =SUM(F38,Q38) -> 50 | AB38: =SUM(G38,R38) -> 0 | AC38: =SUM(H38,S38) -> 2 | AD38: =SUM(I38,T38) -> 0 | AE38: =SUM(J38,U38) -> 0 | AF38: =SUM(K38,V38) -> 43 | AG38: =SUM(L38,W38) -> 5 | AH38: =SUM(M38,X38) -> 0
B39: 1.1.1.2 | C39: Con arma blanca | D39: =SUM(Ahualulco!D36,Alaquines!D36,Aquismon!D36,ArmadillodelosInfante!D36,AxtladeTerrazas!D36,Catorce!D36,Cedral!D36,Cerritos!D36,CerrodeSanPedro!D36,Charcas!D36,CiudadFernandez!D36,CiudadValles!D36,CiudaddelMaiz!D36,Coxcatlan!D36,Cardenas!D36,Ebano!D36,ElNaranjo!D36,Guadalcazar!D36,Huehuetlan!D36,Lagunillas!D36,Matehuala!D36,Matlapa!D36,MexquiticdeCarmona!D36,Moctezuma!D36,Rayon!D36,Rioverde!D36,Salinas!D36,SanAntonio!D36,SanCirodeAcosta!D36,SanLuisPotosi!D36,SanMartinChalchicuautla!D36,SanNicolasTolentino!D36,SanVicenteTancuayalab!D36,SantaCatarina!D36,SantaMariadelRio!D36,SantoDomingo!D36,SoledaddeGracianoSanchez!D36,Tamasopo!D36,Tamazunchale!D36,Tampacan!D36,TampamolonCorona!D36,Tamuin!D36,Tancanhuitz!D36,Tanlajas!D36,TanquiandeEscobedo!D36,TierraNueva!D36,Vanegas!D36,Venado!D36,VillaHidalgo!D36,VillaJuarez!D36,VilladeArista!D36,VilladeArriaga!D36,VilladeGuadalupe!D36,VilladeRamos!D36,VilladeReyes!D36,VilladelaPaz!D36,Xilitla!D36,Zaragoza!D36) -> 0 | E39: 0 | F39: =SUM(G39:M39) -> 0 | G39: 0 | H39: 0 | I39: 0 | J39: 0 | K39: 0 | L39: 0 | M39: 0 | O39: =SUM(Ahualulco!F36,Alaquines!F36,Aquismon!F36,ArmadillodelosInfante!F36,AxtladeTerrazas!F36,Catorce!F36,Cedral!F36,Cerritos!F36,CerrodeSanPedro!F36,Charcas!F36,CiudadFernandez!F36,CiudadValles!F36,CiudaddelMaiz!F36,Coxcatlan!F36,Cardenas!F36,Ebano!F36,ElNaranjo!F36,Guadalcazar!F36,Huehuetlan!F36,Lagunillas!F36,Matehuala!F36,Matlapa!F36,MexquiticdeCarmona!F36,Moctezuma!F36,Rayon!F36,Rioverde!F36,Salinas!F36,SanAntonio!F36,SanCirodeAcosta!F36,SanLuisPotosi!F36,SanMartinChalchicuautla!F36,SanNicolasTolentino!F36,SanVicenteTancuayalab!F36,SantaCatarina!F36,SantaMariadelRio!F36,SantoDomingo!F36,SoledaddeGracianoSanchez!F36,Tamasopo!F36,Tamazunchale!F36,Tampacan!F36,TampamolonCorona!F36,Tamuin!F36,Tancanhuitz!F36,Tanlajas!F36,TanquiandeEscobedo!F36,TierraNueva!F36,Vanegas!F36,Venado!F36,VillaHidalgo!F36,VillaJuarez!F36,VilladeArista!F36,VilladeArriaga!F36,VilladeGuadalupe!F36,VilladeRamos!F36,VilladeReyes!F36,VilladelaPaz!F36,Xilitla!F36,Zaragoza!F36) -> 5 | P39: 5 | Q39: =SUM(R39:X39) -> 6 | R39: 0 | S39: 1 | T39: 0 | U39: 0 | V39: 5 | W39: 0 | X39: 0 | Z39: =SUM(E39,P39) -> 5 | AA39: =SUM(F39,Q39) -> 6 | AB39: =SUM(G39,R39) -> 0 | AC39: =SUM(H39,S39) -> 1 | AD39: =SUM(I39,T39) -> 0 | AE39: =SUM(J39,U39) -> 0 | AF39: =SUM(K39,V39) -> 5 | AG39: =SUM(L39,W39) -> 0 | AH39: =SUM(M39,X39) -> 0
B40: 1.1.1.3 | C40: Con otro elemento | D40: =SUM(Ahualulco!D37,Alaquines!D37,Aquismon!D37,ArmadillodelosInfante!D37,AxtladeTerrazas!D37,Catorce!D37,Cedral!D37,Cerritos!D37,CerrodeSanPedro!D37,Charcas!D37,CiudadFernandez!D37,CiudadValles!D37,CiudaddelMaiz!D37,Coxcatlan!D37,Cardenas!D37,Ebano!D37,ElNaranjo!D37,Guadalcazar!D37,Huehuetlan!D37,Lagunillas!D37,Matehuala!D37,Matlapa!D37,MexquiticdeCarmona!D37,Moctezuma!D37,Rayon!D37,Rioverde!D37,Salinas!D37,SanAntonio!D37,SanCirodeAcosta!D37,SanLuisPotosi!D37,SanMartinChalchicuautla!D37,SanNicolasTolentino!D37,SanVicenteTancuayalab!D37,SantaCatarina!D37,SantaMariadelRio!D37,SantoDomingo!D37,SoledaddeGracianoSanchez!D37,Tamasopo!D37,Tamazunchale!D37,Tampacan!D37,TampamolonCorona!D37,Tamuin!D37,Tancanhuitz!D37,Tanlajas!D37,TanquiandeEscobedo!D37,TierraNueva!D37,Vanegas!D37,Venado!D37,VillaHidalgo!D37,VillaJuarez!D37,VilladeArista!D37,VilladeArriaga!D37,VilladeGuadalupe!D37,VilladeRamos!D37,VilladeReyes!D37,VilladelaPaz!D37,Xilitla!D37,Zaragoza!D37) -> 0 | E40: 0 | F40: =SUM(G40:M40) -> 0 | G40: 0 | H40: 0 | I40: 0 | J40: 0 | K40: 0 | L40: 0 | M40: 0 | O40: =SUM(Ahualulco!F37,Alaquines!F37,Aquismon!F37,ArmadillodelosInfante!F37,AxtladeTerrazas!F37,Catorce!F37,Cedral!F37,Cerritos!F37,CerrodeSanPedro!F37,Charcas!F37,CiudadFernandez!F37,CiudadValles!F37,CiudaddelMaiz!F37,Coxcatlan!F37,Cardenas!F37,Ebano!F37,ElNaranjo!F37,Guadalcazar!F37,Huehuetlan!F37,Lagunillas!F37,Matehuala!F37,Matlapa!F37,MexquiticdeCarmona!F37,Moctezuma!F37,Rayon!F37,Rioverde!F37,Salinas!F37,SanAntonio!F37,SanCirodeAcosta!F37,SanLuisPotosi!F37,SanMartinChalchicuautla!F37,SanNicolasTolentino!F37,SanVicenteTancuayalab!F37,SantaCatarina!F37,SantaMariadelRio!F37,SantoDomingo!F37,SoledaddeGracianoSanchez!F37,Tamasopo!F37,Tamazunchale!F37,Tampacan!F37,TampamolonCorona!F37,Tamuin!F37,Tancanhuitz!F37,Tanlajas!F37,TanquiandeEscobedo!F37,TierraNueva!F37,Vanegas!F37,Venado!F37,VillaHidalgo!F37,VillaJuarez!F37,VilladeArista!F37,VilladeArriaga!F37,VilladeGuadalupe!F37,VilladeRamos!F37,VilladeReyes!F37,VilladelaPaz!F37,Xilitla!F37,Zaragoza!F37) -> 5 | P40: 5 | Q40: =SUM(R40:X40) -> 5 | R40: 0 | S40: 0 | T40: 0 | U40: 0 | V40: 3 | W40: 2 | X40: 0 | Z40: =SUM(E40,P40) -> 5 | AA40: =SUM(F40,Q40) -> 5 | AB40: =SUM(G40,R40) -> 0 | AC40: =SUM(H40,S40) -> 0 | AD40: =SUM(I40,T40) -> 0 | AE40: =SUM(J40,U40) -> 0 | AF40: =SUM(K40,V40) -> 3 | AG40: =SUM(L40,W40) -> 2 | AH40: =SUM(M40,X40) -> 0
B41: 1.1.1.4 | C41: No especificado | D41: =SUM(Ahualulco!D38,Alaquines!D38,Aquismon!D38,ArmadillodelosInfante!D38,AxtladeTerrazas!D38,Catorce!D38,Cedral!D38,Cerritos!D38,CerrodeSanPedro!D38,Charcas!D38,CiudadFernandez!D38,CiudadValles!D38,CiudaddelMaiz!D38,Coxcatlan!D38,Cardenas!D38,Ebano!D38,ElNaranjo!D38,Guadalcazar!D38,Huehuetlan!D38,Lagunillas!D38,Matehuala!D38,Matlapa!D38,MexquiticdeCarmona!D38,Moctezuma!D38,Rayon!D38,Rioverde!D38,Salinas!D38,SanAntonio!D38,SanCirodeAcosta!D38,SanLuisPotosi!D38,SanMartinChalchicuautla!D38,SanNicolasTolentino!D38,SanVicenteTancuayalab!D38,SantaCatarina!D38,SantaMariadelRio!D38,SantoDomingo!D38,SoledaddeGracianoSanchez!D38,Tamasopo!D38,Tamazunchale!D38,Tampacan!D38,TampamolonCorona!D38,Tamuin!D38,Tancanhuitz!D38,Tanlajas!D38,TanquiandeEscobedo!D38,TierraNueva!D38,Vanegas!D38,Venado!D38,VillaHidalgo!D38,VillaJuarez!D38,VilladeArista!D38,VilladeArriaga!D38,VilladeGuadalupe!D38,VilladeRamos!D38,VilladeReyes!D38,VilladelaPaz!D38,Xilitla!D38,Zaragoza!D38) -> 0 | E41: 0 | F41: =SUM(G41:M41) -> 0 | G41: 0 | H41: 0 | I41: 0 | J41: 0 | K41: 0 | L41: 0 | M41: 0 | O41: =SUM(Ahualulco!F38,Alaquines!F38,Aquismon!F38,ArmadillodelosInfante!F38,AxtladeTerrazas!F38,Catorce!F38,Cedral!F38,Cerritos!F38,CerrodeSanPedro!F38,Charcas!F38,CiudadFernandez!F38,CiudadValles!F38,CiudaddelMaiz!F38,Coxcatlan!F38,Cardenas!F38,Ebano!F38,ElNaranjo!F38,Guadalcazar!F38,Huehuetlan!F38,Lagunillas!F38,Matehuala!F38,Matlapa!F38,MexquiticdeCarmona!F38,Moctezuma!F38,Rayon!F38,Rioverde!F38,Salinas!F38,SanAntonio!F38,SanCirodeAcosta!F38,SanLuisPotosi!F38,SanMartinChalchicuautla!F38,SanNicolasTolentino!F38,SanVicenteTancuayalab!F38,SantaCatarina!F38,SantaMariadelRio!F38,SantoDomingo!F38,SoledaddeGracianoSanchez!F38,Tamasopo!F38,Tamazunchale!F38,Tampacan!F38,TampamolonCorona!F38,Tamuin!F38,Tancanhuitz!F38,Tanlajas!F38,TanquiandeEscobedo!F38,TierraNueva!F38,Vanegas!F38,Venado!F38,VillaHidalgo!F38,VillaJuarez!F38,VilladeArista!F38,VilladeArriaga!F38,VilladeGuadalupe!F38,VilladeRamos!F38,VilladeReyes!F38,VilladelaPaz!F38,Xilitla!F38,Zaragoza!F38) -> 0 | P41: 0 | Q41: =SUM(R41:X41) -> 0 | R41: 0 | S41: 0 | T41: 0 | U41: 0 | V41: 0 | W41: 0 | X41: 0 | Z41: =SUM(E41,P41) -> 0 | AA41: =SUM(F41,Q41) -> 0 | AB41: =SUM(G41,R41) -> 0 | AC41: =SUM(H41,S41) -> 0 | AD41: =SUM(I41,T41) -> 0 | AE41: =SUM(J41,U41) -> 0 | AF41: =SUM(K41,V41) -> 0 | AG41: =SUM(L41,W41) -> 0 | AH41: =SUM(M41,X41) -> 0
B42: 1.1.2 | C42: Homicidio culposo | D42: =SUM(Ahualulco!D39,Alaquines!D39,Aquismon!D39,ArmadillodelosInfante!D39,AxtladeTerrazas!D39,Catorce!D39,Cedral!D39,Cerritos!D39,CerrodeSanPedro!D39,Charcas!D39,CiudadFernandez!D39,CiudadValles!D39,CiudaddelMaiz!D39,Coxcatlan!D39,Cardenas!D39,Ebano!D39,ElNaranjo!D39,Guadalcazar!D39,Huehuetlan!D39,Lagunillas!D39,Matehuala!D39,Matlapa!D39,MexquiticdeCarmona!D39,Moctezuma!D39,Rayon!D39,Rioverde!D39,Salinas!D39,SanAntonio!D39,SanCirodeAcosta!D39,SanLuisPotosi!D39,SanMartinChalchicuautla!D39,SanNicolasTolentino!D39,SanVicenteTancuayalab!D39,SantaCatarina!D39,SantaMariadelRio!D39,SantoDomingo!D39,SoledaddeGracianoSanchez!D39,Tamasopo!D39,Tamazunchale!D39,Tampacan!D39,TampamolonCorona!D39,Tamuin!D39,Tancanhuitz!D39,Tanlajas!D39,TanquiandeEscobedo!D39,TierraNueva!D39,Vanegas!D39,Venado!D39,VillaHidalgo!D39,VillaJuarez!D39,VilladeArista!D39,VilladeArriaga!D39,VilladeGuadalupe!D39,VilladeRamos!D39,VilladeReyes!D39,VilladelaPaz!D39,Xilitla!D39,Zaragoza!D39) -> 0 | E42: =SUM(E43:E47) -> 0 | F42: =SUM(G42:M42) -> 0 | G42: =SUM(G43:G47) -> 0 | H42: =SUM(H43:H47) -> 0 | I42: =SUM(I43:I47) -> 0 | J42: =SUM(J43:J47) -> 0 | K42: =SUM(K43:K47) -> 0 | L42: =SUM(L43:L47) -> 0 | M42: =SUM(M43:M47) -> 0 | O42: =SUM(Ahualulco!F39,Alaquines!F39,Aquismon!F39,ArmadillodelosInfante!F39,AxtladeTerrazas!F39,Catorce!F39,Cedral!F39,Cerritos!F39,CerrodeSanPedro!F39,Charcas!F39,CiudadFernandez!F39,CiudadValles!F39,CiudaddelMaiz!F39,Coxcatlan!F39,Cardenas!F39,Ebano!F39,ElNaranjo!F39,Guadalcazar!F39,Huehuetlan!F39,Lagunillas!F39,Matehuala!F39,Matlapa!F39,MexquiticdeCarmona!F39,Moctezuma!F39,Rayon!F39,Rioverde!F39,Salinas!F39,SanAntonio!F39,SanCirodeAcosta!F39,SanLuisPotosi!F39,SanMartinChalchicuautla!F39,SanNicolasTolentino!F39,SanVicenteTancuayalab!F39,SantaCatarina!F39,SantaMariadelRio!F39,SantoDomingo!F39,SoledaddeGracianoSanchez!F39,Tamasopo!F39,Tamazunchale!F39,Tampacan!F39,TampamolonCorona!F39,Tamuin!F39,Tancanhuitz!F39,Tanlajas!F39,TanquiandeEscobedo!F39,TierraNueva!F39,Vanegas!F39,Venado!F39,VillaHidalgo!F39,VillaJuarez!F39,VilladeArista!F39,VilladeArriaga!F39,VilladeGuadalupe!F39,VilladeRamos!F39,VilladeReyes!F39,VilladelaPaz!F39,Xilitla!F39,Zaragoza!F39) -> 23 | P42: =SUM(P43:P47) -> 23 | Q42: =SUM(R42:X42) -> 23 | R42: =SUM(R43:R47) -> 1 | S42: =SUM(S43:S47) -> 1 | T42: =SUM(T43:T47) -> 4 | U42: =SUM(U43:U47) -> 1 | V42: =SUM(V43:V47) -> 1 | W42: =SUM(W43:W47) -> 11 | X42: =SUM(X43:X47) -> 4 | Z42: =SUM(E42,P42) -> 23 | AA42: =SUM(F42,Q42) -> 23 | AB42: =SUM(G42,R42) -> 1 | AC42: =SUM(H42,S42) -> 1 | AD42: =SUM(I42,T42) -> 4 | AE42: =SUM(J42,U42) -> 1 | AF42: =SUM(K42,V42) -> 1 | AG42: =SUM(L42,W42) -> 11 | AH42: =SUM(M42,X42) -> 4
B43: 1.1.2.1 | C43: Con arma de fuego | D43: =SUM(Ahualulco!D40,Alaquines!D40,Aquismon!D40,ArmadillodelosInfante!D40,AxtladeTerrazas!D40,Catorce!D40,Cedral!D40,Cerritos!D40,CerrodeSanPedro!D40,Charcas!D40,CiudadFernandez!D40,CiudadValles!D40,CiudaddelMaiz!D40,Coxcatlan!D40,Cardenas!D40,Ebano!D40,ElNaranjo!D40,Guadalcazar!D40,Huehuetlan!D40,Lagunillas!D40,Matehuala!D40,Matlapa!D40,MexquiticdeCarmona!D40,Moctezuma!D40,Rayon!D40,Rioverde!D40,Salinas!D40,SanAntonio!D40,SanCirodeAcosta!D40,SanLuisPotosi!D40,SanMartinChalchicuautla!D40,SanNicolasTolentino!D40,SanVicenteTancuayalab!D40,SantaCatarina!D40,SantaMariadelRio!D40,SantoDomingo!D40,SoledaddeGracianoSanchez!D40,Tamasopo!D40,Tamazunchale!D40,Tampacan!D40,TampamolonCorona!D40,Tamuin!D40,Tancanhuitz!D40,Tanlajas!D40,TanquiandeEscobedo!D40,TierraNueva!D40,Vanegas!D40,Venado!D40,VillaHidalgo!D40,VillaJuarez!D40,VilladeArista!D40,VilladeArriaga!D40,VilladeGuadalupe!D40,VilladeRamos!D40,VilladeReyes!D40,VilladelaPaz!D40,Xilitla!D40,Zaragoza!D40) -> 0 | E43: 0 | F43: =SUM(G43:M43) -> 0 | G43: 0 | H43: 0 | I43: 0 | J43: 0 | K43: 0 | L43: 0 | M43: 0 | O43: =SUM(Ahualulco!F40,Alaquines!F40,Aquismon!F40,ArmadillodelosInfante!F40,AxtladeTerrazas!F40,Catorce!F40,Cedral!F40,Cerritos!F40,CerrodeSanPedro!F40,Charcas!F40,CiudadFernandez!F40,CiudadValles!F40,CiudaddelMaiz!F40,Coxcatlan!F40,Cardenas!F40,Ebano!F40,ElNaranjo!F40,Guadalcazar!F40,Huehuetlan!F40,Lagunillas!F40,Matehuala!F40,Matlapa!F40,MexquiticdeCarmona!F40,Moctezuma!F40,Rayon!F40,Rioverde!F40,Salinas!F40,SanAntonio!F40,SanCirodeAcosta!F40,SanLuisPotosi!F40,SanMartinChalchicuautla!F40,SanNicolasTolentino!F40,SanVicenteTancuayalab!F40,SantaCatarina!F40,SantaMariadelRio!F40,SantoDomingo!F40,SoledaddeGracianoSanchez!F40,Tamasopo!F40,Tamazunchale!F40,Tampacan!F40,TampamolonCorona!F40,Tamuin!F40,Tancanhuitz!F40,Tanlajas!F40,TanquiandeEscobedo!F40,TierraNueva!F40,Vanegas!F40,Venado!F40,VillaHidalgo!F40,VillaJuarez!F40,VilladeArista!F40,VilladeArriaga!F40,VilladeGuadalupe!F40,VilladeRamos!F40,VilladeReyes!F40,VilladelaPaz!F40,Xilitla!F40,Zaragoza!F40) -> 0 | P43: 0 | Q43: =SUM(R43:X43) -> 0 | R43: 0 | S43: 0 | T43: 0 | U43: 0 | V43: 0 | W43: 0 | X43: 0 | Z43: =SUM(E43,P43) -> 0 | AA43: =SUM(F43,Q43) -> 0 | AB43: =SUM(G43,R43) -> 0 | AC43: =SUM(H43,S43) -> 0 | AD43: =SUM(I43,T43) -> 0 | AE43: =SUM(J43,U43) -> 0 | AF43: =SUM(K43,V43) -> 0 | AG43: =SUM(L43,W43) -> 0 | AH43: =SUM(M43,X43) -> 0
...

Sheet Ahualulco
A2: REPORTE ESTADÍSTICO MENSUAL SOBRE INCIDENCIA DELICTIVA
A3: FUERO COMÚN (municipal)
A5: Entidad federativa: | D5: San Luis Potosí
A6: Municipio | D6: Ahualulco
A7: Dependencia responsable: | D7: =edo_SanLuisPotosi!E6 -> FISCALÍA GENERAL DEL ESTADO
A8: Tipo de reporte: | D8: =edo_SanLuisPotosi!E7 -> Reporte de cierre del mes inmediato anterior
A9: Fecha de llenado del reporte: | D9: =edo_SanLuisPotosi!E8 -> 44114
A10: Fecha de referencia de la información:
D11: =edo_SanLuisPotosi!E10 -> 2020 | E11: Indique el mes y el año en que se iniciaron las averiguaciones previas o se abrieron las carpetas de investigación que contienen la información que se incluye en el presente reporte.
D12: =edo_SanLuisPotosi!E11 -> Septiembre
A14: Instrucciones de llenado:
A15: Reporte todos los delitos registrados en las averiguaciones previas iniciadas (AP's) y carpetas de investigación iniciadas (CI) durante el mes de referencia.
A16: Proporcione la información según el sistema penal vigente en su entidad.
A17: En las celdas blancas de las columnas D y F se deben registrar el número de delitos correspondientes de cada Averiguación Previa y/o Carpeta de Investigación iniciadas.
A18: En las celdas blancas de las columnas E y G, correspondientes al número de unidades robadas, se deben registrar el número de vehiculos que se hayan registrado en la AP iniciada y/o CI iniciada, según el sistema de justicia que opere en su entidad.
A19: Por favor no deje celdas vacías. Si no se registraron algunos tipos de delitos en el municipio, escriba 0 (cero). Si el tipo de delito no aplica en su entidad, escriba NA (no aplica).
A20: Previo al llenado del presente formato, se le recomienda consultar el "Manual para la Clasificación y Llenado del Formato de Incidencia Delictiva".
A23: Sistema de Justicia Penal Inquisitorio
A24: Total de delitos en Averiguaciones Previas Iniciadas: | D24: =D31 -> 0 | F24: Gran total
A25: Sistema de Justicia Penal Acusatorio | F25: Número total de delitos | H25: =SUM(D24,D26) -> 20
A26: Total de delitos en Carpetas de Investigación Iniciadas: | D26: =F31 -> 20
A28: I. Clasificación de delitos | D28: II. Sistema penal inquisitorio (SPI) | F28: III. Sistema penal acusatorio (SPA) | H28: IV. Total en el municipio
A29: Bien jurídico afectado | B29: Clave | C29: Tipo de delito, comisión, acción y elementos usados | D29: Número de delitos en Averiguaciones previas iniciadas | E29: Núm. de unidades robadas | F29: Número de delitos en Carpetas de investigación iniciadas | G29: Núm. de unidades robadas | H29: Número de delitos en AP´s y CI iniciadas | I29: Núm. de unidades robadas
A31: Gran total | D31: =SUM(D32,D64,D74,D82,D146,D151,D155) -> 0 | E31: =E82 -> 0 | F31: =SUM(F32,F64,F74,F82,F146,F151,F155) -> 20 | G31: =G82 -> 0 | H31: =SUM(D31,F31) -> 20 | I31: =SUM(E31,G31) -> 0
A32: La vida y la Integridad | B32: 1 | C32: Total de delitos contra la vida y la integridad corporal | D32: =SUM(D33,D45,D57,D62,D63) -> 0 | F32: =SUM(F33,F45,F57,F62,F63) -> 2 | H32: =SUM(D32,F32) -> 2
B33: 1.1 | C33: Homicidio | D33: =SUM(D34,D39) -> 0 | F33: =SUM(F34,F39) -> 0 | H33: =SUM(D33,F33) -> 0
B34: 1.1.1 | C34: Homicidio doloso | D34: =SUM(D35:D38) -> 0 | F34: =SUM(F35:F38) -> 0 | H34: =SUM(D34,F34) -> 0
B35: 1.1.1.1 | C35: Con arma de fuego | D35: 0 | F35: 0 | H35: =SUM(D35,F35) -> 0
B36: 1.1.1.2 | C36: Con arma blanca | D36: 0 | F36: 0 | H36: =SUM(D36,F36) -> 0
B37: 1.1.1.3 | C37: Con otro elemento | D37: 0 | F37: 0 | H37: =SUM(D37,F37) -> 0
B38: 1.1.1.4 | C38: No especificado | D38: 0 | F38: 0 | H38: =SUM(D38,F38) -> 0
B39: 1.1.2 | C39: Homicidio culposo | D39: =SUM(D40:D44) -> 0 | F39: =SUM(F40:F44) -> 0 | H39: =SUM(D39,F39) -> 0
B40: 1.1.2.1 | C40: Con arma de fuego | D40: 0 | F40: 0 | H40: =SUM(D40,F40) -> 0
B41: 1.1.2.2 | C41: Con arma blanca | D41: 0 | F41: 0 | H41: =SUM(D41,F41) -> 0
B42: 1.1.2.3 | C42: En accidente de tránsito | D42: 0 | F42: 0 | H42: =SUM(D42,F42) -> 0
B43: 1.1.2.4 | C43: Con otro elemento | D43: 0 | F43: 0 | H43: =SUM(D43,F43) -> 0
B44: 1.1.2.5 | C44: No especificado | D44: 0 | F44: 0 | H44: =SUM(D44,F44) -> 0
B45: 1.2 | C45: Lesiones | D45: =SUM(D46,D51) -> 0 | F45: =SUM(F46,F51) -> 2 | H45: =SUM(D45,F45) -> 2
B46: 1.2.1 | C46: Lesiones dolosas | D46: =SUM(D47:D50) -> 0 | F46: =SUM(F47:F50) -> 1 | H46: =SUM(D46,F46) -> 1
B47: 1.2.1.1 | C47: Con arma de fuego | D47: 0 | F47: 0 | H47: =SUM(D47,F47) -> 0
...

Sheet Alaquines
A2: REPORTE ESTADÍSTICO MENSUAL SOBRE INCIDENCIA DELICTIVA
A3: FUERO COMÚN (municipal)
A5: Entidad federativa: | D5: San Luis Potosí
A6: Municipio | D6: Alaquines
A7: Dependencia responsable: | D7: =edo_SanLuisPotosi!E6 -> FISCALÍA GENERAL DEL ESTADO
A8: Tipo de reporte: | D8: =edo_SanLuisPotosi!E7 -> Reporte de cierre del mes inmediato anterior
A9: Fecha de llenado del reporte: | D9: =edo_SanLuisPotosi!E8 -> 44114
A10: Fecha de referencia de la información:
D11: =edo_SanLuisPotosi!E10 -> 2020 | E11: Indique el mes y el año en que se iniciaron las averiguaciones previas o se abrieron las carpetas de investigación que contienen la información que se incluye en el presente reporte.
D12: =edo_SanLuisPotosi!E11 -> Septiembre
A14: Instrucciones de llenado:
A15: Reporte todos los delitos registrados en las averiguaciones previas iniciadas (AP's) y carpetas de investigación iniciadas (CI) durante el mes de referencia.
A16: Proporcione la información según el sistema penal vigente en su entidad.
A17: En las celdas blancas de las columnas D y F se deben registrar el número de delitos correspondientes de cada Averiguación Previa y/o Carpeta de Investigación iniciadas.
A18: En las celdas blancas de las columnas E y G, correspondientes al número de unidades robadas, se deben registrar el número de vehiculos que se hayan registrado en la AP iniciada y/o CI iniciada, según el sistema de justicia que opere en su entidad.
A19: Por favor no deje celdas vacías. Si no se registraron algunos tipos de delitos en el municipio, escriba 0 (cero). Si el tipo de delito no aplica en su entidad, escriba NA (no aplica).
A20: Previo al llenado del presente formato, se le recomienda consultar el "Manual para la Clasificación y Llenado del Formato de Incidencia Delictiva".
A23: Sistema de Justicia Penal Inquisitorio
A24: Total de delitos en Averiguaciones Previas Iniciadas: | D24: =D31 -> 0 | F24: Gran total
A25: Sistema de Justicia Penal Acusatorio | F25: Número total de delitos | H25: =SUM(D24,D26) -> 6
A26: Total de delitos en Carpetas de Investigación Iniciadas: | D26: =F31 -> 6
A28: I. Clasificación de delitos | D28: II. Sistema penal inquisitorio (SPI) | F28: III. Sistema penal acusatorio (SPA) | H28: IV. Total en el municipio
A29: Bien jurídico afectado | B29: Clave | C29: Tipo de delito, comisión, acción y elementos usados | D29: Número de delitos en Averiguaciones previas iniciadas | E29: Núm. de unidades robadas | F29: Número de delitos en Carpetas de investigación iniciadas | G29: Núm. de unidades robadas | H29: Número de delitos en AP´s y CI iniciadas | I29: Núm. de unidades robadas
A31: Gran total | D31: =SUM(D32,D64,D74,D82,D146,D151,D155) -> 0 | E31: =E82 -> 0 | F31: =SUM(F32,F64,F74,F82,F146,F151,F155) -> 6 | G31: =G82 -> 0 | H31: =SUM(D31,F31) -> 6 | I31: =SUM(E31,G31) -> 0
A32: La vida y la Integridad | B32: 1 | C32: Total de delitos contra la vida y la integridad corporal | D32: =SUM(D33,D45,D57,D62,D63) -> 0 | F32: =SUM(F33,F45,F57,F62,F63) -> 0 | H32: =SUM(D32,F32) -> 0
B33: 1.1 | C33: Homicidio | D33: =SUM(D34,D39) -> 0 | F33: =SUM(F34,F39) -> 0 | H33: =SUM(D33,F33) -> 0
B34: 1.1.1 | C34: Homicidio doloso | D34: =SUM(D35:D38) -> 0 | F34: =SUM(F35:F38) -> 0 | H34: =SUM(D34,F34) -> 0
B35: 1.1.1.1 | C35: Con arma de fuego | D35: 0 | F35: 0 | H35: =SUM(D35,F35) -> 0
B36: 1.1.1.2 | C36: Con arma blanca | D36: 0 | F36: 0 | H36: =SUM(D36,F36) -> 0
B37: 1.1.1.3 | C37: Con otro elemento | D37: 0 | F37: 0 | H37: =SUM(D37,F37) -> 0
B38: 1.1.1.4 | C38: No especificado | D38: 0 | F38: 0 | H38: =SUM(D38,F38) -> 0
B39: 1.1.2 | C39: Homicidio culposo | D39: =SUM(D40:D44) -> 0 | F39: =SUM(F40:F44) -> 0 | H39: =SUM(D39,F39) -> 0
B40: 1.1.2.1 | C40: Con arma de fuego | D40: 0 | F40: 0 | H40: =SUM(D40,F40) -> 0
B41: 1.1.2.2 | C41: Con arma blanca | D41: 0 | F41: 0 | H41: =SUM(D41,F41) -> 0
B42: 1.1.2.3 | C42: En accidente de tránsito | D42: 0 | F42: 0 | H42: =SUM(D42,F42) -> 0
B43: 1.1.2.4 | C43: Con otro elemento | D43: 0 | F43: 0 | H43: =SUM(D43,F43) -> 0
B44: 1.1.2.5 | C44: No especificado | D44: 0 | F44: 0 | H44: =SUM(D44,F44) -> 0
B45: 1.2 | C45: Lesiones | D45: =SUM(D46,D51) -> 0 | F45: =SUM(F46,F51) -> 0 | H45: =SUM(D45,F45) -> 0
B46: 1.2.1 | C46: Lesiones dolosas | D46: =SUM(D47:D50) -> 0 | F46: =SUM(F47:F50) -> 0 | H46: =SUM(D46,F46) -> 0
B47: 1.2.1.1 | C47: Con arma de fuego | D47: 0 | F47: 0 | H47: =SUM(D47,F47) -> 0
...

Sheet Aquismon
A2: REPORTE ESTADÍSTICO MENSUAL SOBRE INCIDENCIA DELICTIVA
A3: FUERO COMÚN (municipal)
A5: Entidad federativa: | D5: San Luis Potosí
A6: Municipio | D6: Aquismón
A7: Dependencia responsable: | D7: =edo_SanLuisPotosi!E6 -> FISCALÍA GENERAL DEL ESTADO
A8: Tipo de reporte: | D8: =edo_SanLuisPotosi!E7 -> Reporte de cierre del mes inmediato anterior
A9: Fecha de llenado del reporte: | D9: =edo_SanLuisPotosi!E8 -> 44114
A10: Fecha de referencia de la información:
D11: =edo_SanLuisPotosi!E10 -> 2020 | E11: Indique el mes y el año en que se iniciaron las averiguaciones previas o se abrieron las carpetas de investigación que contienen la información que se incluye en el presente reporte.
D12: =edo_SanLuisPotosi!E11 -> Septiembre
A14: Instrucciones de llenado:
A15: Reporte todos los delitos registrados en las averiguaciones previas iniciadas (AP's) y carpetas de investigación iniciadas (CI) durante el mes de referencia.
A16: Proporcione la información según el sistema penal vigente en su entidad.
A17: En las celdas blancas de las columnas D y F se deben registrar el número de delitos correspondientes de cada Averiguación Previa y/o Carpeta de Investigación iniciadas.
A18: En las celdas blancas de las columnas E y G, correspondientes al número de unidades robadas, se deben registrar el número de vehiculos que se hayan registrado en la AP iniciada y/o CI iniciada, según el sistema de justicia que opere en su entidad.
A19: Por favor no deje celdas vacías. Si no se registraron algunos tipos de delitos en el municipio, escriba 0 (cero). Si el tipo de delito no aplica en su entidad, escriba NA (no aplica).
A20: Previo al llenado del presente formato, se le recomienda consultar el "Manual para la Clasificación y Llenado del Formato de Incidencia Delictiva".
A23: Sistema de Justicia Penal Inquisitorio
A24: Total de delitos en Averiguaciones Previas Iniciadas: | D24: =D31 -> 0 | F24: Gran total
A25: Sistema de Justicia Penal Acusatorio | F25: Número total de delitos | H25: =SUM(D24,D26) -> 36
A26: Total de delitos en Carpetas de Investigación Iniciadas: | D26: =F31 -> 36
A28: I. Clasificación de delitos | D28: II. Sistema penal inquisitorio (SPI) | F28: III. Sistema penal acusatorio (SPA) | H28: IV. Total en el municipio
A29: Bien jurídico afectado | B29: Clave | C29: Tipo de delito, comisión, acción y elementos usados | D29: Número de delitos en Averiguaciones previas iniciadas | E29: Núm. de unidades robadas | F29: Número de delitos en Carpetas de investigación iniciadas | G29: Núm. de unidades robadas | H29: Número de delitos en AP´s y CI iniciadas | I29: Núm. de unidades robadas
A31: Gran total | D31: =SUM(D32,D64,D74,D82,D146,D151,D155) -> 0 | E31: =E82 -> 0 | F31: =SUM(F32,F64,F74,F82,F146,F151,F155) -> 36 | G31: =G82 -> 0 | H31: =SUM(D31,F31) -> 36 | I31: =SUM(E31,G31) -> 0
A32: La vida y la Integridad | B32: 1 | C32: Total de delitos contra la vida y la integridad corporal | D32: =SUM(D33,D45,D57,D62,D63) -> 0 | F32: =SUM(F33,F45,F57,F62,F63) -> 8 | H32: =SUM(D32,F32) -> 8
B33: 1.1 | C33: Homicidio | D33: =SUM(D34,D39) -> 0 | F33: =SUM(F34,F39) -> 0 | H33: =SUM(D33,F33) -> 0
B34: 1.1.1 | C34: Homicidio doloso | D34: =SUM(D35:D38) -> 0 | F34: =SUM(F35:F38) -> 0 | H34: =SUM(D34,F34) -> 0
B35: 1.1.1.1 | C35: Con arma de fuego | D35: 0 | F35: 0 | H35: =SUM(D35,F35) -> 0
B36: 1.1.1.2 | C36: Con arma blanca | D36: 0 | F36: 0 | H36: =SUM(D36,F36) -> 0
B37: 1.1.1.3 | C37: Con otro elemento | D37: 0 | F37: 0 | H37: =SUM(D37,F37) -> 0
B38: 1.1.1.4 | C38: No especificado | D38: 0 | F38: 0 | H38: =SUM(D38,F38) -> 0
B39: 1.1.2 | C39: Homicidio culposo | D39: =SUM(D40:D44) -> 0 | F39: =SUM(F40:F44) -> 0 | H39: =SUM(D39,F39) -> 0
B40: 1.1.2.1 | C40: Con arma de fuego | D40: 0 | F40: 0 | H40: =SUM(D40,F40) -> 0
B41: 1.1.2.2 | C41: Con arma blanca | D41: 0 | F41: 0 | H41: =SUM(D41,F41) -> 0
B42: 1.1.2.3 | C42: En accidente de tránsito | D42: 0 | F42: 0 | H42: =SUM(D42,F42) -> 0
B43: 1.1.2.4 | C43: Con otro elemento | D43: 0 | F43: 0 | H43: =SUM(D43,F43) -> 0
B44: 1.1.2.5 | C44: No especificado | D44: 0 | F44: 0 | H44: =SUM(D44,F44) -> 0
B45: 1.2 | C45: Lesiones | D45: =SUM(D46,D51) -> 0 | F45: =SUM(F46,F51) -> 8 | H45: =SUM(D45,F45) -> 8
B46: 1.2.1 | C46: Lesiones dolosas | D46: =SUM(D47:D50) -> 0 | F46: =SUM(F47:F50) -> 7 | H46: =SUM(D46,F46) -> 7
B47: 1.2.1.1 | C47: Con arma de fuego | D47: 0 | F47: 0 | H47: =SUM(D47,F47) -> 0
...

Sheet ArmadillodelosInfante
A2: REPORTE ESTADÍSTICO MENSUAL SOBRE INCIDENCIA DELICTIVA
A3: FUERO COMÚN (municipal)
A5: Entidad federativa: | D5: San Luis Potosí
A6: Municipio | D6: Armadillo de los Infante
A7: Dependencia responsable: | D7: =edo_SanLuisPotosi!E6 -> FISCALÍA GENERAL DEL ESTADO
A8: Tipo de reporte: | D8: =edo_SanLuisPotosi!E7 -> Reporte de cierre del mes inmediato anterior
A9: Fecha de llenado del reporte: | D9: =edo_SanLuisPotosi!E8 -> 44114
A10: Fecha de referencia de la información:
D11: =edo_SanLuisPotosi!E10 -> 2020 | E11: Indique el mes y el año en que se iniciaron las averiguaciones previas o se abrieron las carpetas de investigación que contienen la información que se incluye en el presente reporte.
D12: =edo_SanLuisPotosi!E11 -> Septiembre
A14: Instrucciones de llenado:
A15: Reporte todos los delitos registrados en las averiguaciones previas iniciadas (AP's) y carpetas de investigación iniciadas (CI) durante el mes de referencia.
A16: Proporcione la información según el sistema penal vigente en su entidad.
A17: En las celdas blancas de las columnas D y F se deben registrar el número de delitos correspondientes de cada Averiguación Previa y/o Carpeta de Investigación iniciadas.
A18: En las celdas blancas de las columnas E y G, correspondientes al número de unidades robadas, se deben registrar el número de vehiculos que se hayan registrado en la AP iniciada y/o CI iniciada, según el sistema de justicia que opere en su entidad.
A19: Por favor no deje celdas vacías. Si no se registraron algunos tipos de delitos en el municipio, escriba 0 (cero). Si el tipo de delito no aplica en su entidad, escriba NA (no aplica).
A20: Previo al llenado del presente formato, se le recomienda consultar el "Manual para la Clasificación y Llenado del Formato de Incidencia Delictiva".
A23: Sistema de Justicia Penal Inquisitorio
A24: Total de delitos en Averiguaciones Previas Iniciadas: | D24: =D31 -> 0 | F24: Gran total
A25: Sistema de Justicia Penal Acusatorio | F25: Número total de delitos | H25: =SUM(D24,D26) -> 2
A26: Total de delitos en Carpetas de Investigación Iniciadas: | D26: =F31 -> 2
A28: I. Clasificación de delitos | D28: II. Sistema penal inquisitorio (SPI) | F28: III. Sistema penal acusatorio (SPA) | H28: IV. Total en el municipio
A29: Bien jurídico afectado | B29: Clave | C29: Tipo de delito, comisión, acción y elementos usados | D29: Número de delitos en Averiguaciones previas iniciadas | E29: Núm. de unidades robadas | F29: Número de delitos en Carpetas de investigación iniciadas | G29: Núm. de unidades robadas | H29: Número de delitos en AP´s y CI iniciadas | I29: Núm. de unidades robadas
A31: Gran total | D31: =SUM(D32,D64,D74,D82,D146,D151,D155) -> 0 | E31: =E82 -> 0 | F31: =SUM(F32,F64,F74,F82,F146,F151,F155) -> 2 | G31: =G82 -> 0 | H31: =SUM(D31,F31) -> 2 | I31: =SUM(E31,G31) -> 0
A32: La vida y la Integridad | B32: 1 | C32: Total de delitos contra la vida y la integridad corporal | D32: =SUM(D33,D45,D57,D62,D63) -> 0 | F32: =SUM(F33,F45,F57,F62,F63) -> 0 | H32: =SUM(D32,F32) -> 0
B33: 1.1 | C33: Homicidio | D33: =SUM(D34,D39) -> 0 | F33: =SUM(F34,F39) -> 0 | H33: =SUM(D33,F33) -> 0
B34: 1.1.1 | C34: Homicidio doloso | D34: =SUM(D35:D38) -> 0 | F34: =SUM(F35:F38) -> 0 | H34: =SUM(D34,F34) -> 0
B35: 1.1.1.1 | C35: Con arma de fuego | D35: 0 | F35: 0 | H35: =SUM(D35,F35) -> 0
B36: 1.1.1.2 | C36: Con arma blanca | D36: 0 | F36: 0 | H36: =SUM(D36,F36) -> 0
B37: 1.1.1.3 | C37: Con otro elemento | D37: 0 | F37: 0 | H37: =SUM(D37,F37) -> 0
B38: 1.1.1.4 | C38: No especificado | D38: 0 | F38: 0 | H38: =SUM(D38,F38) -> 0
B39: 1.1.2 | C39: Homicidio culposo | D39: =SUM(D40:D44) -> 0 | F39: =SUM(F40:F44) -> 0 | H39: =SUM(D39,F39) -> 0
B40: 1.1.2.1 | C40: Con arma de fuego | D40: 0 | F40: 0 | H40: =SUM(D40,F40) -> 0
B41: 1.1.2.2 | C41: Con arma blanca | D41: 0 | F41: 0 | H41: =SUM(D41,F41) -> 0
B42: 1.1.2.3 | C42: En accidente de tránsito | D42: 0 | F42: 0 | H42: =SUM(D42,F42) -> 0
B43: 1.1.2.4 | C43: Con otro elemento | D43: 0 | F43: 0 | H43: =SUM(D43,F43) -> 0
B44: 1.1.2.5 | C44: No especificado | D44: 0 | F44: 0 | H44: =SUM(D44,F44) -> 0
B45: 1.2 | C45: Lesiones | D45: =SUM(D46,D51) -> 0 | F45: =SUM(F46,F51) -> 0 | H45: =SUM(D45,F45) -> 0
B46: 1.2.1 | C46: Lesiones dolosas | D46: =SUM(D47:D50) -> 0 | F46: =SUM(F47:F50) -> 0 | H46: =SUM(D46,F46) -> 0
B47: 1.2.1.1 | C47: Con arma de fuego | D47: 0 | F47: 0 | H47: =SUM(D47,F47) -> 0
...

Sheet AxtladeTerrazas
A2: REPORTE ESTADÍSTICO MENSUAL SOBRE INCIDENCIA DELICTIVA
A3: FUERO COMÚN (municipal)
A5: Entidad federativa: | D5: San Luis Potosí
A6: Municipio | D6: Axtla de Terrazas
A7: Dependencia responsable: | D7: =edo_SanLuisPotosi!E6 -> FISCALÍA GENERAL DEL ESTADO
A8: Tipo de reporte: | D8: =edo_SanLuisPotosi!E7 -> Reporte de cierre del mes inmediato anterior
A9: Fecha de llenado del reporte: | D9: =edo_SanLuisPotosi!E8 -> 44114
A10: Fecha de referencia de la información:
D11: =edo_SanLuisPotosi!E10 -> 2020 | E11: Indique el mes y el año en que se iniciaron las averiguaciones previas o se abrieron las carpetas de investigación que contienen la información que se incluye en el presente reporte.
D12: =edo_SanLuisPotosi!E11 -> Septiembre
A14: Instrucciones de llenado:
A15: Reporte todos los delitos registrados en las averiguaciones previas iniciadas (AP's) y carpetas de investigación iniciadas (CI) durante el mes de referencia.
A16: Proporcione la información según el sistema penal vigente en su entidad.
A17: En las celdas blancas de las columnas D y F se deben registrar el número de delitos correspondientes de cada Averiguación Previa y/o Carpeta de Investigación iniciadas.
A18: En las celdas blancas de las columnas E y G, correspondientes al número de unidades robadas, se deben registrar el número de vehiculos que se hayan registrado en la AP iniciada y/o CI iniciada, según el sistema de justicia que opere en su entidad.
A19: Por favor no deje celdas vacías. Si no se registraron algunos tipos de delitos en el municipio, escriba 0 (cero). Si el tipo de delito no aplica en su entidad, escriba NA (no aplica).
A20: Previo al llenado del presente formato, se le recomienda consultar el "Manual para la Clasificación y Llenado del Formato de Incidencia Delictiva".
A23: Sistema de Justicia Penal Inquisitorio
A24: Total de delitos en Averiguaciones Previas Iniciadas: | D24: =D31 -> 0 | F24: Gran total
A25: Sistema de Justicia Penal Acusatorio | F25: Número total de delitos | H25: =SUM(D24,D26) -> 34
A26: Total de delitos en Carpetas de Investigación Iniciadas: | D26: =F31 -> 34
A28: I. Clasificación de delitos | D28: II. Sistema penal inquisitorio (SPI) | F28: III. Sistema penal acusatorio (SPA) | H28: IV. Total en el municipio
A29: Bien jurídico afectado | B29: Clave | C29: Tipo de delito, comisión, acción y elementos usados | D29: Número de delitos en Averiguaciones previas iniciadas | E29: Núm. de unidades robadas | F29: Número de delitos en Carpetas de investigación iniciadas | G29: Núm. de unidades robadas | H29: Número de delitos en AP´s y CI iniciadas | I29: Núm. de unidades robadas
A31: Gran total | D31: =SUM(D32,D64,D74,D82,D146,D151,D155) -> 0 | E31: =E82 -> 0 | F31: =SUM(F32,F64,F74,F82,F146,F151,F155) -> 34 | G31: =G82 -> 0 | H31: =SUM(D31,F31) -> 34 | I31: =SUM(E31,G31) -> 0
A32: La vida y la Integridad | B32: 1 | C32: Total de delitos contra la vida y la integridad corporal | D32: =SUM(D33,D45,D57,D62,D63) -> 0 | F32: =SUM(F33,F45,F57,F62,F63) -> 0 | H32: =SUM(D32,F32) -> 0
B33: 1.1 | C33: Homicidio | D33: =SUM(D34,D39) -> 0 | F33: =SUM(F34,F39) -> 0 | H33: =SUM(D33,F33) -> 0
B34: 1.1.1 | C34: Homicidio doloso | D34: =SUM(D35:D38) -> 0 | F34: =SUM(F35:F38) -> 0 | H34: =SUM(D34,F34) -> 0
B35: 1.1.1.1 | C35: Con arma de fuego | D35: 0 | F35: 0 | H35: =SUM(D35,F35) -> 0
B36: 1.1.1.2 | C36: Con arma blanca | D36: 0 | F36: 0 | H36: =SUM(D36,F36) -> 0
B37: 1.1.1.3 | C37: Con otro elemento | D37: 0 | F37: 0 | H37: =SUM(D37,F37) -> 0
B38: 1.1.1.4 | C38: No especificado | D38: 0 | F38: 0 | H38: =SUM(D38,F38) -> 0
B39: 1.1.2 | C39: Homicidio culposo | D39: =SUM(D40:D44) -> 0 | F39: =SUM(F40:F44) -> 0 | H39: =SUM(D39,F39) -> 0
B40: 1.1.2.1 | C40: Con arma de fuego | D40: 0 | F40: 0 | H40: =SUM(D40,F40) -> 0
B41: 1.1.2.2 | C41: Con arma blanca | D41: 0 | F41: 0 | H41: =SUM(D41,F41) -> 0
B42: 1.1.2.3 | C42: En accidente de tránsito | D42: 0 | F42: 0 | H42: =SUM(D42,F42) -> 0
B43: 1.1.2.4 | C43: Con otro elemento | D43: 0 | F43: 0 | H43: =SUM(D43,F43) -> 0
B44: 1.1.2.5 | C44: No especificado | D44: 0 | F44: 0 | H44: =SUM(D44,F44) -> 0
B45: 1.2 | C45: Lesiones | D45: =SUM(D46,D51) -> 0 | F45: =SUM(F46,F51) -> 0 | H45: =SUM(D45,F45) -> 0
B46: 1.2.1 | C46: Lesiones dolosas | D46: =SUM(D47:D50) -> 0 | F46: =SUM(F47:F50) -> 0 | H46: =SUM(D46,F46) -> 0
B47: 1.2.1.1 | C47: Con arma de fuego | D47: 0 | F47: 0 | H47: =SUM(D47,F47) -> 0
...

Sheet Catorce
A2: REPORTE ESTADÍSTICO MENSUAL SOBRE INCIDENCIA DELICTIVA
A3: FUERO COMÚN (municipal)
A5: Entidad federativa: | D5: San Luis Potosí
A6: Municipio | D6: Catorce
A7: Dependencia responsable: | D7: =edo_SanLuisPotosi!E6 -> FISCALÍA GENERAL DEL ESTADO
A8: Tipo de reporte: | D8: =edo_SanLuisPotosi!E7 -> Reporte de cierre del mes inmediato anterior
A9: Fecha de llenado del reporte: | D9: =edo_SanLuisPotosi!E8 -> 44114
A10: Fecha de referencia de la información:
D11: =edo_SanLuisPotosi!E10 -> 2020 | E11: Indique el mes y el año en que se iniciaron las averiguaciones previas o se abrieron las carpetas de investigación que contienen la información que se incluye en el presente reporte.
D12: =edo_SanLuisPotosi!E11 -> Septiembre
A14: Instrucciones de llenado:
A15: Reporte todos los delitos registrados en las averiguaciones previas iniciadas (AP's) y carpetas de investigación iniciadas (CI) durante el mes de referencia.
A16: Proporcione la información según el sistema penal vigente en su entidad.
A17: En las celdas blancas de las columnas D y F se deben registrar el número de delitos correspondientes de cada Averiguación Previa y/o Carpeta de Investigación iniciadas.
A18: En las celdas blancas de las columnas E y G, correspondientes al número de unidades robadas, se deben registrar el número de vehiculos que se hayan registrado en la AP iniciada y/o CI iniciada, según el sistema de justicia que opere en su entidad.
A19: Por favor no deje celdas vacías. Si no se registraron algunos tipos de delitos en el municipio, escriba 0 (cero). Si el tipo de delito no aplica en su entidad, escriba NA (no aplica).
A20: Previo al llenado del presente formato, se le recomienda consultar el "Manual para la Clasificación y Llenado del Formato de Incidencia Delictiva".
A23: Sistema de Justicia Penal Inquisitorio
A24: Total de delitos en Averiguaciones Previas Iniciadas: | D24: =D31 -> 0 | F24: Gran total
A25: Sistema de Justicia Penal Acusatorio | F25: Número total de delitos | H25: =SUM(D24,D26) -> 6
A26: Total de delitos en Carpetas de Investigación Iniciadas: | D26: =F31 -> 6
A28: I. Clasificación de delitos | D28: II. Sistema penal inquisitorio (SPI) | F28: III. Sistema penal acusatorio (SPA) | H28: IV. Total en el municipio
A29: Bien jurídico afectado | B29: Clave | C29: Tipo de delito, comisión, acción y elementos usados | D29: Número de delitos en Averiguaciones previas iniciadas | E29: Núm. de unidades robadas | F29: Número de delitos en Carpetas de investigación iniciadas | G29: Núm. de unidades robadas | H29: Número de delitos en AP´s y CI iniciadas | I29: Núm. de unidades robadas
A31: Gran total | D31: =SUM(D32,D64,D74,D82,D146,D151,D155) -> 0 | E31: =E82 -> 0 | F31: =SUM(F32,F64,F74,F82,F146,F151,F155) -> 6 | G31: =G82 -> 1 | H31: =SUM(D31,F31) -> 6 | I31: =SUM(E31,G31) -> 1
A32: La vida y la Integridad | B32: 1 | C32: Total de delitos contra la vida y la integridad corporal | D32: =SUM(D33,D45,D57,D62,D63) -> 0 | F32: =SUM(F33,F45,F57,F62,F63) -> 0 | H32: =SUM(D32,F32) -> 0
B33: 1.1 | C33: Homicidio | D33: =SUM(D34,D39) -> 0 | F33: =SUM(F34,F39) -> 0 | H33: =SUM(D33,F33) -> 0
B34: 1.1.1 | C34: Homicidio doloso | D34: =SUM(D35:D38) -> 0 | F34: =SUM(F35:F38) -> 0 | H34: =SUM(D34,F34) -> 0
B35: 1.1.1.1 | C35: Con arma de fuego | D35: 0 | F35: 0 | H35: =SUM(D35,F35) -> 0
B36: 1.1.1.2 | C36: Con arma blanca | D36: 0 | F36: 0 | H36: =SUM(D36,F36) -> 0
B37: 1.1.1.3 | C37: Con otro elemento | D37: 0 | F37: 0 | H37: =SUM(D37,F37) -> 0
B38: 1.1.1.4 | C38: No especificado | D38: 0 | F38: 0 | H38: =SUM(D38,F38) -> 0
B39: 1.1.2 | C39: Homicidio culposo | D39: =SUM(D40:D44) -> 0 | F39: =SUM(F40:F44) -> 0 | H39: =SUM(D39,F39) -> 0
B40: 1.1.2.1 | C40: Con arma de fuego | D40: 0 | F40: 0 | H40: =SUM(D40,F40) -> 0
B41: 1.1.2.2 | C41: Con arma blanca | D41: 0 | F41: 0 | H41: =SUM(D41,F41) -> 0
B42: 1.1.2.3 | C42: En accidente de tránsito | D42: 0 | F42: 0 | H42: =SUM(D42,F42) -> 0
B43: 1.1.2.4 | C43: Con otro elemento | D43: 0 | F43: 0 | H43: =SUM(D43,F43) -> 0
B44: 1.1.2.5 | C44: No especificado | D44: 0 | F44: 0 | H44: =SUM(D44,F44) -> 0
B45: 1.2 | C45: Lesiones | D45: =SUM(D46,D51) -> 0 | F45: =SUM(F46,F51) -> 0 | H45: =SUM(D45,F45) -> 0
B46: 1.2.1 | C46: Lesiones dolosas | D46: =SUM(D47:D50) -> 0 | F46: =SUM(F47:F50) -> 0 | H46: =SUM(D46,F46) -> 0
B47: 1.2.1.1 | C47: Con arma de fuego | D47: 0 | F47: 0 | H47: =SUM(D47,F47) -> 0
...

Sheet Cedral
A2: REPORTE ESTADÍSTICO MENSUAL SOBRE INCIDENCIA DELICTIVA
A3: FUERO COMÚN (municipal)
A5: Entidad federativa: | D5: San Luis Potosí
A6: Municipio | D6: Cedral
A7: Dependencia responsable: | D7: =edo_SanLuisPotosi!E6 -> FISCALÍA GENERAL DEL ESTADO
A8: Tipo de reporte: | D8: =edo_SanLuisPotosi!E7 -> Reporte de cierre del mes inmediato anterior
A9: Fecha de llenado del reporte: | D9: =edo_SanLuisPotosi!E8 -> 44114
A10: Fecha de referencia de la información:
